{"text_format":"3","workbook":"xlsx","n_sheets":3,"sheets":["Analiza vpisov","Zahteve","Števci"],"not_rendered":{"charts":3,"defined_names":4,"comments":1},"read":"whole","date_system":"1900"}

{"sheet":"Analiza vpisov","index":0,"n_rows":19,"n_cols":10,"rows_kept":19,"hidden":true,"merged":[[0,8,0,9],[1,8,1,9]]}
[null,"Ponudba zagotavlja vso zahtevano funkcionalnost v danem sklopu - št. točk:",7,{"$nulls":5},"negatativno"]
[null,"Ponudba zagotavlja le del funkcionalnosti v danem sklopu - št. točk:",3,{"$nulls":5},"prikaz"]
[]
[null,null,{"$f":"SUBTOTAL(9,C$6:C$19)","v":552},0,0,-492,0,0,0,0]
["Sklop\noznaka","Sklop naslov\n(rdeče obarvani sklopi se ne upoštevajo v ocenjevanju)","Sklop\nšt. vseh zahtev","Sklop\nšt. zagot. zahtev","Sklop\nšt. ustreznih","Sklop\nšt.\nneustr.","Sklop\nšt. točk","Sklop\nšt. opisov","Sklop\nšt. dni\n(zapisi)","Sklop\nšt. dni\n(dnevi)"]
["A","Splošne zahteve",{"$f":"COUNTIF(Števci!B:B,A6)","v":10}]
["B","Upravljanje dokumentov (EDMS)",{"$f":"COUNTIF(Števci!B:B,A7)","v":146},{"$f":"IF(C7=0,\"\",COUNTIF(Števci!C:C,CONCATENATE(A7,\"-DA\")))","v":0},{"$f":"IF(C7=0,\"\",COUNTIF(Števci!D:D,CONCATENATE(A7,\"-ustreza\")))","v":0},{"$f":"IF(C7=\"\",\"\",IF($I$1=Števci!$O$2,C7-E7,(C7-E7)*-1))","v":-146},{"$f":"IF(C7=0,\"\",IF(D7<C7,0,IF(E7<C7,$C$2,$C$3)))","v":0},{"$f":"IF(C7=0,\"\",COUNTIF(Števci!E:E,CONCATENATE(A7,\"-opis\")))","v":0},{"$f":"IF(C7=0,\"\",IF($I$1=Števci!$O$2,COUNTIF(Števci!F:F,CONCATENATE(A7,\"-dni\")),COUNTIF(Števci!F:F,CONCATENATE(A7,\"-dni\"))*-1))","v":0},{"$f":"IF(C7=0,\"\",IF($I$1=Števci!$O$2,SUMIF(Števci!F:F,CONCATENATE(A7,\"-dni\"),Števci!G:G),SUMIF(Števci!F:F,CONCATENATE(A7,\"-dni\"),Števci!G:G)*-1))","v":0}]
["C","Upravljanje z zapisi (RMS)",{"$f":"COUNTIF(Števci!B:B,A8)","v":16},{"$f":"IF(C8=0,\"\",COUNTIF(Števci!C:C,CONCATENATE(A8,\"-DA\")))","v":0},{"$f":"IF(C8=0,\"\",COUNTIF(Števci!D:D,CONCATENATE(A8,\"-ustreza\")))","v":0},{"$f":"IF(C8=\"\",\"\",IF($I$1=Števci!$O$2,C8-E8,(C8-E8)*-1))","v":-16},{"$f":"IF(C8=0,\"\",IF(D8<C8,0,IF(E8<C8,$C$2,$C$3)))","v":0},{"$f":"IF(C8=0,\"\",COUNTIF(Števci!E:E,CONCATENATE(A8,\"-opis\")))","v":0},{"$f":"IF(C8=0,\"\",IF($I$1=Števci!$O$2,COUNTIF(Števci!F:F,CONCATENATE(A8,\"-dni\")),COUNTIF(Števci!F:F,CONCATENATE(A8,\"-dni\"))*-1))","v":0},{"$f":"IF(C8=0,\"\",IF($I$1=Števci!$O$2,SUMIF(Števci!F:F,CONCATENATE(A8,\"-dni\"),Števci!G:G),SUMIF(Števci!F:F,CONCATENATE(A8,\"-dni\"),Števci!G:G)*-1))","v":0}]
["D","Upravljanje vsebine (ECM)",{"$f":"COUNTIF(Števci!B:B,A9)","v":52},{"$f":"IF(C9=0,\"\",COUNTIF(Števci!C:C,CONCATENATE(A9,\"-DA\")))","v":0},{"$f":"IF(C9=0,\"\",COUNTIF(Števci!D:D,CONCATENATE(A9,\"-ustreza\")))","v":0},{"$f":"IF(C9=\"\",\"\",IF($I$1=Števci!$O$2,C9-E9,(C9-E9)*-1))","v":-52},0,{"$f":"IF(C9=0,\"\",COUNTIF(Števci!E:E,CONCATENATE(A9,\"-opis\")))","v":0},{"$f":"IF(C9=0,\"\",IF($I$1=Števci!$O$2,COUNTIF(Števci!F:F,CONCATENATE(A9,\"-dni\")),COUNTIF(Števci!F:F,CONCATENATE(A9,\"-dni\"))*-1))","v":0},{"$f":"IF(C9=0,\"\",IF($I$1=Števci!$O$2,SUMIF(Števci!F:F,CONCATENATE(A9,\"-dni\"),Števci!G:G),SUMIF(Števci!F:F,CONCATENATE(A9,\"-dni\"),Števci!G:G)*-1))","v":0}]
["E","Informacijski portal: intranet platforma za skupinsko delo",{"$f":"COUNTIF(Števci!B:B,A10)","v":28},{"$f":"IF(C10=0,\"\",COUNTIF(Števci!C:C,CONCATENATE(A10,\"-DA\")))","v":0},{"$f":"IF(C10=0,\"\",COUNTIF(Števci!D:D,CONCATENATE(A10,\"-ustreza\")))","v":0},{"$f":"IF(C10=\"\",\"\",IF($I$1=Števci!$O$2,C10-E10,(C10-E10)*-1))","v":-28},0,{"$f":"IF(C10=0,\"\",COUNTIF(Števci!E:E,CONCATENATE(A10,\"-opis\")))","v":0},{"$f":"IF(C10=0,\"\",IF($I$1=Števci!$O$2,COUNTIF(Števci!F:F,CONCATENATE(A10,\"-dni\")),COUNTIF(Števci!F:F,CONCATENATE(A10,\"-dni\"))*-1))","v":0},{"$f":"IF(C10=0,\"\",IF($I$1=Števci!$O$2,SUMIF(Števci!F:F,CONCATENATE(A10,\"-dni\"),Števci!G:G),SUMIF(Števci!F:F,CONCATENATE(A10,\"-dni\"),Števci!G:G)*-1))","v":0}]
["F","Analitika in obveščanje",{"$f":"COUNTIF(Števci!B:B,A11)","v":17},{"$f":"IF(C11=0,\"\",COUNTIF(Števci!C:C,CONCATENATE(A11,\"-DA\")))","v":0},{"$f":"IF(C11=0,\"\",COUNTIF(Števci!D:D,CONCATENATE(A11,\"-ustreza\")))","v":0},{"$f":"IF(C11=\"\",\"\",IF($I$1=Števci!$O$2,C11-E11,(C11-E11)*-1))","v":-17},0,{"$f":"IF(C11=0,\"\",COUNTIF(Števci!E:E,CONCATENATE(A11,\"-opis\")))","v":0},{"$f":"IF(C11=0,\"\",IF($I$1=Števci!$O$2,COUNTIF(Števci!F:F,CONCATENATE(A11,\"-dni\")),COUNTIF(Števci!F:F,CONCATENATE(A11,\"-dni\"))*-1))","v":0},{"$f":"IF(C11=0,\"\",IF($I$1=Števci!$O$2,SUMIF(Števci!F:F,CONCATENATE(A11,\"-dni\"),Števci!G:G),SUMIF(Števci!F:F,CONCATENATE(A11,\"-dni\"),Števci!G:G)*-1))","v":0}]
["G","Zahteve uporabniškega vmesnika",{"$f":"COUNTIF(Števci!B:B,A12)","v":29},{"$f":"IF(C12=0,\"\",COUNTIF(Števci!C:C,CONCATENATE(A12,\"-DA\")))","v":0},{"$f":"IF(C12=0,\"\",COUNTIF(Števci!D:D,CONCATENATE(A12,\"-ustreza\")))","v":0},{"$f":"IF(C12=\"\",\"\",IF($I$1=Števci!$O$2,C12-E12,(C12-E12)*-1))","v":-29},0,{"$f":"IF(C12=0,\"\",COUNTIF(Števci!E:E,CONCATENATE(A12,\"-opis\")))","v":0},{"$f":"IF(C12=0,\"\",IF($I$1=Števci!$O$2,COUNTIF(Števci!F:F,CONCATENATE(A12,\"-dni\")),COUNTIF(Števci!F:F,CONCATENATE(A12,\"-dni\"))*-1))","v":0},{"$f":"IF(C12=0,\"\",IF($I$1=Števci!$O$2,SUMIF(Števci!F:F,CONCATENATE(A12,\"-dni\"),Števci!G:G),SUMIF(Števci!F:F,CONCATENATE(A12,\"-dni\"),Števci!G:G)*-1))","v":0}]
["H","Poslovni procesi in poslovna logika",{"$f":"COUNTIF(Števci!B:B,A13)","v":58},{"$f":"IF(C13=0,\"\",COUNTIF(Števci!C:C,CONCATENATE(A13,\"-DA\")))","v":0},{"$f":"IF(C13=0,\"\",COUNTIF(Števci!D:D,CONCATENATE(A13,\"-ustreza\")))","v":0},{"$f":"IF(C13=\"\",\"\",IF($I$1=Števci!$O$2,C13-E13,(C13-E13)*-1))","v":-58},0,{"$f":"IF(C13=0,\"\",COUNTIF(Števci!E:E,CONCATENATE(A13,\"-opis\")))","v":0},{"$f":"IF(C13=0,\"\",IF($I$1=Števci!$O$2,COUNTIF(Števci!F:F,CONCATENATE(A13,\"-dni\")),COUNTIF(Števci!F:F,CONCATENATE(A13,\"-dni\"))*-1))","v":0},{"$f":"IF(C13=0,\"\",IF($I$1=Števci!$O$2,SUMIF(Števci!F:F,CONCATENATE(A13,\"-dni\"),Števci!G:G),SUMIF(Števci!F:F,CONCATENATE(A13,\"-dni\"),Števci!G:G)*-1))","v":0}]
["I","Infrastruktura, sistemsko okolje, platforma, arhitektura in ostale zahteve delovanja",{"$f":"COUNTIF(Števci!B:B,A14)","v":104},{"$f":"IF(C14=0,\"\",COUNTIF(Števci!C:C,CONCATENATE(A14,\"-DA\")))","v":0},{"$f":"IF(C14=0,\"\",COUNTIF(Števci!D:D,CONCATENATE(A14,\"-ustreza\")))","v":0},{"$f":"IF(C14=\"\",\"\",IF($I$1=Števci!$O$2,C14-E14,(C14-E14)*-1))","v":-104},0,{"$f":"IF(C14=0,\"\",COUNTIF(Števci!E:E,CONCATENATE(A14,\"-opis\")))","v":0},{"$f":"IF(C14=0,\"\",IF($I$1=Števci!$O$2,COUNTIF(Števci!F:F,CONCATENATE(A14,\"-dni\")),COUNTIF(Števci!F:F,CONCATENATE(A14,\"-dni\"))*-1))","v":0},{"$f":"IF(C14=0,\"\",IF($I$1=Števci!$O$2,SUMIF(Števci!F:F,CONCATENATE(A14,\"-dni\"),Števci!G:G),SUMIF(Števci!F:F,CONCATENATE(A14,\"-dni\"),Števci!G:G)*-1))","v":0}]
["J","Integracija v IS",{"$f":"COUNTIF(Števci!B:B,A15)","v":37},{"$f":"IF(C15=0,\"\",COUNTIF(Števci!C:C,CONCATENATE(A15,\"-DA\")))","v":0},{"$f":"IF(C15=0,\"\",COUNTIF(Števci!D:D,CONCATENATE(A15,\"-ustreza\")))","v":0},{"$f":"IF(C15=\"\",\"\",IF($I$1=Števci!$O$2,C15-E15,(C15-E15)*-1))","v":-37},0,{"$f":"IF(C15=0,\"\",COUNTIF(Števci!E:E,CONCATENATE(A15,\"-opis\")))","v":0},{"$f":"IF(C15=0,\"\",IF($I$1=Števci!$O$2,COUNTIF(Števci!F:F,CONCATENATE(A15,\"-dni\")),COUNTIF(Števci!F:F,CONCATENATE(A15,\"-dni\"))*-1))","v":0},{"$f":"IF(C15=0,\"\",IF($I$1=Števci!$O$2,SUMIF(Števci!F:F,CONCATENATE(A15,\"-dni\"),Števci!G:G),SUMIF(Števci!F:F,CONCATENATE(A15,\"-dni\"),Števci!G:G)*-1))","v":0}]
["K","Zahtevano testno okolje",{"$f":"COUNTIF(Števci!B:B,A16)","v":7}]
["L","Zahteve za odprtost, skalabilnost, razširitve in nadgradnjo",{"$f":"COUNTIF(Števci!B:B,A17)","v":5},{"$f":"IF(C17=0,\"\",COUNTIF(Števci!C:C,CONCATENATE(A17,\"-DA\")))","v":0},{"$f":"IF(C17=0,\"\",COUNTIF(Števci!D:D,CONCATENATE(A17,\"-ustreza\")))","v":0},{"$f":"IF(C17=\"\",\"\",IF($I$1=Števci!$O$2,C17-E17,(C17-E17)*-1))","v":-5},{"$f":"IF(C17=0,\"\",IF(D17<C17,0,IF(E17=0,0,IF(E17<C17,$C$2,$C$1))))","v":0},{"$f":"IF(C17=0,\"\",COUNTIF(Števci!E:E,CONCATENATE(A17,\"-opis\")))","v":0},{"$f":"IF(C17=0,\"\",IF($I$1=Števci!$O$2,COUNTIF(Števci!F:F,CONCATENATE(A17,\"-dni\")),COUNTIF(Števci!F:F,CONCATENATE(A17,\"-dni\"))*-1))","v":0},{"$f":"IF(C17=0,\"\",IF($I$1=Števci!$O$2,SUMIF(Števci!F:F,CONCATENATE(A17,\"-dni\"),Števci!G:G),SUMIF(Števci!F:F,CONCATENATE(A17,\"-dni\"),Števci!G:G)*-1))","v":0}]
["M","Implementacija",{"$f":"COUNTIF(Števci!B:B,A18)","v":41}]
["N","Zahteve za opis aplikativne rešitve",{"$f":"COUNTIF(Števci!B:B,A19)","v":2}]

{"sheet":"Zahteve","index":1,"n_rows":639,"n_cols":8,"rows_kept":639,"merged":[[3,2,12,2],[15,2,16,2],[17,2,19,2],[23,2,26,2],[27,2,31,2],[33,2,35,2],[36,2,37,2],[38,2,43,2],[44,2,46,2],[48,2,51,2],[53,2,58,2],[60,2,61,2],[64,2,69,2],[70,2,77,2],[79,2,81,2],[82,2,87,2],[90,2,93,2],[94,2,96,2],[98,2,100,2],[101,2,104,2],[105,2,107,2],[108,2,111,2],[112,2,116,2],[117,2,120,2],[123,2,127,2],[128,2,129,2],[131,2,134,2],[135,2,136,2],[139,2,143,2],[144,2,145,2],[147,2,148,2],[149,2,154,2],[155,2,157,2],[159,2,162,2],[164,2,166,2],[168,2,171,2],[172,2,174,2],[179,2,180,2],[181,2,182,2],[184,2,185,2],[186,2,191,2],[193,2,195,2],[199,2,200,2],[202,2,203,2],[204,2,205,2],[206,2,208,2],[209,2,210,2],[213,2,216,2],[218,2,220,2],[222,2,224,2],[230,2,234,2],[240,2,244,2],[245,2,248,2],[249,2,250,2],[251,2,252,2],[253,2,254,2],[257,2,258,2],[259,2,264,2],[265,2,266,2],[269,2,272,2],[274,2,281,2],[283,2,285,2],[287,2,288,2],[291,2,292,2],[293,2,294,2],[295,2,300,2],[301,2,302,2],[304,2,308,2],[311,2,316,2],[317,2,318,2],[319,2,326,2],[327,2,332,2],[333,2,336,2],[338,2,339,2],[343,2,346,2],[348,2,351,2],[352,2,354,2],[365,2,369,2],[371,2,373,2],[375,2,376,2],[377,2,382,2],[383,2,388,2],[389,2,391,2],[392,2,394,2],[396,2,398,2],[399,2,400,2],[401,2,403,2],[407,2,408,2],[409,2,413,2],[417,2,418,2],[421,2,423,2],[424,2,427,2],[434,2,437,2],[438,2,441,2],[443,2,447,2],[448,2,457,2],[458,2,461,2],[464,2,465,2],[466,2,467,2],[471,2,472,2],[476,2,481,2],[482,2,488,2],[489,2,490,2],[491,2,493,2],[494,2,495,2],[498,2,500,2],[501,2,503,2],[504,2,507,2],[511,2,513,2],[514,2,517,2],[521,2,522,2],[523,2,526,2],[527,2,530,2],[532,2,541,2],[543,2,545,2],[547,2,550,2],[551,2,554,2],[558,2,560,2],[564,2,568,2],[572,2,575,2],[593,2,595,2],[605,2,606,2],[610,2,613,2],[614,2,619,2],[621,2,624,2],[625,2,626,2]]}
[{"$f":"SUBTOTAL(3,A$4:A$999)","v":60},{"$f":"SUBTOTAL(3,B$4:B$999)","v":571},{"$nulls":3},{"$f":"SUBTOTAL(3,F$4:F$999)","v":60},{"$f":"SUBTOTAL(3,G$4:G$999)","v":60},{"$f":"CONCATENATE(SUBTOTAL(3,H$4:H$999),\" / \",SUBTOTAL(9,H$4:H$999))","v":"60 / 0"}]
["Zahteva ustreza?\n(ocenjuje IJS)","(poglavje 3.3)\nSpecifikacije zahtev","(poglavje 4.7)\nObrazci za opis rešitve","Oznaka","Sklop / funkcionalnost / zahteva, ki jo mora rešitev zagotavljati","Zahteva zagotovljena?\n(DA / NE)","Opis predlagane rešitve\n(Če zahtevana funkcionalnost ni zagotovljena (<> DA), ponudnik lahko poda svojo alternativno rešitev. Če polje pusti prazno, pomeni, da nima alternativne rešitve!)","Razvoj?\n(št. inž. dni)"]
[{"$nulls":3},"A","Splošne zahteve"]
[{"$f":"Števci!$M$2","v":"se ne vpisuje"},"A.1.1","A.1","A.1.1","Rešitev mora upoštevati načela, ki so navedena v poglavju  3.1.5 (Pravne podlage za izvedbo rešitve).",{"$f":"Števci!$K$2","v":"obvezno DA"},{"$f":"Števci!$M$2","v":"se ne vpisuje"},{"$f":"Števci!$M$2","v":"se ne vpisuje"}]
[{"$f":"Števci!$M$2","v":"se ne vpisuje"},"A.2.1",null,"A.2.1","Rešitev mora zagotavljati zanesljivo in učinkovito podporo v postopkih upravljanja z dokumentarnim gradivom.",{"$f":"Števci!$K$2","v":"obvezno DA"},{"$f":"Števci!$M$2","v":"se ne vpisuje"},{"$f":"Števci!$M$2","v":"se ne vpisuje"}]
[{"$f":"Števci!$M$2","v":"se ne vpisuje"},"A.2.2",null,"A.2.2","Rešitev mora omogočati popoln nadzor nad stanjem dokumentarnega gradiva in zapisov.",{"$f":"Števci!$K$2","v":"obvezno DA"},{"$f":"Števci!$M$2","v":"se ne vpisuje"},{"$f":"Števci!$M$2","v":"se ne vpisuje"}]
[{"$f":"Števci!$M$2","v":"se ne vpisuje"},"A.2.3",null,"A.2.3","Rešitev mora podpirati enotno uporabo klasifikacijskega načrta, signirnih načrtov in šifrantov naročnika.",{"$f":"Števci!$K$2","v":"obvezno DA"},{"$f":"Števci!$M$2","v":"se ne vpisuje"},{"$f":"Števci!$M$2","v":"se ne vpisuje"}]
[{"$f":"Števci!$M$2","v":"se ne vpisuje"},"A.3.1",null,"A.3.1","Rešitev mora zagotavljati usklajeno delovanje z organizacijsko strukturo naročnika in učinkovito povezovanje vseh organizacijskih enot.",{"$f":"Števci!$K$2","v":"obvezno DA"},{"$f":"Števci!$M$2","v":"se ne vpisuje"},{"$f":"Števci!$M$2","v":"se ne vpisuje"}]
[{"$f":"Števci!$M$2","v":"se ne vpisuje"},"A.4.1",null,"A.4.1","Rešitev mora temeljiti na spletni tehnologiji z uporabo spletnega brskalnika (intranet in VPN dostop) in nameščena na opisani infrastrukturi naročnika.",{"$f":"Števci!$K$2","v":"obvezno DA"},{"$f":"Števci!$M$2","v":"se ne vpisuje"},{"$f":"Števci!$M$2","v":"se ne vpisuje"}]
[{"$f":"Števci!$M$2","v":"se ne vpisuje"},"A.4.2",null,"A.4.2","Rešitev mora biti integrirana v obstoječ IS naročnika in uporabljati splošne in skupne šifrante, storitve, obdelave in repozitorij uporabniških računov, vlog in pooblastil (Windows Active Directory).",{"$f":"Števci!$K$2","v":"obvezno DA"},{"$f":"Števci!$M$2","v":"se ne vpisuje"},{"$f":"Števci!$M$2","v":"se ne vpisuje"}]
[{"$f":"Števci!$M$2","v":"se ne vpisuje"},"A.4.3",null,"A.4.3","Rešitev mora zagotavljati večjezičnost (N jezikov). Uporabnik lahko menja jezik vmesnika.",{"$f":"Števci!$K$2","v":"obvezno DA"},{"$f":"Števci!$M$2","v":"se ne vpisuje"},{"$f":"Števci!$M$2","v":"se ne vpisuje"}]
[{"$f":"Števci!$M$2","v":"se ne vpisuje"},"A.4.4",null,"A.4.4","Rešitev mora zagotavljati neomejeno število delovnih mest, hkratnih uporabnikov in uporabniških računov.",{"$f":"Števci!$K$2","v":"obvezno DA"},{"$f":"Števci!$M$2","v":"se ne vpisuje"},{"$f":"Števci!$M$2","v":"se ne vpisuje"}]
[{"$f":"Števci!$M$2","v":"se ne vpisuje"},"A.4.5",null,"A.4.5","Rešitev mora biti celovita kot aplikacija, ter nuditi vse funkcionalnosti skozi enoten uporabniški vmesnik spletne aplikacije. \nModularne rešitve sestavljene iz modulov različnih proizvajalecv niso sprejemljive.",{"$f":"Števci!$K$2","v":"obvezno DA"},{"$f":"Števci!$M$2","v":"se ne vpisuje"},{"$f":"Števci!$M$2","v":"se ne vpisuje"}]
[{"$nulls":3},"B","Upravljanje dokumentov (EDMS)"]
[{"$nulls":4},"SPLOŠNO"]
[null,"B.1.1.","B.1","B.1.1","Rešitev mora samodejno pretvarjati dokumente v podprte formate zapisa primerne za trajno hrambo (skladni z EZT2.1, Uporaba arhivskega formata PDF/A)."]
[null,"B.1.2",null,"B.1.2","Rešitev mora zagotavljati minimalno naslednje oblike datotek: BMP, JPEG, JPG, SGV, PNG, TIF, TIFF, GIF, Microsoft Word, Excel, Power Point 2007 ali višja, PDF, XML, RTF, CSV, WMV, AVI, MP3, MPG4, HTML, itd."]
[null,"B.2.1","B.2","B.2.1","Rešitev mora zagotavljati sistem enotnih uporabniško določenih pravil in akcij nad shranjeno vsebino."]
[null,"B.2.2",null,"B.2.2","Rešitev mora zagotavljati možnost sklicevanja na dokumente v sistemu."]
[null,"B.2.3",null,"B.2.3","Rešitev mora zagotavljati vmesnik za povezovanje z drugimi sistemi z uporabo protokolov CIFS, WebDAV, IMAP, FTP, SFTP, SMTP (e-pošta), spletne storitve (angl. Web Service)."]
[null,"B.3.1","B.3","B.3.1","Rešitev mora zagotavljati repozitorij in vmesnike za upravljanje digitalnih potrdil (uporabniških, korenskih), ki vključuje postopke preverjanja veljavnost potrdil (Certificate Chain Validation)."]
[{"$nulls":4},"DOKUMENTI"]
[null,"B.4.1","B.4","B.4.1","Rešitev mora zagotavljati vpis dokumentov, združevanje dokumentov, dostavljanje zadev v delo, delo z dokumenti, razdelitev dokumentov, postavljanje dokumentov v arhiv (arhiviranje) in njihovo varovanje."]
[null,"B.5.1","B.5","B.5.1","Rešitev mora zagotavljati samodejno določanje enolične referenčne številke dokumenta neglede na klasifikacijo."]
[null,"B.5.2",null,"B.5.2","Rešitev mora zagotavljati, da se vsi klasificirani dokumenti vpisujejo zaporedno ter z oznakami klasifikacijskega načrta."]
[null,"B.5.3",null,"B.5.3","Rešitev mora zagotavljati samodejno osnovno klasifikacijo za prejete in poslane dokumente."]
[null,"B.5.4",null,"B.5.4","Rešitev mora zagotavljati klasifikacijo v hierarhično drevo dokumentov, organizirano skladno s potrebami naročnika."]
[null,"B.6.1","B.6","B.6.1","Rešitev mora zagotavljati dodajanje raznovrstnih dokumentov v različnih oblikah (besedilni, slikovni, zvočni, video zapisi)."]
[null,"B.6.2",null,"B.6.2","Rešitev mora zagotavljati ločevanje izvornega dokumenta in prilog."]
[null,"B.6.3",null,"B.6.3","Rešitev mora zagotavljati možnost definicije več tipov datotek, ki veljajo kot izvorni dokument."]
[null,"B.6.4",null,"B.6.4","Rešitev mora zagotavljati evidentiranje podatkov o pošiljatelju in prejemniku."]
[null,"B.6.5",null,"B.6.5","Rešitev mora zagotavljati uporabo dokumentov v različnih logičnih strukturah (dosje, zadeva, itd.) in drugih programskih modulih."]
[null,"B.7.1","B.7","B.7.1","Glede na tipe dokumentov se določi nabor metapodatkov za opis dokumenta in prilog. Metapodatki se vpišejo, samodejno prepoznajo ali izbirajo iz šifrantov."]
[null,"B.8.1","B.8","B.8.1","Rešitev mora zagotavljati omejevanje dostopa z uporabo pravic dostopa preko klasifikacije do podrobnosti dokumenta in prilog."]
[null,"B.8.2",null,"B.8.2","Rešitev mora zagotavljati omejevanje dostopa z uporabo definicije pravic dostopa, kjer uporabnik lahko pregleduje dokumente različnih prejemnikov."]
[null,"B.8.3",null,"B.8.3","Rešitev mora zagotavljati popolno sledljivost z revizijsko sledjo izvajanja aktivnosti nad dokumentom."]
[null,"B.9.1","B.9","B.9.1","Rešitev mora zagotavljati podporo sistemu prevzemanja v delo (angl. Check-out/check-in) in verzioniranju."]
[null,"B.9.2",null,"B.9.2","Rešitev mora zagotavljati spreminjanje statusa dokumenta skladno z obdelavo skozi delovne tokove."]
[null,"B.10.1","B.10","B.10.1","Rešitev mora zagotavljati vizualizacijo dokumentov in prilog."]
[null,"B.10.2",null,"B.10.2","Rešitev mora zagotavljati pregled izvlečka vsebine dokumenta (npr. vsebina prepoznana z uporabo optičnega prepoznavanja vsebine)."]
[null,"B.10.3",null,"B.10.3","Rešitev mora zagotavljati prikaz življenjskega cikla dokumenta."]
[null,"B.10.4",null,"B.10.4","Rešitev mora zagotavljati definicijo in pregled povezanih dokumentov."]
[null,"B.10.5",null,"B.10.5","Rešitev mora zagotavljati verifikacijo vsebine dokumenta na podlagi tipa dokumenta (npr. Xml e-Slog verifikacija strukture XSD in vsebine)."]
[null,"B.10.6",null,"B.10.6","Rešitev mora zagotavljati dodajanje komentarjev na dokumentih in prilogah."]
[null,"B.11.1","B.11","B.11.1","Rešitev mora zagotavljati zajem in pregled metapodatkov arhiviranja (priročni in trajni arhiv) s pripadajočimi časovnimi žigi."]
[null,"B.11.2",null,"B.11.2","Rešitev mora zagotavljati časovno žigosanje dokumenta (ponudnik storitve časovnega žigosanja ni izbran; ponudnik naj za način komunikacije s ponudnikom predvideva uporabo tehnologijo spletnih storitev)."]
[null,"B.11.3",null,"B.11.3","Rešitev mora zagotavljati elektronsko podpisovanje dokumentov in prilog."]
[null,"B.12.1","B.12","B.12.1","Rešitev mora omogočati določanje časovnega roka za reševanje in avtorizacijo dokumenta (rok izvedbe akcije nad dokumentom) preko funkcionalnosti rokovnika."]
[null,"B.13.1","B.13","B.13.1","Rešitev mora omogočati iskanje dokumenta po različnih kriterijih. Po vsebini dokumenta, po metapodatkih, po partnerju, po kontaktih in povezanih dokumentih."]
[null,"B.13.2",null,"B.13.2","Rešitev mora omogočati iskanje po celotnem besedilu (angl. Full Text Search)."]
[null,"B.13.3",null,"B.13.3","Rešitev mora omogočati iskanje na podlagi pooblastil uporabnika. Dostop do dokumentov in vsebine na podlagi pravic."]
[null,"B.13.4",null,"B.13.4","Rešitev mora omogočati iskanje dokumentov s podporo uporabe iskalnih predlog."]
[{"$nulls":4},"PRILOGE"]
[null,"B.14.1","B.14","B.14.1","Rešitev mora omogočati vnos, dodajanje, premikanje in brisanje različnih prilog k dokumentu."]
[null,"B.14.2",null,"B.14.2","Rešitev mora omogočati dodeljevanje več prilog na dokument."]
[null,"B.14.3",null,"B.14.3","Rešitev mora omogočati masovno dodajanje prilog (izvorna ali ZIP oblika)."]
[null,"B.14.4",null,"B.14.4","Rešitev mora omogočati zaporedno številčenje prilog."]
[null,"B.14.5",null,"B.14.5","Rešitev mora omogočati dopolnjevanje in spreminanje metapodatkov o prilogi."]
[null,"B.14.6",null,"B.14.6","Rešitev mora zagotavljati omejevanje dostopa do prilog."]
[null,"B.15.1","B.15","B.15.1","Rešitev mora vključevati vizualizacija prilog, ki se nastavlja glede na tip priloge (npr. Xml vizalizacija z uporabo Xslt transformacije). V kolikor transformacija oziroma vizualizacija za določen tip priloge ni na voljo, se uporabi splošna."]
[null,"B.16.1","x","B.16.1","Rešitev mora omogočati shranjevanje datotek, ki predstavljajo priloge dokumentov, na datotečnem sistemu ločeno po enumeriranih particijah z indeksom v podatkovni bazi."]
[null,"B.16.2",null,"B.16.2","Rešitev mora omogočati šifriranje datotek z varovanim ključem aktualne dolžine."]
[{"$nulls":4},"ZAJEM IN OBDELAVA DOKUMENTOV"]
[{"$nulls":4},"Zajem"]
[null,"B.17.1","B.17","B.17.1","Rešitev mora omogočati zajemanje vsebin neglede na lokacijo."]
[null,"B.17.2",null,"B.17.2","Rešitev mora omogočati ohranjanje prilog in vsebine izvornega dokumenta."]
[null,"B.17.3",null,"B.17.3","Rešitev mora omogočati pretvorbo dokumenta ob zajemu v obliko za dolgoročno hrambo."]
[null,"B.17.4",null,"B.17.4","Rešitev mora omogočati različne obdelave za več različnih vrst dokumentov (vloga, pogodba, ponudba, naročilo, dobavnica, itd.)."]
[null,"B.17.5",null,"B.17.5","Rešitev mora omogočati paketno obdelava dokumentov."]
[null,"B.17.6",null,"B.17.6","Rešitev mora omogočati nadgradnje sistema za zajem dodatnih vrst dokumentov."]
[null,"B.18.1","B.18","B.18.1","Rešitev mora omogočati zajem in obdelavo klasične pošte z digitalizacijo papirnih dokumentov."]
[null,"B.18.2",null,"B.18.2","Rešitev mora omogočati zajem in obdelavo elektronske pošte in dokumentov v priponkah (priloge)."]
[null,"B.18.3",null,"B.18.3","Rešitev mora omogočati zajem in obdelavo dokumentov iz spletnih obrazcev."]
[null,"B.18.4",null,"B.18.4","Rešitev mora omogočati zajem dokumentov iz datotečnih sistemov in vlaganje v sistem v izvorni obliki."]
[null,"B.18.5",null,"B.18.5","Rešitev mora omogočati zajem preko e-poštnega naslova."]
[null,"B.18.6",null,"B.18.6","Rešitev mora omogočati zajem preko Microsoft Office orodij (Outlook, Word, Excel)."]
[null,"B.18.7",null,"B.18.7","Rešitev mora omogočati zajem preko virtualnega tiskalnika."]
[null,"B.18.8",null,"B.18.8","Rešitev mora omogočati zajem preko virtualnega diska."]
[{"$nulls":4},"Evidentiranje"]
[null,"B.19.1","B.19","B.19.1","Rešitev mora omogočati evidentiranje dokumentov skladno z vsebinskimi zahtevami in postopki dela (procesi) naročnika."]
[null,"B.19.2",null,"B.19.2","Rešitev mora omogočati, da se za vsako vrsto dokumenta definirajo oznake, delovni tok, pristojna organizacijska enota, pristojnost in vse vrste pripadajočih dokumentov in prilog."]
[null,"B.19.3",null,"B.19.3","Rešitev mora omogočati optično prepoznavo znakov (angl. Optical Character Recognition, krat. OCR) pri zajemu vsebine in evidentiranju metapodatkov,"]
[null,"B.20.1","x","B.20.1","Rešitev mora zagotavljati evidentiranje kopij dokumenta."]
[null,"B.20.2",null,"B.20.2","Rešitev mora zagotavljati evidentiranje pošiljanja in izročanja kopij dokumenta."]
[null,"B.20.3",null,"B.20.3","Rešitev mora zagotavljati evidentiranje lastnih dokumentov."]
[null,"B.20.4",null,"B.20.4","Rešitev mora zagotavljati evidentiranje elektronskih vhodnih dokumentov."]
[null,"B.20.5",null,"B.20.5","Rešitev mora zagotavljati evidentiranje vhodnih papirnih dokumentov."]
[null,"B.20.6",null,"B.20.6","Rešitev mora zagotavljati evidentiranje različnih vrst datotek ( Word, Excel, PDF, e-pošta, itd.)."]
[{"$nulls":4},"Vhodna in izhodna pošta"]
[null,"B.21.1","x","B.21.1","Rešitev mora omogočati evidentiranje, označevanje, klasifikacijo, definiranje vhodnih, izhodnih in internih dokumentov."]
[null,"B.22.1","B.22","B.22.1","Rešitev mora omogočati obdelavo prejete pošte (odpiranje, preusmerjanje, pregled, preusmerjanje in iskanje dokumentov)."]
[null,"B.22.2",null,"B.22.2","Rešitev mora omogočati zajem e-računov v standardnem formatu (e-SLOG) ter podpora vročanju na UJP eRačuni."]
[null,"B.22.3",null,"B.22.3","Rešitev mora omogočati samodejni prenos vsebine in vseh priponk e-pošte. Uporabnik posreduje prejeto e-pošto na namenski e-naslov, ki zagotovi samodejni uvoz v dokumentni sistem."]
[null,"B.22.4",null,"B.22.4","Rešitev mora omogočati ročni vnos vsebine (zadeva, vsebina) in vseh priponk e-pošte. Uporabnik v odjemalcu Microsoft Outlook na seznamu prejete pošte s klikom označi posamezno e-sporočilo za prenos v sistem. Sporočilo se shrani v izvorni in PDF obliki."]
[null,"B.23.1","x","B.23.1","Rešitev mora omogočati evidentiranje izhodne pošte (elektronska, papirna oblika ali drug medij; zgoščenka, USB ključ, itd.)."]
[null,"B.23.2",null,"B.23.2","Rešitev mora omogočati tiskanje in sledenje kuvert, nalepk z naslovi, obrazci za priporočeno pošto, vročilnic in povratnic."]
[null,"B.23.3",null,"B.23.3","Rešitev mora omogočati tiskanje nalepk s QR ali črtno kodo."]
[{"$nulls":4},"Digitalizacija dokumentov"]
[null,"B.24.1","x","B.24.1","Rešitev mora vključevati pretvorbo papirnih dokumentov v elektronsko obliko na več zajemnih mestih."]
[null,"B.24.2",null,"B.24.2","Rešitev mora vključevati skeniranje na enem delovnem mestu, nadaljnje faze zajema dokumenta (branje vsebine, validacija, združevanje,..) pa na drugih delovnih mestih."]
[null,"B.24.3",null,"B.24.3","Rešitev mora podpirati različne tipe scanerjev (namizni, omrežni, itd.)."]
[null,"B.25.1","B.25","B.25.1","Rešitev mora podpirati konfiguracijo in tiskanje QR kod glede na tip dokumenta z zaporednim številčenjem (podpora za nalepke na papirju ali neskončnem traku)."]
[null,"B.25.2",null,"B.25.2","Rešitev mora podpirati ločevanje strani dokumenta v paketu na osnovi QR kod."]
[null,"B.25.3",null,"B.25.3","Rešitev mora podpirati samodejno preverjanje pravilnosti ločevanja dokumentov znotraj paketa - primerjava dejansko prepoznanih logičnih dokumentov s številom uporabljenih QR kod."]
[null,"B.25.4",null,"B.25.4","Rešitev mora podpirati samodejno klasificiranje vhodnih dokumentov na podlagi QR kode."]
[null,"B.26.1","x","B.26.1","Rešitev mora v fazi skeniranja zagotavljati hrambo slik v standardnih formatih: TIFF, JPEG in ostale kot definirano po EZT 2.1 (formati trajne hrambe), ločjivost 300 dpi ali več."]
[null,"B.26.2",null,"B.26.2","Rešitev mora v fazi skeniranja zagotavljati samodejno obdelavo, nadzor in izboljšavo skenirane slike. Vključevati mora: prilagajanje svetlosti/kontrasta, poravnavo slike, odstranjevanje motenj, avtomatsko kontrolo kvalitete slike."]
[null,"B.26.3",null,"B.26.3","Rešitev mora v fazi skeniranja zagotavljati pregled zajetih (skeniranih) dokumentov z naslednjimi funkcionalnostmi: povečeva, obračanje (rotacija), pomikanje med listi in samodejno brisanje praznih strani."]
[null,"B.27.1","B.27","B.27.1","Rešitev mora vključevati optično prepoznavanje (angl. Optical Character Recognition, krat. OCR) vsebine dokumentov."]
[null,"B.27.2",null,"B.27.2","Rešitev mora vključevati spreminjanje, vnos in urejanje metapodatkov."]
[null,"B.27.3",null,"B.27.3","Rešitev mora vključevati samodejno obdelavo, uparjanje in validacijo metapodatkov."]
[null,"B.27.4",null,"B.27.4","Rešitev mora vključevati samodejno prepoznavanje metapodatkov: poslovni partner, oddelek, zneski, stroškovna mesta, naročilnice, itd."]
[null,"B.28.1","B.28","B.28.1","Rešitev mora omogočati ročno brisanje in razvrščanje skeniranih slik oziroma dokumentov."]
[null,"B.28.2",null,"B.28.2","Rešitev mora omogočati uporabo dveh zaslonov pri zajemu dokumentov (en zaslon za prikaz skeniranega dokumenta, drugi zaslon za vnos podatkov)."]
[null,"B.28.3",null,"B.28.3","Rešitev mora omogočati prekinitev in nadaljevanje dela obdelave dokumentov brez izgube podatkov ali poovnega skeniranja."]
[null,"B.28.4",null,"B.28.4","Vmesnik mora biti izveden kot Windows namizna aplikacija."]
[null,"B.28.5",null,"B.28.5","Rešitev mora zagotavljati varno komunikacijo z uporabo spletih storitev (angl. Web Service) v varnem načinu."]
[null,"B.29.1","B.29","B.29.1","Rešitev mora zagotavljati povezavo na podatkovno bazo za potrebe validacije zajetih podatkov in uparjanje z evidenco poslovnih partnerjev."]
[null,"B.29.2",null,"B.29.2","Rešitev mora zagotavljati izločanje izjem iz paketa dokumentov in obravnava izjem izven paketa."]
[null,"B.29.3",null,"B.29.3","Rešitev mora zagotavljati kontrolne mehanizme za preprečevanje dvakratnega zajemanja dokumenta (opozorilo ob validaciji zajete vsebine dokumentov)."]
[null,"B.29.4",null,"B.29.4","Rešitev mora zagotavljati vodenje revizijske sledi po operacijah celotnega zajema dokumenta (skeniranje, validacija zajetih podatkov)."]
[{"$nulls":4},"SESTAVLJANJE, DISTRIBUCIJA IN UPRAVLJANJE DOKUMENTOV"]
[{"$nulls":4},"Sestava dokumentov"]
[null,"B.30.1","B.30","B.30.1","Rešitev mora omogočati ročen vnos novega dokumenta."]
[null,"B.30.2",null,"B.30.2","Rešitev mora omogočati dodajanje, brisanje dokumenta iz zadeve."]
[null,"B.30.3",null,"B.30.3","Rešitev mora omogočati dopolnjevanje in spreminanje podatkov o dokumentu."]
[null,"B.30.4",null,"B.30.4","Rešitev mora omogočati sestavo dokumentov z uporabo predlog dokumentov Microsoft Office (Word, Excel, PDF)."]
[null,"B.30.5",null,"B.30.5","Rešitev mora omogočati sestava dokumentov na podlagi obrazcev."]
[null,"B.31.1","B.31","B.31.1","Rešitev mora omogočati avtomatizacijo sestave dokumentov na podlagi definiranih predlog."]
[null,"B.31.2",null,"B.31.2","Rešitev mora omogočati samodejno pretvorbo dokumentov v PDF format ob zaključku, hrambi, avtorizaciji, podpisu dokumenta."]
[{"$nulls":4},"Klasifikacija in organiziranje"]
[null,"B.32.1","B.32","B.32.1","Rešitev mora vključevati podporo tipom in podtipom dokumentov. Tipi dokumentov: račun, dobavnica, itd. Podtip: vhodni, izhodni, interni."]
[null,"B.32.2",null,"B.32.2","Rešitev mora vključevati vlaganje (razvrščanje, klasifikacija) dokumentov v organizacijsko strukturo (ročno, avtomatsko, paketno),"]
[null,"B.32.3",null,"B.32.3","Rešitev mora vključevati pregled klasifikacijske organizacijske strukture v hierahični (drevesni) obliki."]
[null,"B.32.4",null,"B.32.4","Rešitev mora vključevati upravljanje in konfiguracija klasifikacijsega načrta."]
[null,"B.33.1","B.33","B.33.1","Rešitev mora omogočati organiziranje dokumentov v logične strukture, kot so zadeva, dosje, mapa, projekt, itd."]
[null,"B.33.2",null,"B.33.2","Rešitev mora omogočati samodejni vpisi metapodatkov za ZUP logične strukture (zadeve)."]
[null,"B.34.1","B.34","B.34.1","Rešitev mora omogočati podporo upravljanju dokumentov znotraj in med organizacijskimi enotami (podvajanje, prenašanje, itd.)."]
[{"$nulls":4},"Signiranje in izročanje v reševanje"]
[null,"B.35.1","B.35","B.35.1","Rešitev mora omogočati upravljanje in konfiguriranje signirnega načrta."]
[null,"B.35.2",null,"B.35.2","Rešitev mora omogočati možnost presigniranja in dosigniranja."]
[null,"B.35.3",null,"B.35.3","Rešitev mora omogočati samodejno signiranje na podlagi pogojev: tip dokumenta, poslovni partner, ključne besede, klasifikacija."]
[null,"B.35.4",null,"B.35.4","Rešitev mora omogočati možnost proženja predloge delovnega toka."]
[null,"B.35.5",null,"B.35.5","Rešitev mora omogočati signiranje vezano na enote organizacijske strukture in posamezne zaposlene (uporabnike)."]
[null,"B.36.1","x","B.36.1","Rešitev mora omogočati razlikovanje med uporabnikom in končnim uporabnikom."]
[null,"B.36.2",null,"B.36.2","Rešitev mora omogočati vključitev uporabnika v več signirnih načrtov."]
[{"$nulls":4},"Zbirke dokumentarnega gradiva in arhiviranje"]
[null,"B.37.1","x","B.37.1","Rešitev mora vključevati zbirko nerešenih zadev, priročni arhiv in funkcionalnosti trajnega arhiva z možnostjo povezave na zunanji akreditiran arhiv."]
[null,"B.37.2",null,"B.37.2","Rešitev mora zagotavljati upravljanje z dokumentarnim gradivom v zbirki nerešenih zadev, priročnem arhivu in trajnem arhivu."]
[null,"B.38.1","B.38","B.38.1","Rešitev mora omogočati odbiranje in izločanje dokumentarnega gradiva."]
[null,"B.38.2",null,"B.38.2","Rešitev mora omogočati izdelavo popisa zadev in dokumentov za izračun roka hranjenja dokumentov na podlagi klasifikacijskega načrta."]
[null,"B.38.3",null,"B.38.3","Rešitev mora omogočati podporo prehoda rešenih zadev v priročni arhiv in iz priročnega arhiva v trajni arhiv."]
[null,"B.38.4",null,"B.38.4","Rešitev mora omogočati postavljanje dokumentov v arhiv (arhiviranje)."]
[null,"B.38.5",null,"B.38.5","Rešitev mora omogočati uničenje kopij elektronskega dokumenta v skladu s predpisi in klasifikacijskim načrtom."]
[null,"B.38.6",null,"B.38.6","Rešitev mora omogočati organizacijo elektronskega in fizičnega arhiva s podatki o lokaciji hrambe dokumentov v fizični obliki."]
[null,"B.39.1","B.39","B.39.1","Rešitev mora omogočati izvajanje kratkoročnega, srednjeročnega in trajnega arhiviranja skladno z RFC 5126 CMS Advanced Electronic Signatures (CAdES)."]
[null,"B.39.2",null,"B.39.2","Rešitev mora vsebovati vgrajeni vmesniki za akreditirano storitev dolgoročne elektronske hrambe, ki jo izbere naročnik (uporaba spletnih storitev)."]
[null,"B.39.3",null,"B.39.3","Rešitev mora zagotavljati pristnost in celovitost Zaključenih dokumentov z uporabo podpisovanja in časovnega žigosanja."]
[{"$nulls":4},"Distribucija dokumentov"]
[null,"B.40.1","B.40","B.40.1","Rešitev mora omogočati distribucijo dokumentov preko klasične pošte (tiskanje)."]
[null,"B.40.2",null,"B.40.2","Rešitev mora omogočati podporo uporabi predlog za kuverte in ovojnice."]
[null,"B.40.3",null,"B.40.3","Rešitev mora omogočati distribucijo dokumentov preko e-pošte v komercialni obliki z uporaba sistema za e-poštni marketing."]
[null,"B.40.4",null,"B.40.4","Rešitev mora omogočati distribucijo dokumentov preko UJP eRačuni."]
[null,"B.41.1","B.41","B.41.1","Rešitev mora vsebovati integriran sistem za masovno pošiljanje komericlanih e-poštnih sporočil (angl. Email Marketing System)."]
[null,"B.42.1","x","B.42.1","Rešitev mora omogočati elektronsko podpisovanje izhodnih dokumentov v elektronski obliki."]
[null,"B.42.2",null,"B.42.2","Rešitev mora omogočati evidentiranje izhodnih dokumentov in načina odpreme v modulu izhodne pošte."]
[null,"B.42.3",null,"B.42.3","Rešitev mora omogočati izdelavo dokumentov prilog z uporabo vnaprej pripravljenih predlog (Word, Excel)."]
[{"$nulls":4},"Izvoz dokumentov za offline pregledovanje"]
[null,"B.43.1","B.43","B.43.1","Rešitev mora omogočati izvoz seznamov dokumentov in prilog za pregledovanje v Microsoft Excel, CSV, HTML ali PDF obliki s kazalom."]
[null,"B.43.2",null,"B.43.2","Rešitev mora omogočati izvoz v paketni ZIP obliki."]
[null,"B.43.3",null,"B.43.3","Rešitev mora omogočati izvoz metapodatkov (vsebine dokumentov), zgoščenih (angl. hash) vrednosti dokumentov, elektronskih podpisov (XML Dsig oblika), elektronskih žigov in revizijske sledi v Xml datoteko, ki je priloga datotekam dokumentov in prilog."]
[null,"B.43.4",null,"B.43.4","Rešitev mora omogočati pretvorbo datotek dokumentov in prilog v berljivo obliko."]
[null,"B.44.1","x","B.44.1","Rešitev mora omogočati organizacijo datotek v mape glede na klasifikacijo."]
[null,"B.44.2",null,"B.44.2","Rešitev mora omogočati organizacijo dokumentov, prilog in datotek metapodatkov z ustreznim enotnim poimenovanjem."]
[null,"B.44.3",null,"B.44.3","Rešitev mora omogočati dodajanje vodnega žiga (angl. watermark) s podatki o uporabniku in času izvoza."]
[{"$nulls":3},"C","Upravljanje z zapisi (RMS)"]
[{"$nulls":3},"","SPLOŠNO"]
[null,"C.1.1","C.1","C.1.1","Rešitev mora zagotavljati podporo za različne vrste zapisov. Elektronskih (podatki, PDF, Microsoft Office, skeniranimi, spletni) in fizičnih zapisov."]
[{"$nulls":3},"","METAPODATKI"]
[null,"C.2.1","C.2","C.2.1","Rešitev mora omogočati konfigurcijo metapodatkov na vseh nivojih organizacije vsebine (vezano na katerikoli tip zapisa v sistemu)."]
[null,"C.2.2",null,"C.2.2","Rešitev mora omogočati povezovanje zapisov v logične strukture na podlagi potreb naročnika (grupiranje metapodatkov)."]
[null,"C.3.1","C.3","C.3.1","Rešitev mora zagotavljati avtomatizirano ekstrakcijo in klasifikacijo metapodatkov."]
[null,"C.3.2",null,"C.3.2","Rešitev mora zagotavljati avtomatizirano validacijo metapodatkov."]
[{"$nulls":3},"","REVIZIJSKA SLED"]
[null,"C.4.1","C.4","C.4.1","Rešitev mora omogočati vodenje revizijske sledi za vsako aktivnost (skrbniška aktivnost, uporabniška aktivnost, programska-sistemsko aktivnost)."]
[null,"C.4.2",null,"C.4.2","Rešitev mora omogočati vodenje datuma in časa aktivnosti, tip aktivnosti, podatke o izvedbi aktivnosti in podatke uporabnika."]
[null,"C.5.1","C.5","C.5.1","Rešitev mora omogočati sledenje in evidentiranje dokumentov v delovnih tokovih. Podrobna revizijska sled o številu dokumentov v uporabi, o status dokumetov in o spremembah."]
[null,"C.5.2",null,"C.5.2","Rešitev mora omogočati zagotavljanje revizijske sledi potrjevanja in podpisovanja dokumenta. Iz revizijske sledi mora biti razviden postopek (redosled) potrjevanja in podpisovanja ter podatki o digitalnem podpisu in uporabljenem kvalificiranem digitalnem potrdilu."]
[null,"C.5.3",null,"C.5.3","Rešitev mora omogočati prenos revizijske sledi o izvajanju procesov v sistem dolgoročne hrambe (trajni arhiv)."]
[null,"C.5.4",null,"C.5.4","Rešitev mora zagotovljati hrambo verzij dokumentov pred in po izvedeni aktivnosti."]
[null,"C.5.5",null,"C.5.5","Rešitev mora zagotavljati vmesnike za pregledovanje, filtriranje in izvoz podatkov revizijske sledi."]
[null,"C.5.6",null,"C.5.6","Rešitev mora omogočati grafični prikaz napredovanja delovnega toka in revizijske sledi."]
[{"$nulls":3},"","ŽIVLJENSKI CIKEL"]
[null,"C.6.1","C.6","C.6.1","Rešitev mora omogočati spremljanje poslovne vsebine skozi celoten življenjski cikel, od zajema, nastanka, do arhvirianja in uničenja."]
[null,"C.6.2",null,"C.6.2","Rešitev mora omogočati vodenje datuma in časa aktivnosti, tip aktivnosti, sporočilo ob izvedbi aktivnosti in podatke uporabnika ali sistemskih obdelav, ki so spremenili vsebino ali metapodatke."]
[null,"C.6.3",null,"C.6.3","Rešitev mora zagotavljati revizijo vseh dogodkov nad vsebino, uporabnikov, časovne komponente, sistemskih posegov ter filtriranje na podlagi parametrov naročnika."]
[{"$nulls":3},"D","Upravljanje vsebine (ECM)"]
[{"$nulls":3},"","SPLOŠNO"]
[null,"D.1.1","x","D.1.1","Rešitev mora omogočati celovito upravljanje poslovnih vsebin vseh tipov elektronskih in digitaliziranih dokumentov papirne izvorne oblike."]
[null,"D.2.1","D.2","D.2.1","Rešitev mora omogočati enoten repozitorij za vse vrste vsebin (dokumenti, slike, avdio, video)."]
[null,"D.2.2",null,"D.2.2","Rešitev mora omogočati, da se datoteke vsebin shranjujejo na datotečnem sistemu ločeno po enumeriranih particijah z indeksom in ostalimi metapodatki zapisanimi v relacijski podatkovni bazi. Datoteke morajo biti šifrirane z varovanim ključem aktualne dolžine."]
[null,"",null,"","UPRAVLJANJE ZADEV"]
[null,"D.3.1","D.3","D.3.1","Rešitev mora omogočati vnos nove zadeve, dopolnjevanje in spreminanje podatkov o zadevi."]
[null,"D.3.2",null,"D.3.2","Rešitev mora omogočati združevanje in razdruževanje zadev, izbris povezave med zadevami, signiranje in presigniranje zadev, zaključevanje zadev, storniranje in odstorniranje zadev, reaktiviranje zadev, ZUP zadeve, izbris statusa ZUP in kopiranje zadev."]
[null,"D.4.1","x","D.4.1","Rešitev mora omogočati elektronsko interno dostavo in evidentiranje pošiljanja in prevzemanja zadev in dokumentov ter beleženje časa interne dostave."]
[null,"D.4.2",null,"D.4.2","Rešitev mora omogočati dodeljevanje zadev na podlagi klasifikacijskega in signirnega načrta."]
[null,"D.5.1","D.5","D.5.1","Rešitev mora zagotavljati avtomatsko številčenje zadev in dokumentov v zadevah glede na klasifikacijski načrt."]
[null,"D.5.2",null,"D.5.2","Rešitev mora zagotavljati možnost konfiguracije metapodatkov vezanih na vrsto postopka v zadevi."]
[null,"D.5.3",null,"D.5.3","Rešitev mora zagotavljati možnost samodejnega in ročnega spreminjanja stanja zadeve."]
[null,"D.6.1","D.6","D.6.1","Rešitev mora vključevati postopke ob napačnem vnosu: podpora razveljavitvi in ponovnem aktiviranju razveljavljene zadeve."]
[null,"D.6.2",null,"D.6.2","Rešitev mora omogočati premikanje dokumentov v druge zadeve, pri čemer mora v zadevi ostati zapis o dokumentu in informacija o mestu premika."]
[null,"D.7.1","x","D.7.1","Rešitev mora zagotavljati, da ima vsaka zadeva nosilca, ki je odgovoren za zadevo in dodatne pooblaščene uporabnike za spreminjanje in branje."]
[{"$nulls":3},"","UPRAVLJANJE DOSJEJEV"]
[null,"D.8.1","D.8","D.8.1","Rešitev mora zagotavljati možnost izbiranja obstoječih dosjejev ali dodajanje novega dosjeja."]
[null,"D.8.2",null,"D.8.2","Rešitev mora zagotavljati možnost uvrščanje zadev ali dokumentov v dosje, dopolnjevanje in spreminanje podatkov v dosjeju."]
[null,"D.8.3",null,"D.8.3","Rešitev mora omogočati združevanje in razdruževanje dosjejev."]
[null,"D.8.4",null,"D.8.4","Rešitev mora omogočati zaključevanje dosjejev."]
[null,"D.9.1","D.9","D.9.1","Rešitev mora omogočati pregledovanje, iskanje, izpisovanje seznamov in poročil o vsebinah in uporabi dosjejev."]
[null,"D.10.1","x","D.10.1","Rešitev mora zagotavljati, da ima vsak dosje nosilca dosjeja."]
[null,"D.10.2",null,"D.10.2","Rešitev mora zagotavljati, da uporabnik z ustrezno vlogo lahko lahko vpiše dosje ali uvršča dokumente ali zadeve."]
[null,"D.10.3",null,"D.10.3","Rešitev mora omogočati, da pooblaščen uporabnik lahko pregleduje seznam vseh dokumentov in zadev v dosjeju."]
[null,"",null,"","UPRAVLJANJE ROKOVNIKA"]
[null,"D.11.1","D.11","D.11.1","Rešitev mora vključevati rokovnik, ki je pregled vseh odprtih zadev in dokumentov celotne organizacije."]
[null,"D.11.2",null,"D.11.2","Rešitev mora omogočati vodenje evidence glede na organizacijsko strukturo."]
[null,"D.11.3",null,"D.11.3","Rešitev mora omogočati samodejno ali ročno evidentiranje zapisov z zaznamki (datum, naslov, komentarji, rok)."]
[null,"D.12.1","x","D.12.1","Rešitev mora vključevati samodejno obveščanje o približevanju poteka roka za izvedbo naloge nad posameznim dokumentov. Omogočati mora obveščanje po e-pošti ali preko SMS."]
[null,"D.13.1","x","D.13.1","Rešitev mora vključevati osebni seznam uporabnika s posameznimi dokumenti in zadevami v rokovniku."]
[null,"D.14.1","D.14","D.14.1","Rešitev mora vključevati pregledovanje, iskanje, izpisovanje seznamov in poročil evidenc rokovnika."]
[null,"",null,"","UPRAVLJANJE ŠIFRANTOV"]
[null,"D.15.1","D.15","D.15.1","Rešitev mora omogočati uporabo in nadzor nad najmanj naslednjimi šifranti: šifrant pooblastil, tipi poslovnih partnerjev, poslovni partnerji, tipi dokumentov, šifrant lokacij arhiva, čas hrambe, organizacijska struktura, veljavnost zapisa, vrste tajnosti, stanje zadev, teme zadeve, veljavnost zapisa in drugi."]
[null,"D.16.1","D.16","D.16.1","Rešitev mora omogočati vodenje, nadzorovanje, prilagajanje in dopolnjevanje šifrantov."]
[null,"D.16.2",null,"D.16.2","Rešitev mora onemogočati brisanje posameznih vrstic iz katerega koli šifranta."]
[null,"D.16.3",null,"D.16.3","Rešitev mora omogočati dostop do šifrantov iz vnosnih ali iskalnih form."]
[null,"D.16.4",null,"D.16.4","Rešitev mora omogočati dostop do šifrantov v obliki spustnega seznama, hierahičnega drevesa ali s pomočjo iskanja, kjer se izbrane vrednosti prenesejo v ustrezna polja."]
[null,"D.16.5",null,"D.16.5","Rešitev mora omogočati iskanje z \"autocomplete\" funkcijo pri iskanju vrednosti iz šifranta."]
[null,"D.17.1","D.17","D.17.1","Rešitev mora omogočati branje šifrantov iz različnih podatkovnih virov (spletne storitve, povezani podatkovni strežniki, različne podatkovne baze, podatkovne sheme, itd.)."]
[null,"D.18.1","x","D.18.1","Rešitev mora zagotavljati, da je spreminjanje šifrantov dovoljeno samo pooblaščenim uporabnikom."]
[null,"D.19.1","x","D.19.1","Rešitev mora podpirati vpis in urejanje šifranta klasifikacijskega načrta poslovne vsebine."]
[null,"D.20.1","x","D.20.1","Rešitev mora podpirati vpis in urejanje šifranta signirnega načrta ali načrtov."]
[{"$nulls":3},"","UPRAVLJANJE ELEKTRONSKIH OBRAZCEV"]
[null,"D.21.1","D.21","D.21.1","Modul za sestavo elektronskih obrazcev mora vključevati HTML5 vmesnik za sestavo obrazcev, ki ne zahteva dodatnega nameščanja programske opreme v brkljalnik."]
[null,"D.21.2",null,"D.21.2","Modul za sestavo elektronskih obrazcev mora omogočati povleci in spusti funkcionalnost sestave obrazcev."]
[null,"D.21.3",null,"D.21.3","Modul za sestavo elektronskih obrazcev mora delovati v aktualnih verzijah brkljalnikov."]
[null,"D.21.4",null,"D.21.4","Modul za sestavo elektronskih obrazcev mora vsebovati nabor osnovnih elementov: tekst, datum, število, potrditveno polje, radijski gumb, spustni seznam, tabele, datoteke, enostavni, napredni šifrant, organizacijska struktura, uporabniki, itd."]
[null,"D.21.5",null,"D.21.5","Modul za sestavo elektronskih obrazcev mora omogočati razširitve s specifičnimi in kompleksnimi elementi (moduli poslovni partnerji, organizacijske strukture, ceniki, stroškovniki, itd.)."]
[null,"D.22.1","D.22","D.22.1","Rešitev mora omogočati validacijo na vnosnih poljih."]
[null,"D.22.2",null,"D.22.2","Rešitev mora omogočati integracijo različnih podatkovnih virov in šifrantov."]
[null,"D.22.3",null,"D.22.3","Rešitev mora omogočati proženje delovnih tokov glede na vnos."]
[null,"D.22.4",null,"D.22.4","Rešitev mora omogočati sinhrone in asinhrone obdelave ob shranjevanju, odpiranju ali brisanju obrazcev."]
[null,"D.23.1","D.23","D.23.1","Rešitev mora omogočati prikaz, branje, spreminjanje, vnos, brisanje glede na pravice uporabnika."]
[null,"D.23.2",null,"D.23.2","Rešitev mora omogočati skrbniški dostop do vsebine obrazcev."]
[null,"D.24.1","D.24","D.24.1","Rešitev mora vključevati repozitorij definicij obrazcev (predlog)."]
[null,"D.24.2",null,"D.24.2","Rešitev mora omogočati prenosljivost in uvoz ter izvoz obrazcev."]
[null,"D.25.1","x","D.25.1","Rešitev mora omogočati uporabo obrazcev pri izvajanju procesov."]
[null,"D.25.2",null,"D.25.2","Rešitev mora omogočati integracijo v informacijski portal naročnika."]
[{"$nulls":3},"E","Informacijski portal: intranet platforma za skupinsko delo"]
[{"$nulls":4},"PROCESI"]
[null,"E.1.1","E.1","E.1.1","Rešitev mora vključevati informacijski portal za izvajanje poslovnih procesov (HTML5, CSS3, itd.)."]
[null,"E.1.2",null,"E.1.2","Rešitev mora zagotavljati podporo za avtomatizirano izvajanje poslovnih procesov."]
[null,"E.2.1","E.2","E.2.1","Rešitev mora zagotavljati integrirano digitalno podpisovanje dokumentov s povezavo na repozitorij digitalnih potrdil."]
[null,"E.2.2",null,"E.2.2","Rešitev mora omogočati potrjevanje dokumentov."]
[null,"E.2.3",null,"E.2.3","Rešitev mora omogočati pisanje komentarjev pri izvajanju nalog."]
[null,"E.2.4",null,"E.2.4","Rešitev mora omogočati preusmerjanje nalog."]
[null,"E.2.5",null,"E.2.5","Rešitev mora omogočati posredovanje nalog."]
[null,"E.2.6",null,"E.2.6","Rešitev mora omogočati vnos elektronskih obrazcev."]
[null,"E.3.1","x","E.3.1","Rešitev mora omogočati obveščanje glede izvajanja preko e-pošte, SMS, RSS (Atom)."]
[null,"E.3.2",null,"E.3.2","Rešitev mora omogočati spremljanje izvajanja procesov (izvedene veje in poti; grafično) in pregled zgodovine za pooblaščene uporabnike."]
[null,"E.4.1","x","E.4.1","Rešitev mora omogočati dodeljevanje izvajanja delovnih tokov in nalog ad-hoc ali glede na signirni načrt."]
[null,"",null,"","ODZIVNI VMESNIK (MOBILNE APLIKACIJE)"]
[null,"E.5.1","E.5","E.5.1","Rešitev mora vključevati HTML 5 vmesnik z odzivnim oblikovanjem za uporabo na mobilnih napravah (angl. Resposnive Design)."]
[null,"E.5.2",null,"E.5.2","Rešitev mora vključevati vgrajen pregledovalnik vseh tipov dokumentov, ki nastopajo pri izvajanju procesov."]
[null,"E.5.3",null,"E.5.3","Rešitev mora vključevati orodja za podporo skupinskemu delu (upravljanje profilov, koledarji, obvestila, itn.)."]
[null,"E.5.4",null,"E.5.4","Rešitev mora vključevati overjanje (mobilni vmesniki) preko uporabniškega imena in gesla ali digitalnega potrdila (Microsoft Active Directory)."]
[null,"",null,"","VSEBINA"]
[null,"E.6.1","E.6","E.6.1","Rešitev mora vključevati integriran sistem za izdelavo spletnih vsebin."]
[null,"E.6.2",null,"E.6.2","Rešitev mora vključevati integriran sistem za izdelavo dokumentov."]
[null,"E.6.3",null,"E.6.3","Rešitev mora omogočati uporabo spletnih elektronskih obrazcev."]
[null,"E.6.4",null,"E.6.4","Rešitev mora omogočati prikaz in iskanje organizacijske strukture."]
[null,"E.6.5",null,"E.6.5","Rešitev mora vključevati imenik zaposlenih (pregled in iskanje)."]
[null,"E.6.6",null,"E.6.6","Rešitev mora vključevati storitve za prenos in distribucijo vsebin."]
[null,"E.6.7",null,"E.6.7","Rešitev mora omogočati samodejno verzioniranje vsebine in dokumentov."]
[null,"E.6.8",null,"E.6.8","Rešitev mora omogočati \"Online\" urejanje dokumentov preko WebDAV protokola."]
[{"$nulls":4},"OVERJANJE IN AVTORIZACIJA"]
[null,"E.7.1","E.7","E.7.1","Rešitev mora zagotavljati prijavo z uporabniškim imenom in geslom, \"Windows Authentication\" in digitalnim potrdilom (Microsoft Active Directory)."]
[null,"E.7.2",null,"E.7.2","Rešitev mora omogočati uporabniški profil s sliko in osnovnimi kontaktnimi podatki."]
[null,"E.7.3",null,"E.7.3","Rešitev mora zagotavljati intranet in extranet dostop."]
[null,"",null,"","RAZŠIRLJIVOST"]
[null,"E.8.1","E.8","E.8.1","Rešitev mora zagotavljati skladnost z Web 2.0."]
[null,"E.8.2",null,"E.8.2","Rešitev mora zagotavljati razširljivost informacijskega portala z dodatnimi moduli in funkcionalnostmi."]
[{"$nulls":3},"F","Analitika in obveščanje"]
[{"$nulls":4},"POROČILA, STATISTIKE IN POSLOVNO POROČANJE"]
[null,"F.1.1","F.1","F.1.1","Rešitev mora vključevati pregled vseh statistik, ki se zajemajo ob delovanju sistema."]
[null,"F.1.2",null,"F.1.2","Rešitev mora vključevati vsaj pripravo naslednjih poročil in pregledov: aktivnostih uporabnikov v sistemu, število dokumentov in zadev v sistemu, dostopih do dokumentov, uporaba delovnih tokov, uporaba različnih aktivnosti (branje, urejanje, pregledovanje, potrjevanje, itd.) v sistemu, verzije posameznih dokumentov v sistemu, zaznane napake pri delovanju sistem, klasifikacijski načrt, organizacijsko strukturo, evidenco vhodne pošte, evidenco izhodna pošte, reševanje zadev - po klasifikaciji in organizacijskih enotah, itd. "]
[null,"F.2.1","F.2","F.2.1","Rešitev mora omogočati prilagajanje poročil in izvoza podatkov (CSV, Microsoft Excel)."]
[null,"F.2.2",null,"F.2.2","Rešitev mora omogočati, da naročnik sam pripravi nova poročila."]
[null,"F.3.1","F.3","F.3.1","Rešitev mora omogočati pregled podatkov v obliki nastavljivega pregleda."]
[null,"F.3.2",null,"F.3.2","Rešitev mora omogočati pregled podatkov v obliki poročil primernih za tiskanje."]
[null,"F.3.3",null,"F.3.3","Rešitev mora omogočati pregled podatkov v obliki kazalcev oziroma ključnih dejavnikov uspeha (angl. Key performance Indictor, krat. KPI)."]
[null,"F.3.4",null,"F.3.4","Rešitev mora omogočati pregled podatkov v obliki vrtilnih tabel v Microsoft Excel z uporabo analitičnih storitev."]
[null,"F.3.5",null,"F.3.5","Rešitev mora omogočati pripravo OLAP kock (Microsoft SQL Server Analysis Services, krat. SSAS) s podatki sistema za pripravo poročil."]
[null,"F.3.6",null,"F.3.6","Rešitev mora zagotavljati možnost izvajanja podatkovnega rudarjenja s podatki iz \"staging\" podatkovne baze."]
[null,"F.4.1","F.4","F.4.1","Rešitev mora omogočati, da je prikazovanje statistik, poročil, vrtilnih tabel itd. v vmesniku organizirano v obliki nadzorne plošče."]
[null,"F.4.2",null,"F.4.2","Rešitev mora omogočati, da imajo poročila možnost sortiranja, razvrščanja in obdelave podatkov, ki jih prikazujejo ter obliko primerno za izpis."]
[null,"",null,"","OBVEŠČANJE"]
[null,"F.5.1","F.5","F.5.1","Rešitev mora omogočati terminsko obveščanje uporabnikov o novih aktivnostih, nalogah, eskalacijah, obvestilih, itn. preko zbirnega sporočila (dnevno, tedensko, mesečno)."]
[null,"F.5.2",null,"F.5.2","Rešitev mora omogočati sprotno obveščanje o stanju zadev, dokumentov, opravilih itd. preko e-pošte."]
[null,"F.5.3",null,"F.5.3","Rešitev mora omogočati uporabo internega e-poštnega sistema kot mehanizma za posredovanje informacij."]
[null,"F.5.4",null,"F.5.4","Rešitev mora omogočati obveščanje uporabnikov po e-pošti ali SMS."]
[null,"F.5.5",null,"F.5.5","Rešitev mora omogočati integriran sistem za masovno e-poštno obveščanje za zunanjo komunikacijo s prilagajanjem oblike sporočila (možnost sestave sporočila iz predefiniranih elementov), uporabo predlog, celovito analizo odzivov, uporabo sprožilcev, odzivnim oblikovanjem sporočil, itd."]
[{"$nulls":3},"G","Zahteve uporabniškega vmesnika"]
[{"$nulls":4},"SPLOŠNO"]
[null,"G.1.1","G.1","G.1.1","Uporabniški vmesnik mora biti izveden kot čista HTML5 spletna aplikacija, ki se izvaja v internetnem brkljalniku."]
[null,"G.1.2",null,"G.1.2","Vmesnik mora delovati na aktualnih in 2 večjih predhodni verziji brkljalnikov (IE, FF, Chrome, Safari)."]
[null,"G.1.3",null,"G.1.3","Uporabniški in skrbniški vmesnik mora biti celovit, modularen, prilagodljiv, nastavljiv in nadgradnjiv."]
[null,"G.1.4",null,"G.1.4","Rešitev mora biti skladna s smernicami optimizacije uporabniške izkušnje (angl. User Experience, krat. UX)."]
[null,"G.1.5",null,"G.1.5","Rešitev mora zagotavljati, da so uporabniški postopki, terminologija in delovanje vmesnikov podobni orodjem kot je Microsoft Office."]
[null,"G.1.6",null,"G.1.6","Uporabniški vmesnik aplikacije mora podpirati večjezičnost (N jezikov)."]
[null,"G.2.1","x","G.2.1","Rešitev mora omogočati oddaljeni dostop in delo izven lokacije naročnika skozi podprte varnostne enkriptirane protokole za komunikacijo s strežniško platformo (HTTPS, VPN)."]
[null,"G.2.2",null,"G.2.2","Rešitev mora omogočati mobilni dostop do dokumentov s prilagojenim vmesnikom za podporo delu na mobilnih napravah (telefon, tablica)."]
[null,"G.3.1","x","G.3.1","Rešitev mora zagotavljati oblikovno enoten in skladen izgled z enako uporabniško izkušnjo skozi vse module."]
[null,"G.3.2",null,"G.3.2","Rešitev mora zagotavljati, da grafični elementi strani, ki nimajo informativne vrednosti, ne izstopajo in po nepotrebnem zasedajo pomembnega prostora na straneh in upočasniti nalaganja strani. "]
[null,"G.3.3",null,"G.3.3","Rešitev mora zagotavljati, da je oprema minimalistična in ne izstopa."]
[null,"G.3.4",null,"G.3.4","Rešitev mora zagotavljati, da je vizualizacija analitičnih podatkov izvedena v obliki grafov, vrtilnih tabel, ključnih kazalnikov (angl. key performance indicator, krat. KPI) in nadzornih plošč."]
[null,"G.3.5",null,"G.3.5","Rešitev mora omogočati uporabo informacijskih pripomočkov in vizualnih gradnikov."]
[null,"G.3.6",null,"G.3.6","Rešitev mora omogočati podporo predogledu (angl. Preview) vsebine dokumentov, prilog."]
[null,"G.3.7",null,"G.3.7","Rešitev mora vključevati kartični, skladovni in vrstični prikaz vsebine."]
[null,"G.3.8",null,"G.3.8","Rešitev mora uporabljati HTML5 kodo, optimizirano za hitro nalaganje strani (predpomnjenje, ajax, json, itd.)."]
[null,"G.4.1","G.4","G.4.1","Rešitev mora omogočati običajne funkcionalnosti vnosa: vnos, spreminjanje, brisanje, kopiranje, lepljenje podatkov med polji in iz drugih aplikacij, izbori iz spustnih in razširjenih šifrantov."]
[null,"G.4.2",null,"G.4.2","Rešitev mora omogočati kontrolirano spreminjanje podatkov s preverjanjem vsebine, popravki napak ter obvestilih o napačnih vnosih."]
[null,"G.4.3",null,"G.4.3","Rešitev mora uporabljati \"autocomplete\" funkcije za lažji vnos podatkov."]
[null,"G.4.4",null,"G.4.4","Rešitev mora omogočati enostavno izbiro postopkov iz menija in potrjevanje ali preklic izvajanih postopkov."]
[null,"G.4.5",null,"G.4.5","Rešitev mora omogočati funkcionalnosti, ki so dosegljive samo pooblaščenim uporabnikom na podlagi dodeljenih pravic. Posledično se s tem zagotavlja preprečevanje prenasičenosti z uporabniškimi funkcijami in prevelike kompleksnosti vmesnika zaradi prevelikega nabora funkcij."]
[null,"G.4.6",null,"G.4.6","Rešitev mora omogočati personalizacijo vmesnika. Različni pogledi podatkov za različne uporabnike. Definicija podatkov v pregledih, širine stolpcev, itd."]
[null,"G.5.1","G.5","G.5.1","Rešitev mora omogočati uporabo hierarhičnih šifrantov (izpadanje) in možnost uporabe večjih šifrantov s funkcijo iskanja (iskalni niz, abecedno) in njihov prenos v aktualna polja s pomočjo modalnih poogovornih oken in povlecnih funkcionalnosti objektov."]
[null,"G.5.2",null,"G.5.2","Rešitev mora zagotavljati prilagodljivo navigacijo: navigacija in klasifikacija vsebine se prilagajta uporabnikovim potrebam in pooblastilom."]
[null,"G.5.3",null,"G.5.3","Rešitev mora omogočati, da je navigacija ves čas prisotna v obliki izbranih zavihkov in poti nivoja hierarhije, v kateri se uporabnik nahaja (angl. breadcrumbs)."]
[null,"G.5.4",null,"G.5.4","Rešitev mora omogočati, da je vsebina prikazana v hierarhični strukturi, kot jo definira klasifikacijskega načrt."]
[null,"G.6.1","G.6","G.6.1","Rešitev mora vključevati celovit iskalnik (osnovni, metapodatki in vsebina dokumentov s prilogami) po vsebini dokumentov za katere je uporabnik pooblaščen."]
[null,"G.7.1","G.7","G.7.1","Rešitev mora omogočati, da je vsebina na voljo tudi v obliki, primerni za tiskanje: tiskanje dokumentov, prilog, podatkov."]
[null,"G.7.2",null,"G.7.2","Vmesnik mora omogočati izvoz podatkov iz seznamov in pregledov v Excel (CSV) obliki."]
[{"$nulls":3},"H","Poslovni procesi in poslovna logika"]
[{"$nulls":4},"MODELIRANJE"]
[null,"H.1.1","H.1","H.1.1","Rešitev mora vključevati integrirano celovito orodje za modeliranje poslovnih procesov (delovni, dokumentni in informacijski tok)."]
[null,"H.2.1","H.2","H.2.1","Rešitev mora omogočati dodajanje in modeliranje poljubnega števila procesov (predlog procesov)."]
[null,"H.2.2",null,"H.2.2","Rešitev mora omogočati neprekinjeno izboljševanja procesa. Proces se lahko spreminja medtem, ko se uporablja."]
[null,"H.2.3",null,"H.2.3","Rešitev mora omogočati verzioniranje procesov (delovni, dokumentni in informacijski tok), dodajanje, zapiranje procesov in ponovno aktiviranje starih verzij."]
[null,"H.2.4",null,"H.2.4","Rešitev mora omogočati uporabo predlog in prednastavljenih poslovnih procesov."]
[null,"H.3.1","H.3","H.3.1","Rešitev mora biti izvedena kot HTML5 grafični vmesnik s povleci in spusti funkcionalnostjo za modeliranje procesov brez potrebe namestitve dodatnih programskih komponent (brez COM+, .NET, Java)."]
[null,"H.4.1","H.4","H.4.1","Rešitev mora omogočati nadaljevanje aktivnosti enega procesa v drug proces."]
[null,"H.4.2",null,"H.4.2","Rešitev mora omogočati konfiguriranje avtomatiziranih eskalacijskih procedur."]
[null,"H.4.3",null,"H.4.3","Rešitev mora omogočati nadgradnjo procesov, medtem, ko je proces v izvrševanju."]
[null,"H.4.4",null,"H.4.4","Rešitev mora omogočati modeliranja iteracij in povratne zanke."]
[null,"H.5.1","H.5","H.5.1","Rešitev mora omogočati integracijo z Microsoft Dynamic NAV (likvidatura računov, izhodni dokumenti, itd.)."]
[null,"H.5.2",null,"H.5.2","Rešitev mora omogočati modeliranje in konfiguriranje potrjevanja in podpisovanja."]
[null,"H.5.3",null,"H.5.3","Rešitev mora omogočati modeliranje prilagojenih scenarijev potrjevanja ali podpisovanja glede na vsebino."]
[null,"",null,"","INFORMATIZACIJA KLJUČNIH POSLOVNIH PROCESOV"]
[null,"H.6.1","x","H.6.1","Rešitev mora omogočati modeliranje in konfiguriranje preostalih procesov organizacije (vsaj 68)."]
[null,"H.7.1","x","H.7.1","Rešitev mora omogočati modeliranje in konfiguriranje ključnih procesov."]
[null,"H.8.1","H.8","H.8.1","Ključen proces: Proces 01 - Prejemanje pošte – (S05)."]
[null,"H.9.1","x","H.9.1","Ključen proces: Proces 02 - Zahtevek za nabavo (postopek nabave do naročila dobavitelju) – (N10)."]
[null,"H.10.1","x","H.10.1","Ključen proces: Proces 03 - Likvidacija domačih računov – (N01)."]
[null,"H.11.1","x","H.11.1","Ključen proces: Proces 04 - Potni nalogi – (F11)."]
[null,"H.12.1","x","H.12.1","Ključen proces: Proces 05 – Zaposlovanje – (K1)."]
[null,"H.13.1","x","H.13.1","Ključen proces: Proces 06 – Zahtevek za preknjižbo stroškov – (F10)."]
[null,"",null,"","POSLOVNA PRAVILA"]
[null,"H.14.1","H.14","H.14.1","Rešitev mora omogočati konfiguracijo poslovnih pravil v fazi modeliranja poslovnih procesov."]
[null,"H.14.2",null,"H.14.2","Rešitev mora omogočati modeliranje in konfiguriranje razvejanjega delovnega toka. Izvajanje se vrši na podlagi poslovnih pravil, ki so definirana na posameznih mestih razvejitve oziroma elementih."]
[null,"H.14.3",null,"H.14.3","Rešitev mora omogočati konfiguriranje pogojnih povratnih zank."]
[null,"H.14.4",null,"H.14.4","Rešitev mora omogočati dodajanje neomejenega števila podatkov, informacij, obrazcev, dokumentov in parametrov, na podlagi katerih se definira pravica za potrjevanje ali podpisovanje."]
[null,"H.14.5",null,"H.14.5","Rešitev mora omogočati dodeljevanje nalog in poslovnih pravil v procesih uporabnikom, hierarhijam organizacijskih enot ali skupinam glede na vloge in pravice."]
[{"$nulls":3},"","IZVAJANJE"]
[null,"H.15.1","H.15","H.15.1","Rešitev mora vključevati uporabo pogona (angl. workflow engine) za izvrševanje delovnih procesov (delovni, dokumentni in informacijski tok)."]
[null,"H.15.2",null,"H.15.2","Rešitev mora vključevati uporabo sistema upravljanja s poslovnimi pravili (angl. Business Rule Engine)."]
[null,"H.15.3",null,"H.15.3","Rešitev mora vključevati integracijoa in sinhronizacijo procesov (nalog, elementov) z obstoječimi aplikacijami v IS naročnika preko spletnih storitev."]
[null,"H.16.1","H.16","H.16.1","Rešitev mora vključevati napredni sistem avtorizacije na podlagi signirnega načrta, vloge uporabnikov, specifičnih pravic in pravice na podlagi vlog."]
[null,"H.17.1","H.17","H.17.1","Rešitev mora vključevati proženje delovnih tokov glede na signirni načrt."]
[null,"H.17.2",null,"H.17.2","Rešitev mora vključevati proženje delovnih tokov, vpisa dokumentov na podlagi spletnih obrazcev na intranetu ali extranetu."]
[null,"H.18.1","H.18","H.18.1","Rešitev mora omogočati neposredne potrditve ali neposredno posredovanje k uporabniku s pravicami potrjevanja glede organizacijsko enoto, ki je določena v signirnem načrtu."]
[null,"H.18.2",null,"H.18.2","Rešitev mora omogočati neposredo, zaporedno in hkratno potrjevanje dokumentov z obveščanjem uporabnikov o naslednjih korakih (nalogah)."]
[null,"H.18.3",null,"H.18.3","Rešitev mora omogočati podporo serijskemu potrjevanju. Izvajanje za odobritev preskoči vse vmesne elemente in se preda v potrjevanje končnemu potrjevalcu."]
[null,"H.18.4",null,"H.18.4","Rešitev mora omogočati potrjevanje preko elektronske pošte (žeton in ključna beseda)."]
[null,"H.18.5",null,"H.18.5","Rešitev mora omogočati elektronsko podpisovanje dokumentov z uporabo kvalificiranih in nekvalificiranih digitalnih potrdil na osnovi organizacijske strukture, delovnih skupin, delovnih mest in posameznega zaposlenega."]
[null,"H.18.6",null,"H.18.6","Rešitev mora omogočati preverjanje digitalnega podpisa na posameznem dokumentu."]
[null,"H.19.1","H.19","H.19.1","Rešitev mora omogočati, da uporabnik izvaja akcije na dokumentu, obrazcu ali nalogi v skladu s fazo delovnega toka, stanjem dokumenta, svojo vlogo in pravicami."]
[null,"H.19.2",null,"H.19.2","Rešitev mora omogočati določanja zamenjave za potrjevalca ali podpisnika na podlagi organizacijske strukture za obdobje ali drugačno odredbo. Zamenjava lahko izvede uporabnik sam ali drug pooblaščen uporabnik."]
[null,"H.19.3",null,"H.19.3","Rešitev mora omogočati, da potrjevalec lahko samostojno skozi sistem delegira svoje pravice podrejenemu zaposlenemu."]
[null,"H.19.4",null,"H.19.4","Rešitev mora omogočati preusmerjanje nalog na alternativnega uporabnika v skladu z določenimi pravili in zapisi zamenjave."]
[null,"H.19.5",null,"H.19.5","Rešitev mora podpirati določanje \"ad-hoc\" delovnih tokov."]
[null,"H.19.6",null,"H.19.6","Rešitev mora omogočati ročno posredovanje dokumenta v potrditev ali podpis. Pošiljatelj posreduje dokument sodelavcu; po podpisu se dokument vrne pošiljatelju."]
[null,"H.20.1","H.10","H.20.1","Rešitev mora omogočati pripravo, spremljanje in izdajanje vseh vrst dokumentov, ki nastopajo v poslovnih procesi organizacije naročnika."]
[null,"H.20.2",null,"H.20.2","Rešitev mora omogočati, da uporabnik skozi sprejemanje in izvajanje nalog procesa spreminja status dokumenta, kar je razvidno v žiljenjskem ciklu dokumenta."]
[null,"H.20.3",null,"H.20.3","Rešitev mora zagotavljati HTML5 vmesnik za izvajanje procesov. Omogoča pregled dokumentov, vnos obrazcev, potrjevanje, podpisovanje, spremljanje delovnega, dokumentnega, informacijskega toka ter izvajanja pcocesov."]
[null,"H.21.1","H.21","H.21.1","Rešitev mora omogočati obveščanje in eskalacijo v primeru zastoja ali zakasnitve v izvajanju procesa. Nastavljivo za posamezni proces ali splošno."]
[null,"H.21.2",null,"H.21.2","Rešitev mora omogočati obveščanje in eskalacijo v primeru zastoja ali zakasnitve izdeka roka za obdelavo, podpis, potrditev ali rešitev dodeljene vrste dokumenta. Nastavljivo za posamezni element ali nalogo."]
[null,"H.21.3",null,"H.21.3","Rešitev mora omogočati obveščanje v celotni izvedbi procesa glede na konfiguracijo."]
[{"$nulls":3},"","NADZOR IN MERJENJE UČINKOVITOSTI"]
[null,"H.22.1","H.22","H.22.1","Rešitev mora vključevati sistem nadzora in administracije nad izvrševanjem poslovnih procesov in posameznih delovnih tokov v realnem času."]
[null,"H.22.2",null,"H.22.2","Rešitev mora vključevati pregled zagodovine nalog in prikaz diagrama poteka aktivnih procesov ter nalog. Prikaz izvedenih, opuščenih in odprtih vej procesa."]
[null,"H.22.3",null,"H.22.3","Rešitev mora vključevati analizo poteka izvajanja delovnega toka."]
[null,"H.23.1","x","H.23.1","Rešitev mora vključevati merjenje učinkovitosti posameznega uporabnika po posameznih aktivnostih v delovnih tokovih."]
[null,"H.23.2",null,"H.23.2","Rešitev mora vključevati statistični pregled o iniciativnosti in vključenosti uporabnikov sistema."]
[null,"H.24.1","H.24","H.24.1","Rešitev mora vključevati definiranje ključnih dejavnikov uspeha (angl. Key Performance Indicators, krat. KPI) pri modeliranju procesov, ki zagotavlja obveščanje o izvajanju procesov. Vključuje statistiko v realnem času ter obveščanje ob eskalacijah. Spremljanje po instanci procesa, po uporabniku, po dokumentu (pregled po stanjih)."]
[null,"H.24.2",null,"H.24.2","Rešitev mora vključevati uporabo sistema uravnoteženih kazalnikov (angl. The Balanced Scorecard, krat. BSC)."]
[null,"H.24.3",null,"H.24.3","Rešitev mora vključevati poslovno poročanje: izdelava poljubnih statističnih in analitičnih poročil o delovanju sistema, izvajanju procesov, dejavnostih uporabnikov, itd."]
[{"$nulls":3},"I","Infrastruktura, sistemsko okolje, platforma, arhitektura in ostale zahteve delovanja"]
[{"$nulls":4},"INFRASTRUKTURA (OMREŽJE, STREŽNIKI, SISTEMSKA PROGRAMSKA OPREMA)"]
[null,"I.1.1","x","I.1.1","Rrešitev mora delovati v obstoječem strežniškem okolju naročnika (poglavje 3.2.10)."]
[null,"I.2.1","x","I.2.1","Rrešitev mora delovati v lokalnem omrežju: 100Mbit/s do 1Gbp/s."]
[null,"I.2.2",null,"I.2.2","Rrešitev mora delovati preko navideznega privatnega omrežje (angl. virtual private network, krat. VPN)."]
[null,"I.3.1","x","I.3.1","Rrešitev mora delovati na virtualiziranih strežnikih v Hyper-V okolju."]
[null,"I.3.2",null,"I.3.2","Rrešitev mora delovati na strežnikih Microsoft Windows Server 2012 R2 (64 bit)."]
[null,"I.3.3",null,"I.3.3","Rrešitev mora delovati na Microsoft Internet Information Services 8.5."]
[null,"I.3.4",null,"I.3.4","Rrešitev mora delovati na Microsoft .NET 4.5 in ASP.NET platformi."]
[null,"I.3.5",null,"I.3.5","Rrešitev mora delovati na podatkovni bazi najmanj Microsoft SQL 2012 (64 bit)."]
[null,"I.4.1","x","I.4.1","Rešitev mora zagotavljati overjanje uporabniških računov preko Microsoft Active Directory."]
[null,"I.5.1","x","I.5.1","Rešitev mora zagotavljati e-poštno komunikacijo preko obstoječega spročilnega sistema Linux SMTP."]
[null,"I.6.1","x","I.6.1","Rešitev mora zagotavljati komunikacijo SMS in MMS preko enega od slovenskih ponudnikov mobilnih storitev. Rešitev mora omogočati menjavo ponudnika."]
[null,"I.7.1","I.7","I.7.1","Rešitev mora podpirati shemo postavitve, ki zagotavlja zahtevano stopnjo odzivnosti, visoke razpoložljivosti (angl. High Availability), redundance in varnosti podatkov. Odzivnost mora biti skladna z zahtevo I.12.1, zagotovljena mora biti 99% razpoložljivost, zagotovljeno mora biti varovanje podatkov pred izgubo (transkacijsko in arhiviranje). Predvidena je uporaba načina izravnave obremenitve strežnika oblike aktivno/aktivno (angl. Network Load Balancing), uporaba grozdenja (angl. Clustering) na nivoju sistema, aplikacije in podatkovne baze. Aplikativna rešitev mora podpirati opisane scenarije z obdržanjem seje uporabnika (angl. Stateful Requests) na strežnikih v grozdu. Delovanje mora biti zagotovljeno tudi v virtualnem okolju, ki je navedeno v dokumentaciji."]
[null,"I.7.2",null,"I.7.2","Rešitev mora podpirati varovanje podatkov skladno z varnostno politiko naročnika, ki opredeljuje uporabo sistema Microsoft Data Protection Manager (DPM) 2012. Varovanje vključuje varovanje podatkovne baze, ostalih shramb, ki jih uporablja aplikacija, različic namestitvenih paketov in dokumentacije. Izvajalo se bo inkrementalno in celovito varovanje podatkov v dnevnih intervalih."]
[{"$nulls":3},"","DELOVNO OKOLJE (UPORABNIŠKO)"]
[null,"I.8.1","x","I.8.1","Rešitev mora delovati v obstoječem delovnem okolju naročnika (poglavje 3.2.10)."]
[null,"I.9.1","x","I.9.1","Rešitev mora delovati na PC računalnikih z vsaj 4GB RAM-a in 500 GB trdega diska."]
[null,"I.9.2",null,"I.9.2","Rešitev mora delovati na 19\" monitorjih."]
[null,"I.9.3",null,"I.9.3","Rešitev mora delovati na mobilnih napravah (tablični računalniki in pametni mobilni telefoni) s sistemom Microsoft, Android ali IOS (mobilna verzija)."]
[null,"I.10.1","x","I.10.1","Rešitev mora delovati na Microsoft Windows 7 ali več."]
[null,"I.10.2",null,"I.10.2","Rešitev mora zagotavljati integracijo z Microsoft Office 2013 ali več."]
[null,"I.10.3",null,"I.10.3","Rešitev mora delovati z verzijo Adobe Acrobat Reader 10 ali več."]
[null,"I.10.4",null,"I.10.4","Rešitev mora delovati na aktualnih verzijah brkljalnikov IE9 ali več, Firefox, Chrome in Safari."]
[null,"I.11.1","x","I.11.1","Rešitev mora omogočati delovanje z napravami Fujitsu in Epson (Twain gonilnik)."]
[null,"I.12.1","I.12","I.12.1","Rešitev mora zagotavljati odzivnost 1,5s od zahteve do zaslonskega prikaza pri 1000 hkratnih uporabnikih."]
[{"$nulls":3},"","ARHITEKTURA IN RAZVOJ PROGRAMSKE REŠITVE"]
[null,"I.13.1","I.13","I.13.1","Rešitev mora biti sladna s 5 (5-Tier) slojno ahitekturo: predstavitveni sloj, sloj predstavitvene logike, poslovni sloj, sloj podatkovnega dostopa in podatkovni sloj."]
[null,"I.14.1","I.14","I.14.1","Rešitev mora imeti storitveno usmerjeno arhitekturo (angl. Service Oriented Architecture) za zagotavljanje poljubne dokumentno-procesne integracije z različnimi zalednimi sistemi."]
[null,"I.15.1","x","I.15.1","Rešitev mora delovati v 64 bitnem načinu in okolju."]
[null,"I.16.1","I.16","I.16.1","Razvoj programske opreme rešitve mora temeljiti na Microsoftovih .NET tehnologijah."]
[null,"I.16.2",null,"I.16.2","Rešitev mora biti izdelana na platformi Microsoft .NET 4.5 (ali več)."]
[null,"I.16.3",null,"I.16.3","Razvojno okolje rešitve mora biti Microsoft Visual Studio 2013 (ali več)."]
[null,"I.16.4",null,"I.16.4","V Rešitvi morata biti uporabljena programska jezika C# ali C++."]
[null,"I.17.1","x","I.17.1","Izvorna koda rešitve mora biti dostavljena v obliki Visual Studio 2013 (ali več) rešitve in projektov."]
[null,"I.17.2",null,"I.17.2","Izvorna koda rešitve mora vključevati vse module potrebne za zagon in delovanje aplikacije."]
[null,"I.17.3",null,"I.17.3","Izvorna koda mora biti dokumentirana v angleškem jeziku. Uporabljajo naj se medvrstični komentarji (angl. Inline Commenting), opisni razdelki (angl. Descriptive Blocks) in komentarji razredov (angl. Group/Class Comments). Poimenovanje spremenljivk in objektov mora biti urejeno, enotno za celotno aplikacijo in naj uporablja obliko madžarske notacije."]
[null,"I.17.4",null,"I.17.4","Izvorna koda mora biti dostavljena v verzionirani obliki namestitvenega (MSI) paketa."]
[{"$nulls":3},"","OVERJANJE, AVTORIZACIJA IN UPRAVLJANJE UPORABNIKOV"]
[null,"I.18.1","I.18","I.18.1","Rešitev mora zagotavljati enotno prijavo (angl. Single-Sign-On, krat. SSO) uporabnikov."]
[null,"I.18.2",null,"I.18.2","Rešitev mora zagotavljati uporabo MS Active Directory storitve v IS naročnika za overjanje uporabnikov."]
[null,"I.18.3",null,"I.18.3","Rešitev mora omogočati uporabo Active Directory Federation Services za overjanje uporabnikov."]
[null,"I.18.4",null,"I.18.4","Rešitev mora zagotavljati uporabo uporabniških skupin (MS Active Directory ali lastnih)."]
[null,"I.18.5",null,"I.18.5","Rešitev mora omogočati podporo za prijavo z uporabniškim imenom, geslom ter digitalnimi potrdili."]
[null,"I.19.1","I.19","I.19.1","Rešitev mora omogočati upravljanje uporabniških pravic preko uporabnikov, uporabniških vlog in skupin uporabnikov."]
[null,"I.19.2",null,"I.19.2","Rešitev mora omogočati implementacijo varnostnih nivojev dostopa do vsebine, podatkov in dokumentov na poslagi organizacijske stukture."]
[null,"I.19.3",null,"I.19.3","Rešitev mora omogočati možnost definiranja pravic dostopa do dokumentov. Pravice dostopa se nastavljajo na raznih nivojih klasifikacijske sheme ali posameznih dokumentih."]
[null,"I.19.4",null,"I.19.4","Rešitev mora omogočati možnost definiranja pravic dostopa na vsebinah, za vsako vsebino (obrazec, dokument, priloga) posebej, ter definiranje pravic na nivoju metapodatkov."]
[null,"I.19.5",null,"I.19.5","Rešitev mora omogočati implementacijo signirnega načrta z avtorizacijo in varnostno shemo."]
[null,"I.19.6",null,"I.19.6","Rešitev mora omogočati apliciranje pravic glede dostopa in manipulacije vsebine."]
[null,"I.19.7",null,"I.19.7","Rešitev mora omogočati apliciranje pravic glede področja."]
[null,"I.19.8",null,"I.19.8","Rešitev mora omogočati apliciranje pravic glede profila uporabnika."]
[null,"I.19.9",null,"I.19.9","Rešitev mora omogočati apliciranje pravic glede na ključne vloge: direktor, vodja odseka, tajnica, nosilec projekta, delavec, itd."]
[null,"I.19.10",null,"I.19.10","Rešitev mora omogočati apliciranje pravic glede na organizacijsko enoto, kateri uporabnik pripada ."]
[null,"I.20.1","x","I.20.1","Rešitev mora vključevati repozitorij digitalnih potrdil, ki jih uporabljajo uporabniki za overjanje, enkripcijo in podpisovanje."]
[null,"I.20.2",null,"I.20.2","Rešitev mora vključevati podatkovno strukturo za overjanje in avtorizacijo: podjetje, uporabnik, skupine."]
[null,"I.20.3",null,"I.20.3","Rešitev mora vključevati obveščanje uporabnika preko uporabniškega vmesnika, e-pošte in SMS."]
[null,"I.20.4",null,"I.20.4","Rešitev mora vključevati branje uporabnikov preko naročnikovega sistema za upravljanje identitet uporabnikov (Microsoft Dynamcis NAV)."]
[{"$nulls":3},"","ORGANIZACIJSKA STRUKTURA"]
[null,"I.21.1","I.21","I.21.1","Rešitev mora omogočati upravljanje razvejane hierarhične organizacijske strukture za vodenje evidence organizacijskih enot, zaposlenih in pripadajočih uporabniških računov."]
[null,"I.22.1","x","I.22.1","Rešitev mora omogočati implementacijo organizacijske strukture naročnika."]
[null,"I.22.2",null,"I.22.2","Rešitev mora omogočati uporabo obstoječe organizacijske strukture in podatkov o zaposlenih iz kadrovskih evidenc, MS aktivnega imenika, LDAP strežnika ali alternativnega repozitorija (Microsoft Dynamics NAV)."]
[null,"I.23.1","I.23","I.23.1","Rešitev mora omogočati pooblaščanje in nadomeščanje uporabnikov. Podpora različnim delovnim mestom, prenos med delovnimi mesti, pooblaščanje in nadomeščanje. Pooblaščeni uporabnik je lahko pooblaščen s strani več oseb."]
[null,"I.23.2",null,"I.23.2","Rešitev mora vključevati dnevnik nadomeščanj, iz katerega je razvidno, kdo je kdaj koga nadomeščal."]
[null,"I.24.1","x","I.24.1","Rešitev mora omogočati nastavitve in vpis dodatnih metapodatkov za posamezno organizacijsko strukturo ali zaposlenega."]
[{"$nulls":3},"","VERZIONIRANJE"]
[null,"I.25.1","x","I.25.1","Rešitev mora zagotavljati, da vsaka sprememba vsebine dokumenta, metapodatkov ali druge vsebine pomeni novo verzijo dokumenta."]
[null,"I.26.1","I.26","I.26.1","Rešitev mora omogočati dostop do prejšnjih verzij dokumentov, ki so na voljo le za branje."]
[null,"I.26.2",null,"I.26.2","Rešitev mora omogočati, da skrbnik lahko postavi prejšnjo verzijo dokumenta kot aktualno. Prepiše lahko obstoječ akutalen dokument ali vpiše novega."]
[null,"I.27.1","I.27","I.27.1","Rešitev mora zagotavljati sledenje vsem dostopom pooblaščenih uporabnikov do vsebin (dokumentov). Beleženje podatkov za vsak dostop (dokument ali druga vsebina, verzija, uporabnik, datum in čas, aktivnost, parametri)."]
[null,"I.28.1","I.28","I.28.1","Rešitev mora omogočati podporo odjavi in prijavi dokumenta ali druge vsebine v sistem (angl. Check-in/out). Uporabnik lahko dokument odjavi. S tem dokument zaklene za urejanje drugim uporabnikom. Drugi uporabniki v tem času dokument lahko le berejo. Po prijavi dokumenta nazaj v sistem se dokument sprosti. Zgodovina odjav in prijav se beleži v dnevniku. Uporabnik lahko pregleduje seznam lastnih trenutno odjavljenih dokumentov."]
[{"$nulls":3},"","VARNOST"]
[null,"I.29.1","I.29","I.29.1","Rešitev mora zagotavljati nadzor dostopa do strežnika."]
[null,"I.29.2",null,"I.29.2","Rešitev mora zagotavljati nadzor dostopa do podatkovnih baz."]
[null,"I.29.3",null,"I.29.3","Rešitev mora zagotavljati beleženje vseh prijav v sistem."]
[null,"I.29.4",null,"I.29.4","Rešitev mora zagotavljati beleženje vseh interkacij uporabnika s sistemom."]
[null,"I.29.5",null,"I.29.5","Rešitev mora zagotavljati spremljanje aktivnih prijavljenih uporabnikov."]
[null,"I.29.6",null,"I.29.6","Rešitev mora zagotavljati beleženje vseh vhodno/izhodnih dokumentov."]
[null,"I.30.1","I.30","I.30.1","Rešitev mora zagotavljati dostop do dokumentov in vsebine sistema preko večinovjskega hierarhičnega sistema pravic."]
[null,"I.30.2",null,"I.30.2","Rešitev mora omogočati gnezdenje skupin."]
[null,"I.30.3",null,"I.30.3","Rešitev mora omogočati konfiguriranje večjega števila različnih tipov pravic."]
[null,"I.30.4",null,"I.30.4","Rešitev mora omogočati konfiguriranje in dodeljevanja vlog."]
[null,"I.30.5",null,"I.30.5","Rešitev mora omogočati uporabo seznamov za kontrolo dostopa (angl. access control list, krat. ACL)."]
[null,"I.30.6",null,"I.30.6","Rešitev mora omogočati, da so pravice dodeljive na nivoju podjetja, skupine, posameznih uporabnikov."]
[null,"I.30.7",null,"I.30.7","Rešitev mora omogočati podporo urejanju avtorizacijske sheme na nivoju dokumenta."]
[null,"I.31.1","x","I.31.1","Rešitev mora omogočati upravljanje pravic za dostop do dokumenta in nabora dovoljenih akcij za vsakega posameznega uporabnika."]
[null,"I.31.2",null,"I.31.2","Rešitev mora omogočati preglede pravic, akcij, dokumentov in drugih vsebin, do katerih ima uporabnik pravico dostopa za branje in spreminjanje."]
[null,"I.32.1","I.32","I.32.1","Rešitev mora zagotavljali TLS (angl. Transport Layer Security) in SSL3 (angl. Secure Socket Layer) šifrirane omrežne povezave  (med strežnikom in odjemalcem, strežnikom in ostalimi sistemi naročnika)."]
[null,"I.32.2",null,"I.32.2","Rešitev mora zagotavljati integracijo s sistemi PKI javnega ključa: uporaba digitalnih potrdil za šifriranje in podpisovanje komunikacijskih paketov ter vsebine."]
[null,"I.32.3",null,"I.32.3","Rešitev mora zagotavljati podporo za elektronsko podpisovanje: enostavni, napredni in kvalificirani elektronski podpis z uporaba standarda XML Signature Syntax and Processing (xmldsig-core)."]
[null,"I.33.1","x","I.33.1","Rešitev mora zagotavljati upravljanje digitalnih pravic z uporabo vodnega žiga (angl. Watermark)."]
[null,"I.33.2",null,"I.33.2","Rešitev mora zagotavljati uporabo varnega protokola za prenos datotek  (angl. secure file transfer protocol, krat. SFTP)."]
[null,"I.34.1","I.34","I.34.1","Rešitev mora zagotavljati preprečevanje nepooblaščenih vdorov na sistemskem in aplikativnem nivoju po merilih kot jih določa The Open Web Application Security Project (OWASP)."]
[{"$nulls":3},"","SKRBNIŠTVO"]
[null,"I.35.1","I.35","I.35.1","Rešitev mora omogočati spremljanje izjem, opozoril in napak sistema preko dnevnikov v datotečni obliki in v Windows Event Viewer modulu sistema Windows."]
[null,"I.35.2",null,"I.35.2","Rešitev mora zagotovljati podroben opis napak, opozoril in izjem s parametri glede vsebine in lokacije napake."]
[null,"I.35.3",null,"I.35.3","Rešitev mora omogočati dostop do podatkov o delovanju sistema na daljavo preko spletnega brskalnika v strukturirani obliki."]
[null,"I.36.1","I.36","I.36.1","Rešitev mora zagotavljati dnevno negovanje podatkov (vzdrževanje) z možnostjo terminskega zagona. Rešitev mora vključevati Windows storitev za terminski zagon obdelav. Upravljanje mora biti vključeno v skrbniškem vmesniku. Obdelave morajo vključevati obdelave kot so: negovanje podatkov, preverjanja integritete podatkov in podatkovnih struktur, preverjanje veljavnosti digitalnih podpisov, preverjanje veljavnosti digitalnih potrdil (veljavnost, preklic), renumerinje zapisov, brisanja začasnih podatkov, spremljanja in samodejno zaključevanje odprtih poslovnih procesov, izmenjave in osveževanja podatkov z IS naročnika in ostale obdelave, ki so ključne za vzdrževanje in nemoteno delovanje aplikacije."]
[null,"I.36.2",null,"I.36.2","Rešitev mora zagotavljati možnost razširitve in konfiguracije negovanja podatkov."]
[null,"I.36.3",null,"I.36.3","Rešitev mora zagotavljati vzdrževanje podatkovne baze z reindeksacijo indeksov in preverjanjem integrirete."]
[null,"I.37.1","I.37","I.37.1","Rešitev mora omogočati obveščanje skrbnika preko e-pošte in SMS o kritčnih napakah."]
[null,"I.37.2",null,"I.37.2","Rešitev mora omogočati obveščanje skrbnika o omejitvah glede kapacitet na diskovnem polju ali podatkovni bazi."]
[null,"I.37.3",null,"I.37.3","Rešitev mora omogočati obveščanje skrbnika o nedelovanju povezav z zunanjimi in notranjimi podatkovnimi viri."]
[null,"I.37.4",null,"I.37.4","Rešitev mora omogočati obveščanje skrbnika o slabi odzivnosti pri komunikaciji med moduli ter zunanjimi in notranjimi podatkovnimi viri."]
[{"$nulls":3},"","PODATKOVNA BAZA IN PODATKOVNI MODEL"]
[null,"I.38.1","I.38","I.38.1","Rešitev mora uporabljati omejeno število podatkovnih baz (podatkovna baza rešitve, staging podatkovne baze za poslovno poročanje)."]
[null,"I.39.1","I.39","I.39.1","Rešitev mora vključevati postopke arhiviranja in čiščenja podatkovne baze."]
[null,"I.40.1","I.40","I.40.1","Rešitev mora zagotavljati visoko stopnjo normalizacije."]
[null,"I.40.2",null,"I.40.2","Rešitev mora striktno uporabljati primarne in tuje ključe."]
[null,"I.40.3",null,"I.40.3","Rešitev mora uporabljati logično in sistematično poimenovanje objektov."]
[null,"I.41.1","I.41","I.41.1","Rešitev mora uporabljati bazne procedure, funkcije in sprožilce."]
[null,"I.41.2",null,"I.41.2","Rešitev mora uporabljati DAL (Data Access Layer) za komunikacijo z bazo."]
[null,"I.41.3",null,"I.41.3","Rešitev mora uporabljati transakcije pri operacijah insert, update, delete."]
[null,"I.41.4",null,"I.41.4","Rešitev mora uporabljati Two Phase Commit protokol pri izvajanju distribuiranih transakcij."]
[{"$nulls":3},"J","Integracija v IS"]
[{"$nulls":3},"","SPLOŠNO"]
[null,"J.1.1","J.1","J.1.1","Rešitev mora zagotavljati možnost sinhronizacije poslovnih procesov med EDMS in zalednimi aplikacijami z uporabo spletnih storitev (SOAP protokol) ali drugih načinov komunikacije, ki zagotavljajo definirano odzivnost (sistemski ali aplikativni nivo)."]
[null,"J.2.1","J.2","J.2.1","Rešitev mora vključevati izdelane in dokumentirane spletne storiteve (angl. Web Service), do katerih lahko dostopajo alikacije iz naročnikovega IS z naslednjimi funkcionalnostmi: prenos in zapis dokumenta, potrjevanje dokumentov, podpisovanje dokumentov, spremljanje status dokumenta, itn."]
[null,"J.2.2",null,"J.2.2","Rešitev mora zagotavljati enostaven razvoj dodatnih spletnih storitev (SOAP, WSDL)."]
[null,"J.3.1","J.3","J.3.1","Rešitev mora zagotavljati varno komunikacijo z uporabo dvo-slojne zaščite (angl. Dual Layer Encryption)."]
[null,"J.3.2",null,"J.3.2","Rešitev mora omogočati komunikacijo na zahtevo (angl. On-Demand) ali terminsko v potisni in povlecni obliki (angl. Push/Pull)."]
[null,"J.3.3",null,"J.3.3","Rešitev mora omogočati komunikacijo s sporočili v čakalni vrsti (angl. Message Queuing, krat. MSMQ)."]
[null,"J.3.4",null,"J.3.4","Rešitev mora omogočati nadzor aktivnosti komunikacijske poti oziroma storitve."]
[null,"J.4.1","J.4","J.4.1","Rešitev mora omogočati integracijo komunikacije z zunanjimi viri v delovnih oziroma informacijskih in dokumentih tokovih."]
[null,"J.4.2",null,"J.4.2","Rešitev mora omogočati branje in zapisovanje neposredno v in iz zunanjih podatkovnih baz."]
[null,"J.4.3",null,"J.4.3","Rešitev mora omogočati integracijo zunanjih virov v orodje za modeliranje poslovnih procesov."]
[null,"J.4.4",null,"J.4.4","Rešitev mora omogočati uporabo integracijskih modulov, ki omogočajo upravljanje s sporočili, različne kanale sporočil, konstrukcijo novih sporočil preko drugih sistemov, transformacijo sporočil, usmerjevanje sporočil, vzpostavitev končnih točk (angl. Endpoint) izmenjave sporočil."]
[{"$nulls":3},"","ERP (MICROSOFT DYNAMICS NAVISION)"]
[null,"J.5.1","J.5","J.5.1","Rešitev mora vključevati storitve za posredovanje zajetih dokumentov (e-računi, stroškovniki, naročilnice in drugi)."]
[null,"J.5.2",null,"J.5.2","Rešitev mora vključevati storitve za prejemanje dokumentov za podpis, arhiviranje in distribucijo (e-računi in drugi)."]
[null,"J.5.3",null,"J.5.3","Rešitev mora vključevati storitve za branje NAVISION šifrantov (enostavni in hierarhični)."]
[null,"J.5.4",null,"J.5.4","Rešitev mora vključevati storitve za branje predkalkuliranih podatkov (stroškovniki)."]
[null,"J.5.5",null,"J.5.5","Rešitev mora vključevati storitve za izvajanje validacij podatkov (stroškovniki)."]
[null,"J.5.6",null,"J.5.6","Rešitev mora vključevati storitev za sledljivost sprememb podatkov in statusov dokumentov skozi celoten proces nabave in likvidacije računov."]
[null,"J.5.7",null,"J.5.7","Rešitev mora vključevati storitev za branje statusov dokumentov."]
[null,"J.5.8",null,"J.5.8","Rešitev mora vključevati storitev za zagotavljanje povezljivosti med dokumenti, ki so v procesu nabave in likvidacije računov med seboj povezani (kot je na primer povezava računa z naročilnico, pogodbo, zahtevo za nabavo)."]
[null,"J.5.9",null,"J.5.9","Rešitev mora vključevati storitev za vizualizacijo: vizualizacija (prikaz) dokumentov v ERP sistemu, kot so: računi, zahtevki za nabavo, pogodba, itd."]
[null,"J.5.10",null,"J.5.10","Rešitev mora vključevati upravljanje čakalne vrste dokumentov, ki jih je potrebno obdelati."]
[{"$nulls":3},"","SHAREPOINT"]
[null,"J.6.1","J.6","J.6.1","Rešitev mora omogočati dostop do dokumentov preko protokolov CIFS ali Sharepoint Document Library."]
[null,"J.6.2",null,"J.6.2","Rešitev mora vključevati podporo za SharePoint protokol."]
[null,"J.6.3",null,"J.6.3","Rešitev mora omogočati nadgradnjo integracije informacijskega portala v Sharepoint 2013 ali več."]
[{"$nulls":3},"","E-POŠTA"]
[null,"J.7.1","J.7","J.7.1","Rešitev mora zagotavljati zajem e-pošte v EDMS preko Outlook integracije (Outlook vtičnik)."]
[null,"J.7.2",null,"J.7.2","Rešitev mora zagotavljati zajem e-pošte v EDMS preko namenskega poštnega predala preko katerega se samodejno vsa e-pošta in priloge vpišejo v EDMS."]
[null,"J.7.3",null,"J.7.3","Rešitev mora omogočati mehanizme za SPAM, preverjanje pošiljatelja in filtre za uvoz e-pošte."]
[null,"J.7.4",null,"J.7.4","Rešitev mora zagotavljati izločanje podvojenih e-poštnih sporočil."]
[null,"J.8.1","J.8","J.8.1","Rešitev mora zagotavljati klasifikacijo na podlagi vsebine e-pošte in klasifikacijskih oznak v vsebini sporočila."]
[null,"J.8.2",null,"J.8.2","Rešitev mora zagotavljati branje metapodatkov iz vsebine in ostali podatkov zapisan v e-pošti."]
[null,"J.8.3",null,"J.8.3","Rešitev mora zagotavljati samodejni uvoz e-pošte brez ali s prilogami."]
[null,"J.8.4",null,"J.8.4","Rešitev mora zagotavljati evidenco prejete in poslane e-pošte."]
[null,"J.9.1","x","J.9.1","Rešitev mora zagotavljati zajem e-pošte na podlagi priporočil MoReq2: ohranjanje originalne oblike, sporočila v PDF obliki, itd."]
[null,"J.10.1","x","J.10.1","Rešitev mora zagotavljati elektronsko podpisovanje poslanih sporočil."]
[{"$nulls":3},"","MOCROSOFT OFFICE"]
[null,"J.11.1","J.11","J.11.1","Rešitev mora vključevati integracijo z Microsoft Office delovnim okoljem (Word, Excel, Outlook, PowerPoint 2010 ali več)."]
[null,"J.11.2",null,"J.11.2","Rešitev mora omogočati vpis, vlaganje in verzioniranje dokumentov neposredno iz Microsoft Office orodij."]
[null,"J.11.3",null,"J.11.3","Rešitev mora omogočati uporabo in avtomatizacijo sestave dokumentov na podlagi Microsoft office definiranih predlog."]
[{"$nulls":3},"K","Zahtevano testno okolje"]
[{"$nulls":3},"","SPLOŠNO"]
[{"$f":"Števci!$M$2","v":"se ne vpisuje"},"K.1.1","x","K.1.1","Preizkušanje novih funkcionalnost in usposabljanje uporabnikov mora biti zagotovljeno v ločenem testnem okolju. Delovanje v testnem okolju ne sme motiti ali vplivati na delovanje produkcijskega okolja.",{"$f":"Števci!$K$2","v":"obvezno DA"},{"$f":"Števci!$M$2","v":"se ne vpisuje"},{"$f":"Števci!$M$2","v":"se ne vpisuje"}]
[{"$f":"Števci!$M$2","v":"se ne vpisuje"},"K.2.1","K.2","K.2.1","V testnem okolju morajo biti podatkovne baze polnjene z aktualnimi podatki, ki odražajo produkcijsko okolje.",{"$f":"Števci!$K$2","v":"obvezno DA"},{"$f":"Števci!$M$2","v":"se ne vpisuje"},{"$f":"Števci!$M$2","v":"se ne vpisuje"}]
[{"$f":"Števci!$M$2","v":"se ne vpisuje"},"K.2.2",null,"K.2.2","Testno okolje mora zagotavljati vse funkcionalnosti.",{"$f":"Števci!$K$2","v":"obvezno DA"},{"$f":"Števci!$M$2","v":"se ne vpisuje"},{"$f":"Števci!$M$2","v":"se ne vpisuje"}]
[{"$f":"Števci!$M$2","v":"se ne vpisuje"},"K.2.3",null,"K.2.3","V testnem okolju mora biti vzpostavljena alternativna povezava z IS naročnika.",{"$f":"Števci!$K$2","v":"obvezno DA"},{"$f":"Števci!$M$2","v":"se ne vpisuje"},{"$f":"Števci!$M$2","v":"se ne vpisuje"}]
[{"$f":"Števci!$M$2","v":"se ne vpisuje"},"K.2.4",null,"K.2.4","V testnem okolju mora bit vzpostavljena alternativna povezava z zunanjimi viri kot je polnjenje elektronskih dokumentov (preko UJP).",{"$f":"Števci!$K$2","v":"obvezno DA"},{"$f":"Števci!$M$2","v":"se ne vpisuje"},{"$f":"Števci!$M$2","v":"se ne vpisuje"}]
[{"$f":"Števci!$M$2","v":"se ne vpisuje"},"K.2.5",null,"K.2.5","Odzivnost testnega okolja mora biti skladna z načrtovanim produkcijskim okoljem.",{"$f":"Števci!$K$2","v":"obvezno DA"},{"$f":"Števci!$M$2","v":"se ne vpisuje"},{"$f":"Števci!$M$2","v":"se ne vpisuje"}]
[{"$f":"Števci!$M$2","v":"se ne vpisuje"},"K.3.1","K.3","K.3.1","Zagotovljena mora biti vzporedna povezava in delovanje produkcijskega in testnega okolja na odjemalcih.",{"$f":"Števci!$K$2","v":"obvezno DA"},{"$f":"Števci!$M$2","v":"se ne vpisuje"},{"$f":"Števci!$M$2","v":"se ne vpisuje"}]
[{"$nulls":3},"L","Zahteve za odprtost, skalabilnost, razširitve in nadgradnjo"]
[{"$nulls":3},"","SPLOŠNO"]
[null,"L.1.1","L.1","L.1.1","Rešitev mora zagotavljati odprtost za bodoče nadgradnje in razširitve."]
[null,"L.1.2",null,"L.1.2","Rešitev mora omogočati razširitev s funkcionalnostmi za podporo morebitnih dodatnih specifičnih procesov v organizaciji."]
[null,"L.1.3",null,"L.1.3","Rešitev mora biti skalabilna ter omogočati razširitev kapacitet (količina poslovne vsebine in število uporabnikov) brez programskih nadgradenj."]
[null,"L.1.4",null,"L.1.4","Rešitev mora zagotavljati različne načine (aktivne, pasivne) izenačevanja obremenitev (angl. Load Balancing)."]
[null,"L.2.1","x","L.2.1","Rešitev mora zagotavljati razširitve modularno brez obsežnejših nadgradenj."]
[{"$nulls":3},"M","Implementacija"]
[{"$nulls":4},"PROJEKTNA ORGANIZACIJA"]
[{"$f":"Števci!$M$2","v":"se ne vpisuje"},"M.1.1","x","M.1.1","Naročnik imenuje vodjo celotnega projekta in vodi celoten projekt v tesnem sodelovanju z vodjo projekta na strani izvajalca.",{"$f":"Števci!$K$2","v":"obvezno DA"},{"$f":"Števci!$M$2","v":"se ne vpisuje"},{"$f":"Števci!$M$2","v":"se ne vpisuje"}]
[{"$f":"Števci!$M$2","v":"se ne vpisuje"},"M.2.1","x","M.2.1","Izvajalec v celoti prevzame vodenje vseh aktivnosti načrtovanja virov, sistemskega načrtovanja, razvoja, dobave, testiranja, namestitve in integracije programske rešitve v IS naročnika.",{"$f":"Števci!$K$2","v":"obvezno DA"},{"$f":"Števci!$M$2","v":"se ne vpisuje"},{"$f":"Števci!$M$2","v":"se ne vpisuje"}]
[{"$f":"Števci!$M$2","v":"se ne vpisuje"},"M.3.1","x","M.3.1","Projektna organizacija projekta se vzpostavi v skladu z metodologijo za vodenje projektov, ki jo uporablja naročnik.",{"$f":"Števci!$K$2","v":"obvezno DA"},{"$f":"Števci!$M$2","v":"se ne vpisuje"},{"$f":"Števci!$M$2","v":"se ne vpisuje"}]
[null,"",null,"","SPREMLJANJE NAPREDKA"]
[{"$f":"Števci!$M$2","v":"se ne vpisuje"},"M.4.1","x","M.4.1","Vodja projekta skliče in vodi redne ali izredne sestanke za pregled opravljenih nalog.",{"$f":"Števci!$K$2","v":"obvezno DA"},{"$f":"Števci!$M$2","v":"se ne vpisuje"},{"$f":"Števci!$M$2","v":"se ne vpisuje"}]
[{"$f":"Števci!$M$2","v":"se ne vpisuje"},"M.4.2","x","M.4.2","Udeleženci sestanka: vodja projekta, vodja projekta izvajalca, poslovni in tehnični korodinator. Na podlagi poročila o opravljenih nalogah izvajalca se na sestanku ugotavlja napredek projekta.",{"$f":"Števci!$K$2","v":"obvezno DA"},{"$f":"Števci!$M$2","v":"se ne vpisuje"},{"$f":"Števci!$M$2","v":"se ne vpisuje"}]
[null,"",null,"","POROČANJE"]
[{"$f":"Števci!$M$2","v":"se ne vpisuje"},"M.5.1","x","M.5.1","Izvajalec na podlagi izvedbenega načrta periodično pripravlja poročila o napredku projekta.",{"$f":"Števci!$K$2","v":"obvezno DA"},{"$f":"Števci!$M$2","v":"se ne vpisuje"},{"$f":"Števci!$M$2","v":"se ne vpisuje"}]
[null,"",null,"","TERMINSKI NAČRT IN SPREMLJAJOČI DOKUMENTI"]
[{"$f":"Števci!$M$2","v":"se ne vpisuje"},"M.6.1","M.6","M.6.1","Podroben terminski načrt izvedbe projekta.",{"$f":"Števci!$K$2","v":"obvezno DA"},{"$f":"Števci!$M$2","v":"se ne vpisuje"},{"$f":"Števci!$M$2","v":"se ne vpisuje"}]
[null,"",null,"","LICENCE"]
[{"$f":"Števci!$M$2","v":"se ne vpisuje"},"M.7.1","M.7","M.7.1","Ponudba mora vključevati vse potrebne licence za minimalno 1.500 uporabnikov za celoten nabor funkcionalnosti ponujene rešitve.",{"$f":"Števci!$K$2","v":"obvezno DA"},{"$f":"Števci!$M$2","v":"se ne vpisuje"},{"$f":"Števci!$M$2","v":"se ne vpisuje"}]
[{"$f":"Števci!$M$2","v":"se ne vpisuje"},"M.8.1","x","M.8.1","Rešitev ne sme vključevati nobenih dodatnih plačljivih licenc za komponente uporablajne v ponujeni rešitvi.",{"$f":"Števci!$K$2","v":"obvezno DA"},{"$f":"Števci!$M$2","v":"se ne vpisuje"},{"$f":"Števci!$M$2","v":"se ne vpisuje"}]
[null,"",null,"","REŠEVANJE NESOGLASIJ IN SPOROV"]
[{"$f":"Števci!$M$2","v":"se ne vpisuje"},"M.9.1","x","M.9.1","Vodja projekta po potrebi skliče sestanek za obravnavo spornih zadev, katerih rešitev ni dosežena na predviden datum.",{"$f":"Števci!$K$2","v":"obvezno DA"},{"$f":"Števci!$M$2","v":"se ne vpisuje"},{"$f":"Števci!$M$2","v":"se ne vpisuje"}]
[{"$f":"Števci!$M$2","v":"se ne vpisuje"},"M.9.2",null,"M.9.2","Udeleženci sestanka: vodja projekta, vodja projekta izvajalca, poslovni in tehnični koordinator.",{"$f":"Števci!$K$2","v":"obvezno DA"},{"$f":"Števci!$M$2","v":"se ne vpisuje"},{"$f":"Števci!$M$2","v":"se ne vpisuje"}]
[{"$f":"Števci!$M$2","v":"se ne vpisuje"},"M.9.3",null,"M.9.3","V primeru, da se na sestanku ne najdejo primerne rešitve oziroma je možna rešitev izven pristojnosti vodje projekta, se zapisnik sestanka predloži lastniku projekta.",{"$f":"Števci!$K$2","v":"obvezno DA"},{"$f":"Števci!$M$2","v":"se ne vpisuje"},{"$f":"Števci!$M$2","v":"se ne vpisuje"}]
[null,"",null,"","PODROBNE SPECIFIKACIJE ZAHTEV PROGRAMSKE OPREME"]
[{"$f":"Števci!$M$2","v":"se ne vpisuje"},"M.10.1","x","M.10.1","Naročnik zahteva, da ponudniki v svojih ponudbah upoštevajo, da bo v začetni fazi potrebno podrobno obdelati uporabniške zahteve in na podlagi teh izdelati izvedbene specifikacije.",{"$f":"Števci!$K$2","v":"obvezno DA"},{"$f":"Števci!$M$2","v":"se ne vpisuje"},{"$f":"Števci!$M$2","v":"se ne vpisuje"}]
[{"$f":"Števci!$M$2","v":"se ne vpisuje"},"M.11.1","x","M.11.1","Podrobno razdelane morajo biti vsaj naslednje zahteve iz razpisne dokumentacije: procesi, dokumenti, podatki, šifranti, poročila, izpisi, pregledi, pravice uporabnikov, organizacija naročnika, sistemska in aplikativna opredelitev integracije v IS naročnika, varnost, idr.",{"$f":"Števci!$K$2","v":"obvezno DA"},{"$f":"Števci!$M$2","v":"se ne vpisuje"},{"$f":"Števci!$M$2","v":"se ne vpisuje"}]
[null,"",null,"","OPREDELITEV REŠITVE"]
[{"$f":"Števci!$M$2","v":"se ne vpisuje"},"M.12.1","x","M.12.1","Izvajalec mora na podlagi predloga rešitve, ki ga bo podal v ponudbi in specifikacije uporabniških zahtev definiral rešitev in jo predložil naročniku v odobritev.",{"$f":"Števci!$K$2","v":"obvezno DA"},{"$f":"Števci!$M$2","v":"se ne vpisuje"},{"$f":"Števci!$M$2","v":"se ne vpisuje"}]
[null,"",null,"","IZVEDBENI NAČRT"]
[{"$f":"Števci!$M$2","v":"se ne vpisuje"},"M.13.1","x","M.13.1","Izvedbeni načrt mora opredeljevati aktivnosti, dobave, testiranje, redne sestanke, preglede in revizije. Določeni morajo biti mejniki, ki omogočajo sprotno spremljanje napredka in reševanje morebitnih nastalih težav.",{"$f":"Števci!$K$2","v":"obvezno DA"},{"$f":"Števci!$M$2","v":"se ne vpisuje"},{"$f":"Števci!$M$2","v":"se ne vpisuje"}]
[null,"",null,"","RAZVOJ, TESTIRANJE IN NAMESTITEV PROGRAMSKE OPREME"]
[{"$f":"Števci!$M$2","v":"se ne vpisuje"},"M.14.1","M.14","M.14.1","Izvajalec mora pri razvoju uporabljati eno od uveljavljenih razvojnih metodologij, zagotavljati kakovost izvedbe in testiranje.",{"$f":"Števci!$K$2","v":"obvezno DA"},{"$f":"Števci!$M$2","v":"se ne vpisuje"},{"$f":"Števci!$M$2","v":"se ne vpisuje"}]
[{"$f":"Števci!$M$2","v":"se ne vpisuje"},"M.15.1","x","M.15.1","Izvajalec mora izvesti testiranje obremenitev delovanja in varnosti z orodji Subgraph Vega, Apache JMeter in Visual Studio Testing Tools.",{"$f":"Števci!$K$2","v":"obvezno DA"},{"$f":"Števci!$M$2","v":"se ne vpisuje"},{"$f":"Števci!$M$2","v":"se ne vpisuje"}]
[{"$f":"Števci!$M$2","v":"se ne vpisuje"},"M.15.2",null,"M.15.2","Izvajalec mora izvesti testiranje modulov, sistemsko in integralno testiranje.",{"$f":"Števci!$K$2","v":"obvezno DA"},{"$f":"Števci!$M$2","v":"se ne vpisuje"},{"$f":"Števci!$M$2","v":"se ne vpisuje"}]
[{"$f":"Števci!$M$2","v":"se ne vpisuje"},"M.16.1","x","M.16.1","Namestitev, integracijo, testiranje in uvajanje na lokaciji naročnika izvede naročnik ob podpori izvajalca.",{"$f":"Števci!$K$2","v":"obvezno DA"},{"$f":"Števci!$M$2","v":"se ne vpisuje"},{"$f":"Števci!$M$2","v":"se ne vpisuje"}]
[{"$nulls":3},"","DOKUMENTACIJA IN NAMESTITVENI PAKETI"]
[{"$nulls":3},"","Dokumentacija"]
[{"$f":"Števci!$M$2","v":"se ne vpisuje"},"M.17.1","x","M.17.1","Celotna dokumentacija mora biti usklajena z nameščeno različico aplikacije, na katero se nanaša.",{"$f":"Števci!$K$2","v":"obvezno DA"},{"$f":"Števci!$M$2","v":"se ne vpisuje"},{"$f":"Števci!$M$2","v":"se ne vpisuje"}]
[{"$f":"Števci!$M$2","v":"se ne vpisuje"},"M.17.2",null,"M.17.2","Nove verzije aplikacije morajo vključevati ažurirano verzijo dokumentacije.",{"$f":"Števci!$K$2","v":"obvezno DA"},{"$f":"Števci!$M$2","v":"se ne vpisuje"},{"$f":"Števci!$M$2","v":"se ne vpisuje"}]
[{"$f":"Števci!$M$2","v":"se ne vpisuje"},"M.17.3",null,"M.17.3","Naročnik zahteva pripravo in redno vzdrževanje celotne dokumentacije.",{"$f":"Števci!$K$2","v":"obvezno DA"},{"$f":"Števci!$M$2","v":"se ne vpisuje"},{"$f":"Števci!$M$2","v":"se ne vpisuje"}]
[{"$f":"Števci!$M$2","v":"se ne vpisuje"},"M.17.4",null,"M.17.4","Dokumentacijo dostavi izvajalec v elektronski obliki (Word in PDF).",{"$f":"Števci!$K$2","v":"obvezno DA"},{"$f":"Števci!$M$2","v":"se ne vpisuje"},{"$f":"Števci!$M$2","v":"se ne vpisuje"}]
[{"$f":"Števci!$M$2","v":"se ne vpisuje"},"M.18.1","x","M.18.1","Dokumentacija mora vključevati uporabniška navodila, skrbniška navodila, navodila za namestitev in sistemsko dokumentacijo z vsemi potrebnimi opisi.",{"$f":"Števci!$K$2","v":"obvezno DA"},{"$f":"Števci!$M$2","v":"se ne vpisuje"},{"$f":"Števci!$M$2","v":"se ne vpisuje"}]
[{"$f":"Števci!$M$2","v":"se ne vpisuje"},"M.18.2",null,"M.18.2","Uporabniška dokumentacija mora vsebovati vse informacije, potrebne končnim uporabnikom za redno delo, vključujoč pomoč, pogosta vprašanja in strani za informiranje.",{"$f":"Števci!$K$2","v":"obvezno DA"},{"$f":"Števci!$M$2","v":"se ne vpisuje"},{"$f":"Števci!$M$2","v":"se ne vpisuje"}]
[{"$f":"Števci!$M$2","v":"se ne vpisuje"},"M.18.3",null,"M.18.3","Skrbniška navodila morajo vsebovati vse potrebne informacije za vzdrževanje aplikacije za redno delo vključujoč dokumentacijo za skrbniški modul.",{"$f":"Števci!$K$2","v":"obvezno DA"},{"$f":"Števci!$M$2","v":"se ne vpisuje"},{"$f":"Števci!$M$2","v":"se ne vpisuje"}]
[{"$f":"Števci!$M$2","v":"se ne vpisuje"},"M.18.4",null,"M.18.4","Navodila za namestitev morajo vsebovati celovit postopek namestitve in inicialne konfiguracije.",{"$f":"Števci!$K$2","v":"obvezno DA"},{"$f":"Števci!$M$2","v":"se ne vpisuje"},{"$f":"Števci!$M$2","v":"se ne vpisuje"}]
[{"$f":"Števci!$M$2","v":"se ne vpisuje"},"M.18.5",null,"M.18.5","Sistemska dokumentacija mora vsebovati vse informacije o zgradbi in delovanju programske rešitve. Je osnova za sistemskega arhitekta ali programerja, da lahko definira zahteve za nadgradnje, povezovanje aplikacije z drugimi aplikacijami, spremembe delovanja itn.",{"$f":"Števci!$K$2","v":"obvezno DA"},{"$f":"Števci!$M$2","v":"se ne vpisuje"},{"$f":"Števci!$M$2","v":"se ne vpisuje"}]
[{"$f":"Števci!$M$2","v":"se ne vpisuje"},"M.18.6",null,"M.18.6","Dokumentacija mora pokrivati minimalno naslednja področja: integralni pregled aplikacije po modulih (zgradba, delovanje), varnostni postopki in postopki za obnovitev aplikacije v primeru večjih napak, specifikacije nastavitev vseh modulov, opis uporabniških in sistemskih funkcij, opis napak in možnih razlogov za napake, učinkovito uporabo, nadzor nad delovanjem, upravljanjem in vzdrževanjem aplikacije skladno zahtevam v razpisni dokumentaciji.",{"$f":"Števci!$K$2","v":"obvezno DA"},{"$f":"Števci!$M$2","v":"se ne vpisuje"},{"$f":"Števci!$M$2","v":"se ne vpisuje"}]
[{"$nulls":3},"","Namestitveni paketi"]
[{"$f":"Števci!$M$2","v":"se ne vpisuje"},"M.19.1","x","M.19.1","Namestitveni paketi morajo biti v obliki MSI (Microsoft Windows Installer).",{"$f":"Števci!$K$2","v":"obvezno DA"},{"$f":"Števci!$M$2","v":"se ne vpisuje"},{"$f":"Števci!$M$2","v":"se ne vpisuje"}]
[{"$f":"Števci!$M$2","v":"se ne vpisuje"},"M.19.2",null,"M.19.2","Namestitveni paketi morajo biti verzionirani (major, minor version).",{"$f":"Števci!$K$2","v":"obvezno DA"},{"$f":"Števci!$M$2","v":"se ne vpisuje"},{"$f":"Števci!$M$2","v":"se ne vpisuje"}]
[{"$f":"Števci!$M$2","v":"se ne vpisuje"},"M.19.3",null,"M.19.3","Namestitveni paketi morajo vključevati tudi posodobitve podatkovne baze in so enako verzionirani kot namestitevi MSI paketi.",{"$f":"Števci!$K$2","v":"obvezno DA"},{"$f":"Števci!$M$2","v":"se ne vpisuje"},{"$f":"Števci!$M$2","v":"se ne vpisuje"}]
[{"$f":"Števci!$M$2","v":"se ne vpisuje"},"M.19.4",null,"M.19.4","Namestitveni paketi morajo vključevati dialoge za vnos vseh potrebnih nastavitev za takojšen zakon aplikacije.",{"$f":"Števci!$K$2","v":"obvezno DA"},{"$f":"Števci!$M$2","v":"se ne vpisuje"},{"$f":"Števci!$M$2","v":"se ne vpisuje"}]
[{"$f":"Števci!$M$2","v":"se ne vpisuje"},"M.20.1","M.20","M.20.1","Namestitveni paketi morajo biti izdelani ločeno za strežniški del in ločeno za odjemalce.",{"$f":"Števci!$K$2","v":"obvezno DA"},{"$f":"Števci!$M$2","v":"se ne vpisuje"},{"$f":"Števci!$M$2","v":"se ne vpisuje"}]
[{"$f":"Števci!$M$2","v":"se ne vpisuje"},"M.20.2",null,"M.20.2","Namestitveni paket za izvorno kodo, ki vključuje dokumentacijo arhitekture, povezljivosti ter odvisnosti programskih modulov, mora biti izdelan ločeno.",{"$f":"Števci!$K$2","v":"obvezno DA"},{"$f":"Števci!$M$2","v":"se ne vpisuje"},{"$f":"Števci!$M$2","v":"se ne vpisuje"}]
[{"$nulls":3},"","USPOSABLJANJE"]
[{"$f":"Števci!$M$2","v":"se ne vpisuje"},"M.21.1","x","M.21.1","Naročnik zahteva, da bo naročnik po zaključku projekta usposobljen in v stanju v celoti samostojno zagotavljati operativno delovanje aplikacije.",{"$f":"Števci!$K$2","v":"obvezno DA"},{"$f":"Števci!$M$2","v":"se ne vpisuje"},{"$f":"Števci!$M$2","v":"se ne vpisuje"}]
[{"$f":"Števci!$M$2","v":"se ne vpisuje"},"M.22.1","M.22","M.22.1","Ponudniki morajo navesti in opisati vsa potrebna izhodišča (število, strokovne in tehnične kvalifikacije ter druge pogoje) za usposabljanje uporabnikov za operativno podporo izvajanju aplikacij, vključujoč usposabljanje uporabnikov, ki bodo odgovorni za administriranje aplikacije, baze in za osnovne vzdrževalne posege.",{"$f":"Števci!$K$2","v":"obvezno DA"},{"$f":"Števci!$M$2","v":"se ne vpisuje"},{"$f":"Števci!$M$2","v":"se ne vpisuje"}]
[{"$f":"Števci!$M$2","v":"se ne vpisuje"},"M.23.1","x","M.23.1","Izvajalec mora izvesti vse aktivnosti izobraževanja in usposobljanja, vključujoč pripravo potrebne dokumentacije in drugih pripomočkov.",{"$f":"Števci!$K$2","v":"obvezno DA"},{"$f":"Števci!$M$2","v":"se ne vpisuje"},{"$f":"Števci!$M$2","v":"se ne vpisuje"}]
[{"$f":"Števci!$M$2","v":"se ne vpisuje"},"M.24.1","x","M.24.1","Ponudnik naj upošteva in specificira izvedbo (vsebino, čas in rezultat) usposabljanja in izobraževanja za: 5 skrbnikov aplikacije, 25 ključnih uporabnikov in 3 sistemske arhitekte.",{"$f":"Števci!$K$2","v":"obvezno DA"},{"$f":"Števci!$M$2","v":"se ne vpisuje"},{"$f":"Števci!$M$2","v":"se ne vpisuje"}]
[{"$nulls":3},"","ZAKLJUČNO TESTIRANJE IN PRIMOPREDAJA"]
[{"$f":"Števci!$M$2","v":"se ne vpisuje"},"M.25.1","x","M.25.1","Zaključno testiranje izvede naročnik ob podpori izvajalca z uporabo testov sprejemljivosti, ki vključujejo vse ključne funkcionalnosti programske rešitve.",{"$f":"Števci!$K$2","v":"obvezno DA"},{"$f":"Števci!$M$2","v":"se ne vpisuje"},{"$f":"Števci!$M$2","v":"se ne vpisuje"}]
[{"$nulls":3},"N","Zahteve za opis aplikativne rešitve"]
[{"$nulls":3},"","DOKUMENT „MATRIKA ZAHTEV APLIKATIVNE REŠITVE”"]
[{"$f":"Števci!$M$2","v":"se ne vpisuje"},"N.1.1","x","N.1.1","Dokument »Matrika zahtev aplikativne rešitve« opisuje rešitev v tabelarični obliki s stopnjo skladnosti in oznako morebiti potrebnega razvoja. Vsebinske in oblikovne zahteve so podane v podpoglavju 3.3.N.",{"$f":"Števci!$K$2","v":"obvezno DA"},{"$f":"Števci!$M$2","v":"se ne vpisuje"},{"$f":"Števci!$M$2","v":"se ne vpisuje"}]
[null,"",null,"","DOKUMENT „OPIS APLIKATIVNE REŠITVE”"]
[{"$f":"Števci!$M$2","v":"se ne vpisuje"},"N.1.2","x","N.1.2","Dokument »Opis aplikativne rešitve« mora opisovati rešitev na običajen način (Word datoteka) s tekstom, slikami, diagrami po poglavjih. Vsebinske in oblikovne zahteve so podane v podpoglavju 3.3.N.",{"$f":"Števci!$K$2","v":"obvezno DA"},{"$f":"Števci!$M$2","v":"se ne vpisuje"},{"$f":"Števci!$M$2","v":"se ne vpisuje"}]

{"sheet":"Števci","index":2,"n_rows":1000,"n_cols":15,"rows_kept":1000,"hidden":true}
["Oznaka","Sklop","Sklop-DA","Sklop-ustreza","Sklop-opis","Sklop-dni","Sklop-dni",null,"Zahteva zagotovljena?",null,"Zahteva obvezna",null,"Se ne vpisuje",null,"Prikaz dni"]
[{"$f":"IF(Zahteve!B3=\"\",\"\",Zahteve!B3)","v":""},{"$f":"IF(Zahteve!B3=\"\",\"\",LEFT(Zahteve!B3,1))","v":""},{"$f":"IF(B2=\"\",\"\",IF(Zahteve!F3=\"da\",CONCATENATE(B2,\"-DA\"),\"\"))","v":""},{"$f":"IF(B2=\"\",\"\",IF(Zahteve!A3=\"da\",CONCATENATE(B2,\"-ustreza\"),\"\"))","v":""},{"$f":"IF(B2=\"\",\"\",IF(Zahteve!G3=\"\",\"\",CONCATENATE(B2,\"-opis\")))","v":""},{"$f":"IF(B2=\"\",\"\",IF(Zahteve!H3=\"\",\"\",CONCATENATE(B2,\"-dni\")))","v":""},{"$f":"IF(B2=\"\",\"\",IF(Zahteve!H3=\"\",\"\",Zahteve!H3))","v":""},null,"DA",null,"obvezno DA",null,"se ne vpisuje",null,"pozitivno"]
[{"$f":"IF(Zahteve!B4=\"\",\"\",Zahteve!B4)","v":"A.1.1"},{"$f":"IF(Zahteve!B4=\"\",\"\",LEFT(Zahteve!B4,1))","v":"A"},{"$f":"IF(B3=\"\",\"\",IF(Zahteve!F4=\"da\",CONCATENATE(B3,\"-DA\"),\"\"))","v":""},{"$f":"IF(B3=\"\",\"\",IF(Zahteve!A4=\"da\",CONCATENATE(B3,\"-ustreza\"),\"\"))","v":""},{"$f":"IF(B3=\"\",\"\",IF(Zahteve!G4=\"\",\"\",CONCATENATE(B3,\"-opis\")))","v":"A-opis"},{"$f":"IF(B3=\"\",\"\",IF(Zahteve!H4=\"\",\"\",CONCATENATE(B3,\"-dni\")))","v":"A-dni"},{"$f":"IF(B3=\"\",\"\",IF(Zahteve!H4=\"\",\"\",Zahteve!H4))","v":"se ne vpisuje"},null,"NE",{"$nulls":5},"negatativno"]
[{"$f":"IF(Zahteve!B5=\"\",\"\",Zahteve!B5)","v":"A.2.1"},{"$f":"IF(Zahteve!B5=\"\",\"\",LEFT(Zahteve!B5,1))","v":"A"},{"$f":"IF(B4=\"\",\"\",IF(Zahteve!F5=\"da\",CONCATENATE(B4,\"-DA\"),\"\"))","v":""},{"$f":"IF(B4=\"\",\"\",IF(Zahteve!A5=\"da\",CONCATENATE(B4,\"-ustreza\"),\"\"))","v":""},{"$f":"IF(B4=\"\",\"\",IF(Zahteve!G5=\"\",\"\",CONCATENATE(B4,\"-opis\")))","v":"A-opis"},{"$f":"IF(B4=\"\",\"\",IF(Zahteve!H5=\"\",\"\",CONCATENATE(B4,\"-dni\")))","v":"A-dni"},{"$f":"IF(B4=\"\",\"\",IF(Zahteve!H5=\"\",\"\",Zahteve!H5))","v":"se ne vpisuje"}]
[{"$f":"IF(Zahteve!B6=\"\",\"\",Zahteve!B6)","v":"A.2.2"},{"$f":"IF(Zahteve!B6=\"\",\"\",LEFT(Zahteve!B6,1))","v":"A"},{"$f":"IF(B5=\"\",\"\",IF(Zahteve!F6=\"da\",CONCATENATE(B5,\"-DA\"),\"\"))","v":""},{"$f":"IF(B5=\"\",\"\",IF(Zahteve!A6=\"da\",CONCATENATE(B5,\"-ustreza\"),\"\"))","v":""},{"$f":"IF(B5=\"\",\"\",IF(Zahteve!G6=\"\",\"\",CONCATENATE(B5,\"-opis\")))","v":"A-opis"},{"$f":"IF(B5=\"\",\"\",IF(Zahteve!H6=\"\",\"\",CONCATENATE(B5,\"-dni\")))","v":"A-dni"},{"$f":"IF(B5=\"\",\"\",IF(Zahteve!H6=\"\",\"\",Zahteve!H6))","v":"se ne vpisuje"}]
[{"$f":"IF(Zahteve!B7=\"\",\"\",Zahteve!B7)","v":"A.2.3"},{"$f":"IF(Zahteve!B7=\"\",\"\",LEFT(Zahteve!B7,1))","v":"A"},{"$f":"IF(B6=\"\",\"\",IF(Zahteve!F7=\"da\",CONCATENATE(B6,\"-DA\"),\"\"))","v":""},{"$f":"IF(B6=\"\",\"\",IF(Zahteve!A7=\"da\",CONCATENATE(B6,\"-ustreza\"),\"\"))","v":""},{"$f":"IF(B6=\"\",\"\",IF(Zahteve!G7=\"\",\"\",CONCATENATE(B6,\"-opis\")))","v":"A-opis"},{"$f":"IF(B6=\"\",\"\",IF(Zahteve!H7=\"\",\"\",CONCATENATE(B6,\"-dni\")))","v":"A-dni"},{"$f":"IF(B6=\"\",\"\",IF(Zahteve!H7=\"\",\"\",Zahteve!H7))","v":"se ne vpisuje"}]
[{"$f":"IF(Zahteve!B8=\"\",\"\",Zahteve!B8)","v":"A.3.1"},{"$f":"IF(Zahteve!B8=\"\",\"\",LEFT(Zahteve!B8,1))","v":"A"},{"$f":"IF(B7=\"\",\"\",IF(Zahteve!F8=\"da\",CONCATENATE(B7,\"-DA\"),\"\"))","v":""},{"$f":"IF(B7=\"\",\"\",IF(Zahteve!A8=\"da\",CONCATENATE(B7,\"-ustreza\"),\"\"))","v":""},{"$f":"IF(B7=\"\",\"\",IF(Zahteve!G8=\"\",\"\",CONCATENATE(B7,\"-opis\")))","v":"A-opis"},{"$f":"IF(B7=\"\",\"\",IF(Zahteve!H8=\"\",\"\",CONCATENATE(B7,\"-dni\")))","v":"A-dni"},{"$f":"IF(B7=\"\",\"\",IF(Zahteve!H8=\"\",\"\",Zahteve!H8))","v":"se ne vpisuje"}]
[{"$f":"IF(Zahteve!B9=\"\",\"\",Zahteve!B9)","v":"A.4.1"},{"$f":"IF(Zahteve!B9=\"\",\"\",LEFT(Zahteve!B9,1))","v":"A"},{"$f":"IF(B8=\"\",\"\",IF(Zahteve!F9=\"da\",CONCATENATE(B8,\"-DA\"),\"\"))","v":""},{"$f":"IF(B8=\"\",\"\",IF(Zahteve!A9=\"da\",CONCATENATE(B8,\"-ustreza\"),\"\"))","v":""},{"$f":"IF(B8=\"\",\"\",IF(Zahteve!G9=\"\",\"\",CONCATENATE(B8,\"-opis\")))","v":"A-opis"},{"$f":"IF(B8=\"\",\"\",IF(Zahteve!H9=\"\",\"\",CONCATENATE(B8,\"-dni\")))","v":"A-dni"},{"$f":"IF(B8=\"\",\"\",IF(Zahteve!H9=\"\",\"\",Zahteve!H9))","v":"se ne vpisuje"}]
[{"$f":"IF(Zahteve!B10=\"\",\"\",Zahteve!B10)","v":"A.4.2"},{"$f":"IF(Zahteve!B10=\"\",\"\",LEFT(Zahteve!B10,1))","v":"A"},{"$f":"IF(B9=\"\",\"\",IF(Zahteve!F10=\"da\",CONCATENATE(B9,\"-DA\"),\"\"))","v":""},{"$f":"IF(B9=\"\",\"\",IF(Zahteve!A10=\"da\",CONCATENATE(B9,\"-ustreza\"),\"\"))","v":""},{"$f":"IF(B9=\"\",\"\",IF(Zahteve!G10=\"\",\"\",CONCATENATE(B9,\"-opis\")))","v":"A-opis"},{"$f":"IF(B9=\"\",\"\",IF(Zahteve!H10=\"\",\"\",CONCATENATE(B9,\"-dni\")))","v":"A-dni"},{"$f":"IF(B9=\"\",\"\",IF(Zahteve!H10=\"\",\"\",Zahteve!H10))","v":"se ne vpisuje"}]
[{"$f":"IF(Zahteve!B11=\"\",\"\",Zahteve!B11)","v":"A.4.3"},{"$f":"IF(Zahteve!B11=\"\",\"\",LEFT(Zahteve!B11,1))","v":"A"},{"$f":"IF(B10=\"\",\"\",IF(Zahteve!F11=\"da\",CONCATENATE(B10,\"-DA\"),\"\"))","v":""},{"$f":"IF(B10=\"\",\"\",IF(Zahteve!A11=\"da\",CONCATENATE(B10,\"-ustreza\"),\"\"))","v":""},{"$f":"IF(B10=\"\",\"\",IF(Zahteve!G11=\"\",\"\",CONCATENATE(B10,\"-opis\")))","v":"A-opis"},{"$f":"IF(B10=\"\",\"\",IF(Zahteve!H11=\"\",\"\",CONCATENATE(B10,\"-dni\")))","v":"A-dni"},{"$f":"IF(B10=\"\",\"\",IF(Zahteve!H11=\"\",\"\",Zahteve!H11))","v":"se ne vpisuje"}]
[{"$f":"IF(Zahteve!B12=\"\",\"\",Zahteve!B12)","v":"A.4.4"},{"$f":"IF(Zahteve!B12=\"\",\"\",LEFT(Zahteve!B12,1))","v":"A"},{"$f":"IF(B11=\"\",\"\",IF(Zahteve!F12=\"da\",CONCATENATE(B11,\"-DA\"),\"\"))","v":""},{"$f":"IF(B11=\"\",\"\",IF(Zahteve!A12=\"da\",CONCATENATE(B11,\"-ustreza\"),\"\"))","v":""},{"$f":"IF(B11=\"\",\"\",IF(Zahteve!G12=\"\",\"\",CONCATENATE(B11,\"-opis\")))","v":"A-opis"},{"$f":"IF(B11=\"\",\"\",IF(Zahteve!H12=\"\",\"\",CONCATENATE(B11,\"-dni\")))","v":"A-dni"},{"$f":"IF(B11=\"\",\"\",IF(Zahteve!H12=\"\",\"\",Zahteve!H12))","v":"se ne vpisuje"}]
[{"$f":"IF(Zahteve!B13=\"\",\"\",Zahteve!B13)","v":"A.4.5"},{"$f":"IF(Zahteve!B13=\"\",\"\",LEFT(Zahteve!B13,1))","v":"A"},{"$f":"IF(B12=\"\",\"\",IF(Zahteve!F13=\"da\",CONCATENATE(B12,\"-DA\"),\"\"))","v":""},{"$f":"IF(B12=\"\",\"\",IF(Zahteve!A13=\"da\",CONCATENATE(B12,\"-ustreza\"),\"\"))","v":""},{"$f":"IF(B12=\"\",\"\",IF(Zahteve!G13=\"\",\"\",CONCATENATE(B12,\"-opis\")))","v":"A-opis"},{"$f":"IF(B12=\"\",\"\",IF(Zahteve!H13=\"\",\"\",CONCATENATE(B12,\"-dni\")))","v":"A-dni"},{"$f":"IF(B12=\"\",\"\",IF(Zahteve!H13=\"\",\"\",Zahteve!H13))","v":"se ne vpisuje"}]
[{"$f":"IF(Zahteve!B14=\"\",\"\",Zahteve!B14)","v":""},{"$f":"IF(Zahteve!B14=\"\",\"\",LEFT(Zahteve!B14,1))","v":""},{"$f":"IF(B13=\"\",\"\",IF(Zahteve!F14=\"da\",CONCATENATE(B13,\"-DA\"),\"\"))","v":""},{"$f":"IF(B13=\"\",\"\",IF(Zahteve!A14=\"da\",CONCATENATE(B13,\"-ustreza\"),\"\"))","v":""},{"$f":"IF(B13=\"\",\"\",IF(Zahteve!G14=\"\",\"\",CONCATENATE(B13,\"-opis\")))","v":""},{"$f":"IF(B13=\"\",\"\",IF(Zahteve!H14=\"\",\"\",CONCATENATE(B13,\"-dni\")))","v":""},{"$f":"IF(B13=\"\",\"\",IF(Zahteve!H14=\"\",\"\",Zahteve!H14))","v":""}]
[{"$f":"IF(Zahteve!B15=\"\",\"\",Zahteve!B15)","v":""},{"$f":"IF(Zahteve!B15=\"\",\"\",LEFT(Zahteve!B15,1))","v":""},{"$f":"IF(B14=\"\",\"\",IF(Zahteve!F15=\"da\",CONCATENATE(B14,\"-DA\"),\"\"))","v":""},{"$f":"IF(B14=\"\",\"\",IF(Zahteve!A15=\"da\",CONCATENATE(B14,\"-ustreza\"),\"\"))","v":""},{"$f":"IF(B14=\"\",\"\",IF(Zahteve!G15=\"\",\"\",CONCATENATE(B14,\"-opis\")))","v":""},{"$f":"IF(B14=\"\",\"\",IF(Zahteve!H15=\"\",\"\",CONCATENATE(B14,\"-dni\")))","v":""},{"$f":"IF(B14=\"\",\"\",IF(Zahteve!H15=\"\",\"\",Zahteve!H15))","v":""}]
[{"$f":"IF(Zahteve!B16=\"\",\"\",Zahteve!B16)","v":"B.1.1."},{"$f":"IF(Zahteve!B16=\"\",\"\",LEFT(Zahteve!B16,1))","v":"B"},{"$f":"IF(B15=\"\",\"\",IF(Zahteve!F16=\"da\",CONCATENATE(B15,\"-DA\"),\"\"))","v":""},{"$f":"IF(B15=\"\",\"\",IF(Zahteve!A16=\"da\",CONCATENATE(B15,\"-ustreza\"),\"\"))","v":""},{"$f":"IF(B15=\"\",\"\",IF(Zahteve!G16=\"\",\"\",CONCATENATE(B15,\"-opis\")))","v":""},{"$f":"IF(B15=\"\",\"\",IF(Zahteve!H16=\"\",\"\",CONCATENATE(B15,\"-dni\")))","v":""},{"$f":"IF(B15=\"\",\"\",IF(Zahteve!H16=\"\",\"\",Zahteve!H16))","v":""}]
[{"$f":"IF(Zahteve!B17=\"\",\"\",Zahteve!B17)","v":"B.1.2"},{"$f":"IF(Zahteve!B17=\"\",\"\",LEFT(Zahteve!B17,1))","v":"B"},{"$f":"IF(B16=\"\",\"\",IF(Zahteve!F17=\"da\",CONCATENATE(B16,\"-DA\"),\"\"))","v":""},{"$f":"IF(B16=\"\",\"\",IF(Zahteve!A17=\"da\",CONCATENATE(B16,\"-ustreza\"),\"\"))","v":""},{"$f":"IF(B16=\"\",\"\",IF(Zahteve!G17=\"\",\"\",CONCATENATE(B16,\"-opis\")))","v":""},{"$f":"IF(B16=\"\",\"\",IF(Zahteve!H17=\"\",\"\",CONCATENATE(B16,\"-dni\")))","v":""},{"$f":"IF(B16=\"\",\"\",IF(Zahteve!H17=\"\",\"\",Zahteve!H17))","v":""}]
[{"$f":"IF(Zahteve!B18=\"\",\"\",Zahteve!B18)","v":"B.2.1"},{"$f":"IF(Zahteve!B18=\"\",\"\",LEFT(Zahteve!B18,1))","v":"B"},{"$f":"IF(B17=\"\",\"\",IF(Zahteve!F18=\"da\",CONCATENATE(B17,\"-DA\"),\"\"))","v":""},{"$f":"IF(B17=\"\",\"\",IF(Zahteve!A18=\"da\",CONCATENATE(B17,\"-ustreza\"),\"\"))","v":""},{"$f":"IF(B17=\"\",\"\",IF(Zahteve!G18=\"\",\"\",CONCATENATE(B17,\"-opis\")))","v":""},{"$f":"IF(B17=\"\",\"\",IF(Zahteve!H18=\"\",\"\",CONCATENATE(B17,\"-dni\")))","v":""},{"$f":"IF(B17=\"\",\"\",IF(Zahteve!H18=\"\",\"\",Zahteve!H18))","v":""}]
[{"$f":"IF(Zahteve!B19=\"\",\"\",Zahteve!B19)","v":"B.2.2"},{"$f":"IF(Zahteve!B19=\"\",\"\",LEFT(Zahteve!B19,1))","v":"B"},{"$f":"IF(B18=\"\",\"\",IF(Zahteve!F19=\"da\",CONCATENATE(B18,\"-DA\"),\"\"))","v":""},{"$f":"IF(B18=\"\",\"\",IF(Zahteve!A19=\"da\",CONCATENATE(B18,\"-ustreza\"),\"\"))","v":""},{"$f":"IF(B18=\"\",\"\",IF(Zahteve!G19=\"\",\"\",CONCATENATE(B18,\"-opis\")))","v":""},{"$f":"IF(B18=\"\",\"\",IF(Zahteve!H19=\"\",\"\",CONCATENATE(B18,\"-dni\")))","v":""},{"$f":"IF(B18=\"\",\"\",IF(Zahteve!H19=\"\",\"\",Zahteve!H19))","v":""}]
[{"$f":"IF(Zahteve!B20=\"\",\"\",Zahteve!B20)","v":"B.2.3"},{"$f":"IF(Zahteve!B20=\"\",\"\",LEFT(Zahteve!B20,1))","v":"B"},{"$f":"IF(B19=\"\",\"\",IF(Zahteve!F20=\"da\",CONCATENATE(B19,\"-DA\"),\"\"))","v":""},{"$f":"IF(B19=\"\",\"\",IF(Zahteve!A20=\"da\",CONCATENATE(B19,\"-ustreza\"),\"\"))","v":""},{"$f":"IF(B19=\"\",\"\",IF(Zahteve!G20=\"\",\"\",CONCATENATE(B19,\"-opis\")))","v":""},{"$f":"IF(B19=\"\",\"\",IF(Zahteve!H20=\"\",\"\",CONCATENATE(B19,\"-dni\")))","v":""},{"$f":"IF(B19=\"\",\"\",IF(Zahteve!H20=\"\",\"\",Zahteve!H20))","v":""}]
[{"$f":"IF(Zahteve!B21=\"\",\"\",Zahteve!B21)","v":"B.3.1"},{"$f":"IF(Zahteve!B21=\"\",\"\",LEFT(Zahteve!B21,1))","v":"B"},{"$f":"IF(B20=\"\",\"\",IF(Zahteve!F21=\"da\",CONCATENATE(B20,\"-DA\"),\"\"))","v":""},{"$f":"IF(B20=\"\",\"\",IF(Zahteve!A21=\"da\",CONCATENATE(B20,\"-ustreza\"),\"\"))","v":""},{"$f":"IF(B20=\"\",\"\",IF(Zahteve!G21=\"\",\"\",CONCATENATE(B20,\"-opis\")))","v":""},{"$f":"IF(B20=\"\",\"\",IF(Zahteve!H21=\"\",\"\",CONCATENATE(B20,\"-dni\")))","v":""},{"$f":"IF(B20=\"\",\"\",IF(Zahteve!H21=\"\",\"\",Zahteve!H21))","v":""}]
[{"$f":"IF(Zahteve!B22=\"\",\"\",Zahteve!B22)","v":""},{"$f":"IF(Zahteve!B22=\"\",\"\",LEFT(Zahteve!B22,1))","v":""},{"$f":"IF(B21=\"\",\"\",IF(Zahteve!F22=\"da\",CONCATENATE(B21,\"-DA\"),\"\"))","v":""},{"$f":"IF(B21=\"\",\"\",IF(Zahteve!A22=\"da\",CONCATENATE(B21,\"-ustreza\"),\"\"))","v":""},{"$f":"IF(B21=\"\",\"\",IF(Zahteve!G22=\"\",\"\",CONCATENATE(B21,\"-opis\")))","v":""},{"$f":"IF(B21=\"\",\"\",IF(Zahteve!H22=\"\",\"\",CONCATENATE(B21,\"-dni\")))","v":""},{"$f":"IF(B21=\"\",\"\",IF(Zahteve!H22=\"\",\"\",Zahteve!H22))","v":""}]
[{"$f":"IF(Zahteve!B23=\"\",\"\",Zahteve!B23)","v":"B.4.1"},{"$f":"IF(Zahteve!B23=\"\",\"\",LEFT(Zahteve!B23,1))","v":"B"},{"$f":"IF(B22=\"\",\"\",IF(Zahteve!F23=\"da\",CONCATENATE(B22,\"-DA\"),\"\"))","v":""},{"$f":"IF(B22=\"\",\"\",IF(Zahteve!A23=\"da\",CONCATENATE(B22,\"-ustreza\"),\"\"))","v":""},{"$f":"IF(B22=\"\",\"\",IF(Zahteve!G23=\"\",\"\",CONCATENATE(B22,\"-opis\")))","v":""},{"$f":"IF(B22=\"\",\"\",IF(Zahteve!H23=\"\",\"\",CONCATENATE(B22,\"-dni\")))","v":""},{"$f":"IF(B22=\"\",\"\",IF(Zahteve!H23=\"\",\"\",Zahteve!H23))","v":""}]
[{"$f":"IF(Zahteve!B24=\"\",\"\",Zahteve!B24)","v":"B.5.1"},{"$f":"IF(Zahteve!B24=\"\",\"\",LEFT(Zahteve!B24,1))","v":"B"},{"$f":"IF(B23=\"\",\"\",IF(Zahteve!F24=\"da\",CONCATENATE(B23,\"-DA\"),\"\"))","v":""},{"$f":"IF(B23=\"\",\"\",IF(Zahteve!A24=\"da\",CONCATENATE(B23,\"-ustreza\"),\"\"))","v":""},{"$f":"IF(B23=\"\",\"\",IF(Zahteve!G24=\"\",\"\",CONCATENATE(B23,\"-opis\")))","v":""},{"$f":"IF(B23=\"\",\"\",IF(Zahteve!H24=\"\",\"\",CONCATENATE(B23,\"-dni\")))","v":""},{"$f":"IF(B23=\"\",\"\",IF(Zahteve!H24=\"\",\"\",Zahteve!H24))","v":""}]
[{"$f":"IF(Zahteve!B25=\"\",\"\",Zahteve!B25)","v":"B.5.2"},{"$f":"IF(Zahteve!B25=\"\",\"\",LEFT(Zahteve!B25,1))","v":"B"},{"$f":"IF(B24=\"\",\"\",IF(Zahteve!F25=\"da\",CONCATENATE(B24,\"-DA\"),\"\"))","v":""},{"$f":"IF(B24=\"\",\"\",IF(Zahteve!A25=\"da\",CONCATENATE(B24,\"-ustreza\"),\"\"))","v":""},{"$f":"IF(B24=\"\",\"\",IF(Zahteve!G25=\"\",\"\",CONCATENATE(B24,\"-opis\")))","v":""},{"$f":"IF(B24=\"\",\"\",IF(Zahteve!H25=\"\",\"\",CONCATENATE(B24,\"-dni\")))","v":""},{"$f":"IF(B24=\"\",\"\",IF(Zahteve!H25=\"\",\"\",Zahteve!H25))","v":""}]
[{"$f":"IF(Zahteve!B26=\"\",\"\",Zahteve!B26)","v":"B.5.3"},{"$f":"IF(Zahteve!B26=\"\",\"\",LEFT(Zahteve!B26,1))","v":"B"},{"$f":"IF(B25=\"\",\"\",IF(Zahteve!F26=\"da\",CONCATENATE(B25,\"-DA\"),\"\"))","v":""},{"$f":"IF(B25=\"\",\"\",IF(Zahteve!A26=\"da\",CONCATENATE(B25,\"-ustreza\"),\"\"))","v":""},{"$f":"IF(B25=\"\",\"\",IF(Zahteve!G26=\"\",\"\",CONCATENATE(B25,\"-opis\")))","v":""},{"$f":"IF(B25=\"\",\"\",IF(Zahteve!H26=\"\",\"\",CONCATENATE(B25,\"-dni\")))","v":""},{"$f":"IF(B25=\"\",\"\",IF(Zahteve!H26=\"\",\"\",Zahteve!H26))","v":""}]
[{"$f":"IF(Zahteve!B27=\"\",\"\",Zahteve!B27)","v":"B.5.4"},{"$f":"IF(Zahteve!B27=\"\",\"\",LEFT(Zahteve!B27,1))","v":"B"},{"$f":"IF(B26=\"\",\"\",IF(Zahteve!F27=\"da\",CONCATENATE(B26,\"-DA\"),\"\"))","v":""},{"$f":"IF(B26=\"\",\"\",IF(Zahteve!A27=\"da\",CONCATENATE(B26,\"-ustreza\"),\"\"))","v":""},{"$f":"IF(B26=\"\",\"\",IF(Zahteve!G27=\"\",\"\",CONCATENATE(B26,\"-opis\")))","v":""},{"$f":"IF(B26=\"\",\"\",IF(Zahteve!H27=\"\",\"\",CONCATENATE(B26,\"-dni\")))","v":""},{"$f":"IF(B26=\"\",\"\",IF(Zahteve!H27=\"\",\"\",Zahteve!H27))","v":""}]
[{"$f":"IF(Zahteve!B28=\"\",\"\",Zahteve!B28)","v":"B.6.1"},{"$f":"IF(Zahteve!B28=\"\",\"\",LEFT(Zahteve!B28,1))","v":"B"},{"$f":"IF(B27=\"\",\"\",IF(Zahteve!F28=\"da\",CONCATENATE(B27,\"-DA\"),\"\"))","v":""},{"$f":"IF(B27=\"\",\"\",IF(Zahteve!A28=\"da\",CONCATENATE(B27,\"-ustreza\"),\"\"))","v":""},{"$f":"IF(B27=\"\",\"\",IF(Zahteve!G28=\"\",\"\",CONCATENATE(B27,\"-opis\")))","v":""},{"$f":"IF(B27=\"\",\"\",IF(Zahteve!H28=\"\",\"\",CONCATENATE(B27,\"-dni\")))","v":""},{"$f":"IF(B27=\"\",\"\",IF(Zahteve!H28=\"\",\"\",Zahteve!H28))","v":""}]
[{"$f":"IF(Zahteve!B29=\"\",\"\",Zahteve!B29)","v":"B.6.2"},{"$f":"IF(Zahteve!B29=\"\",\"\",LEFT(Zahteve!B29,1))","v":"B"},{"$f":"IF(B28=\"\",\"\",IF(Zahteve!F29=\"da\",CONCATENATE(B28,\"-DA\"),\"\"))","v":""},{"$f":"IF(B28=\"\",\"\",IF(Zahteve!A29=\"da\",CONCATENATE(B28,\"-ustreza\"),\"\"))","v":""},{"$f":"IF(B28=\"\",\"\",IF(Zahteve!G29=\"\",\"\",CONCATENATE(B28,\"-opis\")))","v":""},{"$f":"IF(B28=\"\",\"\",IF(Zahteve!H29=\"\",\"\",CONCATENATE(B28,\"-dni\")))","v":""},{"$f":"IF(B28=\"\",\"\",IF(Zahteve!H29=\"\",\"\",Zahteve!H29))","v":""}]
[{"$f":"IF(Zahteve!B30=\"\",\"\",Zahteve!B30)","v":"B.6.3"},{"$f":"IF(Zahteve!B30=\"\",\"\",LEFT(Zahteve!B30,1))","v":"B"},{"$f":"IF(B29=\"\",\"\",IF(Zahteve!F30=\"da\",CONCATENATE(B29,\"-DA\"),\"\"))","v":""},{"$f":"IF(B29=\"\",\"\",IF(Zahteve!A30=\"da\",CONCATENATE(B29,\"-ustreza\"),\"\"))","v":""},{"$f":"IF(B29=\"\",\"\",IF(Zahteve!G30=\"\",\"\",CONCATENATE(B29,\"-opis\")))","v":""},{"$f":"IF(B29=\"\",\"\",IF(Zahteve!H30=\"\",\"\",CONCATENATE(B29,\"-dni\")))","v":""},{"$f":"IF(B29=\"\",\"\",IF(Zahteve!H30=\"\",\"\",Zahteve!H30))","v":""}]
[{"$f":"IF(Zahteve!B31=\"\",\"\",Zahteve!B31)","v":"B.6.4"},{"$f":"IF(Zahteve!B31=\"\",\"\",LEFT(Zahteve!B31,1))","v":"B"},{"$f":"IF(B30=\"\",\"\",IF(Zahteve!F31=\"da\",CONCATENATE(B30,\"-DA\"),\"\"))","v":""},{"$f":"IF(B30=\"\",\"\",IF(Zahteve!A31=\"da\",CONCATENATE(B30,\"-ustreza\"),\"\"))","v":""},{"$f":"IF(B30=\"\",\"\",IF(Zahteve!G31=\"\",\"\",CONCATENATE(B30,\"-opis\")))","v":""},{"$f":"IF(B30=\"\",\"\",IF(Zahteve!H31=\"\",\"\",CONCATENATE(B30,\"-dni\")))","v":""},{"$f":"IF(B30=\"\",\"\",IF(Zahteve!H31=\"\",\"\",Zahteve!H31))","v":""}]
[{"$f":"IF(Zahteve!B32=\"\",\"\",Zahteve!B32)","v":"B.6.5"},{"$f":"IF(Zahteve!B32=\"\",\"\",LEFT(Zahteve!B32,1))","v":"B"},{"$f":"IF(B31=\"\",\"\",IF(Zahteve!F32=\"da\",CONCATENATE(B31,\"-DA\"),\"\"))","v":""},{"$f":"IF(B31=\"\",\"\",IF(Zahteve!A32=\"da\",CONCATENATE(B31,\"-ustreza\"),\"\"))","v":""},{"$f":"IF(B31=\"\",\"\",IF(Zahteve!G32=\"\",\"\",CONCATENATE(B31,\"-opis\")))","v":""},{"$f":"IF(B31=\"\",\"\",IF(Zahteve!H32=\"\",\"\",CONCATENATE(B31,\"-dni\")))","v":""},{"$f":"IF(B31=\"\",\"\",IF(Zahteve!H32=\"\",\"\",Zahteve!H32))","v":""}]
[{"$f":"IF(Zahteve!B33=\"\",\"\",Zahteve!B33)","v":"B.7.1"},{"$f":"IF(Zahteve!B33=\"\",\"\",LEFT(Zahteve!B33,1))","v":"B"},{"$f":"IF(B32=\"\",\"\",IF(Zahteve!F33=\"da\",CONCATENATE(B32,\"-DA\"),\"\"))","v":""},{"$f":"IF(B32=\"\",\"\",IF(Zahteve!A33=\"da\",CONCATENATE(B32,\"-ustreza\"),\"\"))","v":""},{"$f":"IF(B32=\"\",\"\",IF(Zahteve!G33=\"\",\"\",CONCATENATE(B32,\"-opis\")))","v":""},{"$f":"IF(B32=\"\",\"\",IF(Zahteve!H33=\"\",\"\",CONCATENATE(B32,\"-dni\")))","v":""},{"$f":"IF(B32=\"\",\"\",IF(Zahteve!H33=\"\",\"\",Zahteve!H33))","v":""}]
[{"$f":"IF(Zahteve!B34=\"\",\"\",Zahteve!B34)","v":"B.8.1"},{"$f":"IF(Zahteve!B34=\"\",\"\",LEFT(Zahteve!B34,1))","v":"B"},{"$f":"IF(B33=\"\",\"\",IF(Zahteve!F34=\"da\",CONCATENATE(B33,\"-DA\"),\"\"))","v":""},{"$f":"IF(B33=\"\",\"\",IF(Zahteve!A34=\"da\",CONCATENATE(B33,\"-ustreza\"),\"\"))","v":""},{"$f":"IF(B33=\"\",\"\",IF(Zahteve!G34=\"\",\"\",CONCATENATE(B33,\"-opis\")))","v":""},{"$f":"IF(B33=\"\",\"\",IF(Zahteve!H34=\"\",\"\",CONCATENATE(B33,\"-dni\")))","v":""},{"$f":"IF(B33=\"\",\"\",IF(Zahteve!H34=\"\",\"\",Zahteve!H34))","v":""}]
[{"$f":"IF(Zahteve!B35=\"\",\"\",Zahteve!B35)","v":"B.8.2"},{"$f":"IF(Zahteve!B35=\"\",\"\",LEFT(Zahteve!B35,1))","v":"B"},{"$f":"IF(B34=\"\",\"\",IF(Zahteve!F35=\"da\",CONCATENATE(B34,\"-DA\"),\"\"))","v":""},{"$f":"IF(B34=\"\",\"\",IF(Zahteve!A35=\"da\",CONCATENATE(B34,\"-ustreza\"),\"\"))","v":""},{"$f":"IF(B34=\"\",\"\",IF(Zahteve!G35=\"\",\"\",CONCATENATE(B34,\"-opis\")))","v":""},{"$f":"IF(B34=\"\",\"\",IF(Zahteve!H35=\"\",\"\",CONCATENATE(B34,\"-dni\")))","v":""},{"$f":"IF(B34=\"\",\"\",IF(Zahteve!H35=\"\",\"\",Zahteve!H35))","v":""}]
[{"$f":"IF(Zahteve!B36=\"\",\"\",Zahteve!B36)","v":"B.8.3"},{"$f":"IF(Zahteve!B36=\"\",\"\",LEFT(Zahteve!B36,1))","v":"B"},{"$f":"IF(B35=\"\",\"\",IF(Zahteve!F36=\"da\",CONCATENATE(B35,\"-DA\"),\"\"))","v":""},{"$f":"IF(B35=\"\",\"\",IF(Zahteve!A36=\"da\",CONCATENATE(B35,\"-ustreza\"),\"\"))","v":""},{"$f":"IF(B35=\"\",\"\",IF(Zahteve!G36=\"\",\"\",CONCATENATE(B35,\"-opis\")))","v":""},{"$f":"IF(B35=\"\",\"\",IF(Zahteve!H36=\"\",\"\",CONCATENATE(B35,\"-dni\")))","v":""},{"$f":"IF(B35=\"\",\"\",IF(Zahteve!H36=\"\",\"\",Zahteve!H36))","v":""}]
[{"$f":"IF(Zahteve!B37=\"\",\"\",Zahteve!B37)","v":"B.9.1"},{"$f":"IF(Zahteve!B37=\"\",\"\",LEFT(Zahteve!B37,1))","v":"B"},{"$f":"IF(B36=\"\",\"\",IF(Zahteve!F37=\"da\",CONCATENATE(B36,\"-DA\"),\"\"))","v":""},{"$f":"IF(B36=\"\",\"\",IF(Zahteve!A37=\"da\",CONCATENATE(B36,\"-ustreza\"),\"\"))","v":""},{"$f":"IF(B36=\"\",\"\",IF(Zahteve!G37=\"\",\"\",CONCATENATE(B36,\"-opis\")))","v":""},{"$f":"IF(B36=\"\",\"\",IF(Zahteve!H37=\"\",\"\",CONCATENATE(B36,\"-dni\")))","v":""},{"$f":"IF(B36=\"\",\"\",IF(Zahteve!H37=\"\",\"\",Zahteve!H37))","v":""}]
[{"$f":"IF(Zahteve!B38=\"\",\"\",Zahteve!B38)","v":"B.9.2"},{"$f":"IF(Zahteve!B38=\"\",\"\",LEFT(Zahteve!B38,1))","v":"B"},{"$f":"IF(B37=\"\",\"\",IF(Zahteve!F38=\"da\",CONCATENATE(B37,\"-DA\"),\"\"))","v":""},{"$f":"IF(B37=\"\",\"\",IF(Zahteve!A38=\"da\",CONCATENATE(B37,\"-ustreza\"),\"\"))","v":""},{"$f":"IF(B37=\"\",\"\",IF(Zahteve!G38=\"\",\"\",CONCATENATE(B37,\"-opis\")))","v":""},{"$f":"IF(B37=\"\",\"\",IF(Zahteve!H38=\"\",\"\",CONCATENATE(B37,\"-dni\")))","v":""},{"$f":"IF(B37=\"\",\"\",IF(Zahteve!H38=\"\",\"\",Zahteve!H38))","v":""}]
[{"$f":"IF(Zahteve!B39=\"\",\"\",Zahteve!B39)","v":"B.10.1"},{"$f":"IF(Zahteve!B39=\"\",\"\",LEFT(Zahteve!B39,1))","v":"B"},{"$f":"IF(B38=\"\",\"\",IF(Zahteve!F39=\"da\",CONCATENATE(B38,\"-DA\"),\"\"))","v":""},{"$f":"IF(B38=\"\",\"\",IF(Zahteve!A39=\"da\",CONCATENATE(B38,\"-ustreza\"),\"\"))","v":""},{"$f":"IF(B38=\"\",\"\",IF(Zahteve!G39=\"\",\"\",CONCATENATE(B38,\"-opis\")))","v":""},{"$f":"IF(B38=\"\",\"\",IF(Zahteve!H39=\"\",\"\",CONCATENATE(B38,\"-dni\")))","v":""},{"$f":"IF(B38=\"\",\"\",IF(Zahteve!H39=\"\",\"\",Zahteve!H39))","v":""}]
[{"$f":"IF(Zahteve!B40=\"\",\"\",Zahteve!B40)","v":"B.10.2"},{"$f":"IF(Zahteve!B40=\"\",\"\",LEFT(Zahteve!B40,1))","v":"B"},{"$f":"IF(B39=\"\",\"\",IF(Zahteve!F40=\"da\",CONCATENATE(B39,\"-DA\"),\"\"))","v":""},{"$f":"IF(B39=\"\",\"\",IF(Zahteve!A40=\"da\",CONCATENATE(B39,\"-ustreza\"),\"\"))","v":""},{"$f":"IF(B39=\"\",\"\",IF(Zahteve!G40=\"\",\"\",CONCATENATE(B39,\"-opis\")))","v":""},{"$f":"IF(B39=\"\",\"\",IF(Zahteve!H40=\"\",\"\",CONCATENATE(B39,\"-dni\")))","v":""},{"$f":"IF(B39=\"\",\"\",IF(Zahteve!H40=\"\",\"\",Zahteve!H40))","v":""}]
[{"$f":"IF(Zahteve!B41=\"\",\"\",Zahteve!B41)","v":"B.10.3"},{"$f":"IF(Zahteve!B41=\"\",\"\",LEFT(Zahteve!B41,1))","v":"B"},{"$f":"IF(B40=\"\",\"\",IF(Zahteve!F41=\"da\",CONCATENATE(B40,\"-DA\"),\"\"))","v":""},{"$f":"IF(B40=\"\",\"\",IF(Zahteve!A41=\"da\",CONCATENATE(B40,\"-ustreza\"),\"\"))","v":""},{"$f":"IF(B40=\"\",\"\",IF(Zahteve!G41=\"\",\"\",CONCATENATE(B40,\"-opis\")))","v":""},{"$f":"IF(B40=\"\",\"\",IF(Zahteve!H41=\"\",\"\",CONCATENATE(B40,\"-dni\")))","v":""},{"$f":"IF(B40=\"\",\"\",IF(Zahteve!H41=\"\",\"\",Zahteve!H41))","v":""}]
[{"$f":"IF(Zahteve!B42=\"\",\"\",Zahteve!B42)","v":"B.10.4"},{"$f":"IF(Zahteve!B42=\"\",\"\",LEFT(Zahteve!B42,1))","v":"B"},{"$f":"IF(B41=\"\",\"\",IF(Zahteve!F42=\"da\",CONCATENATE(B41,\"-DA\"),\"\"))","v":""},{"$f":"IF(B41=\"\",\"\",IF(Zahteve!A42=\"da\",CONCATENATE(B41,\"-ustreza\"),\"\"))","v":""},{"$f":"IF(B41=\"\",\"\",IF(Zahteve!G42=\"\",\"\",CONCATENATE(B41,\"-opis\")))","v":""},{"$f":"IF(B41=\"\",\"\",IF(Zahteve!H42=\"\",\"\",CONCATENATE(B41,\"-dni\")))","v":""},{"$f":"IF(B41=\"\",\"\",IF(Zahteve!H42=\"\",\"\",Zahteve!H42))","v":""}]
[{"$f":"IF(Zahteve!B43=\"\",\"\",Zahteve!B43)","v":"B.10.5"},{"$f":"IF(Zahteve!B43=\"\",\"\",LEFT(Zahteve!B43,1))","v":"B"},{"$f":"IF(B42=\"\",\"\",IF(Zahteve!F43=\"da\",CONCATENATE(B42,\"-DA\"),\"\"))","v":""},{"$f":"IF(B42=\"\",\"\",IF(Zahteve!A43=\"da\",CONCATENATE(B42,\"-ustreza\"),\"\"))","v":""},{"$f":"IF(B42=\"\",\"\",IF(Zahteve!G43=\"\",\"\",CONCATENATE(B42,\"-opis\")))","v":""},{"$f":"IF(B42=\"\",\"\",IF(Zahteve!H43=\"\",\"\",CONCATENATE(B42,\"-dni\")))","v":""},{"$f":"IF(B42=\"\",\"\",IF(Zahteve!H43=\"\",\"\",Zahteve!H43))","v":""}]
[{"$f":"IF(Zahteve!B44=\"\",\"\",Zahteve!B44)","v":"B.10.6"},{"$f":"IF(Zahteve!B44=\"\",\"\",LEFT(Zahteve!B44,1))","v":"B"},{"$f":"IF(B43=\"\",\"\",IF(Zahteve!F44=\"da\",CONCATENATE(B43,\"-DA\"),\"\"))","v":""},{"$f":"IF(B43=\"\",\"\",IF(Zahteve!A44=\"da\",CONCATENATE(B43,\"-ustreza\"),\"\"))","v":""},{"$f":"IF(B43=\"\",\"\",IF(Zahteve!G44=\"\",\"\",CONCATENATE(B43,\"-opis\")))","v":""},{"$f":"IF(B43=\"\",\"\",IF(Zahteve!H44=\"\",\"\",CONCATENATE(B43,\"-dni\")))","v":""},{"$f":"IF(B43=\"\",\"\",IF(Zahteve!H44=\"\",\"\",Zahteve!H44))","v":""}]
[{"$f":"IF(Zahteve!B45=\"\",\"\",Zahteve!B45)","v":"B.11.1"},{"$f":"IF(Zahteve!B45=\"\",\"\",LEFT(Zahteve!B45,1))","v":"B"},{"$f":"IF(B44=\"\",\"\",IF(Zahteve!F45=\"da\",CONCATENATE(B44,\"-DA\"),\"\"))","v":""},{"$f":"IF(B44=\"\",\"\",IF(Zahteve!A45=\"da\",CONCATENATE(B44,\"-ustreza\"),\"\"))","v":""},{"$f":"IF(B44=\"\",\"\",IF(Zahteve!G45=\"\",\"\",CONCATENATE(B44,\"-opis\")))","v":""},{"$f":"IF(B44=\"\",\"\",IF(Zahteve!H45=\"\",\"\",CONCATENATE(B44,\"-dni\")))","v":""},{"$f":"IF(B44=\"\",\"\",IF(Zahteve!H45=\"\",\"\",Zahteve!H45))","v":""}]
[{"$f":"IF(Zahteve!B46=\"\",\"\",Zahteve!B46)","v":"B.11.2"},{"$f":"IF(Zahteve!B46=\"\",\"\",LEFT(Zahteve!B46,1))","v":"B"},{"$f":"IF(B45=\"\",\"\",IF(Zahteve!F46=\"da\",CONCATENATE(B45,\"-DA\"),\"\"))","v":""},{"$f":"IF(B45=\"\",\"\",IF(Zahteve!A46=\"da\",CONCATENATE(B45,\"-ustreza\"),\"\"))","v":""},{"$f":"IF(B45=\"\",\"\",IF(Zahteve!G46=\"\",\"\",CONCATENATE(B45,\"-opis\")))","v":""},{"$f":"IF(B45=\"\",\"\",IF(Zahteve!H46=\"\",\"\",CONCATENATE(B45,\"-dni\")))","v":""},{"$f":"IF(B45=\"\",\"\",IF(Zahteve!H46=\"\",\"\",Zahteve!H46))","v":""}]
[{"$f":"IF(Zahteve!B47=\"\",\"\",Zahteve!B47)","v":"B.11.3"},{"$f":"IF(Zahteve!B47=\"\",\"\",LEFT(Zahteve!B47,1))","v":"B"},{"$f":"IF(B46=\"\",\"\",IF(Zahteve!F47=\"da\",CONCATENATE(B46,\"-DA\"),\"\"))","v":""},{"$f":"IF(B46=\"\",\"\",IF(Zahteve!A47=\"da\",CONCATENATE(B46,\"-ustreza\"),\"\"))","v":""},{"$f":"IF(B46=\"\",\"\",IF(Zahteve!G47=\"\",\"\",CONCATENATE(B46,\"-opis\")))","v":""},{"$f":"IF(B46=\"\",\"\",IF(Zahteve!H47=\"\",\"\",CONCATENATE(B46,\"-dni\")))","v":""},{"$f":"IF(B46=\"\",\"\",IF(Zahteve!H47=\"\",\"\",Zahteve!H47))","v":""}]
[{"$f":"IF(Zahteve!B48=\"\",\"\",Zahteve!B48)","v":"B.12.1"},{"$f":"IF(Zahteve!B48=\"\",\"\",LEFT(Zahteve!B48,1))","v":"B"},{"$f":"IF(B47=\"\",\"\",IF(Zahteve!F48=\"da\",CONCATENATE(B47,\"-DA\"),\"\"))","v":""},{"$f":"IF(B47=\"\",\"\",IF(Zahteve!A48=\"da\",CONCATENATE(B47,\"-ustreza\"),\"\"))","v":""},{"$f":"IF(B47=\"\",\"\",IF(Zahteve!G48=\"\",\"\",CONCATENATE(B47,\"-opis\")))","v":""},{"$f":"IF(B47=\"\",\"\",IF(Zahteve!H48=\"\",\"\",CONCATENATE(B47,\"-dni\")))","v":""},{"$f":"IF(B47=\"\",\"\",IF(Zahteve!H48=\"\",\"\",Zahteve!H48))","v":""}]
[{"$f":"IF(Zahteve!B49=\"\",\"\",Zahteve!B49)","v":"B.13.1"},{"$f":"IF(Zahteve!B49=\"\",\"\",LEFT(Zahteve!B49,1))","v":"B"},{"$f":"IF(B48=\"\",\"\",IF(Zahteve!F49=\"da\",CONCATENATE(B48,\"-DA\"),\"\"))","v":""},{"$f":"IF(B48=\"\",\"\",IF(Zahteve!A49=\"da\",CONCATENATE(B48,\"-ustreza\"),\"\"))","v":""},{"$f":"IF(B48=\"\",\"\",IF(Zahteve!G49=\"\",\"\",CONCATENATE(B48,\"-opis\")))","v":""},{"$f":"IF(B48=\"\",\"\",IF(Zahteve!H49=\"\",\"\",CONCATENATE(B48,\"-dni\")))","v":""},{"$f":"IF(B48=\"\",\"\",IF(Zahteve!H49=\"\",\"\",Zahteve!H49))","v":""}]
[{"$f":"IF(Zahteve!B50=\"\",\"\",Zahteve!B50)","v":"B.13.2"},{"$f":"IF(Zahteve!B50=\"\",\"\",LEFT(Zahteve!B50,1))","v":"B"},{"$f":"IF(B49=\"\",\"\",IF(Zahteve!F50=\"da\",CONCATENATE(B49,\"-DA\"),\"\"))","v":""},{"$f":"IF(B49=\"\",\"\",IF(Zahteve!A50=\"da\",CONCATENATE(B49,\"-ustreza\"),\"\"))","v":""},{"$f":"IF(B49=\"\",\"\",IF(Zahteve!G50=\"\",\"\",CONCATENATE(B49,\"-opis\")))","v":""},{"$f":"IF(B49=\"\",\"\",IF(Zahteve!H50=\"\",\"\",CONCATENATE(B49,\"-dni\")))","v":""},{"$f":"IF(B49=\"\",\"\",IF(Zahteve!H50=\"\",\"\",Zahteve!H50))","v":""}]
[{"$f":"IF(Zahteve!B51=\"\",\"\",Zahteve!B51)","v":"B.13.3"},{"$f":"IF(Zahteve!B51=\"\",\"\",LEFT(Zahteve!B51,1))","v":"B"},{"$f":"IF(B50=\"\",\"\",IF(Zahteve!F51=\"da\",CONCATENATE(B50,\"-DA\"),\"\"))","v":""},{"$f":"IF(B50=\"\",\"\",IF(Zahteve!A51=\"da\",CONCATENATE(B50,\"-ustreza\"),\"\"))","v":""},{"$f":"IF(B50=\"\",\"\",IF(Zahteve!G51=\"\",\"\",CONCATENATE(B50,\"-opis\")))","v":""},{"$f":"IF(B50=\"\",\"\",IF(Zahteve!H51=\"\",\"\",CONCATENATE(B50,\"-dni\")))","v":""},{"$f":"IF(B50=\"\",\"\",IF(Zahteve!H51=\"\",\"\",Zahteve!H51))","v":""}]
[{"$f":"IF(Zahteve!B52=\"\",\"\",Zahteve!B52)","v":"B.13.4"},{"$f":"IF(Zahteve!B52=\"\",\"\",LEFT(Zahteve!B52,1))","v":"B"},{"$f":"IF(B51=\"\",\"\",IF(Zahteve!F52=\"da\",CONCATENATE(B51,\"-DA\"),\"\"))","v":""},{"$f":"IF(B51=\"\",\"\",IF(Zahteve!A52=\"da\",CONCATENATE(B51,\"-ustreza\"),\"\"))","v":""},{"$f":"IF(B51=\"\",\"\",IF(Zahteve!G52=\"\",\"\",CONCATENATE(B51,\"-opis\")))","v":""},{"$f":"IF(B51=\"\",\"\",IF(Zahteve!H52=\"\",\"\",CONCATENATE(B51,\"-dni\")))","v":""},{"$f":"IF(B51=\"\",\"\",IF(Zahteve!H52=\"\",\"\",Zahteve!H52))","v":""}]
[{"$f":"IF(Zahteve!B53=\"\",\"\",Zahteve!B53)","v":""},{"$f":"IF(Zahteve!B53=\"\",\"\",LEFT(Zahteve!B53,1))","v":""},{"$f":"IF(B52=\"\",\"\",IF(Zahteve!F53=\"da\",CONCATENATE(B52,\"-DA\"),\"\"))","v":""},{"$f":"IF(B52=\"\",\"\",IF(Zahteve!A53=\"da\",CONCATENATE(B52,\"-ustreza\"),\"\"))","v":""},{"$f":"IF(B52=\"\",\"\",IF(Zahteve!G53=\"\",\"\",CONCATENATE(B52,\"-opis\")))","v":""},{"$f":"IF(B52=\"\",\"\",IF(Zahteve!H53=\"\",\"\",CONCATENATE(B52,\"-dni\")))","v":""},{"$f":"IF(B52=\"\",\"\",IF(Zahteve!H53=\"\",\"\",Zahteve!H53))","v":""}]
[{"$f":"IF(Zahteve!B54=\"\",\"\",Zahteve!B54)","v":"B.14.1"},{"$f":"IF(Zahteve!B54=\"\",\"\",LEFT(Zahteve!B54,1))","v":"B"},{"$f":"IF(B53=\"\",\"\",IF(Zahteve!F54=\"da\",CONCATENATE(B53,\"-DA\"),\"\"))","v":""},{"$f":"IF(B53=\"\",\"\",IF(Zahteve!A54=\"da\",CONCATENATE(B53,\"-ustreza\"),\"\"))","v":""},{"$f":"IF(B53=\"\",\"\",IF(Zahteve!G54=\"\",\"\",CONCATENATE(B53,\"-opis\")))","v":""},{"$f":"IF(B53=\"\",\"\",IF(Zahteve!H54=\"\",\"\",CONCATENATE(B53,\"-dni\")))","v":""},{"$f":"IF(B53=\"\",\"\",IF(Zahteve!H54=\"\",\"\",Zahteve!H54))","v":""}]
[{"$f":"IF(Zahteve!B55=\"\",\"\",Zahteve!B55)","v":"B.14.2"},{"$f":"IF(Zahteve!B55=\"\",\"\",LEFT(Zahteve!B55,1))","v":"B"},{"$f":"IF(B54=\"\",\"\",IF(Zahteve!F55=\"da\",CONCATENATE(B54,\"-DA\"),\"\"))","v":""},{"$f":"IF(B54=\"\",\"\",IF(Zahteve!A55=\"da\",CONCATENATE(B54,\"-ustreza\"),\"\"))","v":""},{"$f":"IF(B54=\"\",\"\",IF(Zahteve!G55=\"\",\"\",CONCATENATE(B54,\"-opis\")))","v":""},{"$f":"IF(B54=\"\",\"\",IF(Zahteve!H55=\"\",\"\",CONCATENATE(B54,\"-dni\")))","v":""},{"$f":"IF(B54=\"\",\"\",IF(Zahteve!H55=\"\",\"\",Zahteve!H55))","v":""}]
[{"$f":"IF(Zahteve!B56=\"\",\"\",Zahteve!B56)","v":"B.14.3"},{"$f":"IF(Zahteve!B56=\"\",\"\",LEFT(Zahteve!B56,1))","v":"B"},{"$f":"IF(B55=\"\",\"\",IF(Zahteve!F56=\"da\",CONCATENATE(B55,\"-DA\"),\"\"))","v":""},{"$f":"IF(B55=\"\",\"\",IF(Zahteve!A56=\"da\",CONCATENATE(B55,\"-ustreza\"),\"\"))","v":""},{"$f":"IF(B55=\"\",\"\",IF(Zahteve!G56=\"\",\"\",CONCATENATE(B55,\"-opis\")))","v":""},{"$f":"IF(B55=\"\",\"\",IF(Zahteve!H56=\"\",\"\",CONCATENATE(B55,\"-dni\")))","v":""},{"$f":"IF(B55=\"\",\"\",IF(Zahteve!H56=\"\",\"\",Zahteve!H56))","v":""}]
[{"$f":"IF(Zahteve!B57=\"\",\"\",Zahteve!B57)","v":"B.14.4"},{"$f":"IF(Zahteve!B57=\"\",\"\",LEFT(Zahteve!B57,1))","v":"B"},{"$f":"IF(B56=\"\",\"\",IF(Zahteve!F57=\"da\",CONCATENATE(B56,\"-DA\"),\"\"))","v":""},{"$f":"IF(B56=\"\",\"\",IF(Zahteve!A57=\"da\",CONCATENATE(B56,\"-ustreza\"),\"\"))","v":""},{"$f":"IF(B56=\"\",\"\",IF(Zahteve!G57=\"\",\"\",CONCATENATE(B56,\"-opis\")))","v":""},{"$f":"IF(B56=\"\",\"\",IF(Zahteve!H57=\"\",\"\",CONCATENATE(B56,\"-dni\")))","v":""},{"$f":"IF(B56=\"\",\"\",IF(Zahteve!H57=\"\",\"\",Zahteve!H57))","v":""}]
[{"$f":"IF(Zahteve!B58=\"\",\"\",Zahteve!B58)","v":"B.14.5"},{"$f":"IF(Zahteve!B58=\"\",\"\",LEFT(Zahteve!B58,1))","v":"B"},{"$f":"IF(B57=\"\",\"\",IF(Zahteve!F58=\"da\",CONCATENATE(B57,\"-DA\"),\"\"))","v":""},{"$f":"IF(B57=\"\",\"\",IF(Zahteve!A58=\"da\",CONCATENATE(B57,\"-ustreza\"),\"\"))","v":""},{"$f":"IF(B57=\"\",\"\",IF(Zahteve!G58=\"\",\"\",CONCATENATE(B57,\"-opis\")))","v":""},{"$f":"IF(B57=\"\",\"\",IF(Zahteve!H58=\"\",\"\",CONCATENATE(B57,\"-dni\")))","v":""},{"$f":"IF(B57=\"\",\"\",IF(Zahteve!H58=\"\",\"\",Zahteve!H58))","v":""}]
[{"$f":"IF(Zahteve!B59=\"\",\"\",Zahteve!B59)","v":"B.14.6"},{"$f":"IF(Zahteve!B59=\"\",\"\",LEFT(Zahteve!B59,1))","v":"B"},{"$f":"IF(B58=\"\",\"\",IF(Zahteve!F59=\"da\",CONCATENATE(B58,\"-DA\"),\"\"))","v":""},{"$f":"IF(B58=\"\",\"\",IF(Zahteve!A59=\"da\",CONCATENATE(B58,\"-ustreza\"),\"\"))","v":""},{"$f":"IF(B58=\"\",\"\",IF(Zahteve!G59=\"\",\"\",CONCATENATE(B58,\"-opis\")))","v":""},{"$f":"IF(B58=\"\",\"\",IF(Zahteve!H59=\"\",\"\",CONCATENATE(B58,\"-dni\")))","v":""},{"$f":"IF(B58=\"\",\"\",IF(Zahteve!H59=\"\",\"\",Zahteve!H59))","v":""}]
[{"$f":"IF(Zahteve!B60=\"\",\"\",Zahteve!B60)","v":"B.15.1"},{"$f":"IF(Zahteve!B60=\"\",\"\",LEFT(Zahteve!B60,1))","v":"B"},{"$f":"IF(B59=\"\",\"\",IF(Zahteve!F60=\"da\",CONCATENATE(B59,\"-DA\"),\"\"))","v":""},{"$f":"IF(B59=\"\",\"\",IF(Zahteve!A60=\"da\",CONCATENATE(B59,\"-ustreza\"),\"\"))","v":""},{"$f":"IF(B59=\"\",\"\",IF(Zahteve!G60=\"\",\"\",CONCATENATE(B59,\"-opis\")))","v":""},{"$f":"IF(B59=\"\",\"\",IF(Zahteve!H60=\"\",\"\",CONCATENATE(B59,\"-dni\")))","v":""},{"$f":"IF(B59=\"\",\"\",IF(Zahteve!H60=\"\",\"\",Zahteve!H60))","v":""}]
[{"$f":"IF(Zahteve!B61=\"\",\"\",Zahteve!B61)","v":"B.16.1"},{"$f":"IF(Zahteve!B61=\"\",\"\",LEFT(Zahteve!B61,1))","v":"B"},{"$f":"IF(B60=\"\",\"\",IF(Zahteve!F61=\"da\",CONCATENATE(B60,\"-DA\"),\"\"))","v":""},{"$f":"IF(B60=\"\",\"\",IF(Zahteve!A61=\"da\",CONCATENATE(B60,\"-ustreza\"),\"\"))","v":""},{"$f":"IF(B60=\"\",\"\",IF(Zahteve!G61=\"\",\"\",CONCATENATE(B60,\"-opis\")))","v":""},{"$f":"IF(B60=\"\",\"\",IF(Zahteve!H61=\"\",\"\",CONCATENATE(B60,\"-dni\")))","v":""},{"$f":"IF(B60=\"\",\"\",IF(Zahteve!H61=\"\",\"\",Zahteve!H61))","v":""}]
[{"$f":"IF(Zahteve!B62=\"\",\"\",Zahteve!B62)","v":"B.16.2"},{"$f":"IF(Zahteve!B62=\"\",\"\",LEFT(Zahteve!B62,1))","v":"B"},{"$f":"IF(B61=\"\",\"\",IF(Zahteve!F62=\"da\",CONCATENATE(B61,\"-DA\"),\"\"))","v":""},{"$f":"IF(B61=\"\",\"\",IF(Zahteve!A62=\"da\",CONCATENATE(B61,\"-ustreza\"),\"\"))","v":""},{"$f":"IF(B61=\"\",\"\",IF(Zahteve!G62=\"\",\"\",CONCATENATE(B61,\"-opis\")))","v":""},{"$f":"IF(B61=\"\",\"\",IF(Zahteve!H62=\"\",\"\",CONCATENATE(B61,\"-dni\")))","v":""},{"$f":"IF(B61=\"\",\"\",IF(Zahteve!H62=\"\",\"\",Zahteve!H62))","v":""}]
[{"$f":"IF(Zahteve!B63=\"\",\"\",Zahteve!B63)","v":""},{"$f":"IF(Zahteve!B63=\"\",\"\",LEFT(Zahteve!B63,1))","v":""},{"$f":"IF(B62=\"\",\"\",IF(Zahteve!F63=\"da\",CONCATENATE(B62,\"-DA\"),\"\"))","v":""},{"$f":"IF(B62=\"\",\"\",IF(Zahteve!A63=\"da\",CONCATENATE(B62,\"-ustreza\"),\"\"))","v":""},{"$f":"IF(B62=\"\",\"\",IF(Zahteve!G63=\"\",\"\",CONCATENATE(B62,\"-opis\")))","v":""},{"$f":"IF(B62=\"\",\"\",IF(Zahteve!H63=\"\",\"\",CONCATENATE(B62,\"-dni\")))","v":""},{"$f":"IF(B62=\"\",\"\",IF(Zahteve!H63=\"\",\"\",Zahteve!H63))","v":""}]
[{"$f":"IF(Zahteve!B64=\"\",\"\",Zahteve!B64)","v":""},{"$f":"IF(Zahteve!B64=\"\",\"\",LEFT(Zahteve!B64,1))","v":""},{"$f":"IF(B63=\"\",\"\",IF(Zahteve!F64=\"da\",CONCATENATE(B63,\"-DA\"),\"\"))","v":""},{"$f":"IF(B63=\"\",\"\",IF(Zahteve!A64=\"da\",CONCATENATE(B63,\"-ustreza\"),\"\"))","v":""},{"$f":"IF(B63=\"\",\"\",IF(Zahteve!G64=\"\",\"\",CONCATENATE(B63,\"-opis\")))","v":""},{"$f":"IF(B63=\"\",\"\",IF(Zahteve!H64=\"\",\"\",CONCATENATE(B63,\"-dni\")))","v":""},{"$f":"IF(B63=\"\",\"\",IF(Zahteve!H64=\"\",\"\",Zahteve!H64))","v":""}]
[{"$f":"IF(Zahteve!B65=\"\",\"\",Zahteve!B65)","v":"B.17.1"},{"$f":"IF(Zahteve!B65=\"\",\"\",LEFT(Zahteve!B65,1))","v":"B"},{"$f":"IF(B64=\"\",\"\",IF(Zahteve!F65=\"da\",CONCATENATE(B64,\"-DA\"),\"\"))","v":""},{"$f":"IF(B64=\"\",\"\",IF(Zahteve!A65=\"da\",CONCATENATE(B64,\"-ustreza\"),\"\"))","v":""},{"$f":"IF(B64=\"\",\"\",IF(Zahteve!G65=\"\",\"\",CONCATENATE(B64,\"-opis\")))","v":""},{"$f":"IF(B64=\"\",\"\",IF(Zahteve!H65=\"\",\"\",CONCATENATE(B64,\"-dni\")))","v":""},{"$f":"IF(B64=\"\",\"\",IF(Zahteve!H65=\"\",\"\",Zahteve!H65))","v":""}]
[{"$f":"IF(Zahteve!B66=\"\",\"\",Zahteve!B66)","v":"B.17.2"},{"$f":"IF(Zahteve!B66=\"\",\"\",LEFT(Zahteve!B66,1))","v":"B"},{"$f":"IF(B65=\"\",\"\",IF(Zahteve!F66=\"da\",CONCATENATE(B65,\"-DA\"),\"\"))","v":""},{"$f":"IF(B65=\"\",\"\",IF(Zahteve!A66=\"da\",CONCATENATE(B65,\"-ustreza\"),\"\"))","v":""},{"$f":"IF(B65=\"\",\"\",IF(Zahteve!G66=\"\",\"\",CONCATENATE(B65,\"-opis\")))","v":""},{"$f":"IF(B65=\"\",\"\",IF(Zahteve!H66=\"\",\"\",CONCATENATE(B65,\"-dni\")))","v":""},{"$f":"IF(B65=\"\",\"\",IF(Zahteve!H66=\"\",\"\",Zahteve!H66))","v":""}]
[{"$f":"IF(Zahteve!B67=\"\",\"\",Zahteve!B67)","v":"B.17.3"},{"$f":"IF(Zahteve!B67=\"\",\"\",LEFT(Zahteve!B67,1))","v":"B"},{"$f":"IF(B66=\"\",\"\",IF(Zahteve!F67=\"da\",CONCATENATE(B66,\"-DA\"),\"\"))","v":""},{"$f":"IF(B66=\"\",\"\",IF(Zahteve!A67=\"da\",CONCATENATE(B66,\"-ustreza\"),\"\"))","v":""},{"$f":"IF(B66=\"\",\"\",IF(Zahteve!G67=\"\",\"\",CONCATENATE(B66,\"-opis\")))","v":""},{"$f":"IF(B66=\"\",\"\",IF(Zahteve!H67=\"\",\"\",CONCATENATE(B66,\"-dni\")))","v":""},{"$f":"IF(B66=\"\",\"\",IF(Zahteve!H67=\"\",\"\",Zahteve!H67))","v":""}]
[{"$f":"IF(Zahteve!B68=\"\",\"\",Zahteve!B68)","v":"B.17.4"},{"$f":"IF(Zahteve!B68=\"\",\"\",LEFT(Zahteve!B68,1))","v":"B"},{"$f":"IF(B67=\"\",\"\",IF(Zahteve!F68=\"da\",CONCATENATE(B67,\"-DA\"),\"\"))","v":""},{"$f":"IF(B67=\"\",\"\",IF(Zahteve!A68=\"da\",CONCATENATE(B67,\"-ustreza\"),\"\"))","v":""},{"$f":"IF(B67=\"\",\"\",IF(Zahteve!G68=\"\",\"\",CONCATENATE(B67,\"-opis\")))","v":""},{"$f":"IF(B67=\"\",\"\",IF(Zahteve!H68=\"\",\"\",CONCATENATE(B67,\"-dni\")))","v":""},{"$f":"IF(B67=\"\",\"\",IF(Zahteve!H68=\"\",\"\",Zahteve!H68))","v":""}]
[{"$f":"IF(Zahteve!B69=\"\",\"\",Zahteve!B69)","v":"B.17.5"},{"$f":"IF(Zahteve!B69=\"\",\"\",LEFT(Zahteve!B69,1))","v":"B"},{"$f":"IF(B68=\"\",\"\",IF(Zahteve!F69=\"da\",CONCATENATE(B68,\"-DA\"),\"\"))","v":""},{"$f":"IF(B68=\"\",\"\",IF(Zahteve!A69=\"da\",CONCATENATE(B68,\"-ustreza\"),\"\"))","v":""},{"$f":"IF(B68=\"\",\"\",IF(Zahteve!G69=\"\",\"\",CONCATENATE(B68,\"-opis\")))","v":""},{"$f":"IF(B68=\"\",\"\",IF(Zahteve!H69=\"\",\"\",CONCATENATE(B68,\"-dni\")))","v":""},{"$f":"IF(B68=\"\",\"\",IF(Zahteve!H69=\"\",\"\",Zahteve!H69))","v":""}]
[{"$f":"IF(Zahteve!B70=\"\",\"\",Zahteve!B70)","v":"B.17.6"},{"$f":"IF(Zahteve!B70=\"\",\"\",LEFT(Zahteve!B70,1))","v":"B"},{"$f":"IF(B69=\"\",\"\",IF(Zahteve!F70=\"da\",CONCATENATE(B69,\"-DA\"),\"\"))","v":""},{"$f":"IF(B69=\"\",\"\",IF(Zahteve!A70=\"da\",CONCATENATE(B69,\"-ustreza\"),\"\"))","v":""},{"$f":"IF(B69=\"\",\"\",IF(Zahteve!G70=\"\",\"\",CONCATENATE(B69,\"-opis\")))","v":""},{"$f":"IF(B69=\"\",\"\",IF(Zahteve!H70=\"\",\"\",CONCATENATE(B69,\"-dni\")))","v":""},{"$f":"IF(B69=\"\",\"\",IF(Zahteve!H70=\"\",\"\",Zahteve!H70))","v":""}]
[{"$f":"IF(Zahteve!B71=\"\",\"\",Zahteve!B71)","v":"B.18.1"},{"$f":"IF(Zahteve!B71=\"\",\"\",LEFT(Zahteve!B71,1))","v":"B"},{"$f":"IF(B70=\"\",\"\",IF(Zahteve!F71=\"da\",CONCATENATE(B70,\"-DA\"),\"\"))","v":""},{"$f":"IF(B70=\"\",\"\",IF(Zahteve!A71=\"da\",CONCATENATE(B70,\"-ustreza\"),\"\"))","v":""},{"$f":"IF(B70=\"\",\"\",IF(Zahteve!G71=\"\",\"\",CONCATENATE(B70,\"-opis\")))","v":""},{"$f":"IF(B70=\"\",\"\",IF(Zahteve!H71=\"\",\"\",CONCATENATE(B70,\"-dni\")))","v":""},{"$f":"IF(B70=\"\",\"\",IF(Zahteve!H71=\"\",\"\",Zahteve!H71))","v":""}]
[{"$f":"IF(Zahteve!B72=\"\",\"\",Zahteve!B72)","v":"B.18.2"},{"$f":"IF(Zahteve!B72=\"\",\"\",LEFT(Zahteve!B72,1))","v":"B"},{"$f":"IF(B71=\"\",\"\",IF(Zahteve!F72=\"da\",CONCATENATE(B71,\"-DA\"),\"\"))","v":""},{"$f":"IF(B71=\"\",\"\",IF(Zahteve!A72=\"da\",CONCATENATE(B71,\"-ustreza\"),\"\"))","v":""},{"$f":"IF(B71=\"\",\"\",IF(Zahteve!G72=\"\",\"\",CONCATENATE(B71,\"-opis\")))","v":""},{"$f":"IF(B71=\"\",\"\",IF(Zahteve!H72=\"\",\"\",CONCATENATE(B71,\"-dni\")))","v":""},{"$f":"IF(B71=\"\",\"\",IF(Zahteve!H72=\"\",\"\",Zahteve!H72))","v":""}]
[{"$f":"IF(Zahteve!B73=\"\",\"\",Zahteve!B73)","v":"B.18.3"},{"$f":"IF(Zahteve!B73=\"\",\"\",LEFT(Zahteve!B73,1))","v":"B"},{"$f":"IF(B72=\"\",\"\",IF(Zahteve!F73=\"da\",CONCATENATE(B72,\"-DA\"),\"\"))","v":""},{"$f":"IF(B72=\"\",\"\",IF(Zahteve!A73=\"da\",CONCATENATE(B72,\"-ustreza\"),\"\"))","v":""},{"$f":"IF(B72=\"\",\"\",IF(Zahteve!G73=\"\",\"\",CONCATENATE(B72,\"-opis\")))","v":""},{"$f":"IF(B72=\"\",\"\",IF(Zahteve!H73=\"\",\"\",CONCATENATE(B72,\"-dni\")))","v":""},{"$f":"IF(B72=\"\",\"\",IF(Zahteve!H73=\"\",\"\",Zahteve!H73))","v":""}]
[{"$f":"IF(Zahteve!B74=\"\",\"\",Zahteve!B74)","v":"B.18.4"},{"$f":"IF(Zahteve!B74=\"\",\"\",LEFT(Zahteve!B74,1))","v":"B"},{"$f":"IF(B73=\"\",\"\",IF(Zahteve!F74=\"da\",CONCATENATE(B73,\"-DA\"),\"\"))","v":""},{"$f":"IF(B73=\"\",\"\",IF(Zahteve!A74=\"da\",CONCATENATE(B73,\"-ustreza\"),\"\"))","v":""},{"$f":"IF(B73=\"\",\"\",IF(Zahteve!G74=\"\",\"\",CONCATENATE(B73,\"-opis\")))","v":""},{"$f":"IF(B73=\"\",\"\",IF(Zahteve!H74=\"\",\"\",CONCATENATE(B73,\"-dni\")))","v":""},{"$f":"IF(B73=\"\",\"\",IF(Zahteve!H74=\"\",\"\",Zahteve!H74))","v":""}]
[{"$f":"IF(Zahteve!B75=\"\",\"\",Zahteve!B75)","v":"B.18.5"},{"$f":"IF(Zahteve!B75=\"\",\"\",LEFT(Zahteve!B75,1))","v":"B"},{"$f":"IF(B74=\"\",\"\",IF(Zahteve!F75=\"da\",CONCATENATE(B74,\"-DA\"),\"\"))","v":""},{"$f":"IF(B74=\"\",\"\",IF(Zahteve!A75=\"da\",CONCATENATE(B74,\"-ustreza\"),\"\"))","v":""},{"$f":"IF(B74=\"\",\"\",IF(Zahteve!G75=\"\",\"\",CONCATENATE(B74,\"-opis\")))","v":""},{"$f":"IF(B74=\"\",\"\",IF(Zahteve!H75=\"\",\"\",CONCATENATE(B74,\"-dni\")))","v":""},{"$f":"IF(B74=\"\",\"\",IF(Zahteve!H75=\"\",\"\",Zahteve!H75))","v":""}]
[{"$f":"IF(Zahteve!B76=\"\",\"\",Zahteve!B76)","v":"B.18.6"},{"$f":"IF(Zahteve!B76=\"\",\"\",LEFT(Zahteve!B76,1))","v":"B"},{"$f":"IF(B75=\"\",\"\",IF(Zahteve!F76=\"da\",CONCATENATE(B75,\"-DA\"),\"\"))","v":""},{"$f":"IF(B75=\"\",\"\",IF(Zahteve!A76=\"da\",CONCATENATE(B75,\"-ustreza\"),\"\"))","v":""},{"$f":"IF(B75=\"\",\"\",IF(Zahteve!G76=\"\",\"\",CONCATENATE(B75,\"-opis\")))","v":""},{"$f":"IF(B75=\"\",\"\",IF(Zahteve!H76=\"\",\"\",CONCATENATE(B75,\"-dni\")))","v":""},{"$f":"IF(B75=\"\",\"\",IF(Zahteve!H76=\"\",\"\",Zahteve!H76))","v":""}]
[{"$f":"IF(Zahteve!B77=\"\",\"\",Zahteve!B77)","v":"B.18.7"},{"$f":"IF(Zahteve!B77=\"\",\"\",LEFT(Zahteve!B77,1))","v":"B"},{"$f":"IF(B76=\"\",\"\",IF(Zahteve!F77=\"da\",CONCATENATE(B76,\"-DA\"),\"\"))","v":""},{"$f":"IF(B76=\"\",\"\",IF(Zahteve!A77=\"da\",CONCATENATE(B76,\"-ustreza\"),\"\"))","v":""},{"$f":"IF(B76=\"\",\"\",IF(Zahteve!G77=\"\",\"\",CONCATENATE(B76,\"-opis\")))","v":""},{"$f":"IF(B76=\"\",\"\",IF(Zahteve!H77=\"\",\"\",CONCATENATE(B76,\"-dni\")))","v":""},{"$f":"IF(B76=\"\",\"\",IF(Zahteve!H77=\"\",\"\",Zahteve!H77))","v":""}]
[{"$f":"IF(Zahteve!B78=\"\",\"\",Zahteve!B78)","v":"B.18.8"},{"$f":"IF(Zahteve!B78=\"\",\"\",LEFT(Zahteve!B78,1))","v":"B"},{"$f":"IF(B77=\"\",\"\",IF(Zahteve!F78=\"da\",CONCATENATE(B77,\"-DA\"),\"\"))","v":""},{"$f":"IF(B77=\"\",\"\",IF(Zahteve!A78=\"da\",CONCATENATE(B77,\"-ustreza\"),\"\"))","v":""},{"$f":"IF(B77=\"\",\"\",IF(Zahteve!G78=\"\",\"\",CONCATENATE(B77,\"-opis\")))","v":""},{"$f":"IF(B77=\"\",\"\",IF(Zahteve!H78=\"\",\"\",CONCATENATE(B77,\"-dni\")))","v":""},{"$f":"IF(B77=\"\",\"\",IF(Zahteve!H78=\"\",\"\",Zahteve!H78))","v":""}]
[{"$f":"IF(Zahteve!B79=\"\",\"\",Zahteve!B79)","v":""},{"$f":"IF(Zahteve!B79=\"\",\"\",LEFT(Zahteve!B79,1))","v":""},{"$f":"IF(B78=\"\",\"\",IF(Zahteve!F79=\"da\",CONCATENATE(B78,\"-DA\"),\"\"))","v":""},{"$f":"IF(B78=\"\",\"\",IF(Zahteve!A79=\"da\",CONCATENATE(B78,\"-ustreza\"),\"\"))","v":""},{"$f":"IF(B78=\"\",\"\",IF(Zahteve!G79=\"\",\"\",CONCATENATE(B78,\"-opis\")))","v":""},{"$f":"IF(B78=\"\",\"\",IF(Zahteve!H79=\"\",\"\",CONCATENATE(B78,\"-dni\")))","v":""},{"$f":"IF(B78=\"\",\"\",IF(Zahteve!H79=\"\",\"\",Zahteve!H79))","v":""}]
[{"$f":"IF(Zahteve!B80=\"\",\"\",Zahteve!B80)","v":"B.19.1"},{"$f":"IF(Zahteve!B80=\"\",\"\",LEFT(Zahteve!B80,1))","v":"B"},{"$f":"IF(B79=\"\",\"\",IF(Zahteve!F80=\"da\",CONCATENATE(B79,\"-DA\"),\"\"))","v":""},{"$f":"IF(B79=\"\",\"\",IF(Zahteve!A80=\"da\",CONCATENATE(B79,\"-ustreza\"),\"\"))","v":""},{"$f":"IF(B79=\"\",\"\",IF(Zahteve!G80=\"\",\"\",CONCATENATE(B79,\"-opis\")))","v":""},{"$f":"IF(B79=\"\",\"\",IF(Zahteve!H80=\"\",\"\",CONCATENATE(B79,\"-dni\")))","v":""},{"$f":"IF(B79=\"\",\"\",IF(Zahteve!H80=\"\",\"\",Zahteve!H80))","v":""}]
[{"$f":"IF(Zahteve!B81=\"\",\"\",Zahteve!B81)","v":"B.19.2"},{"$f":"IF(Zahteve!B81=\"\",\"\",LEFT(Zahteve!B81,1))","v":"B"},{"$f":"IF(B80=\"\",\"\",IF(Zahteve!F81=\"da\",CONCATENATE(B80,\"-DA\"),\"\"))","v":""},{"$f":"IF(B80=\"\",\"\",IF(Zahteve!A81=\"da\",CONCATENATE(B80,\"-ustreza\"),\"\"))","v":""},{"$f":"IF(B80=\"\",\"\",IF(Zahteve!G81=\"\",\"\",CONCATENATE(B80,\"-opis\")))","v":""},{"$f":"IF(B80=\"\",\"\",IF(Zahteve!H81=\"\",\"\",CONCATENATE(B80,\"-dni\")))","v":""},{"$f":"IF(B80=\"\",\"\",IF(Zahteve!H81=\"\",\"\",Zahteve!H81))","v":""}]
[{"$f":"IF(Zahteve!B82=\"\",\"\",Zahteve!B82)","v":"B.19.3"},{"$f":"IF(Zahteve!B82=\"\",\"\",LEFT(Zahteve!B82,1))","v":"B"},{"$f":"IF(B81=\"\",\"\",IF(Zahteve!F82=\"da\",CONCATENATE(B81,\"-DA\"),\"\"))","v":""},{"$f":"IF(B81=\"\",\"\",IF(Zahteve!A82=\"da\",CONCATENATE(B81,\"-ustreza\"),\"\"))","v":""},{"$f":"IF(B81=\"\",\"\",IF(Zahteve!G82=\"\",\"\",CONCATENATE(B81,\"-opis\")))","v":""},{"$f":"IF(B81=\"\",\"\",IF(Zahteve!H82=\"\",\"\",CONCATENATE(B81,\"-dni\")))","v":""},{"$f":"IF(B81=\"\",\"\",IF(Zahteve!H82=\"\",\"\",Zahteve!H82))","v":""}]
[{"$f":"IF(Zahteve!B83=\"\",\"\",Zahteve!B83)","v":"B.20.1"},{"$f":"IF(Zahteve!B83=\"\",\"\",LEFT(Zahteve!B83,1))","v":"B"},{"$f":"IF(B82=\"\",\"\",IF(Zahteve!F83=\"da\",CONCATENATE(B82,\"-DA\"),\"\"))","v":""},{"$f":"IF(B82=\"\",\"\",IF(Zahteve!A83=\"da\",CONCATENATE(B82,\"-ustreza\"),\"\"))","v":""},{"$f":"IF(B82=\"\",\"\",IF(Zahteve!G83=\"\",\"\",CONCATENATE(B82,\"-opis\")))","v":""},{"$f":"IF(B82=\"\",\"\",IF(Zahteve!H83=\"\",\"\",CONCATENATE(B82,\"-dni\")))","v":""},{"$f":"IF(B82=\"\",\"\",IF(Zahteve!H83=\"\",\"\",Zahteve!H83))","v":""}]
[{"$f":"IF(Zahteve!B84=\"\",\"\",Zahteve!B84)","v":"B.20.2"},{"$f":"IF(Zahteve!B84=\"\",\"\",LEFT(Zahteve!B84,1))","v":"B"},{"$f":"IF(B83=\"\",\"\",IF(Zahteve!F84=\"da\",CONCATENATE(B83,\"-DA\"),\"\"))","v":""},{"$f":"IF(B83=\"\",\"\",IF(Zahteve!A84=\"da\",CONCATENATE(B83,\"-ustreza\"),\"\"))","v":""},{"$f":"IF(B83=\"\",\"\",IF(Zahteve!G84=\"\",\"\",CONCATENATE(B83,\"-opis\")))","v":""},{"$f":"IF(B83=\"\",\"\",IF(Zahteve!H84=\"\",\"\",CONCATENATE(B83,\"-dni\")))","v":""},{"$f":"IF(B83=\"\",\"\",IF(Zahteve!H84=\"\",\"\",Zahteve!H84))","v":""}]
[{"$f":"IF(Zahteve!B85=\"\",\"\",Zahteve!B85)","v":"B.20.3"},{"$f":"IF(Zahteve!B85=\"\",\"\",LEFT(Zahteve!B85,1))","v":"B"},{"$f":"IF(B84=\"\",\"\",IF(Zahteve!F85=\"da\",CONCATENATE(B84,\"-DA\"),\"\"))","v":""},{"$f":"IF(B84=\"\",\"\",IF(Zahteve!A85=\"da\",CONCATENATE(B84,\"-ustreza\"),\"\"))","v":""},{"$f":"IF(B84=\"\",\"\",IF(Zahteve!G85=\"\",\"\",CONCATENATE(B84,\"-opis\")))","v":""},{"$f":"IF(B84=\"\",\"\",IF(Zahteve!H85=\"\",\"\",CONCATENATE(B84,\"-dni\")))","v":""},{"$f":"IF(B84=\"\",\"\",IF(Zahteve!H85=\"\",\"\",Zahteve!H85))","v":""}]
[{"$f":"IF(Zahteve!B86=\"\",\"\",Zahteve!B86)","v":"B.20.4"},{"$f":"IF(Zahteve!B86=\"\",\"\",LEFT(Zahteve!B86,1))","v":"B"},{"$f":"IF(B85=\"\",\"\",IF(Zahteve!F86=\"da\",CONCATENATE(B85,\"-DA\"),\"\"))","v":""},{"$f":"IF(B85=\"\",\"\",IF(Zahteve!A86=\"da\",CONCATENATE(B85,\"-ustreza\"),\"\"))","v":""},{"$f":"IF(B85=\"\",\"\",IF(Zahteve!G86=\"\",\"\",CONCATENATE(B85,\"-opis\")))","v":""},{"$f":"IF(B85=\"\",\"\",IF(Zahteve!H86=\"\",\"\",CONCATENATE(B85,\"-dni\")))","v":""},{"$f":"IF(B85=\"\",\"\",IF(Zahteve!H86=\"\",\"\",Zahteve!H86))","v":""}]
[{"$f":"IF(Zahteve!B87=\"\",\"\",Zahteve!B87)","v":"B.20.5"},{"$f":"IF(Zahteve!B87=\"\",\"\",LEFT(Zahteve!B87,1))","v":"B"},{"$f":"IF(B86=\"\",\"\",IF(Zahteve!F87=\"da\",CONCATENATE(B86,\"-DA\"),\"\"))","v":""},{"$f":"IF(B86=\"\",\"\",IF(Zahteve!A87=\"da\",CONCATENATE(B86,\"-ustreza\"),\"\"))","v":""},{"$f":"IF(B86=\"\",\"\",IF(Zahteve!G87=\"\",\"\",CONCATENATE(B86,\"-opis\")))","v":""},{"$f":"IF(B86=\"\",\"\",IF(Zahteve!H87=\"\",\"\",CONCATENATE(B86,\"-dni\")))","v":""},{"$f":"IF(B86=\"\",\"\",IF(Zahteve!H87=\"\",\"\",Zahteve!H87))","v":""}]
[{"$f":"IF(Zahteve!B88=\"\",\"\",Zahteve!B88)","v":"B.20.6"},{"$f":"IF(Zahteve!B88=\"\",\"\",LEFT(Zahteve!B88,1))","v":"B"},{"$f":"IF(B87=\"\",\"\",IF(Zahteve!F88=\"da\",CONCATENATE(B87,\"-DA\"),\"\"))","v":""},{"$f":"IF(B87=\"\",\"\",IF(Zahteve!A88=\"da\",CONCATENATE(B87,\"-ustreza\"),\"\"))","v":""},{"$f":"IF(B87=\"\",\"\",IF(Zahteve!G88=\"\",\"\",CONCATENATE(B87,\"-opis\")))","v":""},{"$f":"IF(B87=\"\",\"\",IF(Zahteve!H88=\"\",\"\",CONCATENATE(B87,\"-dni\")))","v":""},{"$f":"IF(B87=\"\",\"\",IF(Zahteve!H88=\"\",\"\",Zahteve!H88))","v":""}]
[{"$f":"IF(Zahteve!B89=\"\",\"\",Zahteve!B89)","v":""},{"$f":"IF(Zahteve!B89=\"\",\"\",LEFT(Zahteve!B89,1))","v":""},{"$f":"IF(B88=\"\",\"\",IF(Zahteve!F89=\"da\",CONCATENATE(B88,\"-DA\"),\"\"))","v":""},{"$f":"IF(B88=\"\",\"\",IF(Zahteve!A89=\"da\",CONCATENATE(B88,\"-ustreza\"),\"\"))","v":""},{"$f":"IF(B88=\"\",\"\",IF(Zahteve!G89=\"\",\"\",CONCATENATE(B88,\"-opis\")))","v":""},{"$f":"IF(B88=\"\",\"\",IF(Zahteve!H89=\"\",\"\",CONCATENATE(B88,\"-dni\")))","v":""},{"$f":"IF(B88=\"\",\"\",IF(Zahteve!H89=\"\",\"\",Zahteve!H89))","v":""}]
[{"$f":"IF(Zahteve!B90=\"\",\"\",Zahteve!B90)","v":"B.21.1"},{"$f":"IF(Zahteve!B90=\"\",\"\",LEFT(Zahteve!B90,1))","v":"B"},{"$f":"IF(B89=\"\",\"\",IF(Zahteve!F90=\"da\",CONCATENATE(B89,\"-DA\"),\"\"))","v":""},{"$f":"IF(B89=\"\",\"\",IF(Zahteve!A90=\"da\",CONCATENATE(B89,\"-ustreza\"),\"\"))","v":""},{"$f":"IF(B89=\"\",\"\",IF(Zahteve!G90=\"\",\"\",CONCATENATE(B89,\"-opis\")))","v":""},{"$f":"IF(B89=\"\",\"\",IF(Zahteve!H90=\"\",\"\",CONCATENATE(B89,\"-dni\")))","v":""},{"$f":"IF(B89=\"\",\"\",IF(Zahteve!H90=\"\",\"\",Zahteve!H90))","v":""}]
[{"$f":"IF(Zahteve!B91=\"\",\"\",Zahteve!B91)","v":"B.22.1"},{"$f":"IF(Zahteve!B91=\"\",\"\",LEFT(Zahteve!B91,1))","v":"B"},{"$f":"IF(B90=\"\",\"\",IF(Zahteve!F91=\"da\",CONCATENATE(B90,\"-DA\"),\"\"))","v":""},{"$f":"IF(B90=\"\",\"\",IF(Zahteve!A91=\"da\",CONCATENATE(B90,\"-ustreza\"),\"\"))","v":""},{"$f":"IF(B90=\"\",\"\",IF(Zahteve!G91=\"\",\"\",CONCATENATE(B90,\"-opis\")))","v":""},{"$f":"IF(B90=\"\",\"\",IF(Zahteve!H91=\"\",\"\",CONCATENATE(B90,\"-dni\")))","v":""},{"$f":"IF(B90=\"\",\"\",IF(Zahteve!H91=\"\",\"\",Zahteve!H91))","v":""}]
[{"$f":"IF(Zahteve!B92=\"\",\"\",Zahteve!B92)","v":"B.22.2"},{"$f":"IF(Zahteve!B92=\"\",\"\",LEFT(Zahteve!B92,1))","v":"B"},{"$f":"IF(B91=\"\",\"\",IF(Zahteve!F92=\"da\",CONCATENATE(B91,\"-DA\"),\"\"))","v":""},{"$f":"IF(B91=\"\",\"\",IF(Zahteve!A92=\"da\",CONCATENATE(B91,\"-ustreza\"),\"\"))","v":""},{"$f":"IF(B91=\"\",\"\",IF(Zahteve!G92=\"\",\"\",CONCATENATE(B91,\"-opis\")))","v":""},{"$f":"IF(B91=\"\",\"\",IF(Zahteve!H92=\"\",\"\",CONCATENATE(B91,\"-dni\")))","v":""},{"$f":"IF(B91=\"\",\"\",IF(Zahteve!H92=\"\",\"\",Zahteve!H92))","v":""}]
[{"$f":"IF(Zahteve!B93=\"\",\"\",Zahteve!B93)","v":"B.22.3"},{"$f":"IF(Zahteve!B93=\"\",\"\",LEFT(Zahteve!B93,1))","v":"B"},{"$f":"IF(B92=\"\",\"\",IF(Zahteve!F93=\"da\",CONCATENATE(B92,\"-DA\"),\"\"))","v":""},{"$f":"IF(B92=\"\",\"\",IF(Zahteve!A93=\"da\",CONCATENATE(B92,\"-ustreza\"),\"\"))","v":""},{"$f":"IF(B92=\"\",\"\",IF(Zahteve!G93=\"\",\"\",CONCATENATE(B92,\"-opis\")))","v":""},{"$f":"IF(B92=\"\",\"\",IF(Zahteve!H93=\"\",\"\",CONCATENATE(B92,\"-dni\")))","v":""},{"$f":"IF(B92=\"\",\"\",IF(Zahteve!H93=\"\",\"\",Zahteve!H93))","v":""}]
[{"$f":"IF(Zahteve!B94=\"\",\"\",Zahteve!B94)","v":"B.22.4"},{"$f":"IF(Zahteve!B94=\"\",\"\",LEFT(Zahteve!B94,1))","v":"B"},{"$f":"IF(B93=\"\",\"\",IF(Zahteve!F94=\"da\",CONCATENATE(B93,\"-DA\"),\"\"))","v":""},{"$f":"IF(B93=\"\",\"\",IF(Zahteve!A94=\"da\",CONCATENATE(B93,\"-ustreza\"),\"\"))","v":""},{"$f":"IF(B93=\"\",\"\",IF(Zahteve!G94=\"\",\"\",CONCATENATE(B93,\"-opis\")))","v":""},{"$f":"IF(B93=\"\",\"\",IF(Zahteve!H94=\"\",\"\",CONCATENATE(B93,\"-dni\")))","v":""},{"$f":"IF(B93=\"\",\"\",IF(Zahteve!H94=\"\",\"\",Zahteve!H94))","v":""}]
[{"$f":"IF(Zahteve!B95=\"\",\"\",Zahteve!B95)","v":"B.23.1"},{"$f":"IF(Zahteve!B95=\"\",\"\",LEFT(Zahteve!B95,1))","v":"B"},{"$f":"IF(B94=\"\",\"\",IF(Zahteve!F95=\"da\",CONCATENATE(B94,\"-DA\"),\"\"))","v":""},{"$f":"IF(B94=\"\",\"\",IF(Zahteve!A95=\"da\",CONCATENATE(B94,\"-ustreza\"),\"\"))","v":""},{"$f":"IF(B94=\"\",\"\",IF(Zahteve!G95=\"\",\"\",CONCATENATE(B94,\"-opis\")))","v":""},{"$f":"IF(B94=\"\",\"\",IF(Zahteve!H95=\"\",\"\",CONCATENATE(B94,\"-dni\")))","v":""},{"$f":"IF(B94=\"\",\"\",IF(Zahteve!H95=\"\",\"\",Zahteve!H95))","v":""}]
[{"$f":"IF(Zahteve!B96=\"\",\"\",Zahteve!B96)","v":"B.23.2"},{"$f":"IF(Zahteve!B96=\"\",\"\",LEFT(Zahteve!B96,1))","v":"B"},{"$f":"IF(B95=\"\",\"\",IF(Zahteve!F96=\"da\",CONCATENATE(B95,\"-DA\"),\"\"))","v":""},{"$f":"IF(B95=\"\",\"\",IF(Zahteve!A96=\"da\",CONCATENATE(B95,\"-ustreza\"),\"\"))","v":""},{"$f":"IF(B95=\"\",\"\",IF(Zahteve!G96=\"\",\"\",CONCATENATE(B95,\"-opis\")))","v":""},{"$f":"IF(B95=\"\",\"\",IF(Zahteve!H96=\"\",\"\",CONCATENATE(B95,\"-dni\")))","v":""},{"$f":"IF(B95=\"\",\"\",IF(Zahteve!H96=\"\",\"\",Zahteve!H96))","v":""}]
[{"$f":"IF(Zahteve!B97=\"\",\"\",Zahteve!B97)","v":"B.23.3"},{"$f":"IF(Zahteve!B97=\"\",\"\",LEFT(Zahteve!B97,1))","v":"B"},{"$f":"IF(B96=\"\",\"\",IF(Zahteve!F97=\"da\",CONCATENATE(B96,\"-DA\"),\"\"))","v":""},{"$f":"IF(B96=\"\",\"\",IF(Zahteve!A97=\"da\",CONCATENATE(B96,\"-ustreza\"),\"\"))","v":""},{"$f":"IF(B96=\"\",\"\",IF(Zahteve!G97=\"\",\"\",CONCATENATE(B96,\"-opis\")))","v":""},{"$f":"IF(B96=\"\",\"\",IF(Zahteve!H97=\"\",\"\",CONCATENATE(B96,\"-dni\")))","v":""},{"$f":"IF(B96=\"\",\"\",IF(Zahteve!H97=\"\",\"\",Zahteve!H97))","v":""}]
[{"$f":"IF(Zahteve!B98=\"\",\"\",Zahteve!B98)","v":""},{"$f":"IF(Zahteve!B98=\"\",\"\",LEFT(Zahteve!B98,1))","v":""},{"$f":"IF(B97=\"\",\"\",IF(Zahteve!F98=\"da\",CONCATENATE(B97,\"-DA\"),\"\"))","v":""},{"$f":"IF(B97=\"\",\"\",IF(Zahteve!A98=\"da\",CONCATENATE(B97,\"-ustreza\"),\"\"))","v":""},{"$f":"IF(B97=\"\",\"\",IF(Zahteve!G98=\"\",\"\",CONCATENATE(B97,\"-opis\")))","v":""},{"$f":"IF(B97=\"\",\"\",IF(Zahteve!H98=\"\",\"\",CONCATENATE(B97,\"-dni\")))","v":""},{"$f":"IF(B97=\"\",\"\",IF(Zahteve!H98=\"\",\"\",Zahteve!H98))","v":""}]
[{"$f":"IF(Zahteve!B99=\"\",\"\",Zahteve!B99)","v":"B.24.1"},{"$f":"IF(Zahteve!B99=\"\",\"\",LEFT(Zahteve!B99,1))","v":"B"},{"$f":"IF(B98=\"\",\"\",IF(Zahteve!F99=\"da\",CONCATENATE(B98,\"-DA\"),\"\"))","v":""},{"$f":"IF(B98=\"\",\"\",IF(Zahteve!A99=\"da\",CONCATENATE(B98,\"-ustreza\"),\"\"))","v":""},{"$f":"IF(B98=\"\",\"\",IF(Zahteve!G99=\"\",\"\",CONCATENATE(B98,\"-opis\")))","v":""},{"$f":"IF(B98=\"\",\"\",IF(Zahteve!H99=\"\",\"\",CONCATENATE(B98,\"-dni\")))","v":""},{"$f":"IF(B98=\"\",\"\",IF(Zahteve!H99=\"\",\"\",Zahteve!H99))","v":""}]
[{"$f":"IF(Zahteve!B100=\"\",\"\",Zahteve!B100)","v":"B.24.2"},{"$f":"IF(Zahteve!B100=\"\",\"\",LEFT(Zahteve!B100,1))","v":"B"},{"$f":"IF(B99=\"\",\"\",IF(Zahteve!F100=\"da\",CONCATENATE(B99,\"-DA\"),\"\"))","v":""},{"$f":"IF(B99=\"\",\"\",IF(Zahteve!A100=\"da\",CONCATENATE(B99,\"-ustreza\"),\"\"))","v":""},{"$f":"IF(B99=\"\",\"\",IF(Zahteve!G100=\"\",\"\",CONCATENATE(B99,\"-opis\")))","v":""},{"$f":"IF(B99=\"\",\"\",IF(Zahteve!H100=\"\",\"\",CONCATENATE(B99,\"-dni\")))","v":""},{"$f":"IF(B99=\"\",\"\",IF(Zahteve!H100=\"\",\"\",Zahteve!H100))","v":""}]
[{"$f":"IF(Zahteve!B101=\"\",\"\",Zahteve!B101)","v":"B.24.3"},{"$f":"IF(Zahteve!B101=\"\",\"\",LEFT(Zahteve!B101,1))","v":"B"},{"$f":"IF(B100=\"\",\"\",IF(Zahteve!F101=\"da\",CONCATENATE(B100,\"-DA\"),\"\"))","v":""},{"$f":"IF(B100=\"\",\"\",IF(Zahteve!A101=\"da\",CONCATENATE(B100,\"-ustreza\"),\"\"))","v":""},{"$f":"IF(B100=\"\",\"\",IF(Zahteve!G101=\"\",\"\",CONCATENATE(B100,\"-opis\")))","v":""},{"$f":"IF(B100=\"\",\"\",IF(Zahteve!H101=\"\",\"\",CONCATENATE(B100,\"-dni\")))","v":""},{"$f":"IF(B100=\"\",\"\",IF(Zahteve!H101=\"\",\"\",Zahteve!H101))","v":""}]
[{"$f":"IF(Zahteve!B102=\"\",\"\",Zahteve!B102)","v":"B.25.1"},{"$f":"IF(Zahteve!B102=\"\",\"\",LEFT(Zahteve!B102,1))","v":"B"},{"$f":"IF(B101=\"\",\"\",IF(Zahteve!F102=\"da\",CONCATENATE(B101,\"-DA\"),\"\"))","v":""},{"$f":"IF(B101=\"\",\"\",IF(Zahteve!A102=\"da\",CONCATENATE(B101,\"-ustreza\"),\"\"))","v":""},{"$f":"IF(B101=\"\",\"\",IF(Zahteve!G102=\"\",\"\",CONCATENATE(B101,\"-opis\")))","v":""},{"$f":"IF(B101=\"\",\"\",IF(Zahteve!H102=\"\",\"\",CONCATENATE(B101,\"-dni\")))","v":""},{"$f":"IF(B101=\"\",\"\",IF(Zahteve!H102=\"\",\"\",Zahteve!H102))","v":""}]
[{"$f":"IF(Zahteve!B103=\"\",\"\",Zahteve!B103)","v":"B.25.2"},{"$f":"IF(Zahteve!B103=\"\",\"\",LEFT(Zahteve!B103,1))","v":"B"},{"$f":"IF(B102=\"\",\"\",IF(Zahteve!F103=\"da\",CONCATENATE(B102,\"-DA\"),\"\"))","v":""},{"$f":"IF(B102=\"\",\"\",IF(Zahteve!A103=\"da\",CONCATENATE(B102,\"-ustreza\"),\"\"))","v":""},{"$f":"IF(B102=\"\",\"\",IF(Zahteve!G103=\"\",\"\",CONCATENATE(B102,\"-opis\")))","v":""},{"$f":"IF(B102=\"\",\"\",IF(Zahteve!H103=\"\",\"\",CONCATENATE(B102,\"-dni\")))","v":""},{"$f":"IF(B102=\"\",\"\",IF(Zahteve!H103=\"\",\"\",Zahteve!H103))","v":""}]
[{"$f":"IF(Zahteve!B104=\"\",\"\",Zahteve!B104)","v":"B.25.3"},{"$f":"IF(Zahteve!B104=\"\",\"\",LEFT(Zahteve!B104,1))","v":"B"},{"$f":"IF(B103=\"\",\"\",IF(Zahteve!F104=\"da\",CONCATENATE(B103,\"-DA\"),\"\"))","v":""},{"$f":"IF(B103=\"\",\"\",IF(Zahteve!A104=\"da\",CONCATENATE(B103,\"-ustreza\"),\"\"))","v":""},{"$f":"IF(B103=\"\",\"\",IF(Zahteve!G104=\"\",\"\",CONCATENATE(B103,\"-opis\")))","v":""},{"$f":"IF(B103=\"\",\"\",IF(Zahteve!H104=\"\",\"\",CONCATENATE(B103,\"-dni\")))","v":""},{"$f":"IF(B103=\"\",\"\",IF(Zahteve!H104=\"\",\"\",Zahteve!H104))","v":""}]
[{"$f":"IF(Zahteve!B105=\"\",\"\",Zahteve!B105)","v":"B.25.4"},{"$f":"IF(Zahteve!B105=\"\",\"\",LEFT(Zahteve!B105,1))","v":"B"},{"$f":"IF(B104=\"\",\"\",IF(Zahteve!F105=\"da\",CONCATENATE(B104,\"-DA\"),\"\"))","v":""},{"$f":"IF(B104=\"\",\"\",IF(Zahteve!A105=\"da\",CONCATENATE(B104,\"-ustreza\"),\"\"))","v":""},{"$f":"IF(B104=\"\",\"\",IF(Zahteve!G105=\"\",\"\",CONCATENATE(B104,\"-opis\")))","v":""},{"$f":"IF(B104=\"\",\"\",IF(Zahteve!H105=\"\",\"\",CONCATENATE(B104,\"-dni\")))","v":""},{"$f":"IF(B104=\"\",\"\",IF(Zahteve!H105=\"\",\"\",Zahteve!H105))","v":""}]
[{"$f":"IF(Zahteve!B106=\"\",\"\",Zahteve!B106)","v":"B.26.1"},{"$f":"IF(Zahteve!B106=\"\",\"\",LEFT(Zahteve!B106,1))","v":"B"},{"$f":"IF(B105=\"\",\"\",IF(Zahteve!F106=\"da\",CONCATENATE(B105,\"-DA\"),\"\"))","v":""},{"$f":"IF(B105=\"\",\"\",IF(Zahteve!A106=\"da\",CONCATENATE(B105,\"-ustreza\"),\"\"))","v":""},{"$f":"IF(B105=\"\",\"\",IF(Zahteve!G106=\"\",\"\",CONCATENATE(B105,\"-opis\")))","v":""},{"$f":"IF(B105=\"\",\"\",IF(Zahteve!H106=\"\",\"\",CONCATENATE(B105,\"-dni\")))","v":""},{"$f":"IF(B105=\"\",\"\",IF(Zahteve!H106=\"\",\"\",Zahteve!H106))","v":""}]
[{"$f":"IF(Zahteve!B107=\"\",\"\",Zahteve!B107)","v":"B.26.2"},{"$f":"IF(Zahteve!B107=\"\",\"\",LEFT(Zahteve!B107,1))","v":"B"},{"$f":"IF(B106=\"\",\"\",IF(Zahteve!F107=\"da\",CONCATENATE(B106,\"-DA\"),\"\"))","v":""},{"$f":"IF(B106=\"\",\"\",IF(Zahteve!A107=\"da\",CONCATENATE(B106,\"-ustreza\"),\"\"))","v":""},{"$f":"IF(B106=\"\",\"\",IF(Zahteve!G107=\"\",\"\",CONCATENATE(B106,\"-opis\")))","v":""},{"$f":"IF(B106=\"\",\"\",IF(Zahteve!H107=\"\",\"\",CONCATENATE(B106,\"-dni\")))","v":""},{"$f":"IF(B106=\"\",\"\",IF(Zahteve!H107=\"\",\"\",Zahteve!H107))","v":""}]
[{"$f":"IF(Zahteve!B108=\"\",\"\",Zahteve!B108)","v":"B.26.3"},{"$f":"IF(Zahteve!B108=\"\",\"\",LEFT(Zahteve!B108,1))","v":"B"},{"$f":"IF(B107=\"\",\"\",IF(Zahteve!F108=\"da\",CONCATENATE(B107,\"-DA\"),\"\"))","v":""},{"$f":"IF(B107=\"\",\"\",IF(Zahteve!A108=\"da\",CONCATENATE(B107,\"-ustreza\"),\"\"))","v":""},{"$f":"IF(B107=\"\",\"\",IF(Zahteve!G108=\"\",\"\",CONCATENATE(B107,\"-opis\")))","v":""},{"$f":"IF(B107=\"\",\"\",IF(Zahteve!H108=\"\",\"\",CONCATENATE(B107,\"-dni\")))","v":""},{"$f":"IF(B107=\"\",\"\",IF(Zahteve!H108=\"\",\"\",Zahteve!H108))","v":""}]
[{"$f":"IF(Zahteve!B109=\"\",\"\",Zahteve!B109)","v":"B.27.1"},{"$f":"IF(Zahteve!B109=\"\",\"\",LEFT(Zahteve!B109,1))","v":"B"},{"$f":"IF(B108=\"\",\"\",IF(Zahteve!F109=\"da\",CONCATENATE(B108,\"-DA\"),\"\"))","v":""},{"$f":"IF(B108=\"\",\"\",IF(Zahteve!A109=\"da\",CONCATENATE(B108,\"-ustreza\"),\"\"))","v":""},{"$f":"IF(B108=\"\",\"\",IF(Zahteve!G109=\"\",\"\",CONCATENATE(B108,\"-opis\")))","v":""},{"$f":"IF(B108=\"\",\"\",IF(Zahteve!H109=\"\",\"\",CONCATENATE(B108,\"-dni\")))","v":""},{"$f":"IF(B108=\"\",\"\",IF(Zahteve!H109=\"\",\"\",Zahteve!H109))","v":""}]
[{"$f":"IF(Zahteve!B110=\"\",\"\",Zahteve!B110)","v":"B.27.2"},{"$f":"IF(Zahteve!B110=\"\",\"\",LEFT(Zahteve!B110,1))","v":"B"},{"$f":"IF(B109=\"\",\"\",IF(Zahteve!F110=\"da\",CONCATENATE(B109,\"-DA\"),\"\"))","v":""},{"$f":"IF(B109=\"\",\"\",IF(Zahteve!A110=\"da\",CONCATENATE(B109,\"-ustreza\"),\"\"))","v":""},{"$f":"IF(B109=\"\",\"\",IF(Zahteve!G110=\"\",\"\",CONCATENATE(B109,\"-opis\")))","v":""},{"$f":"IF(B109=\"\",\"\",IF(Zahteve!H110=\"\",\"\",CONCATENATE(B109,\"-dni\")))","v":""},{"$f":"IF(B109=\"\",\"\",IF(Zahteve!H110=\"\",\"\",Zahteve!H110))","v":""}]
[{"$f":"IF(Zahteve!B111=\"\",\"\",Zahteve!B111)","v":"B.27.3"},{"$f":"IF(Zahteve!B111=\"\",\"\",LEFT(Zahteve!B111,1))","v":"B"},{"$f":"IF(B110=\"\",\"\",IF(Zahteve!F111=\"da\",CONCATENATE(B110,\"-DA\"),\"\"))","v":""},{"$f":"IF(B110=\"\",\"\",IF(Zahteve!A111=\"da\",CONCATENATE(B110,\"-ustreza\"),\"\"))","v":""},{"$f":"IF(B110=\"\",\"\",IF(Zahteve!G111=\"\",\"\",CONCATENATE(B110,\"-opis\")))","v":""},{"$f":"IF(B110=\"\",\"\",IF(Zahteve!H111=\"\",\"\",CONCATENATE(B110,\"-dni\")))","v":""},{"$f":"IF(B110=\"\",\"\",IF(Zahteve!H111=\"\",\"\",Zahteve!H111))","v":""}]
[{"$f":"IF(Zahteve!B112=\"\",\"\",Zahteve!B112)","v":"B.27.4"},{"$f":"IF(Zahteve!B112=\"\",\"\",LEFT(Zahteve!B112,1))","v":"B"},{"$f":"IF(B111=\"\",\"\",IF(Zahteve!F112=\"da\",CONCATENATE(B111,\"-DA\"),\"\"))","v":""},{"$f":"IF(B111=\"\",\"\",IF(Zahteve!A112=\"da\",CONCATENATE(B111,\"-ustreza\"),\"\"))","v":""},{"$f":"IF(B111=\"\",\"\",IF(Zahteve!G112=\"\",\"\",CONCATENATE(B111,\"-opis\")))","v":""},{"$f":"IF(B111=\"\",\"\",IF(Zahteve!H112=\"\",\"\",CONCATENATE(B111,\"-dni\")))","v":""},{"$f":"IF(B111=\"\",\"\",IF(Zahteve!H112=\"\",\"\",Zahteve!H112))","v":""}]
[{"$f":"IF(Zahteve!B113=\"\",\"\",Zahteve!B113)","v":"B.28.1"},{"$f":"IF(Zahteve!B113=\"\",\"\",LEFT(Zahteve!B113,1))","v":"B"},{"$f":"IF(B112=\"\",\"\",IF(Zahteve!F113=\"da\",CONCATENATE(B112,\"-DA\"),\"\"))","v":""},{"$f":"IF(B112=\"\",\"\",IF(Zahteve!A113=\"da\",CONCATENATE(B112,\"-ustreza\"),\"\"))","v":""},{"$f":"IF(B112=\"\",\"\",IF(Zahteve!G113=\"\",\"\",CONCATENATE(B112,\"-opis\")))","v":""},{"$f":"IF(B112=\"\",\"\",IF(Zahteve!H113=\"\",\"\",CONCATENATE(B112,\"-dni\")))","v":""},{"$f":"IF(B112=\"\",\"\",IF(Zahteve!H113=\"\",\"\",Zahteve!H113))","v":""}]
[{"$f":"IF(Zahteve!B114=\"\",\"\",Zahteve!B114)","v":"B.28.2"},{"$f":"IF(Zahteve!B114=\"\",\"\",LEFT(Zahteve!B114,1))","v":"B"},{"$f":"IF(B113=\"\",\"\",IF(Zahteve!F114=\"da\",CONCATENATE(B113,\"-DA\"),\"\"))","v":""},{"$f":"IF(B113=\"\",\"\",IF(Zahteve!A114=\"da\",CONCATENATE(B113,\"-ustreza\"),\"\"))","v":""},{"$f":"IF(B113=\"\",\"\",IF(Zahteve!G114=\"\",\"\",CONCATENATE(B113,\"-opis\")))","v":""},{"$f":"IF(B113=\"\",\"\",IF(Zahteve!H114=\"\",\"\",CONCATENATE(B113,\"-dni\")))","v":""},{"$f":"IF(B113=\"\",\"\",IF(Zahteve!H114=\"\",\"\",Zahteve!H114))","v":""}]
[{"$f":"IF(Zahteve!B115=\"\",\"\",Zahteve!B115)","v":"B.28.3"},{"$f":"IF(Zahteve!B115=\"\",\"\",LEFT(Zahteve!B115,1))","v":"B"},{"$f":"IF(B114=\"\",\"\",IF(Zahteve!F115=\"da\",CONCATENATE(B114,\"-DA\"),\"\"))","v":""},{"$f":"IF(B114=\"\",\"\",IF(Zahteve!A115=\"da\",CONCATENATE(B114,\"-ustreza\"),\"\"))","v":""},{"$f":"IF(B114=\"\",\"\",IF(Zahteve!G115=\"\",\"\",CONCATENATE(B114,\"-opis\")))","v":""},{"$f":"IF(B114=\"\",\"\",IF(Zahteve!H115=\"\",\"\",CONCATENATE(B114,\"-dni\")))","v":""},{"$f":"IF(B114=\"\",\"\",IF(Zahteve!H115=\"\",\"\",Zahteve!H115))","v":""}]
[{"$f":"IF(Zahteve!B116=\"\",\"\",Zahteve!B116)","v":"B.28.4"},{"$f":"IF(Zahteve!B116=\"\",\"\",LEFT(Zahteve!B116,1))","v":"B"},{"$f":"IF(B115=\"\",\"\",IF(Zahteve!F116=\"da\",CONCATENATE(B115,\"-DA\"),\"\"))","v":""},{"$f":"IF(B115=\"\",\"\",IF(Zahteve!A116=\"da\",CONCATENATE(B115,\"-ustreza\"),\"\"))","v":""},{"$f":"IF(B115=\"\",\"\",IF(Zahteve!G116=\"\",\"\",CONCATENATE(B115,\"-opis\")))","v":""},{"$f":"IF(B115=\"\",\"\",IF(Zahteve!H116=\"\",\"\",CONCATENATE(B115,\"-dni\")))","v":""},{"$f":"IF(B115=\"\",\"\",IF(Zahteve!H116=\"\",\"\",Zahteve!H116))","v":""}]
[{"$f":"IF(Zahteve!B117=\"\",\"\",Zahteve!B117)","v":"B.28.5"},{"$f":"IF(Zahteve!B117=\"\",\"\",LEFT(Zahteve!B117,1))","v":"B"},{"$f":"IF(B116=\"\",\"\",IF(Zahteve!F117=\"da\",CONCATENATE(B116,\"-DA\"),\"\"))","v":""},{"$f":"IF(B116=\"\",\"\",IF(Zahteve!A117=\"da\",CONCATENATE(B116,\"-ustreza\"),\"\"))","v":""},{"$f":"IF(B116=\"\",\"\",IF(Zahteve!G117=\"\",\"\",CONCATENATE(B116,\"-opis\")))","v":""},{"$f":"IF(B116=\"\",\"\",IF(Zahteve!H117=\"\",\"\",CONCATENATE(B116,\"-dni\")))","v":""},{"$f":"IF(B116=\"\",\"\",IF(Zahteve!H117=\"\",\"\",Zahteve!H117))","v":""}]
[{"$f":"IF(Zahteve!B118=\"\",\"\",Zahteve!B118)","v":"B.29.1"},{"$f":"IF(Zahteve!B118=\"\",\"\",LEFT(Zahteve!B118,1))","v":"B"},{"$f":"IF(B117=\"\",\"\",IF(Zahteve!F118=\"da\",CONCATENATE(B117,\"-DA\"),\"\"))","v":""},{"$f":"IF(B117=\"\",\"\",IF(Zahteve!A118=\"da\",CONCATENATE(B117,\"-ustreza\"),\"\"))","v":""},{"$f":"IF(B117=\"\",\"\",IF(Zahteve!G118=\"\",\"\",CONCATENATE(B117,\"-opis\")))","v":""},{"$f":"IF(B117=\"\",\"\",IF(Zahteve!H118=\"\",\"\",CONCATENATE(B117,\"-dni\")))","v":""},{"$f":"IF(B117=\"\",\"\",IF(Zahteve!H118=\"\",\"\",Zahteve!H118))","v":""}]
[{"$f":"IF(Zahteve!B119=\"\",\"\",Zahteve!B119)","v":"B.29.2"},{"$f":"IF(Zahteve!B119=\"\",\"\",LEFT(Zahteve!B119,1))","v":"B"},{"$f":"IF(B118=\"\",\"\",IF(Zahteve!F119=\"da\",CONCATENATE(B118,\"-DA\"),\"\"))","v":""},{"$f":"IF(B118=\"\",\"\",IF(Zahteve!A119=\"da\",CONCATENATE(B118,\"-ustreza\"),\"\"))","v":""},{"$f":"IF(B118=\"\",\"\",IF(Zahteve!G119=\"\",\"\",CONCATENATE(B118,\"-opis\")))","v":""},{"$f":"IF(B118=\"\",\"\",IF(Zahteve!H119=\"\",\"\",CONCATENATE(B118,\"-dni\")))","v":""},{"$f":"IF(B118=\"\",\"\",IF(Zahteve!H119=\"\",\"\",Zahteve!H119))","v":""}]
[{"$f":"IF(Zahteve!B120=\"\",\"\",Zahteve!B120)","v":"B.29.3"},{"$f":"IF(Zahteve!B120=\"\",\"\",LEFT(Zahteve!B120,1))","v":"B"},{"$f":"IF(B119=\"\",\"\",IF(Zahteve!F120=\"da\",CONCATENATE(B119,\"-DA\"),\"\"))","v":""},{"$f":"IF(B119=\"\",\"\",IF(Zahteve!A120=\"da\",CONCATENATE(B119,\"-ustreza\"),\"\"))","v":""},{"$f":"IF(B119=\"\",\"\",IF(Zahteve!G120=\"\",\"\",CONCATENATE(B119,\"-opis\")))","v":""},{"$f":"IF(B119=\"\",\"\",IF(Zahteve!H120=\"\",\"\",CONCATENATE(B119,\"-dni\")))","v":""},{"$f":"IF(B119=\"\",\"\",IF(Zahteve!H120=\"\",\"\",Zahteve!H120))","v":""}]
[{"$f":"IF(Zahteve!B121=\"\",\"\",Zahteve!B121)","v":"B.29.4"},{"$f":"IF(Zahteve!B121=\"\",\"\",LEFT(Zahteve!B121,1))","v":"B"},{"$f":"IF(B120=\"\",\"\",IF(Zahteve!F121=\"da\",CONCATENATE(B120,\"-DA\"),\"\"))","v":""},{"$f":"IF(B120=\"\",\"\",IF(Zahteve!A121=\"da\",CONCATENATE(B120,\"-ustreza\"),\"\"))","v":""},{"$f":"IF(B120=\"\",\"\",IF(Zahteve!G121=\"\",\"\",CONCATENATE(B120,\"-opis\")))","v":""},{"$f":"IF(B120=\"\",\"\",IF(Zahteve!H121=\"\",\"\",CONCATENATE(B120,\"-dni\")))","v":""},{"$f":"IF(B120=\"\",\"\",IF(Zahteve!H121=\"\",\"\",Zahteve!H121))","v":""}]
[{"$f":"IF(Zahteve!B122=\"\",\"\",Zahteve!B122)","v":""},{"$f":"IF(Zahteve!B122=\"\",\"\",LEFT(Zahteve!B122,1))","v":""},{"$f":"IF(B121=\"\",\"\",IF(Zahteve!F122=\"da\",CONCATENATE(B121,\"-DA\"),\"\"))","v":""},{"$f":"IF(B121=\"\",\"\",IF(Zahteve!A122=\"da\",CONCATENATE(B121,\"-ustreza\"),\"\"))","v":""},{"$f":"IF(B121=\"\",\"\",IF(Zahteve!G122=\"\",\"\",CONCATENATE(B121,\"-opis\")))","v":""},{"$f":"IF(B121=\"\",\"\",IF(Zahteve!H122=\"\",\"\",CONCATENATE(B121,\"-dni\")))","v":""},{"$f":"IF(B121=\"\",\"\",IF(Zahteve!H122=\"\",\"\",Zahteve!H122))","v":""}]
[{"$f":"IF(Zahteve!B123=\"\",\"\",Zahteve!B123)","v":""},{"$f":"IF(Zahteve!B123=\"\",\"\",LEFT(Zahteve!B123,1))","v":""},{"$f":"IF(B122=\"\",\"\",IF(Zahteve!F123=\"da\",CONCATENATE(B122,\"-DA\"),\"\"))","v":""},{"$f":"IF(B122=\"\",\"\",IF(Zahteve!A123=\"da\",CONCATENATE(B122,\"-ustreza\"),\"\"))","v":""},{"$f":"IF(B122=\"\",\"\",IF(Zahteve!G123=\"\",\"\",CONCATENATE(B122,\"-opis\")))","v":""},{"$f":"IF(B122=\"\",\"\",IF(Zahteve!H123=\"\",\"\",CONCATENATE(B122,\"-dni\")))","v":""},{"$f":"IF(B122=\"\",\"\",IF(Zahteve!H123=\"\",\"\",Zahteve!H123))","v":""}]
[{"$f":"IF(Zahteve!B124=\"\",\"\",Zahteve!B124)","v":"B.30.1"},{"$f":"IF(Zahteve!B124=\"\",\"\",LEFT(Zahteve!B124,1))","v":"B"},{"$f":"IF(B123=\"\",\"\",IF(Zahteve!F124=\"da\",CONCATENATE(B123,\"-DA\"),\"\"))","v":""},{"$f":"IF(B123=\"\",\"\",IF(Zahteve!A124=\"da\",CONCATENATE(B123,\"-ustreza\"),\"\"))","v":""},{"$f":"IF(B123=\"\",\"\",IF(Zahteve!G124=\"\",\"\",CONCATENATE(B123,\"-opis\")))","v":""},{"$f":"IF(B123=\"\",\"\",IF(Zahteve!H124=\"\",\"\",CONCATENATE(B123,\"-dni\")))","v":""},{"$f":"IF(B123=\"\",\"\",IF(Zahteve!H124=\"\",\"\",Zahteve!H124))","v":""}]
[{"$f":"IF(Zahteve!B125=\"\",\"\",Zahteve!B125)","v":"B.30.2"},{"$f":"IF(Zahteve!B125=\"\",\"\",LEFT(Zahteve!B125,1))","v":"B"},{"$f":"IF(B124=\"\",\"\",IF(Zahteve!F125=\"da\",CONCATENATE(B124,\"-DA\"),\"\"))","v":""},{"$f":"IF(B124=\"\",\"\",IF(Zahteve!A125=\"da\",CONCATENATE(B124,\"-ustreza\"),\"\"))","v":""},{"$f":"IF(B124=\"\",\"\",IF(Zahteve!G125=\"\",\"\",CONCATENATE(B124,\"-opis\")))","v":""},{"$f":"IF(B124=\"\",\"\",IF(Zahteve!H125=\"\",\"\",CONCATENATE(B124,\"-dni\")))","v":""},{"$f":"IF(B124=\"\",\"\",IF(Zahteve!H125=\"\",\"\",Zahteve!H125))","v":""}]
[{"$f":"IF(Zahteve!B126=\"\",\"\",Zahteve!B126)","v":"B.30.3"},{"$f":"IF(Zahteve!B126=\"\",\"\",LEFT(Zahteve!B126,1))","v":"B"},{"$f":"IF(B125=\"\",\"\",IF(Zahteve!F126=\"da\",CONCATENATE(B125,\"-DA\"),\"\"))","v":""},{"$f":"IF(B125=\"\",\"\",IF(Zahteve!A126=\"da\",CONCATENATE(B125,\"-ustreza\"),\"\"))","v":""},{"$f":"IF(B125=\"\",\"\",IF(Zahteve!G126=\"\",\"\",CONCATENATE(B125,\"-opis\")))","v":""},{"$f":"IF(B125=\"\",\"\",IF(Zahteve!H126=\"\",\"\",CONCATENATE(B125,\"-dni\")))","v":""},{"$f":"IF(B125=\"\",\"\",IF(Zahteve!H126=\"\",\"\",Zahteve!H126))","v":""}]
[{"$f":"IF(Zahteve!B127=\"\",\"\",Zahteve!B127)","v":"B.30.4"},{"$f":"IF(Zahteve!B127=\"\",\"\",LEFT(Zahteve!B127,1))","v":"B"},{"$f":"IF(B126=\"\",\"\",IF(Zahteve!F127=\"da\",CONCATENATE(B126,\"-DA\"),\"\"))","v":""},{"$f":"IF(B126=\"\",\"\",IF(Zahteve!A127=\"da\",CONCATENATE(B126,\"-ustreza\"),\"\"))","v":""},{"$f":"IF(B126=\"\",\"\",IF(Zahteve!G127=\"\",\"\",CONCATENATE(B126,\"-opis\")))","v":""},{"$f":"IF(B126=\"\",\"\",IF(Zahteve!H127=\"\",\"\",CONCATENATE(B126,\"-dni\")))","v":""},{"$f":"IF(B126=\"\",\"\",IF(Zahteve!H127=\"\",\"\",Zahteve!H127))","v":""}]
[{"$f":"IF(Zahteve!B128=\"\",\"\",Zahteve!B128)","v":"B.30.5"},{"$f":"IF(Zahteve!B128=\"\",\"\",LEFT(Zahteve!B128,1))","v":"B"},{"$f":"IF(B127=\"\",\"\",IF(Zahteve!F128=\"da\",CONCATENATE(B127,\"-DA\"),\"\"))","v":""},{"$f":"IF(B127=\"\",\"\",IF(Zahteve!A128=\"da\",CONCATENATE(B127,\"-ustreza\"),\"\"))","v":""},{"$f":"IF(B127=\"\",\"\",IF(Zahteve!G128=\"\",\"\",CONCATENATE(B127,\"-opis\")))","v":""},{"$f":"IF(B127=\"\",\"\",IF(Zahteve!H128=\"\",\"\",CONCATENATE(B127,\"-dni\")))","v":""},{"$f":"IF(B127=\"\",\"\",IF(Zahteve!H128=\"\",\"\",Zahteve!H128))","v":""}]
[{"$f":"IF(Zahteve!B129=\"\",\"\",Zahteve!B129)","v":"B.31.1"},{"$f":"IF(Zahteve!B129=\"\",\"\",LEFT(Zahteve!B129,1))","v":"B"},{"$f":"IF(B128=\"\",\"\",IF(Zahteve!F129=\"da\",CONCATENATE(B128,\"-DA\"),\"\"))","v":""},{"$f":"IF(B128=\"\",\"\",IF(Zahteve!A129=\"da\",CONCATENATE(B128,\"-ustreza\"),\"\"))","v":""},{"$f":"IF(B128=\"\",\"\",IF(Zahteve!G129=\"\",\"\",CONCATENATE(B128,\"-opis\")))","v":""},{"$f":"IF(B128=\"\",\"\",IF(Zahteve!H129=\"\",\"\",CONCATENATE(B128,\"-dni\")))","v":""},{"$f":"IF(B128=\"\",\"\",IF(Zahteve!H129=\"\",\"\",Zahteve!H129))","v":""}]
[{"$f":"IF(Zahteve!B130=\"\",\"\",Zahteve!B130)","v":"B.31.2"},{"$f":"IF(Zahteve!B130=\"\",\"\",LEFT(Zahteve!B130,1))","v":"B"},{"$f":"IF(B129=\"\",\"\",IF(Zahteve!F130=\"da\",CONCATENATE(B129,\"-DA\"),\"\"))","v":""},{"$f":"IF(B129=\"\",\"\",IF(Zahteve!A130=\"da\",CONCATENATE(B129,\"-ustreza\"),\"\"))","v":""},{"$f":"IF(B129=\"\",\"\",IF(Zahteve!G130=\"\",\"\",CONCATENATE(B129,\"-opis\")))","v":""},{"$f":"IF(B129=\"\",\"\",IF(Zahteve!H130=\"\",\"\",CONCATENATE(B129,\"-dni\")))","v":""},{"$f":"IF(B129=\"\",\"\",IF(Zahteve!H130=\"\",\"\",Zahteve!H130))","v":""}]
[{"$f":"IF(Zahteve!B131=\"\",\"\",Zahteve!B131)","v":""},{"$f":"IF(Zahteve!B131=\"\",\"\",LEFT(Zahteve!B131,1))","v":""},{"$f":"IF(B130=\"\",\"\",IF(Zahteve!F131=\"da\",CONCATENATE(B130,\"-DA\"),\"\"))","v":""},{"$f":"IF(B130=\"\",\"\",IF(Zahteve!A131=\"da\",CONCATENATE(B130,\"-ustreza\"),\"\"))","v":""},{"$f":"IF(B130=\"\",\"\",IF(Zahteve!G131=\"\",\"\",CONCATENATE(B130,\"-opis\")))","v":""},{"$f":"IF(B130=\"\",\"\",IF(Zahteve!H131=\"\",\"\",CONCATENATE(B130,\"-dni\")))","v":""},{"$f":"IF(B130=\"\",\"\",IF(Zahteve!H131=\"\",\"\",Zahteve!H131))","v":""}]
[{"$f":"IF(Zahteve!B132=\"\",\"\",Zahteve!B132)","v":"B.32.1"},{"$f":"IF(Zahteve!B132=\"\",\"\",LEFT(Zahteve!B132,1))","v":"B"},{"$f":"IF(B131=\"\",\"\",IF(Zahteve!F132=\"da\",CONCATENATE(B131,\"-DA\"),\"\"))","v":""},{"$f":"IF(B131=\"\",\"\",IF(Zahteve!A132=\"da\",CONCATENATE(B131,\"-ustreza\"),\"\"))","v":""},{"$f":"IF(B131=\"\",\"\",IF(Zahteve!G132=\"\",\"\",CONCATENATE(B131,\"-opis\")))","v":""},{"$f":"IF(B131=\"\",\"\",IF(Zahteve!H132=\"\",\"\",CONCATENATE(B131,\"-dni\")))","v":""},{"$f":"IF(B131=\"\",\"\",IF(Zahteve!H132=\"\",\"\",Zahteve!H132))","v":""}]
[{"$f":"IF(Zahteve!B133=\"\",\"\",Zahteve!B133)","v":"B.32.2"},{"$f":"IF(Zahteve!B133=\"\",\"\",LEFT(Zahteve!B133,1))","v":"B"},{"$f":"IF(B132=\"\",\"\",IF(Zahteve!F133=\"da\",CONCATENATE(B132,\"-DA\"),\"\"))","v":""},{"$f":"IF(B132=\"\",\"\",IF(Zahteve!A133=\"da\",CONCATENATE(B132,\"-ustreza\"),\"\"))","v":""},{"$f":"IF(B132=\"\",\"\",IF(Zahteve!G133=\"\",\"\",CONCATENATE(B132,\"-opis\")))","v":""},{"$f":"IF(B132=\"\",\"\",IF(Zahteve!H133=\"\",\"\",CONCATENATE(B132,\"-dni\")))","v":""},{"$f":"IF(B132=\"\",\"\",IF(Zahteve!H133=\"\",\"\",Zahteve!H133))","v":""}]
[{"$f":"IF(Zahteve!B134=\"\",\"\",Zahteve!B134)","v":"B.32.3"},{"$f":"IF(Zahteve!B134=\"\",\"\",LEFT(Zahteve!B134,1))","v":"B"},{"$f":"IF(B133=\"\",\"\",IF(Zahteve!F134=\"da\",CONCATENATE(B133,\"-DA\"),\"\"))","v":""},{"$f":"IF(B133=\"\",\"\",IF(Zahteve!A134=\"da\",CONCATENATE(B133,\"-ustreza\"),\"\"))","v":""},{"$f":"IF(B133=\"\",\"\",IF(Zahteve!G134=\"\",\"\",CONCATENATE(B133,\"-opis\")))","v":""},{"$f":"IF(B133=\"\",\"\",IF(Zahteve!H134=\"\",\"\",CONCATENATE(B133,\"-dni\")))","v":""},{"$f":"IF(B133=\"\",\"\",IF(Zahteve!H134=\"\",\"\",Zahteve!H134))","v":""}]
[{"$f":"IF(Zahteve!B135=\"\",\"\",Zahteve!B135)","v":"B.32.4"},{"$f":"IF(Zahteve!B135=\"\",\"\",LEFT(Zahteve!B135,1))","v":"B"},{"$f":"IF(B134=\"\",\"\",IF(Zahteve!F135=\"da\",CONCATENATE(B134,\"-DA\"),\"\"))","v":""},{"$f":"IF(B134=\"\",\"\",IF(Zahteve!A135=\"da\",CONCATENATE(B134,\"-ustreza\"),\"\"))","v":""},{"$f":"IF(B134=\"\",\"\",IF(Zahteve!G135=\"\",\"\",CONCATENATE(B134,\"-opis\")))","v":""},{"$f":"IF(B134=\"\",\"\",IF(Zahteve!H135=\"\",\"\",CONCATENATE(B134,\"-dni\")))","v":""},{"$f":"IF(B134=\"\",\"\",IF(Zahteve!H135=\"\",\"\",Zahteve!H135))","v":""}]
[{"$f":"IF(Zahteve!B136=\"\",\"\",Zahteve!B136)","v":"B.33.1"},{"$f":"IF(Zahteve!B136=\"\",\"\",LEFT(Zahteve!B136,1))","v":"B"},{"$f":"IF(B135=\"\",\"\",IF(Zahteve!F136=\"da\",CONCATENATE(B135,\"-DA\"),\"\"))","v":""},{"$f":"IF(B135=\"\",\"\",IF(Zahteve!A136=\"da\",CONCATENATE(B135,\"-ustreza\"),\"\"))","v":""},{"$f":"IF(B135=\"\",\"\",IF(Zahteve!G136=\"\",\"\",CONCATENATE(B135,\"-opis\")))","v":""},{"$f":"IF(B135=\"\",\"\",IF(Zahteve!H136=\"\",\"\",CONCATENATE(B135,\"-dni\")))","v":""},{"$f":"IF(B135=\"\",\"\",IF(Zahteve!H136=\"\",\"\",Zahteve!H136))","v":""}]
[{"$f":"IF(Zahteve!B137=\"\",\"\",Zahteve!B137)","v":"B.33.2"},{"$f":"IF(Zahteve!B137=\"\",\"\",LEFT(Zahteve!B137,1))","v":"B"},{"$f":"IF(B136=\"\",\"\",IF(Zahteve!F137=\"da\",CONCATENATE(B136,\"-DA\"),\"\"))","v":""},{"$f":"IF(B136=\"\",\"\",IF(Zahteve!A137=\"da\",CONCATENATE(B136,\"-ustreza\"),\"\"))","v":""},{"$f":"IF(B136=\"\",\"\",IF(Zahteve!G137=\"\",\"\",CONCATENATE(B136,\"-opis\")))","v":""},{"$f":"IF(B136=\"\",\"\",IF(Zahteve!H137=\"\",\"\",CONCATENATE(B136,\"-dni\")))","v":""},{"$f":"IF(B136=\"\",\"\",IF(Zahteve!H137=\"\",\"\",Zahteve!H137))","v":""}]
[{"$f":"IF(Zahteve!B138=\"\",\"\",Zahteve!B138)","v":"B.34.1"},{"$f":"IF(Zahteve!B138=\"\",\"\",LEFT(Zahteve!B138,1))","v":"B"},{"$f":"IF(B137=\"\",\"\",IF(Zahteve!F138=\"da\",CONCATENATE(B137,\"-DA\"),\"\"))","v":""},{"$f":"IF(B137=\"\",\"\",IF(Zahteve!A138=\"da\",CONCATENATE(B137,\"-ustreza\"),\"\"))","v":""},{"$f":"IF(B137=\"\",\"\",IF(Zahteve!G138=\"\",\"\",CONCATENATE(B137,\"-opis\")))","v":""},{"$f":"IF(B137=\"\",\"\",IF(Zahteve!H138=\"\",\"\",CONCATENATE(B137,\"-dni\")))","v":""},{"$f":"IF(B137=\"\",\"\",IF(Zahteve!H138=\"\",\"\",Zahteve!H138))","v":""}]
[{"$f":"IF(Zahteve!B139=\"\",\"\",Zahteve!B139)","v":""},{"$f":"IF(Zahteve!B139=\"\",\"\",LEFT(Zahteve!B139,1))","v":""},{"$f":"IF(B138=\"\",\"\",IF(Zahteve!F139=\"da\",CONCATENATE(B138,\"-DA\"),\"\"))","v":""},{"$f":"IF(B138=\"\",\"\",IF(Zahteve!A139=\"da\",CONCATENATE(B138,\"-ustreza\"),\"\"))","v":""},{"$f":"IF(B138=\"\",\"\",IF(Zahteve!G139=\"\",\"\",CONCATENATE(B138,\"-opis\")))","v":""},{"$f":"IF(B138=\"\",\"\",IF(Zahteve!H139=\"\",\"\",CONCATENATE(B138,\"-dni\")))","v":""},{"$f":"IF(B138=\"\",\"\",IF(Zahteve!H139=\"\",\"\",Zahteve!H139))","v":""}]
[{"$f":"IF(Zahteve!B140=\"\",\"\",Zahteve!B140)","v":"B.35.1"},{"$f":"IF(Zahteve!B140=\"\",\"\",LEFT(Zahteve!B140,1))","v":"B"},{"$f":"IF(B139=\"\",\"\",IF(Zahteve!F140=\"da\",CONCATENATE(B139,\"-DA\"),\"\"))","v":""},{"$f":"IF(B139=\"\",\"\",IF(Zahteve!A140=\"da\",CONCATENATE(B139,\"-ustreza\"),\"\"))","v":""},{"$f":"IF(B139=\"\",\"\",IF(Zahteve!G140=\"\",\"\",CONCATENATE(B139,\"-opis\")))","v":""},{"$f":"IF(B139=\"\",\"\",IF(Zahteve!H140=\"\",\"\",CONCATENATE(B139,\"-dni\")))","v":""},{"$f":"IF(B139=\"\",\"\",IF(Zahteve!H140=\"\",\"\",Zahteve!H140))","v":""}]
[{"$f":"IF(Zahteve!B141=\"\",\"\",Zahteve!B141)","v":"B.35.2"},{"$f":"IF(Zahteve!B141=\"\",\"\",LEFT(Zahteve!B141,1))","v":"B"},{"$f":"IF(B140=\"\",\"\",IF(Zahteve!F141=\"da\",CONCATENATE(B140,\"-DA\"),\"\"))","v":""},{"$f":"IF(B140=\"\",\"\",IF(Zahteve!A141=\"da\",CONCATENATE(B140,\"-ustreza\"),\"\"))","v":""},{"$f":"IF(B140=\"\",\"\",IF(Zahteve!G141=\"\",\"\",CONCATENATE(B140,\"-opis\")))","v":""},{"$f":"IF(B140=\"\",\"\",IF(Zahteve!H141=\"\",\"\",CONCATENATE(B140,\"-dni\")))","v":""},{"$f":"IF(B140=\"\",\"\",IF(Zahteve!H141=\"\",\"\",Zahteve!H141))","v":""}]
[{"$f":"IF(Zahteve!B142=\"\",\"\",Zahteve!B142)","v":"B.35.3"},{"$f":"IF(Zahteve!B142=\"\",\"\",LEFT(Zahteve!B142,1))","v":"B"},{"$f":"IF(B141=\"\",\"\",IF(Zahteve!F142=\"da\",CONCATENATE(B141,\"-DA\"),\"\"))","v":""},{"$f":"IF(B141=\"\",\"\",IF(Zahteve!A142=\"da\",CONCATENATE(B141,\"-ustreza\"),\"\"))","v":""},{"$f":"IF(B141=\"\",\"\",IF(Zahteve!G142=\"\",\"\",CONCATENATE(B141,\"-opis\")))","v":""},{"$f":"IF(B141=\"\",\"\",IF(Zahteve!H142=\"\",\"\",CONCATENATE(B141,\"-dni\")))","v":""},{"$f":"IF(B141=\"\",\"\",IF(Zahteve!H142=\"\",\"\",Zahteve!H142))","v":""}]
[{"$f":"IF(Zahteve!B143=\"\",\"\",Zahteve!B143)","v":"B.35.4"},{"$f":"IF(Zahteve!B143=\"\",\"\",LEFT(Zahteve!B143,1))","v":"B"},{"$f":"IF(B142=\"\",\"\",IF(Zahteve!F143=\"da\",CONCATENATE(B142,\"-DA\"),\"\"))","v":""},{"$f":"IF(B142=\"\",\"\",IF(Zahteve!A143=\"da\",CONCATENATE(B142,\"-ustreza\"),\"\"))","v":""},{"$f":"IF(B142=\"\",\"\",IF(Zahteve!G143=\"\",\"\",CONCATENATE(B142,\"-opis\")))","v":""},{"$f":"IF(B142=\"\",\"\",IF(Zahteve!H143=\"\",\"\",CONCATENATE(B142,\"-dni\")))","v":""},{"$f":"IF(B142=\"\",\"\",IF(Zahteve!H143=\"\",\"\",Zahteve!H143))","v":""}]
[{"$f":"IF(Zahteve!B144=\"\",\"\",Zahteve!B144)","v":"B.35.5"},{"$f":"IF(Zahteve!B144=\"\",\"\",LEFT(Zahteve!B144,1))","v":"B"},{"$f":"IF(B143=\"\",\"\",IF(Zahteve!F144=\"da\",CONCATENATE(B143,\"-DA\"),\"\"))","v":""},{"$f":"IF(B143=\"\",\"\",IF(Zahteve!A144=\"da\",CONCATENATE(B143,\"-ustreza\"),\"\"))","v":""},{"$f":"IF(B143=\"\",\"\",IF(Zahteve!G144=\"\",\"\",CONCATENATE(B143,\"-opis\")))","v":""},{"$f":"IF(B143=\"\",\"\",IF(Zahteve!H144=\"\",\"\",CONCATENATE(B143,\"-dni\")))","v":""},{"$f":"IF(B143=\"\",\"\",IF(Zahteve!H144=\"\",\"\",Zahteve!H144))","v":""}]
[{"$f":"IF(Zahteve!B145=\"\",\"\",Zahteve!B145)","v":"B.36.1"},{"$f":"IF(Zahteve!B145=\"\",\"\",LEFT(Zahteve!B145,1))","v":"B"},{"$f":"IF(B144=\"\",\"\",IF(Zahteve!F145=\"da\",CONCATENATE(B144,\"-DA\"),\"\"))","v":""},{"$f":"IF(B144=\"\",\"\",IF(Zahteve!A145=\"da\",CONCATENATE(B144,\"-ustreza\"),\"\"))","v":""},{"$f":"IF(B144=\"\",\"\",IF(Zahteve!G145=\"\",\"\",CONCATENATE(B144,\"-opis\")))","v":""},{"$f":"IF(B144=\"\",\"\",IF(Zahteve!H145=\"\",\"\",CONCATENATE(B144,\"-dni\")))","v":""},{"$f":"IF(B144=\"\",\"\",IF(Zahteve!H145=\"\",\"\",Zahteve!H145))","v":""}]
[{"$f":"IF(Zahteve!B146=\"\",\"\",Zahteve!B146)","v":"B.36.2"},{"$f":"IF(Zahteve!B146=\"\",\"\",LEFT(Zahteve!B146,1))","v":"B"},{"$f":"IF(B145=\"\",\"\",IF(Zahteve!F146=\"da\",CONCATENATE(B145,\"-DA\"),\"\"))","v":""},{"$f":"IF(B145=\"\",\"\",IF(Zahteve!A146=\"da\",CONCATENATE(B145,\"-ustreza\"),\"\"))","v":""},{"$f":"IF(B145=\"\",\"\",IF(Zahteve!G146=\"\",\"\",CONCATENATE(B145,\"-opis\")))","v":""},{"$f":"IF(B145=\"\",\"\",IF(Zahteve!H146=\"\",\"\",CONCATENATE(B145,\"-dni\")))","v":""},{"$f":"IF(B145=\"\",\"\",IF(Zahteve!H146=\"\",\"\",Zahteve!H146))","v":""}]
[{"$f":"IF(Zahteve!B147=\"\",\"\",Zahteve!B147)","v":""},{"$f":"IF(Zahteve!B147=\"\",\"\",LEFT(Zahteve!B147,1))","v":""},{"$f":"IF(B146=\"\",\"\",IF(Zahteve!F147=\"da\",CONCATENATE(B146,\"-DA\"),\"\"))","v":""},{"$f":"IF(B146=\"\",\"\",IF(Zahteve!A147=\"da\",CONCATENATE(B146,\"-ustreza\"),\"\"))","v":""},{"$f":"IF(B146=\"\",\"\",IF(Zahteve!G147=\"\",\"\",CONCATENATE(B146,\"-opis\")))","v":""},{"$f":"IF(B146=\"\",\"\",IF(Zahteve!H147=\"\",\"\",CONCATENATE(B146,\"-dni\")))","v":""},{"$f":"IF(B146=\"\",\"\",IF(Zahteve!H147=\"\",\"\",Zahteve!H147))","v":""}]
[{"$f":"IF(Zahteve!B148=\"\",\"\",Zahteve!B148)","v":"B.37.1"},{"$f":"IF(Zahteve!B148=\"\",\"\",LEFT(Zahteve!B148,1))","v":"B"},{"$f":"IF(B147=\"\",\"\",IF(Zahteve!F148=\"da\",CONCATENATE(B147,\"-DA\"),\"\"))","v":""},{"$f":"IF(B147=\"\",\"\",IF(Zahteve!A148=\"da\",CONCATENATE(B147,\"-ustreza\"),\"\"))","v":""},{"$f":"IF(B147=\"\",\"\",IF(Zahteve!G148=\"\",\"\",CONCATENATE(B147,\"-opis\")))","v":""},{"$f":"IF(B147=\"\",\"\",IF(Zahteve!H148=\"\",\"\",CONCATENATE(B147,\"-dni\")))","v":""},{"$f":"IF(B147=\"\",\"\",IF(Zahteve!H148=\"\",\"\",Zahteve!H148))","v":""}]
[{"$f":"IF(Zahteve!B149=\"\",\"\",Zahteve!B149)","v":"B.37.2"},{"$f":"IF(Zahteve!B149=\"\",\"\",LEFT(Zahteve!B149,1))","v":"B"},{"$f":"IF(B148=\"\",\"\",IF(Zahteve!F149=\"da\",CONCATENATE(B148,\"-DA\"),\"\"))","v":""},{"$f":"IF(B148=\"\",\"\",IF(Zahteve!A149=\"da\",CONCATENATE(B148,\"-ustreza\"),\"\"))","v":""},{"$f":"IF(B148=\"\",\"\",IF(Zahteve!G149=\"\",\"\",CONCATENATE(B148,\"-opis\")))","v":""},{"$f":"IF(B148=\"\",\"\",IF(Zahteve!H149=\"\",\"\",CONCATENATE(B148,\"-dni\")))","v":""},{"$f":"IF(B148=\"\",\"\",IF(Zahteve!H149=\"\",\"\",Zahteve!H149))","v":""}]
[{"$f":"IF(Zahteve!B150=\"\",\"\",Zahteve!B150)","v":"B.38.1"},{"$f":"IF(Zahteve!B150=\"\",\"\",LEFT(Zahteve!B150,1))","v":"B"},{"$f":"IF(B149=\"\",\"\",IF(Zahteve!F150=\"da\",CONCATENATE(B149,\"-DA\"),\"\"))","v":""},{"$f":"IF(B149=\"\",\"\",IF(Zahteve!A150=\"da\",CONCATENATE(B149,\"-ustreza\"),\"\"))","v":""},{"$f":"IF(B149=\"\",\"\",IF(Zahteve!G150=\"\",\"\",CONCATENATE(B149,\"-opis\")))","v":""},{"$f":"IF(B149=\"\",\"\",IF(Zahteve!H150=\"\",\"\",CONCATENATE(B149,\"-dni\")))","v":""},{"$f":"IF(B149=\"\",\"\",IF(Zahteve!H150=\"\",\"\",Zahteve!H150))","v":""}]
[{"$f":"IF(Zahteve!B151=\"\",\"\",Zahteve!B151)","v":"B.38.2"},{"$f":"IF(Zahteve!B151=\"\",\"\",LEFT(Zahteve!B151,1))","v":"B"},{"$f":"IF(B150=\"\",\"\",IF(Zahteve!F151=\"da\",CONCATENATE(B150,\"-DA\"),\"\"))","v":""},{"$f":"IF(B150=\"\",\"\",IF(Zahteve!A151=\"da\",CONCATENATE(B150,\"-ustreza\"),\"\"))","v":""},{"$f":"IF(B150=\"\",\"\",IF(Zahteve!G151=\"\",\"\",CONCATENATE(B150,\"-opis\")))","v":""},{"$f":"IF(B150=\"\",\"\",IF(Zahteve!H151=\"\",\"\",CONCATENATE(B150,\"-dni\")))","v":""},{"$f":"IF(B150=\"\",\"\",IF(Zahteve!H151=\"\",\"\",Zahteve!H151))","v":""}]
[{"$f":"IF(Zahteve!B152=\"\",\"\",Zahteve!B152)","v":"B.38.3"},{"$f":"IF(Zahteve!B152=\"\",\"\",LEFT(Zahteve!B152,1))","v":"B"},{"$f":"IF(B151=\"\",\"\",IF(Zahteve!F152=\"da\",CONCATENATE(B151,\"-DA\"),\"\"))","v":""},{"$f":"IF(B151=\"\",\"\",IF(Zahteve!A152=\"da\",CONCATENATE(B151,\"-ustreza\"),\"\"))","v":""},{"$f":"IF(B151=\"\",\"\",IF(Zahteve!G152=\"\",\"\",CONCATENATE(B151,\"-opis\")))","v":""},{"$f":"IF(B151=\"\",\"\",IF(Zahteve!H152=\"\",\"\",CONCATENATE(B151,\"-dni\")))","v":""},{"$f":"IF(B151=\"\",\"\",IF(Zahteve!H152=\"\",\"\",Zahteve!H152))","v":""}]
[{"$f":"IF(Zahteve!B153=\"\",\"\",Zahteve!B153)","v":"B.38.4"},{"$f":"IF(Zahteve!B153=\"\",\"\",LEFT(Zahteve!B153,1))","v":"B"},{"$f":"IF(B152=\"\",\"\",IF(Zahteve!F153=\"da\",CONCATENATE(B152,\"-DA\"),\"\"))","v":""},{"$f":"IF(B152=\"\",\"\",IF(Zahteve!A153=\"da\",CONCATENATE(B152,\"-ustreza\"),\"\"))","v":""},{"$f":"IF(B152=\"\",\"\",IF(Zahteve!G153=\"\",\"\",CONCATENATE(B152,\"-opis\")))","v":""},{"$f":"IF(B152=\"\",\"\",IF(Zahteve!H153=\"\",\"\",CONCATENATE(B152,\"-dni\")))","v":""},{"$f":"IF(B152=\"\",\"\",IF(Zahteve!H153=\"\",\"\",Zahteve!H153))","v":""}]
[{"$f":"IF(Zahteve!B154=\"\",\"\",Zahteve!B154)","v":"B.38.5"},{"$f":"IF(Zahteve!B154=\"\",\"\",LEFT(Zahteve!B154,1))","v":"B"},{"$f":"IF(B153=\"\",\"\",IF(Zahteve!F154=\"da\",CONCATENATE(B153,\"-DA\"),\"\"))","v":""},{"$f":"IF(B153=\"\",\"\",IF(Zahteve!A154=\"da\",CONCATENATE(B153,\"-ustreza\"),\"\"))","v":""},{"$f":"IF(B153=\"\",\"\",IF(Zahteve!G154=\"\",\"\",CONCATENATE(B153,\"-opis\")))","v":""},{"$f":"IF(B153=\"\",\"\",IF(Zahteve!H154=\"\",\"\",CONCATENATE(B153,\"-dni\")))","v":""},{"$f":"IF(B153=\"\",\"\",IF(Zahteve!H154=\"\",\"\",Zahteve!H154))","v":""}]
[{"$f":"IF(Zahteve!B155=\"\",\"\",Zahteve!B155)","v":"B.38.6"},{"$f":"IF(Zahteve!B155=\"\",\"\",LEFT(Zahteve!B155,1))","v":"B"},{"$f":"IF(B154=\"\",\"\",IF(Zahteve!F155=\"da\",CONCATENATE(B154,\"-DA\"),\"\"))","v":""},{"$f":"IF(B154=\"\",\"\",IF(Zahteve!A155=\"da\",CONCATENATE(B154,\"-ustreza\"),\"\"))","v":""},{"$f":"IF(B154=\"\",\"\",IF(Zahteve!G155=\"\",\"\",CONCATENATE(B154,\"-opis\")))","v":""},{"$f":"IF(B154=\"\",\"\",IF(Zahteve!H155=\"\",\"\",CONCATENATE(B154,\"-dni\")))","v":""},{"$f":"IF(B154=\"\",\"\",IF(Zahteve!H155=\"\",\"\",Zahteve!H155))","v":""}]
[{"$f":"IF(Zahteve!B156=\"\",\"\",Zahteve!B156)","v":"B.39.1"},{"$f":"IF(Zahteve!B156=\"\",\"\",LEFT(Zahteve!B156,1))","v":"B"},{"$f":"IF(B155=\"\",\"\",IF(Zahteve!F156=\"da\",CONCATENATE(B155,\"-DA\"),\"\"))","v":""},{"$f":"IF(B155=\"\",\"\",IF(Zahteve!A156=\"da\",CONCATENATE(B155,\"-ustreza\"),\"\"))","v":""},{"$f":"IF(B155=\"\",\"\",IF(Zahteve!G156=\"\",\"\",CONCATENATE(B155,\"-opis\")))","v":""},{"$f":"IF(B155=\"\",\"\",IF(Zahteve!H156=\"\",\"\",CONCATENATE(B155,\"-dni\")))","v":""},{"$f":"IF(B155=\"\",\"\",IF(Zahteve!H156=\"\",\"\",Zahteve!H156))","v":""}]
[{"$f":"IF(Zahteve!B157=\"\",\"\",Zahteve!B157)","v":"B.39.2"},{"$f":"IF(Zahteve!B157=\"\",\"\",LEFT(Zahteve!B157,1))","v":"B"},{"$f":"IF(B156=\"\",\"\",IF(Zahteve!F157=\"da\",CONCATENATE(B156,\"-DA\"),\"\"))","v":""},{"$f":"IF(B156=\"\",\"\",IF(Zahteve!A157=\"da\",CONCATENATE(B156,\"-ustreza\"),\"\"))","v":""},{"$f":"IF(B156=\"\",\"\",IF(Zahteve!G157=\"\",\"\",CONCATENATE(B156,\"-opis\")))","v":""},{"$f":"IF(B156=\"\",\"\",IF(Zahteve!H157=\"\",\"\",CONCATENATE(B156,\"-dni\")))","v":""},{"$f":"IF(B156=\"\",\"\",IF(Zahteve!H157=\"\",\"\",Zahteve!H157))","v":""}]
[{"$f":"IF(Zahteve!B158=\"\",\"\",Zahteve!B158)","v":"B.39.3"},{"$f":"IF(Zahteve!B158=\"\",\"\",LEFT(Zahteve!B158,1))","v":"B"},{"$f":"IF(B157=\"\",\"\",IF(Zahteve!F158=\"da\",CONCATENATE(B157,\"-DA\"),\"\"))","v":""},{"$f":"IF(B157=\"\",\"\",IF(Zahteve!A158=\"da\",CONCATENATE(B157,\"-ustreza\"),\"\"))","v":""},{"$f":"IF(B157=\"\",\"\",IF(Zahteve!G158=\"\",\"\",CONCATENATE(B157,\"-opis\")))","v":""},{"$f":"IF(B157=\"\",\"\",IF(Zahteve!H158=\"\",\"\",CONCATENATE(B157,\"-dni\")))","v":""},{"$f":"IF(B157=\"\",\"\",IF(Zahteve!H158=\"\",\"\",Zahteve!H158))","v":""}]
[{"$f":"IF(Zahteve!B159=\"\",\"\",Zahteve!B159)","v":""},{"$f":"IF(Zahteve!B159=\"\",\"\",LEFT(Zahteve!B159,1))","v":""},{"$f":"IF(B158=\"\",\"\",IF(Zahteve!F159=\"da\",CONCATENATE(B158,\"-DA\"),\"\"))","v":""},{"$f":"IF(B158=\"\",\"\",IF(Zahteve!A159=\"da\",CONCATENATE(B158,\"-ustreza\"),\"\"))","v":""},{"$f":"IF(B158=\"\",\"\",IF(Zahteve!G159=\"\",\"\",CONCATENATE(B158,\"-opis\")))","v":""},{"$f":"IF(B158=\"\",\"\",IF(Zahteve!H159=\"\",\"\",CONCATENATE(B158,\"-dni\")))","v":""},{"$f":"IF(B158=\"\",\"\",IF(Zahteve!H159=\"\",\"\",Zahteve!H159))","v":""}]
[{"$f":"IF(Zahteve!B160=\"\",\"\",Zahteve!B160)","v":"B.40.1"},{"$f":"IF(Zahteve!B160=\"\",\"\",LEFT(Zahteve!B160,1))","v":"B"},{"$f":"IF(B159=\"\",\"\",IF(Zahteve!F160=\"da\",CONCATENATE(B159,\"-DA\"),\"\"))","v":""},{"$f":"IF(B159=\"\",\"\",IF(Zahteve!A160=\"da\",CONCATENATE(B159,\"-ustreza\"),\"\"))","v":""},{"$f":"IF(B159=\"\",\"\",IF(Zahteve!G160=\"\",\"\",CONCATENATE(B159,\"-opis\")))","v":""},{"$f":"IF(B159=\"\",\"\",IF(Zahteve!H160=\"\",\"\",CONCATENATE(B159,\"-dni\")))","v":""},{"$f":"IF(B159=\"\",\"\",IF(Zahteve!H160=\"\",\"\",Zahteve!H160))","v":""}]
[{"$f":"IF(Zahteve!B161=\"\",\"\",Zahteve!B161)","v":"B.40.2"},{"$f":"IF(Zahteve!B161=\"\",\"\",LEFT(Zahteve!B161,1))","v":"B"},{"$f":"IF(B160=\"\",\"\",IF(Zahteve!F161=\"da\",CONCATENATE(B160,\"-DA\"),\"\"))","v":""},{"$f":"IF(B160=\"\",\"\",IF(Zahteve!A161=\"da\",CONCATENATE(B160,\"-ustreza\"),\"\"))","v":""},{"$f":"IF(B160=\"\",\"\",IF(Zahteve!G161=\"\",\"\",CONCATENATE(B160,\"-opis\")))","v":""},{"$f":"IF(B160=\"\",\"\",IF(Zahteve!H161=\"\",\"\",CONCATENATE(B160,\"-dni\")))","v":""},{"$f":"IF(B160=\"\",\"\",IF(Zahteve!H161=\"\",\"\",Zahteve!H161))","v":""}]
[{"$f":"IF(Zahteve!B162=\"\",\"\",Zahteve!B162)","v":"B.40.3"},{"$f":"IF(Zahteve!B162=\"\",\"\",LEFT(Zahteve!B162,1))","v":"B"},{"$f":"IF(B161=\"\",\"\",IF(Zahteve!F162=\"da\",CONCATENATE(B161,\"-DA\"),\"\"))","v":""},{"$f":"IF(B161=\"\",\"\",IF(Zahteve!A162=\"da\",CONCATENATE(B161,\"-ustreza\"),\"\"))","v":""},{"$f":"IF(B161=\"\",\"\",IF(Zahteve!G162=\"\",\"\",CONCATENATE(B161,\"-opis\")))","v":""},{"$f":"IF(B161=\"\",\"\",IF(Zahteve!H162=\"\",\"\",CONCATENATE(B161,\"-dni\")))","v":""},{"$f":"IF(B161=\"\",\"\",IF(Zahteve!H162=\"\",\"\",Zahteve!H162))","v":""}]
[{"$f":"IF(Zahteve!B163=\"\",\"\",Zahteve!B163)","v":"B.40.4"},{"$f":"IF(Zahteve!B163=\"\",\"\",LEFT(Zahteve!B163,1))","v":"B"},{"$f":"IF(B162=\"\",\"\",IF(Zahteve!F163=\"da\",CONCATENATE(B162,\"-DA\"),\"\"))","v":""},{"$f":"IF(B162=\"\",\"\",IF(Zahteve!A163=\"da\",CONCATENATE(B162,\"-ustreza\"),\"\"))","v":""},{"$f":"IF(B162=\"\",\"\",IF(Zahteve!G163=\"\",\"\",CONCATENATE(B162,\"-opis\")))","v":""},{"$f":"IF(B162=\"\",\"\",IF(Zahteve!H163=\"\",\"\",CONCATENATE(B162,\"-dni\")))","v":""},{"$f":"IF(B162=\"\",\"\",IF(Zahteve!H163=\"\",\"\",Zahteve!H163))","v":""}]
[{"$f":"IF(Zahteve!B164=\"\",\"\",Zahteve!B164)","v":"B.41.1"},{"$f":"IF(Zahteve!B164=\"\",\"\",LEFT(Zahteve!B164,1))","v":"B"},{"$f":"IF(B163=\"\",\"\",IF(Zahteve!F164=\"da\",CONCATENATE(B163,\"-DA\"),\"\"))","v":""},{"$f":"IF(B163=\"\",\"\",IF(Zahteve!A164=\"da\",CONCATENATE(B163,\"-ustreza\"),\"\"))","v":""},{"$f":"IF(B163=\"\",\"\",IF(Zahteve!G164=\"\",\"\",CONCATENATE(B163,\"-opis\")))","v":""},{"$f":"IF(B163=\"\",\"\",IF(Zahteve!H164=\"\",\"\",CONCATENATE(B163,\"-dni\")))","v":""},{"$f":"IF(B163=\"\",\"\",IF(Zahteve!H164=\"\",\"\",Zahteve!H164))","v":""}]
[{"$f":"IF(Zahteve!B165=\"\",\"\",Zahteve!B165)","v":"B.42.1"},{"$f":"IF(Zahteve!B165=\"\",\"\",LEFT(Zahteve!B165,1))","v":"B"},{"$f":"IF(B164=\"\",\"\",IF(Zahteve!F165=\"da\",CONCATENATE(B164,\"-DA\"),\"\"))","v":""},{"$f":"IF(B164=\"\",\"\",IF(Zahteve!A165=\"da\",CONCATENATE(B164,\"-ustreza\"),\"\"))","v":""},{"$f":"IF(B164=\"\",\"\",IF(Zahteve!G165=\"\",\"\",CONCATENATE(B164,\"-opis\")))","v":""},{"$f":"IF(B164=\"\",\"\",IF(Zahteve!H165=\"\",\"\",CONCATENATE(B164,\"-dni\")))","v":""},{"$f":"IF(B164=\"\",\"\",IF(Zahteve!H165=\"\",\"\",Zahteve!H165))","v":""}]
[{"$f":"IF(Zahteve!B166=\"\",\"\",Zahteve!B166)","v":"B.42.2"},{"$f":"IF(Zahteve!B166=\"\",\"\",LEFT(Zahteve!B166,1))","v":"B"},{"$f":"IF(B165=\"\",\"\",IF(Zahteve!F166=\"da\",CONCATENATE(B165,\"-DA\"),\"\"))","v":""},{"$f":"IF(B165=\"\",\"\",IF(Zahteve!A166=\"da\",CONCATENATE(B165,\"-ustreza\"),\"\"))","v":""},{"$f":"IF(B165=\"\",\"\",IF(Zahteve!G166=\"\",\"\",CONCATENATE(B165,\"-opis\")))","v":""},{"$f":"IF(B165=\"\",\"\",IF(Zahteve!H166=\"\",\"\",CONCATENATE(B165,\"-dni\")))","v":""},{"$f":"IF(B165=\"\",\"\",IF(Zahteve!H166=\"\",\"\",Zahteve!H166))","v":""}]
[{"$f":"IF(Zahteve!B167=\"\",\"\",Zahteve!B167)","v":"B.42.3"},{"$f":"IF(Zahteve!B167=\"\",\"\",LEFT(Zahteve!B167,1))","v":"B"},{"$f":"IF(B166=\"\",\"\",IF(Zahteve!F167=\"da\",CONCATENATE(B166,\"-DA\"),\"\"))","v":""},{"$f":"IF(B166=\"\",\"\",IF(Zahteve!A167=\"da\",CONCATENATE(B166,\"-ustreza\"),\"\"))","v":""},{"$f":"IF(B166=\"\",\"\",IF(Zahteve!G167=\"\",\"\",CONCATENATE(B166,\"-opis\")))","v":""},{"$f":"IF(B166=\"\",\"\",IF(Zahteve!H167=\"\",\"\",CONCATENATE(B166,\"-dni\")))","v":""},{"$f":"IF(B166=\"\",\"\",IF(Zahteve!H167=\"\",\"\",Zahteve!H167))","v":""}]
[{"$f":"IF(Zahteve!B168=\"\",\"\",Zahteve!B168)","v":""},{"$f":"IF(Zahteve!B168=\"\",\"\",LEFT(Zahteve!B168,1))","v":""},{"$f":"IF(B167=\"\",\"\",IF(Zahteve!F168=\"da\",CONCATENATE(B167,\"-DA\"),\"\"))","v":""},{"$f":"IF(B167=\"\",\"\",IF(Zahteve!A168=\"da\",CONCATENATE(B167,\"-ustreza\"),\"\"))","v":""},{"$f":"IF(B167=\"\",\"\",IF(Zahteve!G168=\"\",\"\",CONCATENATE(B167,\"-opis\")))","v":""},{"$f":"IF(B167=\"\",\"\",IF(Zahteve!H168=\"\",\"\",CONCATENATE(B167,\"-dni\")))","v":""},{"$f":"IF(B167=\"\",\"\",IF(Zahteve!H168=\"\",\"\",Zahteve!H168))","v":""}]
[{"$f":"IF(Zahteve!B169=\"\",\"\",Zahteve!B169)","v":"B.43.1"},{"$f":"IF(Zahteve!B169=\"\",\"\",LEFT(Zahteve!B169,1))","v":"B"},{"$f":"IF(B168=\"\",\"\",IF(Zahteve!F169=\"da\",CONCATENATE(B168,\"-DA\"),\"\"))","v":""},{"$f":"IF(B168=\"\",\"\",IF(Zahteve!A169=\"da\",CONCATENATE(B168,\"-ustreza\"),\"\"))","v":""},{"$f":"IF(B168=\"\",\"\",IF(Zahteve!G169=\"\",\"\",CONCATENATE(B168,\"-opis\")))","v":""},{"$f":"IF(B168=\"\",\"\",IF(Zahteve!H169=\"\",\"\",CONCATENATE(B168,\"-dni\")))","v":""},{"$f":"IF(B168=\"\",\"\",IF(Zahteve!H169=\"\",\"\",Zahteve!H169))","v":""}]
[{"$f":"IF(Zahteve!B170=\"\",\"\",Zahteve!B170)","v":"B.43.2"},{"$f":"IF(Zahteve!B170=\"\",\"\",LEFT(Zahteve!B170,1))","v":"B"},{"$f":"IF(B169=\"\",\"\",IF(Zahteve!F170=\"da\",CONCATENATE(B169,\"-DA\"),\"\"))","v":""},{"$f":"IF(B169=\"\",\"\",IF(Zahteve!A170=\"da\",CONCATENATE(B169,\"-ustreza\"),\"\"))","v":""},{"$f":"IF(B169=\"\",\"\",IF(Zahteve!G170=\"\",\"\",CONCATENATE(B169,\"-opis\")))","v":""},{"$f":"IF(B169=\"\",\"\",IF(Zahteve!H170=\"\",\"\",CONCATENATE(B169,\"-dni\")))","v":""},{"$f":"IF(B169=\"\",\"\",IF(Zahteve!H170=\"\",\"\",Zahteve!H170))","v":""}]
[{"$f":"IF(Zahteve!B171=\"\",\"\",Zahteve!B171)","v":"B.43.3"},{"$f":"IF(Zahteve!B171=\"\",\"\",LEFT(Zahteve!B171,1))","v":"B"},{"$f":"IF(B170=\"\",\"\",IF(Zahteve!F171=\"da\",CONCATENATE(B170,\"-DA\"),\"\"))","v":""},{"$f":"IF(B170=\"\",\"\",IF(Zahteve!A171=\"da\",CONCATENATE(B170,\"-ustreza\"),\"\"))","v":""},{"$f":"IF(B170=\"\",\"\",IF(Zahteve!G171=\"\",\"\",CONCATENATE(B170,\"-opis\")))","v":""},{"$f":"IF(B170=\"\",\"\",IF(Zahteve!H171=\"\",\"\",CONCATENATE(B170,\"-dni\")))","v":""},{"$f":"IF(B170=\"\",\"\",IF(Zahteve!H171=\"\",\"\",Zahteve!H171))","v":""}]
[{"$f":"IF(Zahteve!B172=\"\",\"\",Zahteve!B172)","v":"B.43.4"},{"$f":"IF(Zahteve!B172=\"\",\"\",LEFT(Zahteve!B172,1))","v":"B"},{"$f":"IF(B171=\"\",\"\",IF(Zahteve!F172=\"da\",CONCATENATE(B171,\"-DA\"),\"\"))","v":""},{"$f":"IF(B171=\"\",\"\",IF(Zahteve!A172=\"da\",CONCATENATE(B171,\"-ustreza\"),\"\"))","v":""},{"$f":"IF(B171=\"\",\"\",IF(Zahteve!G172=\"\",\"\",CONCATENATE(B171,\"-opis\")))","v":""},{"$f":"IF(B171=\"\",\"\",IF(Zahteve!H172=\"\",\"\",CONCATENATE(B171,\"-dni\")))","v":""},{"$f":"IF(B171=\"\",\"\",IF(Zahteve!H172=\"\",\"\",Zahteve!H172))","v":""}]
[{"$f":"IF(Zahteve!B173=\"\",\"\",Zahteve!B173)","v":"B.44.1"},{"$f":"IF(Zahteve!B173=\"\",\"\",LEFT(Zahteve!B173,1))","v":"B"},{"$f":"IF(B172=\"\",\"\",IF(Zahteve!F173=\"da\",CONCATENATE(B172,\"-DA\"),\"\"))","v":""},{"$f":"IF(B172=\"\",\"\",IF(Zahteve!A173=\"da\",CONCATENATE(B172,\"-ustreza\"),\"\"))","v":""},{"$f":"IF(B172=\"\",\"\",IF(Zahteve!G173=\"\",\"\",CONCATENATE(B172,\"-opis\")))","v":""},{"$f":"IF(B172=\"\",\"\",IF(Zahteve!H173=\"\",\"\",CONCATENATE(B172,\"-dni\")))","v":""},{"$f":"IF(B172=\"\",\"\",IF(Zahteve!H173=\"\",\"\",Zahteve!H173))","v":""}]
[{"$f":"IF(Zahteve!B174=\"\",\"\",Zahteve!B174)","v":"B.44.2"},{"$f":"IF(Zahteve!B174=\"\",\"\",LEFT(Zahteve!B174,1))","v":"B"},{"$f":"IF(B173=\"\",\"\",IF(Zahteve!F174=\"da\",CONCATENATE(B173,\"-DA\"),\"\"))","v":""},{"$f":"IF(B173=\"\",\"\",IF(Zahteve!A174=\"da\",CONCATENATE(B173,\"-ustreza\"),\"\"))","v":""},{"$f":"IF(B173=\"\",\"\",IF(Zahteve!G174=\"\",\"\",CONCATENATE(B173,\"-opis\")))","v":""},{"$f":"IF(B173=\"\",\"\",IF(Zahteve!H174=\"\",\"\",CONCATENATE(B173,\"-dni\")))","v":""},{"$f":"IF(B173=\"\",\"\",IF(Zahteve!H174=\"\",\"\",Zahteve!H174))","v":""}]
[{"$f":"IF(Zahteve!B175=\"\",\"\",Zahteve!B175)","v":"B.44.3"},{"$f":"IF(Zahteve!B175=\"\",\"\",LEFT(Zahteve!B175,1))","v":"B"},{"$f":"IF(B174=\"\",\"\",IF(Zahteve!F175=\"da\",CONCATENATE(B174,\"-DA\"),\"\"))","v":""},{"$f":"IF(B174=\"\",\"\",IF(Zahteve!A175=\"da\",CONCATENATE(B174,\"-ustreza\"),\"\"))","v":""},{"$f":"IF(B174=\"\",\"\",IF(Zahteve!G175=\"\",\"\",CONCATENATE(B174,\"-opis\")))","v":""},{"$f":"IF(B174=\"\",\"\",IF(Zahteve!H175=\"\",\"\",CONCATENATE(B174,\"-dni\")))","v":""},{"$f":"IF(B174=\"\",\"\",IF(Zahteve!H175=\"\",\"\",Zahteve!H175))","v":""}]
[{"$f":"IF(Zahteve!B176=\"\",\"\",Zahteve!B176)","v":""},{"$f":"IF(Zahteve!B176=\"\",\"\",LEFT(Zahteve!B176,1))","v":""},{"$f":"IF(B175=\"\",\"\",IF(Zahteve!F176=\"da\",CONCATENATE(B175,\"-DA\"),\"\"))","v":""},{"$f":"IF(B175=\"\",\"\",IF(Zahteve!A176=\"da\",CONCATENATE(B175,\"-ustreza\"),\"\"))","v":""},{"$f":"IF(B175=\"\",\"\",IF(Zahteve!G176=\"\",\"\",CONCATENATE(B175,\"-opis\")))","v":""},{"$f":"IF(B175=\"\",\"\",IF(Zahteve!H176=\"\",\"\",CONCATENATE(B175,\"-dni\")))","v":""},{"$f":"IF(B175=\"\",\"\",IF(Zahteve!H176=\"\",\"\",Zahteve!H176))","v":""}]
[{"$f":"IF(Zahteve!B177=\"\",\"\",Zahteve!B177)","v":""},{"$f":"IF(Zahteve!B177=\"\",\"\",LEFT(Zahteve!B177,1))","v":""},{"$f":"IF(B176=\"\",\"\",IF(Zahteve!F177=\"da\",CONCATENATE(B176,\"-DA\"),\"\"))","v":""},{"$f":"IF(B176=\"\",\"\",IF(Zahteve!A177=\"da\",CONCATENATE(B176,\"-ustreza\"),\"\"))","v":""},{"$f":"IF(B176=\"\",\"\",IF(Zahteve!G177=\"\",\"\",CONCATENATE(B176,\"-opis\")))","v":""},{"$f":"IF(B176=\"\",\"\",IF(Zahteve!H177=\"\",\"\",CONCATENATE(B176,\"-dni\")))","v":""},{"$f":"IF(B176=\"\",\"\",IF(Zahteve!H177=\"\",\"\",Zahteve!H177))","v":""}]
[{"$f":"IF(Zahteve!B178=\"\",\"\",Zahteve!B178)","v":"C.1.1"},{"$f":"IF(Zahteve!B178=\"\",\"\",LEFT(Zahteve!B178,1))","v":"C"},{"$f":"IF(B177=\"\",\"\",IF(Zahteve!F178=\"da\",CONCATENATE(B177,\"-DA\"),\"\"))","v":""},{"$f":"IF(B177=\"\",\"\",IF(Zahteve!A178=\"da\",CONCATENATE(B177,\"-ustreza\"),\"\"))","v":""},{"$f":"IF(B177=\"\",\"\",IF(Zahteve!G178=\"\",\"\",CONCATENATE(B177,\"-opis\")))","v":""},{"$f":"IF(B177=\"\",\"\",IF(Zahteve!H178=\"\",\"\",CONCATENATE(B177,\"-dni\")))","v":""},{"$f":"IF(B177=\"\",\"\",IF(Zahteve!H178=\"\",\"\",Zahteve!H178))","v":""}]
[{"$f":"IF(Zahteve!B179=\"\",\"\",Zahteve!B179)","v":""},{"$f":"IF(Zahteve!B179=\"\",\"\",LEFT(Zahteve!B179,1))","v":""},{"$f":"IF(B178=\"\",\"\",IF(Zahteve!F179=\"da\",CONCATENATE(B178,\"-DA\"),\"\"))","v":""},{"$f":"IF(B178=\"\",\"\",IF(Zahteve!A179=\"da\",CONCATENATE(B178,\"-ustreza\"),\"\"))","v":""},{"$f":"IF(B178=\"\",\"\",IF(Zahteve!G179=\"\",\"\",CONCATENATE(B178,\"-opis\")))","v":""},{"$f":"IF(B178=\"\",\"\",IF(Zahteve!H179=\"\",\"\",CONCATENATE(B178,\"-dni\")))","v":""},{"$f":"IF(B178=\"\",\"\",IF(Zahteve!H179=\"\",\"\",Zahteve!H179))","v":""}]
[{"$f":"IF(Zahteve!B180=\"\",\"\",Zahteve!B180)","v":"C.2.1"},{"$f":"IF(Zahteve!B180=\"\",\"\",LEFT(Zahteve!B180,1))","v":"C"},{"$f":"IF(B179=\"\",\"\",IF(Zahteve!F180=\"da\",CONCATENATE(B179,\"-DA\"),\"\"))","v":""},{"$f":"IF(B179=\"\",\"\",IF(Zahteve!A180=\"da\",CONCATENATE(B179,\"-ustreza\"),\"\"))","v":""},{"$f":"IF(B179=\"\",\"\",IF(Zahteve!G180=\"\",\"\",CONCATENATE(B179,\"-opis\")))","v":""},{"$f":"IF(B179=\"\",\"\",IF(Zahteve!H180=\"\",\"\",CONCATENATE(B179,\"-dni\")))","v":""},{"$f":"IF(B179=\"\",\"\",IF(Zahteve!H180=\"\",\"\",Zahteve!H180))","v":""}]
[{"$f":"IF(Zahteve!B181=\"\",\"\",Zahteve!B181)","v":"C.2.2"},{"$f":"IF(Zahteve!B181=\"\",\"\",LEFT(Zahteve!B181,1))","v":"C"},{"$f":"IF(B180=\"\",\"\",IF(Zahteve!F181=\"da\",CONCATENATE(B180,\"-DA\"),\"\"))","v":""},{"$f":"IF(B180=\"\",\"\",IF(Zahteve!A181=\"da\",CONCATENATE(B180,\"-ustreza\"),\"\"))","v":""},{"$f":"IF(B180=\"\",\"\",IF(Zahteve!G181=\"\",\"\",CONCATENATE(B180,\"-opis\")))","v":""},{"$f":"IF(B180=\"\",\"\",IF(Zahteve!H181=\"\",\"\",CONCATENATE(B180,\"-dni\")))","v":""},{"$f":"IF(B180=\"\",\"\",IF(Zahteve!H181=\"\",\"\",Zahteve!H181))","v":""}]
[{"$f":"IF(Zahteve!B182=\"\",\"\",Zahteve!B182)","v":"C.3.1"},{"$f":"IF(Zahteve!B182=\"\",\"\",LEFT(Zahteve!B182,1))","v":"C"},{"$f":"IF(B181=\"\",\"\",IF(Zahteve!F182=\"da\",CONCATENATE(B181,\"-DA\"),\"\"))","v":""},{"$f":"IF(B181=\"\",\"\",IF(Zahteve!A182=\"da\",CONCATENATE(B181,\"-ustreza\"),\"\"))","v":""},{"$f":"IF(B181=\"\",\"\",IF(Zahteve!G182=\"\",\"\",CONCATENATE(B181,\"-opis\")))","v":""},{"$f":"IF(B181=\"\",\"\",IF(Zahteve!H182=\"\",\"\",CONCATENATE(B181,\"-dni\")))","v":""},{"$f":"IF(B181=\"\",\"\",IF(Zahteve!H182=\"\",\"\",Zahteve!H182))","v":""}]
[{"$f":"IF(Zahteve!B183=\"\",\"\",Zahteve!B183)","v":"C.3.2"},{"$f":"IF(Zahteve!B183=\"\",\"\",LEFT(Zahteve!B183,1))","v":"C"},{"$f":"IF(B182=\"\",\"\",IF(Zahteve!F183=\"da\",CONCATENATE(B182,\"-DA\"),\"\"))","v":""},{"$f":"IF(B182=\"\",\"\",IF(Zahteve!A183=\"da\",CONCATENATE(B182,\"-ustreza\"),\"\"))","v":""},{"$f":"IF(B182=\"\",\"\",IF(Zahteve!G183=\"\",\"\",CONCATENATE(B182,\"-opis\")))","v":""},{"$f":"IF(B182=\"\",\"\",IF(Zahteve!H183=\"\",\"\",CONCATENATE(B182,\"-dni\")))","v":""},{"$f":"IF(B182=\"\",\"\",IF(Zahteve!H183=\"\",\"\",Zahteve!H183))","v":""}]
[{"$f":"IF(Zahteve!B184=\"\",\"\",Zahteve!B184)","v":""},{"$f":"IF(Zahteve!B184=\"\",\"\",LEFT(Zahteve!B184,1))","v":""},{"$f":"IF(B183=\"\",\"\",IF(Zahteve!F184=\"da\",CONCATENATE(B183,\"-DA\"),\"\"))","v":""},{"$f":"IF(B183=\"\",\"\",IF(Zahteve!A184=\"da\",CONCATENATE(B183,\"-ustreza\"),\"\"))","v":""},{"$f":"IF(B183=\"\",\"\",IF(Zahteve!G184=\"\",\"\",CONCATENATE(B183,\"-opis\")))","v":""},{"$f":"IF(B183=\"\",\"\",IF(Zahteve!H184=\"\",\"\",CONCATENATE(B183,\"-dni\")))","v":""},{"$f":"IF(B183=\"\",\"\",IF(Zahteve!H184=\"\",\"\",Zahteve!H184))","v":""}]
[{"$f":"IF(Zahteve!B185=\"\",\"\",Zahteve!B185)","v":"C.4.1"},{"$f":"IF(Zahteve!B185=\"\",\"\",LEFT(Zahteve!B185,1))","v":"C"},{"$f":"IF(B184=\"\",\"\",IF(Zahteve!F185=\"da\",CONCATENATE(B184,\"-DA\"),\"\"))","v":""},{"$f":"IF(B184=\"\",\"\",IF(Zahteve!A185=\"da\",CONCATENATE(B184,\"-ustreza\"),\"\"))","v":""},{"$f":"IF(B184=\"\",\"\",IF(Zahteve!G185=\"\",\"\",CONCATENATE(B184,\"-opis\")))","v":""},{"$f":"IF(B184=\"\",\"\",IF(Zahteve!H185=\"\",\"\",CONCATENATE(B184,\"-dni\")))","v":""},{"$f":"IF(B184=\"\",\"\",IF(Zahteve!H185=\"\",\"\",Zahteve!H185))","v":""}]
[{"$f":"IF(Zahteve!B186=\"\",\"\",Zahteve!B186)","v":"C.4.2"},{"$f":"IF(Zahteve!B186=\"\",\"\",LEFT(Zahteve!B186,1))","v":"C"},{"$f":"IF(B185=\"\",\"\",IF(Zahteve!F186=\"da\",CONCATENATE(B185,\"-DA\"),\"\"))","v":""},{"$f":"IF(B185=\"\",\"\",IF(Zahteve!A186=\"da\",CONCATENATE(B185,\"-ustreza\"),\"\"))","v":""},{"$f":"IF(B185=\"\",\"\",IF(Zahteve!G186=\"\",\"\",CONCATENATE(B185,\"-opis\")))","v":""},{"$f":"IF(B185=\"\",\"\",IF(Zahteve!H186=\"\",\"\",CONCATENATE(B185,\"-dni\")))","v":""},{"$f":"IF(B185=\"\",\"\",IF(Zahteve!H186=\"\",\"\",Zahteve!H186))","v":""}]
[{"$f":"IF(Zahteve!B187=\"\",\"\",Zahteve!B187)","v":"C.5.1"},{"$f":"IF(Zahteve!B187=\"\",\"\",LEFT(Zahteve!B187,1))","v":"C"},{"$f":"IF(B186=\"\",\"\",IF(Zahteve!F187=\"da\",CONCATENATE(B186,\"-DA\"),\"\"))","v":""},{"$f":"IF(B186=\"\",\"\",IF(Zahteve!A187=\"da\",CONCATENATE(B186,\"-ustreza\"),\"\"))","v":""},{"$f":"IF(B186=\"\",\"\",IF(Zahteve!G187=\"\",\"\",CONCATENATE(B186,\"-opis\")))","v":""},{"$f":"IF(B186=\"\",\"\",IF(Zahteve!H187=\"\",\"\",CONCATENATE(B186,\"-dni\")))","v":""},{"$f":"IF(B186=\"\",\"\",IF(Zahteve!H187=\"\",\"\",Zahteve!H187))","v":""}]
[{"$f":"IF(Zahteve!B188=\"\",\"\",Zahteve!B188)","v":"C.5.2"},{"$f":"IF(Zahteve!B188=\"\",\"\",LEFT(Zahteve!B188,1))","v":"C"},{"$f":"IF(B187=\"\",\"\",IF(Zahteve!F188=\"da\",CONCATENATE(B187,\"-DA\"),\"\"))","v":""},{"$f":"IF(B187=\"\",\"\",IF(Zahteve!A188=\"da\",CONCATENATE(B187,\"-ustreza\"),\"\"))","v":""},{"$f":"IF(B187=\"\",\"\",IF(Zahteve!G188=\"\",\"\",CONCATENATE(B187,\"-opis\")))","v":""},{"$f":"IF(B187=\"\",\"\",IF(Zahteve!H188=\"\",\"\",CONCATENATE(B187,\"-dni\")))","v":""},{"$f":"IF(B187=\"\",\"\",IF(Zahteve!H188=\"\",\"\",Zahteve!H188))","v":""}]
[{"$f":"IF(Zahteve!B189=\"\",\"\",Zahteve!B189)","v":"C.5.3"},{"$f":"IF(Zahteve!B189=\"\",\"\",LEFT(Zahteve!B189,1))","v":"C"},{"$f":"IF(B188=\"\",\"\",IF(Zahteve!F189=\"da\",CONCATENATE(B188,\"-DA\"),\"\"))","v":""},{"$f":"IF(B188=\"\",\"\",IF(Zahteve!A189=\"da\",CONCATENATE(B188,\"-ustreza\"),\"\"))","v":""},{"$f":"IF(B188=\"\",\"\",IF(Zahteve!G189=\"\",\"\",CONCATENATE(B188,\"-opis\")))","v":""},{"$f":"IF(B188=\"\",\"\",IF(Zahteve!H189=\"\",\"\",CONCATENATE(B188,\"-dni\")))","v":""},{"$f":"IF(B188=\"\",\"\",IF(Zahteve!H189=\"\",\"\",Zahteve!H189))","v":""}]
[{"$f":"IF(Zahteve!B190=\"\",\"\",Zahteve!B190)","v":"C.5.4"},{"$f":"IF(Zahteve!B190=\"\",\"\",LEFT(Zahteve!B190,1))","v":"C"},{"$f":"IF(B189=\"\",\"\",IF(Zahteve!F190=\"da\",CONCATENATE(B189,\"-DA\"),\"\"))","v":""},{"$f":"IF(B189=\"\",\"\",IF(Zahteve!A190=\"da\",CONCATENATE(B189,\"-ustreza\"),\"\"))","v":""},{"$f":"IF(B189=\"\",\"\",IF(Zahteve!G190=\"\",\"\",CONCATENATE(B189,\"-opis\")))","v":""},{"$f":"IF(B189=\"\",\"\",IF(Zahteve!H190=\"\",\"\",CONCATENATE(B189,\"-dni\")))","v":""},{"$f":"IF(B189=\"\",\"\",IF(Zahteve!H190=\"\",\"\",Zahteve!H190))","v":""}]
[{"$f":"IF(Zahteve!B191=\"\",\"\",Zahteve!B191)","v":"C.5.5"},{"$f":"IF(Zahteve!B191=\"\",\"\",LEFT(Zahteve!B191,1))","v":"C"},{"$f":"IF(B190=\"\",\"\",IF(Zahteve!F191=\"da\",CONCATENATE(B190,\"-DA\"),\"\"))","v":""},{"$f":"IF(B190=\"\",\"\",IF(Zahteve!A191=\"da\",CONCATENATE(B190,\"-ustreza\"),\"\"))","v":""},{"$f":"IF(B190=\"\",\"\",IF(Zahteve!G191=\"\",\"\",CONCATENATE(B190,\"-opis\")))","v":""},{"$f":"IF(B190=\"\",\"\",IF(Zahteve!H191=\"\",\"\",CONCATENATE(B190,\"-dni\")))","v":""},{"$f":"IF(B190=\"\",\"\",IF(Zahteve!H191=\"\",\"\",Zahteve!H191))","v":""}]
[{"$f":"IF(Zahteve!B192=\"\",\"\",Zahteve!B192)","v":"C.5.6"},{"$f":"IF(Zahteve!B192=\"\",\"\",LEFT(Zahteve!B192,1))","v":"C"},{"$f":"IF(B191=\"\",\"\",IF(Zahteve!F192=\"da\",CONCATENATE(B191,\"-DA\"),\"\"))","v":""},{"$f":"IF(B191=\"\",\"\",IF(Zahteve!A192=\"da\",CONCATENATE(B191,\"-ustreza\"),\"\"))","v":""},{"$f":"IF(B191=\"\",\"\",IF(Zahteve!G192=\"\",\"\",CONCATENATE(B191,\"-opis\")))","v":""},{"$f":"IF(B191=\"\",\"\",IF(Zahteve!H192=\"\",\"\",CONCATENATE(B191,\"-dni\")))","v":""},{"$f":"IF(B191=\"\",\"\",IF(Zahteve!H192=\"\",\"\",Zahteve!H192))","v":""}]
[{"$f":"IF(Zahteve!B193=\"\",\"\",Zahteve!B193)","v":""},{"$f":"IF(Zahteve!B193=\"\",\"\",LEFT(Zahteve!B193,1))","v":""},{"$f":"IF(B192=\"\",\"\",IF(Zahteve!F193=\"da\",CONCATENATE(B192,\"-DA\"),\"\"))","v":""},{"$f":"IF(B192=\"\",\"\",IF(Zahteve!A193=\"da\",CONCATENATE(B192,\"-ustreza\"),\"\"))","v":""},{"$f":"IF(B192=\"\",\"\",IF(Zahteve!G193=\"\",\"\",CONCATENATE(B192,\"-opis\")))","v":""},{"$f":"IF(B192=\"\",\"\",IF(Zahteve!H193=\"\",\"\",CONCATENATE(B192,\"-dni\")))","v":""},{"$f":"IF(B192=\"\",\"\",IF(Zahteve!H193=\"\",\"\",Zahteve!H193))","v":""}]
[{"$f":"IF(Zahteve!B194=\"\",\"\",Zahteve!B194)","v":"C.6.1"},{"$f":"IF(Zahteve!B194=\"\",\"\",LEFT(Zahteve!B194,1))","v":"C"},{"$f":"IF(B193=\"\",\"\",IF(Zahteve!F194=\"da\",CONCATENATE(B193,\"-DA\"),\"\"))","v":""},{"$f":"IF(B193=\"\",\"\",IF(Zahteve!A194=\"da\",CONCATENATE(B193,\"-ustreza\"),\"\"))","v":""},{"$f":"IF(B193=\"\",\"\",IF(Zahteve!G194=\"\",\"\",CONCATENATE(B193,\"-opis\")))","v":""},{"$f":"IF(B193=\"\",\"\",IF(Zahteve!H194=\"\",\"\",CONCATENATE(B193,\"-dni\")))","v":""},{"$f":"IF(B193=\"\",\"\",IF(Zahteve!H194=\"\",\"\",Zahteve!H194))","v":""}]
[{"$f":"IF(Zahteve!B195=\"\",\"\",Zahteve!B195)","v":"C.6.2"},{"$f":"IF(Zahteve!B195=\"\",\"\",LEFT(Zahteve!B195,1))","v":"C"},{"$f":"IF(B194=\"\",\"\",IF(Zahteve!F195=\"da\",CONCATENATE(B194,\"-DA\"),\"\"))","v":""},{"$f":"IF(B194=\"\",\"\",IF(Zahteve!A195=\"da\",CONCATENATE(B194,\"-ustreza\"),\"\"))","v":""},{"$f":"IF(B194=\"\",\"\",IF(Zahteve!G195=\"\",\"\",CONCATENATE(B194,\"-opis\")))","v":""},{"$f":"IF(B194=\"\",\"\",IF(Zahteve!H195=\"\",\"\",CONCATENATE(B194,\"-dni\")))","v":""},{"$f":"IF(B194=\"\",\"\",IF(Zahteve!H195=\"\",\"\",Zahteve!H195))","v":""}]
[{"$f":"IF(Zahteve!B196=\"\",\"\",Zahteve!B196)","v":"C.6.3"},{"$f":"IF(Zahteve!B196=\"\",\"\",LEFT(Zahteve!B196,1))","v":"C"},{"$f":"IF(B195=\"\",\"\",IF(Zahteve!F196=\"da\",CONCATENATE(B195,\"-DA\"),\"\"))","v":""},{"$f":"IF(B195=\"\",\"\",IF(Zahteve!A196=\"da\",CONCATENATE(B195,\"-ustreza\"),\"\"))","v":""},{"$f":"IF(B195=\"\",\"\",IF(Zahteve!G196=\"\",\"\",CONCATENATE(B195,\"-opis\")))","v":""},{"$f":"IF(B195=\"\",\"\",IF(Zahteve!H196=\"\",\"\",CONCATENATE(B195,\"-dni\")))","v":""},{"$f":"IF(B195=\"\",\"\",IF(Zahteve!H196=\"\",\"\",Zahteve!H196))","v":""}]
[{"$f":"IF(Zahteve!B197=\"\",\"\",Zahteve!B197)","v":""},{"$f":"IF(Zahteve!B197=\"\",\"\",LEFT(Zahteve!B197,1))","v":""},{"$f":"IF(B196=\"\",\"\",IF(Zahteve!F197=\"da\",CONCATENATE(B196,\"-DA\"),\"\"))","v":""},{"$f":"IF(B196=\"\",\"\",IF(Zahteve!A197=\"da\",CONCATENATE(B196,\"-ustreza\"),\"\"))","v":""},{"$f":"IF(B196=\"\",\"\",IF(Zahteve!G197=\"\",\"\",CONCATENATE(B196,\"-opis\")))","v":""},{"$f":"IF(B196=\"\",\"\",IF(Zahteve!H197=\"\",\"\",CONCATENATE(B196,\"-dni\")))","v":""},{"$f":"IF(B196=\"\",\"\",IF(Zahteve!H197=\"\",\"\",Zahteve!H197))","v":""}]
[{"$f":"IF(Zahteve!B198=\"\",\"\",Zahteve!B198)","v":""},{"$f":"IF(Zahteve!B198=\"\",\"\",LEFT(Zahteve!B198,1))","v":""},{"$f":"IF(B197=\"\",\"\",IF(Zahteve!F198=\"da\",CONCATENATE(B197,\"-DA\"),\"\"))","v":""},{"$f":"IF(B197=\"\",\"\",IF(Zahteve!A198=\"da\",CONCATENATE(B197,\"-ustreza\"),\"\"))","v":""},{"$f":"IF(B197=\"\",\"\",IF(Zahteve!G198=\"\",\"\",CONCATENATE(B197,\"-opis\")))","v":""},{"$f":"IF(B197=\"\",\"\",IF(Zahteve!H198=\"\",\"\",CONCATENATE(B197,\"-dni\")))","v":""},{"$f":"IF(B197=\"\",\"\",IF(Zahteve!H198=\"\",\"\",Zahteve!H198))","v":""}]
[{"$f":"IF(Zahteve!B199=\"\",\"\",Zahteve!B199)","v":"D.1.1"},{"$f":"IF(Zahteve!B199=\"\",\"\",LEFT(Zahteve!B199,1))","v":"D"},{"$f":"IF(B198=\"\",\"\",IF(Zahteve!F199=\"da\",CONCATENATE(B198,\"-DA\"),\"\"))","v":""},{"$f":"IF(B198=\"\",\"\",IF(Zahteve!A199=\"da\",CONCATENATE(B198,\"-ustreza\"),\"\"))","v":""},{"$f":"IF(B198=\"\",\"\",IF(Zahteve!G199=\"\",\"\",CONCATENATE(B198,\"-opis\")))","v":""},{"$f":"IF(B198=\"\",\"\",IF(Zahteve!H199=\"\",\"\",CONCATENATE(B198,\"-dni\")))","v":""},{"$f":"IF(B198=\"\",\"\",IF(Zahteve!H199=\"\",\"\",Zahteve!H199))","v":""}]
[{"$f":"IF(Zahteve!B200=\"\",\"\",Zahteve!B200)","v":"D.2.1"},{"$f":"IF(Zahteve!B200=\"\",\"\",LEFT(Zahteve!B200,1))","v":"D"},{"$f":"IF(B199=\"\",\"\",IF(Zahteve!F200=\"da\",CONCATENATE(B199,\"-DA\"),\"\"))","v":""},{"$f":"IF(B199=\"\",\"\",IF(Zahteve!A200=\"da\",CONCATENATE(B199,\"-ustreza\"),\"\"))","v":""},{"$f":"IF(B199=\"\",\"\",IF(Zahteve!G200=\"\",\"\",CONCATENATE(B199,\"-opis\")))","v":""},{"$f":"IF(B199=\"\",\"\",IF(Zahteve!H200=\"\",\"\",CONCATENATE(B199,\"-dni\")))","v":""},{"$f":"IF(B199=\"\",\"\",IF(Zahteve!H200=\"\",\"\",Zahteve!H200))","v":""}]
[{"$f":"IF(Zahteve!B201=\"\",\"\",Zahteve!B201)","v":"D.2.2"},{"$f":"IF(Zahteve!B201=\"\",\"\",LEFT(Zahteve!B201,1))","v":"D"},{"$f":"IF(B200=\"\",\"\",IF(Zahteve!F201=\"da\",CONCATENATE(B200,\"-DA\"),\"\"))","v":""},{"$f":"IF(B200=\"\",\"\",IF(Zahteve!A201=\"da\",CONCATENATE(B200,\"-ustreza\"),\"\"))","v":""},{"$f":"IF(B200=\"\",\"\",IF(Zahteve!G201=\"\",\"\",CONCATENATE(B200,\"-opis\")))","v":""},{"$f":"IF(B200=\"\",\"\",IF(Zahteve!H201=\"\",\"\",CONCATENATE(B200,\"-dni\")))","v":""},{"$f":"IF(B200=\"\",\"\",IF(Zahteve!H201=\"\",\"\",Zahteve!H201))","v":""}]
[{"$f":"IF(Zahteve!B202=\"\",\"\",Zahteve!B202)","v":""},{"$f":"IF(Zahteve!B202=\"\",\"\",LEFT(Zahteve!B202,1))","v":""},{"$f":"IF(B201=\"\",\"\",IF(Zahteve!F202=\"da\",CONCATENATE(B201,\"-DA\"),\"\"))","v":""},{"$f":"IF(B201=\"\",\"\",IF(Zahteve!A202=\"da\",CONCATENATE(B201,\"-ustreza\"),\"\"))","v":""},{"$f":"IF(B201=\"\",\"\",IF(Zahteve!G202=\"\",\"\",CONCATENATE(B201,\"-opis\")))","v":""},{"$f":"IF(B201=\"\",\"\",IF(Zahteve!H202=\"\",\"\",CONCATENATE(B201,\"-dni\")))","v":""},{"$f":"IF(B201=\"\",\"\",IF(Zahteve!H202=\"\",\"\",Zahteve!H202))","v":""}]
[{"$f":"IF(Zahteve!B203=\"\",\"\",Zahteve!B203)","v":"D.3.1"},{"$f":"IF(Zahteve!B203=\"\",\"\",LEFT(Zahteve!B203,1))","v":"D"},{"$f":"IF(B202=\"\",\"\",IF(Zahteve!F203=\"da\",CONCATENATE(B202,\"-DA\"),\"\"))","v":""},{"$f":"IF(B202=\"\",\"\",IF(Zahteve!A203=\"da\",CONCATENATE(B202,\"-ustreza\"),\"\"))","v":""},{"$f":"IF(B202=\"\",\"\",IF(Zahteve!G203=\"\",\"\",CONCATENATE(B202,\"-opis\")))","v":""},{"$f":"IF(B202=\"\",\"\",IF(Zahteve!H203=\"\",\"\",CONCATENATE(B202,\"-dni\")))","v":""},{"$f":"IF(B202=\"\",\"\",IF(Zahteve!H203=\"\",\"\",Zahteve!H203))","v":""}]
[{"$f":"IF(Zahteve!B204=\"\",\"\",Zahteve!B204)","v":"D.3.2"},{"$f":"IF(Zahteve!B204=\"\",\"\",LEFT(Zahteve!B204,1))","v":"D"},{"$f":"IF(B203=\"\",\"\",IF(Zahteve!F204=\"da\",CONCATENATE(B203,\"-DA\"),\"\"))","v":""},{"$f":"IF(B203=\"\",\"\",IF(Zahteve!A204=\"da\",CONCATENATE(B203,\"-ustreza\"),\"\"))","v":""},{"$f":"IF(B203=\"\",\"\",IF(Zahteve!G204=\"\",\"\",CONCATENATE(B203,\"-opis\")))","v":""},{"$f":"IF(B203=\"\",\"\",IF(Zahteve!H204=\"\",\"\",CONCATENATE(B203,\"-dni\")))","v":""},{"$f":"IF(B203=\"\",\"\",IF(Zahteve!H204=\"\",\"\",Zahteve!H204))","v":""}]
[{"$f":"IF(Zahteve!B205=\"\",\"\",Zahteve!B205)","v":"D.4.1"},{"$f":"IF(Zahteve!B205=\"\",\"\",LEFT(Zahteve!B205,1))","v":"D"},{"$f":"IF(B204=\"\",\"\",IF(Zahteve!F205=\"da\",CONCATENATE(B204,\"-DA\"),\"\"))","v":""},{"$f":"IF(B204=\"\",\"\",IF(Zahteve!A205=\"da\",CONCATENATE(B204,\"-ustreza\"),\"\"))","v":""},{"$f":"IF(B204=\"\",\"\",IF(Zahteve!G205=\"\",\"\",CONCATENATE(B204,\"-opis\")))","v":""},{"$f":"IF(B204=\"\",\"\",IF(Zahteve!H205=\"\",\"\",CONCATENATE(B204,\"-dni\")))","v":""},{"$f":"IF(B204=\"\",\"\",IF(Zahteve!H205=\"\",\"\",Zahteve!H205))","v":""}]
[{"$f":"IF(Zahteve!B206=\"\",\"\",Zahteve!B206)","v":"D.4.2"},{"$f":"IF(Zahteve!B206=\"\",\"\",LEFT(Zahteve!B206,1))","v":"D"},{"$f":"IF(B205=\"\",\"\",IF(Zahteve!F206=\"da\",CONCATENATE(B205,\"-DA\"),\"\"))","v":""},{"$f":"IF(B205=\"\",\"\",IF(Zahteve!A206=\"da\",CONCATENATE(B205,\"-ustreza\"),\"\"))","v":""},{"$f":"IF(B205=\"\",\"\",IF(Zahteve!G206=\"\",\"\",CONCATENATE(B205,\"-opis\")))","v":""},{"$f":"IF(B205=\"\",\"\",IF(Zahteve!H206=\"\",\"\",CONCATENATE(B205,\"-dni\")))","v":""},{"$f":"IF(B205=\"\",\"\",IF(Zahteve!H206=\"\",\"\",Zahteve!H206))","v":""}]
[{"$f":"IF(Zahteve!B207=\"\",\"\",Zahteve!B207)","v":"D.5.1"},{"$f":"IF(Zahteve!B207=\"\",\"\",LEFT(Zahteve!B207,1))","v":"D"},{"$f":"IF(B206=\"\",\"\",IF(Zahteve!F207=\"da\",CONCATENATE(B206,\"-DA\"),\"\"))","v":""},{"$f":"IF(B206=\"\",\"\",IF(Zahteve!A207=\"da\",CONCATENATE(B206,\"-ustreza\"),\"\"))","v":""},{"$f":"IF(B206=\"\",\"\",IF(Zahteve!G207=\"\",\"\",CONCATENATE(B206,\"-opis\")))","v":""},{"$f":"IF(B206=\"\",\"\",IF(Zahteve!H207=\"\",\"\",CONCATENATE(B206,\"-dni\")))","v":""},{"$f":"IF(B206=\"\",\"\",IF(Zahteve!H207=\"\",\"\",Zahteve!H207))","v":""}]
[{"$f":"IF(Zahteve!B208=\"\",\"\",Zahteve!B208)","v":"D.5.2"},{"$f":"IF(Zahteve!B208=\"\",\"\",LEFT(Zahteve!B208,1))","v":"D"},{"$f":"IF(B207=\"\",\"\",IF(Zahteve!F208=\"da\",CONCATENATE(B207,\"-DA\"),\"\"))","v":""},{"$f":"IF(B207=\"\",\"\",IF(Zahteve!A208=\"da\",CONCATENATE(B207,\"-ustreza\"),\"\"))","v":""},{"$f":"IF(B207=\"\",\"\",IF(Zahteve!G208=\"\",\"\",CONCATENATE(B207,\"-opis\")))","v":""},{"$f":"IF(B207=\"\",\"\",IF(Zahteve!H208=\"\",\"\",CONCATENATE(B207,\"-dni\")))","v":""},{"$f":"IF(B207=\"\",\"\",IF(Zahteve!H208=\"\",\"\",Zahteve!H208))","v":""}]
[{"$f":"IF(Zahteve!B209=\"\",\"\",Zahteve!B209)","v":"D.5.3"},{"$f":"IF(Zahteve!B209=\"\",\"\",LEFT(Zahteve!B209,1))","v":"D"},{"$f":"IF(B208=\"\",\"\",IF(Zahteve!F209=\"da\",CONCATENATE(B208,\"-DA\"),\"\"))","v":""},{"$f":"IF(B208=\"\",\"\",IF(Zahteve!A209=\"da\",CONCATENATE(B208,\"-ustreza\"),\"\"))","v":""},{"$f":"IF(B208=\"\",\"\",IF(Zahteve!G209=\"\",\"\",CONCATENATE(B208,\"-opis\")))","v":""},{"$f":"IF(B208=\"\",\"\",IF(Zahteve!H209=\"\",\"\",CONCATENATE(B208,\"-dni\")))","v":""},{"$f":"IF(B208=\"\",\"\",IF(Zahteve!H209=\"\",\"\",Zahteve!H209))","v":""}]
[{"$f":"IF(Zahteve!B210=\"\",\"\",Zahteve!B210)","v":"D.6.1"},{"$f":"IF(Zahteve!B210=\"\",\"\",LEFT(Zahteve!B210,1))","v":"D"},{"$f":"IF(B209=\"\",\"\",IF(Zahteve!F210=\"da\",CONCATENATE(B209,\"-DA\"),\"\"))","v":""},{"$f":"IF(B209=\"\",\"\",IF(Zahteve!A210=\"da\",CONCATENATE(B209,\"-ustreza\"),\"\"))","v":""},{"$f":"IF(B209=\"\",\"\",IF(Zahteve!G210=\"\",\"\",CONCATENATE(B209,\"-opis\")))","v":""},{"$f":"IF(B209=\"\",\"\",IF(Zahteve!H210=\"\",\"\",CONCATENATE(B209,\"-dni\")))","v":""},{"$f":"IF(B209=\"\",\"\",IF(Zahteve!H210=\"\",\"\",Zahteve!H210))","v":""}]
[{"$f":"IF(Zahteve!B211=\"\",\"\",Zahteve!B211)","v":"D.6.2"},{"$f":"IF(Zahteve!B211=\"\",\"\",LEFT(Zahteve!B211,1))","v":"D"},{"$f":"IF(B210=\"\",\"\",IF(Zahteve!F211=\"da\",CONCATENATE(B210,\"-DA\"),\"\"))","v":""},{"$f":"IF(B210=\"\",\"\",IF(Zahteve!A211=\"da\",CONCATENATE(B210,\"-ustreza\"),\"\"))","v":""},{"$f":"IF(B210=\"\",\"\",IF(Zahteve!G211=\"\",\"\",CONCATENATE(B210,\"-opis\")))","v":""},{"$f":"IF(B210=\"\",\"\",IF(Zahteve!H211=\"\",\"\",CONCATENATE(B210,\"-dni\")))","v":""},{"$f":"IF(B210=\"\",\"\",IF(Zahteve!H211=\"\",\"\",Zahteve!H211))","v":""}]
[{"$f":"IF(Zahteve!B212=\"\",\"\",Zahteve!B212)","v":"D.7.1"},{"$f":"IF(Zahteve!B212=\"\",\"\",LEFT(Zahteve!B212,1))","v":"D"},{"$f":"IF(B211=\"\",\"\",IF(Zahteve!F212=\"da\",CONCATENATE(B211,\"-DA\"),\"\"))","v":""},{"$f":"IF(B211=\"\",\"\",IF(Zahteve!A212=\"da\",CONCATENATE(B211,\"-ustreza\"),\"\"))","v":""},{"$f":"IF(B211=\"\",\"\",IF(Zahteve!G212=\"\",\"\",CONCATENATE(B211,\"-opis\")))","v":""},{"$f":"IF(B211=\"\",\"\",IF(Zahteve!H212=\"\",\"\",CONCATENATE(B211,\"-dni\")))","v":""},{"$f":"IF(B211=\"\",\"\",IF(Zahteve!H212=\"\",\"\",Zahteve!H212))","v":""}]
[{"$f":"IF(Zahteve!B213=\"\",\"\",Zahteve!B213)","v":""},{"$f":"IF(Zahteve!B213=\"\",\"\",LEFT(Zahteve!B213,1))","v":""},{"$f":"IF(B212=\"\",\"\",IF(Zahteve!F213=\"da\",CONCATENATE(B212,\"-DA\"),\"\"))","v":""},{"$f":"IF(B212=\"\",\"\",IF(Zahteve!A213=\"da\",CONCATENATE(B212,\"-ustreza\"),\"\"))","v":""},{"$f":"IF(B212=\"\",\"\",IF(Zahteve!G213=\"\",\"\",CONCATENATE(B212,\"-opis\")))","v":""},{"$f":"IF(B212=\"\",\"\",IF(Zahteve!H213=\"\",\"\",CONCATENATE(B212,\"-dni\")))","v":""},{"$f":"IF(B212=\"\",\"\",IF(Zahteve!H213=\"\",\"\",Zahteve!H213))","v":""}]
[{"$f":"IF(Zahteve!B214=\"\",\"\",Zahteve!B214)","v":"D.8.1"},{"$f":"IF(Zahteve!B214=\"\",\"\",LEFT(Zahteve!B214,1))","v":"D"},{"$f":"IF(B213=\"\",\"\",IF(Zahteve!F214=\"da\",CONCATENATE(B213,\"-DA\"),\"\"))","v":""},{"$f":"IF(B213=\"\",\"\",IF(Zahteve!A214=\"da\",CONCATENATE(B213,\"-ustreza\"),\"\"))","v":""},{"$f":"IF(B213=\"\",\"\",IF(Zahteve!G214=\"\",\"\",CONCATENATE(B213,\"-opis\")))","v":""},{"$f":"IF(B213=\"\",\"\",IF(Zahteve!H214=\"\",\"\",CONCATENATE(B213,\"-dni\")))","v":""},{"$f":"IF(B213=\"\",\"\",IF(Zahteve!H214=\"\",\"\",Zahteve!H214))","v":""}]
[{"$f":"IF(Zahteve!B215=\"\",\"\",Zahteve!B215)","v":"D.8.2"},{"$f":"IF(Zahteve!B215=\"\",\"\",LEFT(Zahteve!B215,1))","v":"D"},{"$f":"IF(B214=\"\",\"\",IF(Zahteve!F215=\"da\",CONCATENATE(B214,\"-DA\"),\"\"))","v":""},{"$f":"IF(B214=\"\",\"\",IF(Zahteve!A215=\"da\",CONCATENATE(B214,\"-ustreza\"),\"\"))","v":""},{"$f":"IF(B214=\"\",\"\",IF(Zahteve!G215=\"\",\"\",CONCATENATE(B214,\"-opis\")))","v":""},{"$f":"IF(B214=\"\",\"\",IF(Zahteve!H215=\"\",\"\",CONCATENATE(B214,\"-dni\")))","v":""},{"$f":"IF(B214=\"\",\"\",IF(Zahteve!H215=\"\",\"\",Zahteve!H215))","v":""}]
[{"$f":"IF(Zahteve!B216=\"\",\"\",Zahteve!B216)","v":"D.8.3"},{"$f":"IF(Zahteve!B216=\"\",\"\",LEFT(Zahteve!B216,1))","v":"D"},{"$f":"IF(B215=\"\",\"\",IF(Zahteve!F216=\"da\",CONCATENATE(B215,\"-DA\"),\"\"))","v":""},{"$f":"IF(B215=\"\",\"\",IF(Zahteve!A216=\"da\",CONCATENATE(B215,\"-ustreza\"),\"\"))","v":""},{"$f":"IF(B215=\"\",\"\",IF(Zahteve!G216=\"\",\"\",CONCATENATE(B215,\"-opis\")))","v":""},{"$f":"IF(B215=\"\",\"\",IF(Zahteve!H216=\"\",\"\",CONCATENATE(B215,\"-dni\")))","v":""},{"$f":"IF(B215=\"\",\"\",IF(Zahteve!H216=\"\",\"\",Zahteve!H216))","v":""}]
[{"$f":"IF(Zahteve!B217=\"\",\"\",Zahteve!B217)","v":"D.8.4"},{"$f":"IF(Zahteve!B217=\"\",\"\",LEFT(Zahteve!B217,1))","v":"D"},{"$f":"IF(B216=\"\",\"\",IF(Zahteve!F217=\"da\",CONCATENATE(B216,\"-DA\"),\"\"))","v":""},{"$f":"IF(B216=\"\",\"\",IF(Zahteve!A217=\"da\",CONCATENATE(B216,\"-ustreza\"),\"\"))","v":""},{"$f":"IF(B216=\"\",\"\",IF(Zahteve!G217=\"\",\"\",CONCATENATE(B216,\"-opis\")))","v":""},{"$f":"IF(B216=\"\",\"\",IF(Zahteve!H217=\"\",\"\",CONCATENATE(B216,\"-dni\")))","v":""},{"$f":"IF(B216=\"\",\"\",IF(Zahteve!H217=\"\",\"\",Zahteve!H217))","v":""}]
[{"$f":"IF(Zahteve!B218=\"\",\"\",Zahteve!B218)","v":"D.9.1"},{"$f":"IF(Zahteve!B218=\"\",\"\",LEFT(Zahteve!B218,1))","v":"D"},{"$f":"IF(B217=\"\",\"\",IF(Zahteve!F218=\"da\",CONCATENATE(B217,\"-DA\"),\"\"))","v":""},{"$f":"IF(B217=\"\",\"\",IF(Zahteve!A218=\"da\",CONCATENATE(B217,\"-ustreza\"),\"\"))","v":""},{"$f":"IF(B217=\"\",\"\",IF(Zahteve!G218=\"\",\"\",CONCATENATE(B217,\"-opis\")))","v":""},{"$f":"IF(B217=\"\",\"\",IF(Zahteve!H218=\"\",\"\",CONCATENATE(B217,\"-dni\")))","v":""},{"$f":"IF(B217=\"\",\"\",IF(Zahteve!H218=\"\",\"\",Zahteve!H218))","v":""}]
[{"$f":"IF(Zahteve!B219=\"\",\"\",Zahteve!B219)","v":"D.10.1"},{"$f":"IF(Zahteve!B219=\"\",\"\",LEFT(Zahteve!B219,1))","v":"D"},{"$f":"IF(B218=\"\",\"\",IF(Zahteve!F219=\"da\",CONCATENATE(B218,\"-DA\"),\"\"))","v":""},{"$f":"IF(B218=\"\",\"\",IF(Zahteve!A219=\"da\",CONCATENATE(B218,\"-ustreza\"),\"\"))","v":""},{"$f":"IF(B218=\"\",\"\",IF(Zahteve!G219=\"\",\"\",CONCATENATE(B218,\"-opis\")))","v":""},{"$f":"IF(B218=\"\",\"\",IF(Zahteve!H219=\"\",\"\",CONCATENATE(B218,\"-dni\")))","v":""},{"$f":"IF(B218=\"\",\"\",IF(Zahteve!H219=\"\",\"\",Zahteve!H219))","v":""}]
[{"$f":"IF(Zahteve!B220=\"\",\"\",Zahteve!B220)","v":"D.10.2"},{"$f":"IF(Zahteve!B220=\"\",\"\",LEFT(Zahteve!B220,1))","v":"D"},{"$f":"IF(B219=\"\",\"\",IF(Zahteve!F220=\"da\",CONCATENATE(B219,\"-DA\"),\"\"))","v":""},{"$f":"IF(B219=\"\",\"\",IF(Zahteve!A220=\"da\",CONCATENATE(B219,\"-ustreza\"),\"\"))","v":""},{"$f":"IF(B219=\"\",\"\",IF(Zahteve!G220=\"\",\"\",CONCATENATE(B219,\"-opis\")))","v":""},{"$f":"IF(B219=\"\",\"\",IF(Zahteve!H220=\"\",\"\",CONCATENATE(B219,\"-dni\")))","v":""},{"$f":"IF(B219=\"\",\"\",IF(Zahteve!H220=\"\",\"\",Zahteve!H220))","v":""}]
[{"$f":"IF(Zahteve!B221=\"\",\"\",Zahteve!B221)","v":"D.10.3"},{"$f":"IF(Zahteve!B221=\"\",\"\",LEFT(Zahteve!B221,1))","v":"D"},{"$f":"IF(B220=\"\",\"\",IF(Zahteve!F221=\"da\",CONCATENATE(B220,\"-DA\"),\"\"))","v":""},{"$f":"IF(B220=\"\",\"\",IF(Zahteve!A221=\"da\",CONCATENATE(B220,\"-ustreza\"),\"\"))","v":""},{"$f":"IF(B220=\"\",\"\",IF(Zahteve!G221=\"\",\"\",CONCATENATE(B220,\"-opis\")))","v":""},{"$f":"IF(B220=\"\",\"\",IF(Zahteve!H221=\"\",\"\",CONCATENATE(B220,\"-dni\")))","v":""},{"$f":"IF(B220=\"\",\"\",IF(Zahteve!H221=\"\",\"\",Zahteve!H221))","v":""}]
[{"$f":"IF(Zahteve!B222=\"\",\"\",Zahteve!B222)","v":""},{"$f":"IF(Zahteve!B222=\"\",\"\",LEFT(Zahteve!B222,1))","v":""},{"$f":"IF(B221=\"\",\"\",IF(Zahteve!F222=\"da\",CONCATENATE(B221,\"-DA\"),\"\"))","v":""},{"$f":"IF(B221=\"\",\"\",IF(Zahteve!A222=\"da\",CONCATENATE(B221,\"-ustreza\"),\"\"))","v":""},{"$f":"IF(B221=\"\",\"\",IF(Zahteve!G222=\"\",\"\",CONCATENATE(B221,\"-opis\")))","v":""},{"$f":"IF(B221=\"\",\"\",IF(Zahteve!H222=\"\",\"\",CONCATENATE(B221,\"-dni\")))","v":""},{"$f":"IF(B221=\"\",\"\",IF(Zahteve!H222=\"\",\"\",Zahteve!H222))","v":""}]
[{"$f":"IF(Zahteve!B223=\"\",\"\",Zahteve!B223)","v":"D.11.1"},{"$f":"IF(Zahteve!B223=\"\",\"\",LEFT(Zahteve!B223,1))","v":"D"},{"$f":"IF(B222=\"\",\"\",IF(Zahteve!F223=\"da\",CONCATENATE(B222,\"-DA\"),\"\"))","v":""},{"$f":"IF(B222=\"\",\"\",IF(Zahteve!A223=\"da\",CONCATENATE(B222,\"-ustreza\"),\"\"))","v":""},{"$f":"IF(B222=\"\",\"\",IF(Zahteve!G223=\"\",\"\",CONCATENATE(B222,\"-opis\")))","v":""},{"$f":"IF(B222=\"\",\"\",IF(Zahteve!H223=\"\",\"\",CONCATENATE(B222,\"-dni\")))","v":""},{"$f":"IF(B222=\"\",\"\",IF(Zahteve!H223=\"\",\"\",Zahteve!H223))","v":""}]
[{"$f":"IF(Zahteve!B224=\"\",\"\",Zahteve!B224)","v":"D.11.2"},{"$f":"IF(Zahteve!B224=\"\",\"\",LEFT(Zahteve!B224,1))","v":"D"},{"$f":"IF(B223=\"\",\"\",IF(Zahteve!F224=\"da\",CONCATENATE(B223,\"-DA\"),\"\"))","v":""},{"$f":"IF(B223=\"\",\"\",IF(Zahteve!A224=\"da\",CONCATENATE(B223,\"-ustreza\"),\"\"))","v":""},{"$f":"IF(B223=\"\",\"\",IF(Zahteve!G224=\"\",\"\",CONCATENATE(B223,\"-opis\")))","v":""},{"$f":"IF(B223=\"\",\"\",IF(Zahteve!H224=\"\",\"\",CONCATENATE(B223,\"-dni\")))","v":""},{"$f":"IF(B223=\"\",\"\",IF(Zahteve!H224=\"\",\"\",Zahteve!H224))","v":""}]
[{"$f":"IF(Zahteve!B225=\"\",\"\",Zahteve!B225)","v":"D.11.3"},{"$f":"IF(Zahteve!B225=\"\",\"\",LEFT(Zahteve!B225,1))","v":"D"},{"$f":"IF(B224=\"\",\"\",IF(Zahteve!F225=\"da\",CONCATENATE(B224,\"-DA\"),\"\"))","v":""},{"$f":"IF(B224=\"\",\"\",IF(Zahteve!A225=\"da\",CONCATENATE(B224,\"-ustreza\"),\"\"))","v":""},{"$f":"IF(B224=\"\",\"\",IF(Zahteve!G225=\"\",\"\",CONCATENATE(B224,\"-opis\")))","v":""},{"$f":"IF(B224=\"\",\"\",IF(Zahteve!H225=\"\",\"\",CONCATENATE(B224,\"-dni\")))","v":""},{"$f":"IF(B224=\"\",\"\",IF(Zahteve!H225=\"\",\"\",Zahteve!H225))","v":""}]
[{"$f":"IF(Zahteve!B226=\"\",\"\",Zahteve!B226)","v":"D.12.1"},{"$f":"IF(Zahteve!B226=\"\",\"\",LEFT(Zahteve!B226,1))","v":"D"},{"$f":"IF(B225=\"\",\"\",IF(Zahteve!F226=\"da\",CONCATENATE(B225,\"-DA\"),\"\"))","v":""},{"$f":"IF(B225=\"\",\"\",IF(Zahteve!A226=\"da\",CONCATENATE(B225,\"-ustreza\"),\"\"))","v":""},{"$f":"IF(B225=\"\",\"\",IF(Zahteve!G226=\"\",\"\",CONCATENATE(B225,\"-opis\")))","v":""},{"$f":"IF(B225=\"\",\"\",IF(Zahteve!H226=\"\",\"\",CONCATENATE(B225,\"-dni\")))","v":""},{"$f":"IF(B225=\"\",\"\",IF(Zahteve!H226=\"\",\"\",Zahteve!H226))","v":""}]
[{"$f":"IF(Zahteve!B227=\"\",\"\",Zahteve!B227)","v":"D.13.1"},{"$f":"IF(Zahteve!B227=\"\",\"\",LEFT(Zahteve!B227,1))","v":"D"},{"$f":"IF(B226=\"\",\"\",IF(Zahteve!F227=\"da\",CONCATENATE(B226,\"-DA\"),\"\"))","v":""},{"$f":"IF(B226=\"\",\"\",IF(Zahteve!A227=\"da\",CONCATENATE(B226,\"-ustreza\"),\"\"))","v":""},{"$f":"IF(B226=\"\",\"\",IF(Zahteve!G227=\"\",\"\",CONCATENATE(B226,\"-opis\")))","v":""},{"$f":"IF(B226=\"\",\"\",IF(Zahteve!H227=\"\",\"\",CONCATENATE(B226,\"-dni\")))","v":""},{"$f":"IF(B226=\"\",\"\",IF(Zahteve!H227=\"\",\"\",Zahteve!H227))","v":""}]
[{"$f":"IF(Zahteve!B228=\"\",\"\",Zahteve!B228)","v":"D.14.1"},{"$f":"IF(Zahteve!B228=\"\",\"\",LEFT(Zahteve!B228,1))","v":"D"},{"$f":"IF(B227=\"\",\"\",IF(Zahteve!F228=\"da\",CONCATENATE(B227,\"-DA\"),\"\"))","v":""},{"$f":"IF(B227=\"\",\"\",IF(Zahteve!A228=\"da\",CONCATENATE(B227,\"-ustreza\"),\"\"))","v":""},{"$f":"IF(B227=\"\",\"\",IF(Zahteve!G228=\"\",\"\",CONCATENATE(B227,\"-opis\")))","v":""},{"$f":"IF(B227=\"\",\"\",IF(Zahteve!H228=\"\",\"\",CONCATENATE(B227,\"-dni\")))","v":""},{"$f":"IF(B227=\"\",\"\",IF(Zahteve!H228=\"\",\"\",Zahteve!H228))","v":""}]
[{"$f":"IF(Zahteve!B229=\"\",\"\",Zahteve!B229)","v":""},{"$f":"IF(Zahteve!B229=\"\",\"\",LEFT(Zahteve!B229,1))","v":""},{"$f":"IF(B228=\"\",\"\",IF(Zahteve!F229=\"da\",CONCATENATE(B228,\"-DA\"),\"\"))","v":""},{"$f":"IF(B228=\"\",\"\",IF(Zahteve!A229=\"da\",CONCATENATE(B228,\"-ustreza\"),\"\"))","v":""},{"$f":"IF(B228=\"\",\"\",IF(Zahteve!G229=\"\",\"\",CONCATENATE(B228,\"-opis\")))","v":""},{"$f":"IF(B228=\"\",\"\",IF(Zahteve!H229=\"\",\"\",CONCATENATE(B228,\"-dni\")))","v":""},{"$f":"IF(B228=\"\",\"\",IF(Zahteve!H229=\"\",\"\",Zahteve!H229))","v":""}]
[{"$f":"IF(Zahteve!B230=\"\",\"\",Zahteve!B230)","v":"D.15.1"},{"$f":"IF(Zahteve!B230=\"\",\"\",LEFT(Zahteve!B230,1))","v":"D"},{"$f":"IF(B229=\"\",\"\",IF(Zahteve!F230=\"da\",CONCATENATE(B229,\"-DA\"),\"\"))","v":""},{"$f":"IF(B229=\"\",\"\",IF(Zahteve!A230=\"da\",CONCATENATE(B229,\"-ustreza\"),\"\"))","v":""},{"$f":"IF(B229=\"\",\"\",IF(Zahteve!G230=\"\",\"\",CONCATENATE(B229,\"-opis\")))","v":""},{"$f":"IF(B229=\"\",\"\",IF(Zahteve!H230=\"\",\"\",CONCATENATE(B229,\"-dni\")))","v":""},{"$f":"IF(B229=\"\",\"\",IF(Zahteve!H230=\"\",\"\",Zahteve!H230))","v":""}]
[{"$f":"IF(Zahteve!B231=\"\",\"\",Zahteve!B231)","v":"D.16.1"},{"$f":"IF(Zahteve!B231=\"\",\"\",LEFT(Zahteve!B231,1))","v":"D"},{"$f":"IF(B230=\"\",\"\",IF(Zahteve!F231=\"da\",CONCATENATE(B230,\"-DA\"),\"\"))","v":""},{"$f":"IF(B230=\"\",\"\",IF(Zahteve!A231=\"da\",CONCATENATE(B230,\"-ustreza\"),\"\"))","v":""},{"$f":"IF(B230=\"\",\"\",IF(Zahteve!G231=\"\",\"\",CONCATENATE(B230,\"-opis\")))","v":""},{"$f":"IF(B230=\"\",\"\",IF(Zahteve!H231=\"\",\"\",CONCATENATE(B230,\"-dni\")))","v":""},{"$f":"IF(B230=\"\",\"\",IF(Zahteve!H231=\"\",\"\",Zahteve!H231))","v":""}]
[{"$f":"IF(Zahteve!B232=\"\",\"\",Zahteve!B232)","v":"D.16.2"},{"$f":"IF(Zahteve!B232=\"\",\"\",LEFT(Zahteve!B232,1))","v":"D"},{"$f":"IF(B231=\"\",\"\",IF(Zahteve!F232=\"da\",CONCATENATE(B231,\"-DA\"),\"\"))","v":""},{"$f":"IF(B231=\"\",\"\",IF(Zahteve!A232=\"da\",CONCATENATE(B231,\"-ustreza\"),\"\"))","v":""},{"$f":"IF(B231=\"\",\"\",IF(Zahteve!G232=\"\",\"\",CONCATENATE(B231,\"-opis\")))","v":""},{"$f":"IF(B231=\"\",\"\",IF(Zahteve!H232=\"\",\"\",CONCATENATE(B231,\"-dni\")))","v":""},{"$f":"IF(B231=\"\",\"\",IF(Zahteve!H232=\"\",\"\",Zahteve!H232))","v":""}]
[{"$f":"IF(Zahteve!B233=\"\",\"\",Zahteve!B233)","v":"D.16.3"},{"$f":"IF(Zahteve!B233=\"\",\"\",LEFT(Zahteve!B233,1))","v":"D"},{"$f":"IF(B232=\"\",\"\",IF(Zahteve!F233=\"da\",CONCATENATE(B232,\"-DA\"),\"\"))","v":""},{"$f":"IF(B232=\"\",\"\",IF(Zahteve!A233=\"da\",CONCATENATE(B232,\"-ustreza\"),\"\"))","v":""},{"$f":"IF(B232=\"\",\"\",IF(Zahteve!G233=\"\",\"\",CONCATENATE(B232,\"-opis\")))","v":""},{"$f":"IF(B232=\"\",\"\",IF(Zahteve!H233=\"\",\"\",CONCATENATE(B232,\"-dni\")))","v":""},{"$f":"IF(B232=\"\",\"\",IF(Zahteve!H233=\"\",\"\",Zahteve!H233))","v":""}]
[{"$f":"IF(Zahteve!B234=\"\",\"\",Zahteve!B234)","v":"D.16.4"},{"$f":"IF(Zahteve!B234=\"\",\"\",LEFT(Zahteve!B234,1))","v":"D"},{"$f":"IF(B233=\"\",\"\",IF(Zahteve!F234=\"da\",CONCATENATE(B233,\"-DA\"),\"\"))","v":""},{"$f":"IF(B233=\"\",\"\",IF(Zahteve!A234=\"da\",CONCATENATE(B233,\"-ustreza\"),\"\"))","v":""},{"$f":"IF(B233=\"\",\"\",IF(Zahteve!G234=\"\",\"\",CONCATENATE(B233,\"-opis\")))","v":""},{"$f":"IF(B233=\"\",\"\",IF(Zahteve!H234=\"\",\"\",CONCATENATE(B233,\"-dni\")))","v":""},{"$f":"IF(B233=\"\",\"\",IF(Zahteve!H234=\"\",\"\",Zahteve!H234))","v":""}]
[{"$f":"IF(Zahteve!B235=\"\",\"\",Zahteve!B235)","v":"D.16.5"},{"$f":"IF(Zahteve!B235=\"\",\"\",LEFT(Zahteve!B235,1))","v":"D"},{"$f":"IF(B234=\"\",\"\",IF(Zahteve!F235=\"da\",CONCATENATE(B234,\"-DA\"),\"\"))","v":""},{"$f":"IF(B234=\"\",\"\",IF(Zahteve!A235=\"da\",CONCATENATE(B234,\"-ustreza\"),\"\"))","v":""},{"$f":"IF(B234=\"\",\"\",IF(Zahteve!G235=\"\",\"\",CONCATENATE(B234,\"-opis\")))","v":""},{"$f":"IF(B234=\"\",\"\",IF(Zahteve!H235=\"\",\"\",CONCATENATE(B234,\"-dni\")))","v":""},{"$f":"IF(B234=\"\",\"\",IF(Zahteve!H235=\"\",\"\",Zahteve!H235))","v":""}]
[{"$f":"IF(Zahteve!B236=\"\",\"\",Zahteve!B236)","v":"D.17.1"},{"$f":"IF(Zahteve!B236=\"\",\"\",LEFT(Zahteve!B236,1))","v":"D"},{"$f":"IF(B235=\"\",\"\",IF(Zahteve!F236=\"da\",CONCATENATE(B235,\"-DA\"),\"\"))","v":""},{"$f":"IF(B235=\"\",\"\",IF(Zahteve!A236=\"da\",CONCATENATE(B235,\"-ustreza\"),\"\"))","v":""},{"$f":"IF(B235=\"\",\"\",IF(Zahteve!G236=\"\",\"\",CONCATENATE(B235,\"-opis\")))","v":""},{"$f":"IF(B235=\"\",\"\",IF(Zahteve!H236=\"\",\"\",CONCATENATE(B235,\"-dni\")))","v":""},{"$f":"IF(B235=\"\",\"\",IF(Zahteve!H236=\"\",\"\",Zahteve!H236))","v":""}]
[{"$f":"IF(Zahteve!B237=\"\",\"\",Zahteve!B237)","v":"D.18.1"},{"$f":"IF(Zahteve!B237=\"\",\"\",LEFT(Zahteve!B237,1))","v":"D"},{"$f":"IF(B236=\"\",\"\",IF(Zahteve!F237=\"da\",CONCATENATE(B236,\"-DA\"),\"\"))","v":""},{"$f":"IF(B236=\"\",\"\",IF(Zahteve!A237=\"da\",CONCATENATE(B236,\"-ustreza\"),\"\"))","v":""},{"$f":"IF(B236=\"\",\"\",IF(Zahteve!G237=\"\",\"\",CONCATENATE(B236,\"-opis\")))","v":""},{"$f":"IF(B236=\"\",\"\",IF(Zahteve!H237=\"\",\"\",CONCATENATE(B236,\"-dni\")))","v":""},{"$f":"IF(B236=\"\",\"\",IF(Zahteve!H237=\"\",\"\",Zahteve!H237))","v":""}]
[{"$f":"IF(Zahteve!B238=\"\",\"\",Zahteve!B238)","v":"D.19.1"},{"$f":"IF(Zahteve!B238=\"\",\"\",LEFT(Zahteve!B238,1))","v":"D"},{"$f":"IF(B237=\"\",\"\",IF(Zahteve!F238=\"da\",CONCATENATE(B237,\"-DA\"),\"\"))","v":""},{"$f":"IF(B237=\"\",\"\",IF(Zahteve!A238=\"da\",CONCATENATE(B237,\"-ustreza\"),\"\"))","v":""},{"$f":"IF(B237=\"\",\"\",IF(Zahteve!G238=\"\",\"\",CONCATENATE(B237,\"-opis\")))","v":""},{"$f":"IF(B237=\"\",\"\",IF(Zahteve!H238=\"\",\"\",CONCATENATE(B237,\"-dni\")))","v":""},{"$f":"IF(B237=\"\",\"\",IF(Zahteve!H238=\"\",\"\",Zahteve!H238))","v":""}]
[{"$f":"IF(Zahteve!B239=\"\",\"\",Zahteve!B239)","v":"D.20.1"},{"$f":"IF(Zahteve!B239=\"\",\"\",LEFT(Zahteve!B239,1))","v":"D"},{"$f":"IF(B238=\"\",\"\",IF(Zahteve!F239=\"da\",CONCATENATE(B238,\"-DA\"),\"\"))","v":""},{"$f":"IF(B238=\"\",\"\",IF(Zahteve!A239=\"da\",CONCATENATE(B238,\"-ustreza\"),\"\"))","v":""},{"$f":"IF(B238=\"\",\"\",IF(Zahteve!G239=\"\",\"\",CONCATENATE(B238,\"-opis\")))","v":""},{"$f":"IF(B238=\"\",\"\",IF(Zahteve!H239=\"\",\"\",CONCATENATE(B238,\"-dni\")))","v":""},{"$f":"IF(B238=\"\",\"\",IF(Zahteve!H239=\"\",\"\",Zahteve!H239))","v":""}]
[{"$f":"IF(Zahteve!B240=\"\",\"\",Zahteve!B240)","v":""},{"$f":"IF(Zahteve!B240=\"\",\"\",LEFT(Zahteve!B240,1))","v":""},{"$f":"IF(B239=\"\",\"\",IF(Zahteve!F240=\"da\",CONCATENATE(B239,\"-DA\"),\"\"))","v":""},{"$f":"IF(B239=\"\",\"\",IF(Zahteve!A240=\"da\",CONCATENATE(B239,\"-ustreza\"),\"\"))","v":""},{"$f":"IF(B239=\"\",\"\",IF(Zahteve!G240=\"\",\"\",CONCATENATE(B239,\"-opis\")))","v":""},{"$f":"IF(B239=\"\",\"\",IF(Zahteve!H240=\"\",\"\",CONCATENATE(B239,\"-dni\")))","v":""},{"$f":"IF(B239=\"\",\"\",IF(Zahteve!H240=\"\",\"\",Zahteve!H240))","v":""}]
[{"$f":"IF(Zahteve!B241=\"\",\"\",Zahteve!B241)","v":"D.21.1"},{"$f":"IF(Zahteve!B241=\"\",\"\",LEFT(Zahteve!B241,1))","v":"D"},{"$f":"IF(B240=\"\",\"\",IF(Zahteve!F241=\"da\",CONCATENATE(B240,\"-DA\"),\"\"))","v":""},{"$f":"IF(B240=\"\",\"\",IF(Zahteve!A241=\"da\",CONCATENATE(B240,\"-ustreza\"),\"\"))","v":""},{"$f":"IF(B240=\"\",\"\",IF(Zahteve!G241=\"\",\"\",CONCATENATE(B240,\"-opis\")))","v":""},{"$f":"IF(B240=\"\",\"\",IF(Zahteve!H241=\"\",\"\",CONCATENATE(B240,\"-dni\")))","v":""},{"$f":"IF(B240=\"\",\"\",IF(Zahteve!H241=\"\",\"\",Zahteve!H241))","v":""}]
[{"$f":"IF(Zahteve!B242=\"\",\"\",Zahteve!B242)","v":"D.21.2"},{"$f":"IF(Zahteve!B242=\"\",\"\",LEFT(Zahteve!B242,1))","v":"D"},{"$f":"IF(B241=\"\",\"\",IF(Zahteve!F242=\"da\",CONCATENATE(B241,\"-DA\"),\"\"))","v":""},{"$f":"IF(B241=\"\",\"\",IF(Zahteve!A242=\"da\",CONCATENATE(B241,\"-ustreza\"),\"\"))","v":""},{"$f":"IF(B241=\"\",\"\",IF(Zahteve!G242=\"\",\"\",CONCATENATE(B241,\"-opis\")))","v":""},{"$f":"IF(B241=\"\",\"\",IF(Zahteve!H242=\"\",\"\",CONCATENATE(B241,\"-dni\")))","v":""},{"$f":"IF(B241=\"\",\"\",IF(Zahteve!H242=\"\",\"\",Zahteve!H242))","v":""}]
[{"$f":"IF(Zahteve!B243=\"\",\"\",Zahteve!B243)","v":"D.21.3"},{"$f":"IF(Zahteve!B243=\"\",\"\",LEFT(Zahteve!B243,1))","v":"D"},{"$f":"IF(B242=\"\",\"\",IF(Zahteve!F243=\"da\",CONCATENATE(B242,\"-DA\"),\"\"))","v":""},{"$f":"IF(B242=\"\",\"\",IF(Zahteve!A243=\"da\",CONCATENATE(B242,\"-ustreza\"),\"\"))","v":""},{"$f":"IF(B242=\"\",\"\",IF(Zahteve!G243=\"\",\"\",CONCATENATE(B242,\"-opis\")))","v":""},{"$f":"IF(B242=\"\",\"\",IF(Zahteve!H243=\"\",\"\",CONCATENATE(B242,\"-dni\")))","v":""},{"$f":"IF(B242=\"\",\"\",IF(Zahteve!H243=\"\",\"\",Zahteve!H243))","v":""}]
[{"$f":"IF(Zahteve!B244=\"\",\"\",Zahteve!B244)","v":"D.21.4"},{"$f":"IF(Zahteve!B244=\"\",\"\",LEFT(Zahteve!B244,1))","v":"D"},{"$f":"IF(B243=\"\",\"\",IF(Zahteve!F244=\"da\",CONCATENATE(B243,\"-DA\"),\"\"))","v":""},{"$f":"IF(B243=\"\",\"\",IF(Zahteve!A244=\"da\",CONCATENATE(B243,\"-ustreza\"),\"\"))","v":""},{"$f":"IF(B243=\"\",\"\",IF(Zahteve!G244=\"\",\"\",CONCATENATE(B243,\"-opis\")))","v":""},{"$f":"IF(B243=\"\",\"\",IF(Zahteve!H244=\"\",\"\",CONCATENATE(B243,\"-dni\")))","v":""},{"$f":"IF(B243=\"\",\"\",IF(Zahteve!H244=\"\",\"\",Zahteve!H244))","v":""}]
[{"$f":"IF(Zahteve!B245=\"\",\"\",Zahteve!B245)","v":"D.21.5"},{"$f":"IF(Zahteve!B245=\"\",\"\",LEFT(Zahteve!B245,1))","v":"D"},{"$f":"IF(B244=\"\",\"\",IF(Zahteve!F245=\"da\",CONCATENATE(B244,\"-DA\"),\"\"))","v":""},{"$f":"IF(B244=\"\",\"\",IF(Zahteve!A245=\"da\",CONCATENATE(B244,\"-ustreza\"),\"\"))","v":""},{"$f":"IF(B244=\"\",\"\",IF(Zahteve!G245=\"\",\"\",CONCATENATE(B244,\"-opis\")))","v":""},{"$f":"IF(B244=\"\",\"\",IF(Zahteve!H245=\"\",\"\",CONCATENATE(B244,\"-dni\")))","v":""},{"$f":"IF(B244=\"\",\"\",IF(Zahteve!H245=\"\",\"\",Zahteve!H245))","v":""}]
[{"$f":"IF(Zahteve!B246=\"\",\"\",Zahteve!B246)","v":"D.22.1"},{"$f":"IF(Zahteve!B246=\"\",\"\",LEFT(Zahteve!B246,1))","v":"D"},{"$f":"IF(B245=\"\",\"\",IF(Zahteve!F246=\"da\",CONCATENATE(B245,\"-DA\"),\"\"))","v":""},{"$f":"IF(B245=\"\",\"\",IF(Zahteve!A246=\"da\",CONCATENATE(B245,\"-ustreza\"),\"\"))","v":""},{"$f":"IF(B245=\"\",\"\",IF(Zahteve!G246=\"\",\"\",CONCATENATE(B245,\"-opis\")))","v":""},{"$f":"IF(B245=\"\",\"\",IF(Zahteve!H246=\"\",\"\",CONCATENATE(B245,\"-dni\")))","v":""},{"$f":"IF(B245=\"\",\"\",IF(Zahteve!H246=\"\",\"\",Zahteve!H246))","v":""}]
[{"$f":"IF(Zahteve!B247=\"\",\"\",Zahteve!B247)","v":"D.22.2"},{"$f":"IF(Zahteve!B247=\"\",\"\",LEFT(Zahteve!B247,1))","v":"D"},{"$f":"IF(B246=\"\",\"\",IF(Zahteve!F247=\"da\",CONCATENATE(B246,\"-DA\"),\"\"))","v":""},{"$f":"IF(B246=\"\",\"\",IF(Zahteve!A247=\"da\",CONCATENATE(B246,\"-ustreza\"),\"\"))","v":""},{"$f":"IF(B246=\"\",\"\",IF(Zahteve!G247=\"\",\"\",CONCATENATE(B246,\"-opis\")))","v":""},{"$f":"IF(B246=\"\",\"\",IF(Zahteve!H247=\"\",\"\",CONCATENATE(B246,\"-dni\")))","v":""},{"$f":"IF(B246=\"\",\"\",IF(Zahteve!H247=\"\",\"\",Zahteve!H247))","v":""}]
[{"$f":"IF(Zahteve!B248=\"\",\"\",Zahteve!B248)","v":"D.22.3"},{"$f":"IF(Zahteve!B248=\"\",\"\",LEFT(Zahteve!B248,1))","v":"D"},{"$f":"IF(B247=\"\",\"\",IF(Zahteve!F248=\"da\",CONCATENATE(B247,\"-DA\"),\"\"))","v":""},{"$f":"IF(B247=\"\",\"\",IF(Zahteve!A248=\"da\",CONCATENATE(B247,\"-ustreza\"),\"\"))","v":""},{"$f":"IF(B247=\"\",\"\",IF(Zahteve!G248=\"\",\"\",CONCATENATE(B247,\"-opis\")))","v":""},{"$f":"IF(B247=\"\",\"\",IF(Zahteve!H248=\"\",\"\",CONCATENATE(B247,\"-dni\")))","v":""},{"$f":"IF(B247=\"\",\"\",IF(Zahteve!H248=\"\",\"\",Zahteve!H248))","v":""}]
[{"$f":"IF(Zahteve!B249=\"\",\"\",Zahteve!B249)","v":"D.22.4"},{"$f":"IF(Zahteve!B249=\"\",\"\",LEFT(Zahteve!B249,1))","v":"D"},{"$f":"IF(B248=\"\",\"\",IF(Zahteve!F249=\"da\",CONCATENATE(B248,\"-DA\"),\"\"))","v":""},{"$f":"IF(B248=\"\",\"\",IF(Zahteve!A249=\"da\",CONCATENATE(B248,\"-ustreza\"),\"\"))","v":""},{"$f":"IF(B248=\"\",\"\",IF(Zahteve!G249=\"\",\"\",CONCATENATE(B248,\"-opis\")))","v":""},{"$f":"IF(B248=\"\",\"\",IF(Zahteve!H249=\"\",\"\",CONCATENATE(B248,\"-dni\")))","v":""},{"$f":"IF(B248=\"\",\"\",IF(Zahteve!H249=\"\",\"\",Zahteve!H249))","v":""}]
[{"$f":"IF(Zahteve!B250=\"\",\"\",Zahteve!B250)","v":"D.23.1"},{"$f":"IF(Zahteve!B250=\"\",\"\",LEFT(Zahteve!B250,1))","v":"D"},{"$f":"IF(B249=\"\",\"\",IF(Zahteve!F250=\"da\",CONCATENATE(B249,\"-DA\"),\"\"))","v":""},{"$f":"IF(B249=\"\",\"\",IF(Zahteve!A250=\"da\",CONCATENATE(B249,\"-ustreza\"),\"\"))","v":""},{"$f":"IF(B249=\"\",\"\",IF(Zahteve!G250=\"\",\"\",CONCATENATE(B249,\"-opis\")))","v":""},{"$f":"IF(B249=\"\",\"\",IF(Zahteve!H250=\"\",\"\",CONCATENATE(B249,\"-dni\")))","v":""},{"$f":"IF(B249=\"\",\"\",IF(Zahteve!H250=\"\",\"\",Zahteve!H250))","v":""}]
[{"$f":"IF(Zahteve!B251=\"\",\"\",Zahteve!B251)","v":"D.23.2"},{"$f":"IF(Zahteve!B251=\"\",\"\",LEFT(Zahteve!B251,1))","v":"D"},{"$f":"IF(B250=\"\",\"\",IF(Zahteve!F251=\"da\",CONCATENATE(B250,\"-DA\"),\"\"))","v":""},{"$f":"IF(B250=\"\",\"\",IF(Zahteve!A251=\"da\",CONCATENATE(B250,\"-ustreza\"),\"\"))","v":""},{"$f":"IF(B250=\"\",\"\",IF(Zahteve!G251=\"\",\"\",CONCATENATE(B250,\"-opis\")))","v":""},{"$f":"IF(B250=\"\",\"\",IF(Zahteve!H251=\"\",\"\",CONCATENATE(B250,\"-dni\")))","v":""},{"$f":"IF(B250=\"\",\"\",IF(Zahteve!H251=\"\",\"\",Zahteve!H251))","v":""}]
[{"$f":"IF(Zahteve!B252=\"\",\"\",Zahteve!B252)","v":"D.24.1"},{"$f":"IF(Zahteve!B252=\"\",\"\",LEFT(Zahteve!B252,1))","v":"D"},{"$f":"IF(B251=\"\",\"\",IF(Zahteve!F252=\"da\",CONCATENATE(B251,\"-DA\"),\"\"))","v":""},{"$f":"IF(B251=\"\",\"\",IF(Zahteve!A252=\"da\",CONCATENATE(B251,\"-ustreza\"),\"\"))","v":""},{"$f":"IF(B251=\"\",\"\",IF(Zahteve!G252=\"\",\"\",CONCATENATE(B251,\"-opis\")))","v":""},{"$f":"IF(B251=\"\",\"\",IF(Zahteve!H252=\"\",\"\",CONCATENATE(B251,\"-dni\")))","v":""},{"$f":"IF(B251=\"\",\"\",IF(Zahteve!H252=\"\",\"\",Zahteve!H252))","v":""}]
[{"$f":"IF(Zahteve!B253=\"\",\"\",Zahteve!B253)","v":"D.24.2"},{"$f":"IF(Zahteve!B253=\"\",\"\",LEFT(Zahteve!B253,1))","v":"D"},{"$f":"IF(B252=\"\",\"\",IF(Zahteve!F253=\"da\",CONCATENATE(B252,\"-DA\"),\"\"))","v":""},{"$f":"IF(B252=\"\",\"\",IF(Zahteve!A253=\"da\",CONCATENATE(B252,\"-ustreza\"),\"\"))","v":""},{"$f":"IF(B252=\"\",\"\",IF(Zahteve!G253=\"\",\"\",CONCATENATE(B252,\"-opis\")))","v":""},{"$f":"IF(B252=\"\",\"\",IF(Zahteve!H253=\"\",\"\",CONCATENATE(B252,\"-dni\")))","v":""},{"$f":"IF(B252=\"\",\"\",IF(Zahteve!H253=\"\",\"\",Zahteve!H253))","v":""}]
[{"$f":"IF(Zahteve!B254=\"\",\"\",Zahteve!B254)","v":"D.25.1"},{"$f":"IF(Zahteve!B254=\"\",\"\",LEFT(Zahteve!B254,1))","v":"D"},{"$f":"IF(B253=\"\",\"\",IF(Zahteve!F254=\"da\",CONCATENATE(B253,\"-DA\"),\"\"))","v":""},{"$f":"IF(B253=\"\",\"\",IF(Zahteve!A254=\"da\",CONCATENATE(B253,\"-ustreza\"),\"\"))","v":""},{"$f":"IF(B253=\"\",\"\",IF(Zahteve!G254=\"\",\"\",CONCATENATE(B253,\"-opis\")))","v":""},{"$f":"IF(B253=\"\",\"\",IF(Zahteve!H254=\"\",\"\",CONCATENATE(B253,\"-dni\")))","v":""},{"$f":"IF(B253=\"\",\"\",IF(Zahteve!H254=\"\",\"\",Zahteve!H254))","v":""}]
[{"$f":"IF(Zahteve!B255=\"\",\"\",Zahteve!B255)","v":"D.25.2"},{"$f":"IF(Zahteve!B255=\"\",\"\",LEFT(Zahteve!B255,1))","v":"D"},{"$f":"IF(B254=\"\",\"\",IF(Zahteve!F255=\"da\",CONCATENATE(B254,\"-DA\"),\"\"))","v":""},{"$f":"IF(B254=\"\",\"\",IF(Zahteve!A255=\"da\",CONCATENATE(B254,\"-ustreza\"),\"\"))","v":""},{"$f":"IF(B254=\"\",\"\",IF(Zahteve!G255=\"\",\"\",CONCATENATE(B254,\"-opis\")))","v":""},{"$f":"IF(B254=\"\",\"\",IF(Zahteve!H255=\"\",\"\",CONCATENATE(B254,\"-dni\")))","v":""},{"$f":"IF(B254=\"\",\"\",IF(Zahteve!H255=\"\",\"\",Zahteve!H255))","v":""}]
[{"$f":"IF(Zahteve!B256=\"\",\"\",Zahteve!B256)","v":""},{"$f":"IF(Zahteve!B256=\"\",\"\",LEFT(Zahteve!B256,1))","v":""},{"$f":"IF(B255=\"\",\"\",IF(Zahteve!F256=\"da\",CONCATENATE(B255,\"-DA\"),\"\"))","v":""},{"$f":"IF(B255=\"\",\"\",IF(Zahteve!A256=\"da\",CONCATENATE(B255,\"-ustreza\"),\"\"))","v":""},{"$f":"IF(B255=\"\",\"\",IF(Zahteve!G256=\"\",\"\",CONCATENATE(B255,\"-opis\")))","v":""},{"$f":"IF(B255=\"\",\"\",IF(Zahteve!H256=\"\",\"\",CONCATENATE(B255,\"-dni\")))","v":""},{"$f":"IF(B255=\"\",\"\",IF(Zahteve!H256=\"\",\"\",Zahteve!H256))","v":""}]
[{"$f":"IF(Zahteve!B257=\"\",\"\",Zahteve!B257)","v":""},{"$f":"IF(Zahteve!B257=\"\",\"\",LEFT(Zahteve!B257,1))","v":""},{"$f":"IF(B256=\"\",\"\",IF(Zahteve!F257=\"da\",CONCATENATE(B256,\"-DA\"),\"\"))","v":""},{"$f":"IF(B256=\"\",\"\",IF(Zahteve!A257=\"da\",CONCATENATE(B256,\"-ustreza\"),\"\"))","v":""},{"$f":"IF(B256=\"\",\"\",IF(Zahteve!G257=\"\",\"\",CONCATENATE(B256,\"-opis\")))","v":""},{"$f":"IF(B256=\"\",\"\",IF(Zahteve!H257=\"\",\"\",CONCATENATE(B256,\"-dni\")))","v":""},{"$f":"IF(B256=\"\",\"\",IF(Zahteve!H257=\"\",\"\",Zahteve!H257))","v":""}]
[{"$f":"IF(Zahteve!B258=\"\",\"\",Zahteve!B258)","v":"E.1.1"},{"$f":"IF(Zahteve!B258=\"\",\"\",LEFT(Zahteve!B258,1))","v":"E"},{"$f":"IF(B257=\"\",\"\",IF(Zahteve!F258=\"da\",CONCATENATE(B257,\"-DA\"),\"\"))","v":""},{"$f":"IF(B257=\"\",\"\",IF(Zahteve!A258=\"da\",CONCATENATE(B257,\"-ustreza\"),\"\"))","v":""},{"$f":"IF(B257=\"\",\"\",IF(Zahteve!G258=\"\",\"\",CONCATENATE(B257,\"-opis\")))","v":""},{"$f":"IF(B257=\"\",\"\",IF(Zahteve!H258=\"\",\"\",CONCATENATE(B257,\"-dni\")))","v":""},{"$f":"IF(B257=\"\",\"\",IF(Zahteve!H258=\"\",\"\",Zahteve!H258))","v":""}]
[{"$f":"IF(Zahteve!B259=\"\",\"\",Zahteve!B259)","v":"E.1.2"},{"$f":"IF(Zahteve!B259=\"\",\"\",LEFT(Zahteve!B259,1))","v":"E"},{"$f":"IF(B258=\"\",\"\",IF(Zahteve!F259=\"da\",CONCATENATE(B258,\"-DA\"),\"\"))","v":""},{"$f":"IF(B258=\"\",\"\",IF(Zahteve!A259=\"da\",CONCATENATE(B258,\"-ustreza\"),\"\"))","v":""},{"$f":"IF(B258=\"\",\"\",IF(Zahteve!G259=\"\",\"\",CONCATENATE(B258,\"-opis\")))","v":""},{"$f":"IF(B258=\"\",\"\",IF(Zahteve!H259=\"\",\"\",CONCATENATE(B258,\"-dni\")))","v":""},{"$f":"IF(B258=\"\",\"\",IF(Zahteve!H259=\"\",\"\",Zahteve!H259))","v":""}]
[{"$f":"IF(Zahteve!B260=\"\",\"\",Zahteve!B260)","v":"E.2.1"},{"$f":"IF(Zahteve!B260=\"\",\"\",LEFT(Zahteve!B260,1))","v":"E"},{"$f":"IF(B259=\"\",\"\",IF(Zahteve!F260=\"da\",CONCATENATE(B259,\"-DA\"),\"\"))","v":""},{"$f":"IF(B259=\"\",\"\",IF(Zahteve!A260=\"da\",CONCATENATE(B259,\"-ustreza\"),\"\"))","v":""},{"$f":"IF(B259=\"\",\"\",IF(Zahteve!G260=\"\",\"\",CONCATENATE(B259,\"-opis\")))","v":""},{"$f":"IF(B259=\"\",\"\",IF(Zahteve!H260=\"\",\"\",CONCATENATE(B259,\"-dni\")))","v":""},{"$f":"IF(B259=\"\",\"\",IF(Zahteve!H260=\"\",\"\",Zahteve!H260))","v":""}]
[{"$f":"IF(Zahteve!B261=\"\",\"\",Zahteve!B261)","v":"E.2.2"},{"$f":"IF(Zahteve!B261=\"\",\"\",LEFT(Zahteve!B261,1))","v":"E"},{"$f":"IF(B260=\"\",\"\",IF(Zahteve!F261=\"da\",CONCATENATE(B260,\"-DA\"),\"\"))","v":""},{"$f":"IF(B260=\"\",\"\",IF(Zahteve!A261=\"da\",CONCATENATE(B260,\"-ustreza\"),\"\"))","v":""},{"$f":"IF(B260=\"\",\"\",IF(Zahteve!G261=\"\",\"\",CONCATENATE(B260,\"-opis\")))","v":""},{"$f":"IF(B260=\"\",\"\",IF(Zahteve!H261=\"\",\"\",CONCATENATE(B260,\"-dni\")))","v":""},{"$f":"IF(B260=\"\",\"\",IF(Zahteve!H261=\"\",\"\",Zahteve!H261))","v":""}]
[{"$f":"IF(Zahteve!B262=\"\",\"\",Zahteve!B262)","v":"E.2.3"},{"$f":"IF(Zahteve!B262=\"\",\"\",LEFT(Zahteve!B262,1))","v":"E"},{"$f":"IF(B261=\"\",\"\",IF(Zahteve!F262=\"da\",CONCATENATE(B261,\"-DA\"),\"\"))","v":""},{"$f":"IF(B261=\"\",\"\",IF(Zahteve!A262=\"da\",CONCATENATE(B261,\"-ustreza\"),\"\"))","v":""},{"$f":"IF(B261=\"\",\"\",IF(Zahteve!G262=\"\",\"\",CONCATENATE(B261,\"-opis\")))","v":""},{"$f":"IF(B261=\"\",\"\",IF(Zahteve!H262=\"\",\"\",CONCATENATE(B261,\"-dni\")))","v":""},{"$f":"IF(B261=\"\",\"\",IF(Zahteve!H262=\"\",\"\",Zahteve!H262))","v":""}]
[{"$f":"IF(Zahteve!B263=\"\",\"\",Zahteve!B263)","v":"E.2.4"},{"$f":"IF(Zahteve!B263=\"\",\"\",LEFT(Zahteve!B263,1))","v":"E"},{"$f":"IF(B262=\"\",\"\",IF(Zahteve!F263=\"da\",CONCATENATE(B262,\"-DA\"),\"\"))","v":""},{"$f":"IF(B262=\"\",\"\",IF(Zahteve!A263=\"da\",CONCATENATE(B262,\"-ustreza\"),\"\"))","v":""},{"$f":"IF(B262=\"\",\"\",IF(Zahteve!G263=\"\",\"\",CONCATENATE(B262,\"-opis\")))","v":""},{"$f":"IF(B262=\"\",\"\",IF(Zahteve!H263=\"\",\"\",CONCATENATE(B262,\"-dni\")))","v":""},{"$f":"IF(B262=\"\",\"\",IF(Zahteve!H263=\"\",\"\",Zahteve!H263))","v":""}]
[{"$f":"IF(Zahteve!B264=\"\",\"\",Zahteve!B264)","v":"E.2.5"},{"$f":"IF(Zahteve!B264=\"\",\"\",LEFT(Zahteve!B264,1))","v":"E"},{"$f":"IF(B263=\"\",\"\",IF(Zahteve!F264=\"da\",CONCATENATE(B263,\"-DA\"),\"\"))","v":""},{"$f":"IF(B263=\"\",\"\",IF(Zahteve!A264=\"da\",CONCATENATE(B263,\"-ustreza\"),\"\"))","v":""},{"$f":"IF(B263=\"\",\"\",IF(Zahteve!G264=\"\",\"\",CONCATENATE(B263,\"-opis\")))","v":""},{"$f":"IF(B263=\"\",\"\",IF(Zahteve!H264=\"\",\"\",CONCATENATE(B263,\"-dni\")))","v":""},{"$f":"IF(B263=\"\",\"\",IF(Zahteve!H264=\"\",\"\",Zahteve!H264))","v":""}]
[{"$f":"IF(Zahteve!B265=\"\",\"\",Zahteve!B265)","v":"E.2.6"},{"$f":"IF(Zahteve!B265=\"\",\"\",LEFT(Zahteve!B265,1))","v":"E"},{"$f":"IF(B264=\"\",\"\",IF(Zahteve!F265=\"da\",CONCATENATE(B264,\"-DA\"),\"\"))","v":""},{"$f":"IF(B264=\"\",\"\",IF(Zahteve!A265=\"da\",CONCATENATE(B264,\"-ustreza\"),\"\"))","v":""},{"$f":"IF(B264=\"\",\"\",IF(Zahteve!G265=\"\",\"\",CONCATENATE(B264,\"-opis\")))","v":""},{"$f":"IF(B264=\"\",\"\",IF(Zahteve!H265=\"\",\"\",CONCATENATE(B264,\"-dni\")))","v":""},{"$f":"IF(B264=\"\",\"\",IF(Zahteve!H265=\"\",\"\",Zahteve!H265))","v":""}]
[{"$f":"IF(Zahteve!B266=\"\",\"\",Zahteve!B266)","v":"E.3.1"},{"$f":"IF(Zahteve!B266=\"\",\"\",LEFT(Zahteve!B266,1))","v":"E"},{"$f":"IF(B265=\"\",\"\",IF(Zahteve!F266=\"da\",CONCATENATE(B265,\"-DA\"),\"\"))","v":""},{"$f":"IF(B265=\"\",\"\",IF(Zahteve!A266=\"da\",CONCATENATE(B265,\"-ustreza\"),\"\"))","v":""},{"$f":"IF(B265=\"\",\"\",IF(Zahteve!G266=\"\",\"\",CONCATENATE(B265,\"-opis\")))","v":""},{"$f":"IF(B265=\"\",\"\",IF(Zahteve!H266=\"\",\"\",CONCATENATE(B265,\"-dni\")))","v":""},{"$f":"IF(B265=\"\",\"\",IF(Zahteve!H266=\"\",\"\",Zahteve!H266))","v":""}]
[{"$f":"IF(Zahteve!B267=\"\",\"\",Zahteve!B267)","v":"E.3.2"},{"$f":"IF(Zahteve!B267=\"\",\"\",LEFT(Zahteve!B267,1))","v":"E"},{"$f":"IF(B266=\"\",\"\",IF(Zahteve!F267=\"da\",CONCATENATE(B266,\"-DA\"),\"\"))","v":""},{"$f":"IF(B266=\"\",\"\",IF(Zahteve!A267=\"da\",CONCATENATE(B266,\"-ustreza\"),\"\"))","v":""},{"$f":"IF(B266=\"\",\"\",IF(Zahteve!G267=\"\",\"\",CONCATENATE(B266,\"-opis\")))","v":""},{"$f":"IF(B266=\"\",\"\",IF(Zahteve!H267=\"\",\"\",CONCATENATE(B266,\"-dni\")))","v":""},{"$f":"IF(B266=\"\",\"\",IF(Zahteve!H267=\"\",\"\",Zahteve!H267))","v":""}]
[{"$f":"IF(Zahteve!B268=\"\",\"\",Zahteve!B268)","v":"E.4.1"},{"$f":"IF(Zahteve!B268=\"\",\"\",LEFT(Zahteve!B268,1))","v":"E"},{"$f":"IF(B267=\"\",\"\",IF(Zahteve!F268=\"da\",CONCATENATE(B267,\"-DA\"),\"\"))","v":""},{"$f":"IF(B267=\"\",\"\",IF(Zahteve!A268=\"da\",CONCATENATE(B267,\"-ustreza\"),\"\"))","v":""},{"$f":"IF(B267=\"\",\"\",IF(Zahteve!G268=\"\",\"\",CONCATENATE(B267,\"-opis\")))","v":""},{"$f":"IF(B267=\"\",\"\",IF(Zahteve!H268=\"\",\"\",CONCATENATE(B267,\"-dni\")))","v":""},{"$f":"IF(B267=\"\",\"\",IF(Zahteve!H268=\"\",\"\",Zahteve!H268))","v":""}]
[{"$f":"IF(Zahteve!B269=\"\",\"\",Zahteve!B269)","v":""},{"$f":"IF(Zahteve!B269=\"\",\"\",LEFT(Zahteve!B269,1))","v":""},{"$f":"IF(B268=\"\",\"\",IF(Zahteve!F269=\"da\",CONCATENATE(B268,\"-DA\"),\"\"))","v":""},{"$f":"IF(B268=\"\",\"\",IF(Zahteve!A269=\"da\",CONCATENATE(B268,\"-ustreza\"),\"\"))","v":""},{"$f":"IF(B268=\"\",\"\",IF(Zahteve!G269=\"\",\"\",CONCATENATE(B268,\"-opis\")))","v":""},{"$f":"IF(B268=\"\",\"\",IF(Zahteve!H269=\"\",\"\",CONCATENATE(B268,\"-dni\")))","v":""},{"$f":"IF(B268=\"\",\"\",IF(Zahteve!H269=\"\",\"\",Zahteve!H269))","v":""}]
[{"$f":"IF(Zahteve!B270=\"\",\"\",Zahteve!B270)","v":"E.5.1"},{"$f":"IF(Zahteve!B270=\"\",\"\",LEFT(Zahteve!B270,1))","v":"E"},{"$f":"IF(B269=\"\",\"\",IF(Zahteve!F270=\"da\",CONCATENATE(B269,\"-DA\"),\"\"))","v":""},{"$f":"IF(B269=\"\",\"\",IF(Zahteve!A270=\"da\",CONCATENATE(B269,\"-ustreza\"),\"\"))","v":""},{"$f":"IF(B269=\"\",\"\",IF(Zahteve!G270=\"\",\"\",CONCATENATE(B269,\"-opis\")))","v":""},{"$f":"IF(B269=\"\",\"\",IF(Zahteve!H270=\"\",\"\",CONCATENATE(B269,\"-dni\")))","v":""},{"$f":"IF(B269=\"\",\"\",IF(Zahteve!H270=\"\",\"\",Zahteve!H270))","v":""}]
[{"$f":"IF(Zahteve!B271=\"\",\"\",Zahteve!B271)","v":"E.5.2"},{"$f":"IF(Zahteve!B271=\"\",\"\",LEFT(Zahteve!B271,1))","v":"E"},{"$f":"IF(B270=\"\",\"\",IF(Zahteve!F271=\"da\",CONCATENATE(B270,\"-DA\"),\"\"))","v":""},{"$f":"IF(B270=\"\",\"\",IF(Zahteve!A271=\"da\",CONCATENATE(B270,\"-ustreza\"),\"\"))","v":""},{"$f":"IF(B270=\"\",\"\",IF(Zahteve!G271=\"\",\"\",CONCATENATE(B270,\"-opis\")))","v":""},{"$f":"IF(B270=\"\",\"\",IF(Zahteve!H271=\"\",\"\",CONCATENATE(B270,\"-dni\")))","v":""},{"$f":"IF(B270=\"\",\"\",IF(Zahteve!H271=\"\",\"\",Zahteve!H271))","v":""}]
[{"$f":"IF(Zahteve!B272=\"\",\"\",Zahteve!B272)","v":"E.5.3"},{"$f":"IF(Zahteve!B272=\"\",\"\",LEFT(Zahteve!B272,1))","v":"E"},{"$f":"IF(B271=\"\",\"\",IF(Zahteve!F272=\"da\",CONCATENATE(B271,\"-DA\"),\"\"))","v":""},{"$f":"IF(B271=\"\",\"\",IF(Zahteve!A272=\"da\",CONCATENATE(B271,\"-ustreza\"),\"\"))","v":""},{"$f":"IF(B271=\"\",\"\",IF(Zahteve!G272=\"\",\"\",CONCATENATE(B271,\"-opis\")))","v":""},{"$f":"IF(B271=\"\",\"\",IF(Zahteve!H272=\"\",\"\",CONCATENATE(B271,\"-dni\")))","v":""},{"$f":"IF(B271=\"\",\"\",IF(Zahteve!H272=\"\",\"\",Zahteve!H272))","v":""}]
[{"$f":"IF(Zahteve!B273=\"\",\"\",Zahteve!B273)","v":"E.5.4"},{"$f":"IF(Zahteve!B273=\"\",\"\",LEFT(Zahteve!B273,1))","v":"E"},{"$f":"IF(B272=\"\",\"\",IF(Zahteve!F273=\"da\",CONCATENATE(B272,\"-DA\"),\"\"))","v":""},{"$f":"IF(B272=\"\",\"\",IF(Zahteve!A273=\"da\",CONCATENATE(B272,\"-ustreza\"),\"\"))","v":""},{"$f":"IF(B272=\"\",\"\",IF(Zahteve!G273=\"\",\"\",CONCATENATE(B272,\"-opis\")))","v":""},{"$f":"IF(B272=\"\",\"\",IF(Zahteve!H273=\"\",\"\",CONCATENATE(B272,\"-dni\")))","v":""},{"$f":"IF(B272=\"\",\"\",IF(Zahteve!H273=\"\",\"\",Zahteve!H273))","v":""}]
[{"$f":"IF(Zahteve!B274=\"\",\"\",Zahteve!B274)","v":""},{"$f":"IF(Zahteve!B274=\"\",\"\",LEFT(Zahteve!B274,1))","v":""},{"$f":"IF(B273=\"\",\"\",IF(Zahteve!F274=\"da\",CONCATENATE(B273,\"-DA\"),\"\"))","v":""},{"$f":"IF(B273=\"\",\"\",IF(Zahteve!A274=\"da\",CONCATENATE(B273,\"-ustreza\"),\"\"))","v":""},{"$f":"IF(B273=\"\",\"\",IF(Zahteve!G274=\"\",\"\",CONCATENATE(B273,\"-opis\")))","v":""},{"$f":"IF(B273=\"\",\"\",IF(Zahteve!H274=\"\",\"\",CONCATENATE(B273,\"-dni\")))","v":""},{"$f":"IF(B273=\"\",\"\",IF(Zahteve!H274=\"\",\"\",Zahteve!H274))","v":""}]
[{"$f":"IF(Zahteve!B275=\"\",\"\",Zahteve!B275)","v":"E.6.1"},{"$f":"IF(Zahteve!B275=\"\",\"\",LEFT(Zahteve!B275,1))","v":"E"},{"$f":"IF(B274=\"\",\"\",IF(Zahteve!F275=\"da\",CONCATENATE(B274,\"-DA\"),\"\"))","v":""},{"$f":"IF(B274=\"\",\"\",IF(Zahteve!A275=\"da\",CONCATENATE(B274,\"-ustreza\"),\"\"))","v":""},{"$f":"IF(B274=\"\",\"\",IF(Zahteve!G275=\"\",\"\",CONCATENATE(B274,\"-opis\")))","v":""},{"$f":"IF(B274=\"\",\"\",IF(Zahteve!H275=\"\",\"\",CONCATENATE(B274,\"-dni\")))","v":""},{"$f":"IF(B274=\"\",\"\",IF(Zahteve!H275=\"\",\"\",Zahteve!H275))","v":""}]
[{"$f":"IF(Zahteve!B276=\"\",\"\",Zahteve!B276)","v":"E.6.2"},{"$f":"IF(Zahteve!B276=\"\",\"\",LEFT(Zahteve!B276,1))","v":"E"},{"$f":"IF(B275=\"\",\"\",IF(Zahteve!F276=\"da\",CONCATENATE(B275,\"-DA\"),\"\"))","v":""},{"$f":"IF(B275=\"\",\"\",IF(Zahteve!A276=\"da\",CONCATENATE(B275,\"-ustreza\"),\"\"))","v":""},{"$f":"IF(B275=\"\",\"\",IF(Zahteve!G276=\"\",\"\",CONCATENATE(B275,\"-opis\")))","v":""},{"$f":"IF(B275=\"\",\"\",IF(Zahteve!H276=\"\",\"\",CONCATENATE(B275,\"-dni\")))","v":""},{"$f":"IF(B275=\"\",\"\",IF(Zahteve!H276=\"\",\"\",Zahteve!H276))","v":""}]
[{"$f":"IF(Zahteve!B277=\"\",\"\",Zahteve!B277)","v":"E.6.3"},{"$f":"IF(Zahteve!B277=\"\",\"\",LEFT(Zahteve!B277,1))","v":"E"},{"$f":"IF(B276=\"\",\"\",IF(Zahteve!F277=\"da\",CONCATENATE(B276,\"-DA\"),\"\"))","v":""},{"$f":"IF(B276=\"\",\"\",IF(Zahteve!A277=\"da\",CONCATENATE(B276,\"-ustreza\"),\"\"))","v":""},{"$f":"IF(B276=\"\",\"\",IF(Zahteve!G277=\"\",\"\",CONCATENATE(B276,\"-opis\")))","v":""},{"$f":"IF(B276=\"\",\"\",IF(Zahteve!H277=\"\",\"\",CONCATENATE(B276,\"-dni\")))","v":""},{"$f":"IF(B276=\"\",\"\",IF(Zahteve!H277=\"\",\"\",Zahteve!H277))","v":""}]
[{"$f":"IF(Zahteve!B278=\"\",\"\",Zahteve!B278)","v":"E.6.4"},{"$f":"IF(Zahteve!B278=\"\",\"\",LEFT(Zahteve!B278,1))","v":"E"},{"$f":"IF(B277=\"\",\"\",IF(Zahteve!F278=\"da\",CONCATENATE(B277,\"-DA\"),\"\"))","v":""},{"$f":"IF(B277=\"\",\"\",IF(Zahteve!A278=\"da\",CONCATENATE(B277,\"-ustreza\"),\"\"))","v":""},{"$f":"IF(B277=\"\",\"\",IF(Zahteve!G278=\"\",\"\",CONCATENATE(B277,\"-opis\")))","v":""},{"$f":"IF(B277=\"\",\"\",IF(Zahteve!H278=\"\",\"\",CONCATENATE(B277,\"-dni\")))","v":""},{"$f":"IF(B277=\"\",\"\",IF(Zahteve!H278=\"\",\"\",Zahteve!H278))","v":""}]
[{"$f":"IF(Zahteve!B279=\"\",\"\",Zahteve!B279)","v":"E.6.5"},{"$f":"IF(Zahteve!B279=\"\",\"\",LEFT(Zahteve!B279,1))","v":"E"},{"$f":"IF(B278=\"\",\"\",IF(Zahteve!F279=\"da\",CONCATENATE(B278,\"-DA\"),\"\"))","v":""},{"$f":"IF(B278=\"\",\"\",IF(Zahteve!A279=\"da\",CONCATENATE(B278,\"-ustreza\"),\"\"))","v":""},{"$f":"IF(B278=\"\",\"\",IF(Zahteve!G279=\"\",\"\",CONCATENATE(B278,\"-opis\")))","v":""},{"$f":"IF(B278=\"\",\"\",IF(Zahteve!H279=\"\",\"\",CONCATENATE(B278,\"-dni\")))","v":""},{"$f":"IF(B278=\"\",\"\",IF(Zahteve!H279=\"\",\"\",Zahteve!H279))","v":""}]
[{"$f":"IF(Zahteve!B280=\"\",\"\",Zahteve!B280)","v":"E.6.6"},{"$f":"IF(Zahteve!B280=\"\",\"\",LEFT(Zahteve!B280,1))","v":"E"},{"$f":"IF(B279=\"\",\"\",IF(Zahteve!F280=\"da\",CONCATENATE(B279,\"-DA\"),\"\"))","v":""},{"$f":"IF(B279=\"\",\"\",IF(Zahteve!A280=\"da\",CONCATENATE(B279,\"-ustreza\"),\"\"))","v":""},{"$f":"IF(B279=\"\",\"\",IF(Zahteve!G280=\"\",\"\",CONCATENATE(B279,\"-opis\")))","v":""},{"$f":"IF(B279=\"\",\"\",IF(Zahteve!H280=\"\",\"\",CONCATENATE(B279,\"-dni\")))","v":""},{"$f":"IF(B279=\"\",\"\",IF(Zahteve!H280=\"\",\"\",Zahteve!H280))","v":""}]
[{"$f":"IF(Zahteve!B281=\"\",\"\",Zahteve!B281)","v":"E.6.7"},{"$f":"IF(Zahteve!B281=\"\",\"\",LEFT(Zahteve!B281,1))","v":"E"},{"$f":"IF(B280=\"\",\"\",IF(Zahteve!F281=\"da\",CONCATENATE(B280,\"-DA\"),\"\"))","v":""},{"$f":"IF(B280=\"\",\"\",IF(Zahteve!A281=\"da\",CONCATENATE(B280,\"-ustreza\"),\"\"))","v":""},{"$f":"IF(B280=\"\",\"\",IF(Zahteve!G281=\"\",\"\",CONCATENATE(B280,\"-opis\")))","v":""},{"$f":"IF(B280=\"\",\"\",IF(Zahteve!H281=\"\",\"\",CONCATENATE(B280,\"-dni\")))","v":""},{"$f":"IF(B280=\"\",\"\",IF(Zahteve!H281=\"\",\"\",Zahteve!H281))","v":""}]
[{"$f":"IF(Zahteve!B282=\"\",\"\",Zahteve!B282)","v":"E.6.8"},{"$f":"IF(Zahteve!B282=\"\",\"\",LEFT(Zahteve!B282,1))","v":"E"},{"$f":"IF(B281=\"\",\"\",IF(Zahteve!F282=\"da\",CONCATENATE(B281,\"-DA\"),\"\"))","v":""},{"$f":"IF(B281=\"\",\"\",IF(Zahteve!A282=\"da\",CONCATENATE(B281,\"-ustreza\"),\"\"))","v":""},{"$f":"IF(B281=\"\",\"\",IF(Zahteve!G282=\"\",\"\",CONCATENATE(B281,\"-opis\")))","v":""},{"$f":"IF(B281=\"\",\"\",IF(Zahteve!H282=\"\",\"\",CONCATENATE(B281,\"-dni\")))","v":""},{"$f":"IF(B281=\"\",\"\",IF(Zahteve!H282=\"\",\"\",Zahteve!H282))","v":""}]
[{"$f":"IF(Zahteve!B283=\"\",\"\",Zahteve!B283)","v":""},{"$f":"IF(Zahteve!B283=\"\",\"\",LEFT(Zahteve!B283,1))","v":""},{"$f":"IF(B282=\"\",\"\",IF(Zahteve!F283=\"da\",CONCATENATE(B282,\"-DA\"),\"\"))","v":""},{"$f":"IF(B282=\"\",\"\",IF(Zahteve!A283=\"da\",CONCATENATE(B282,\"-ustreza\"),\"\"))","v":""},{"$f":"IF(B282=\"\",\"\",IF(Zahteve!G283=\"\",\"\",CONCATENATE(B282,\"-opis\")))","v":""},{"$f":"IF(B282=\"\",\"\",IF(Zahteve!H283=\"\",\"\",CONCATENATE(B282,\"-dni\")))","v":""},{"$f":"IF(B282=\"\",\"\",IF(Zahteve!H283=\"\",\"\",Zahteve!H283))","v":""}]
[{"$f":"IF(Zahteve!B284=\"\",\"\",Zahteve!B284)","v":"E.7.1"},{"$f":"IF(Zahteve!B284=\"\",\"\",LEFT(Zahteve!B284,1))","v":"E"},{"$f":"IF(B283=\"\",\"\",IF(Zahteve!F284=\"da\",CONCATENATE(B283,\"-DA\"),\"\"))","v":""},{"$f":"IF(B283=\"\",\"\",IF(Zahteve!A284=\"da\",CONCATENATE(B283,\"-ustreza\"),\"\"))","v":""},{"$f":"IF(B283=\"\",\"\",IF(Zahteve!G284=\"\",\"\",CONCATENATE(B283,\"-opis\")))","v":""},{"$f":"IF(B283=\"\",\"\",IF(Zahteve!H284=\"\",\"\",CONCATENATE(B283,\"-dni\")))","v":""},{"$f":"IF(B283=\"\",\"\",IF(Zahteve!H284=\"\",\"\",Zahteve!H284))","v":""}]
[{"$f":"IF(Zahteve!B285=\"\",\"\",Zahteve!B285)","v":"E.7.2"},{"$f":"IF(Zahteve!B285=\"\",\"\",LEFT(Zahteve!B285,1))","v":"E"},{"$f":"IF(B284=\"\",\"\",IF(Zahteve!F285=\"da\",CONCATENATE(B284,\"-DA\"),\"\"))","v":""},{"$f":"IF(B284=\"\",\"\",IF(Zahteve!A285=\"da\",CONCATENATE(B284,\"-ustreza\"),\"\"))","v":""},{"$f":"IF(B284=\"\",\"\",IF(Zahteve!G285=\"\",\"\",CONCATENATE(B284,\"-opis\")))","v":""},{"$f":"IF(B284=\"\",\"\",IF(Zahteve!H285=\"\",\"\",CONCATENATE(B284,\"-dni\")))","v":""},{"$f":"IF(B284=\"\",\"\",IF(Zahteve!H285=\"\",\"\",Zahteve!H285))","v":""}]
[{"$f":"IF(Zahteve!B286=\"\",\"\",Zahteve!B286)","v":"E.7.3"},{"$f":"IF(Zahteve!B286=\"\",\"\",LEFT(Zahteve!B286,1))","v":"E"},{"$f":"IF(B285=\"\",\"\",IF(Zahteve!F286=\"da\",CONCATENATE(B285,\"-DA\"),\"\"))","v":""},{"$f":"IF(B285=\"\",\"\",IF(Zahteve!A286=\"da\",CONCATENATE(B285,\"-ustreza\"),\"\"))","v":""},{"$f":"IF(B285=\"\",\"\",IF(Zahteve!G286=\"\",\"\",CONCATENATE(B285,\"-opis\")))","v":""},{"$f":"IF(B285=\"\",\"\",IF(Zahteve!H286=\"\",\"\",CONCATENATE(B285,\"-dni\")))","v":""},{"$f":"IF(B285=\"\",\"\",IF(Zahteve!H286=\"\",\"\",Zahteve!H286))","v":""}]
[{"$f":"IF(Zahteve!B287=\"\",\"\",Zahteve!B287)","v":""},{"$f":"IF(Zahteve!B287=\"\",\"\",LEFT(Zahteve!B287,1))","v":""},{"$f":"IF(B286=\"\",\"\",IF(Zahteve!F287=\"da\",CONCATENATE(B286,\"-DA\"),\"\"))","v":""},{"$f":"IF(B286=\"\",\"\",IF(Zahteve!A287=\"da\",CONCATENATE(B286,\"-ustreza\"),\"\"))","v":""},{"$f":"IF(B286=\"\",\"\",IF(Zahteve!G287=\"\",\"\",CONCATENATE(B286,\"-opis\")))","v":""},{"$f":"IF(B286=\"\",\"\",IF(Zahteve!H287=\"\",\"\",CONCATENATE(B286,\"-dni\")))","v":""},{"$f":"IF(B286=\"\",\"\",IF(Zahteve!H287=\"\",\"\",Zahteve!H287))","v":""}]
[{"$f":"IF(Zahteve!B288=\"\",\"\",Zahteve!B288)","v":"E.8.1"},{"$f":"IF(Zahteve!B288=\"\",\"\",LEFT(Zahteve!B288,1))","v":"E"},{"$f":"IF(B287=\"\",\"\",IF(Zahteve!F288=\"da\",CONCATENATE(B287,\"-DA\"),\"\"))","v":""},{"$f":"IF(B287=\"\",\"\",IF(Zahteve!A288=\"da\",CONCATENATE(B287,\"-ustreza\"),\"\"))","v":""},{"$f":"IF(B287=\"\",\"\",IF(Zahteve!G288=\"\",\"\",CONCATENATE(B287,\"-opis\")))","v":""},{"$f":"IF(B287=\"\",\"\",IF(Zahteve!H288=\"\",\"\",CONCATENATE(B287,\"-dni\")))","v":""},{"$f":"IF(B287=\"\",\"\",IF(Zahteve!H288=\"\",\"\",Zahteve!H288))","v":""}]
[{"$f":"IF(Zahteve!B289=\"\",\"\",Zahteve!B289)","v":"E.8.2"},{"$f":"IF(Zahteve!B289=\"\",\"\",LEFT(Zahteve!B289,1))","v":"E"},{"$f":"IF(B288=\"\",\"\",IF(Zahteve!F289=\"da\",CONCATENATE(B288,\"-DA\"),\"\"))","v":""},{"$f":"IF(B288=\"\",\"\",IF(Zahteve!A289=\"da\",CONCATENATE(B288,\"-ustreza\"),\"\"))","v":""},{"$f":"IF(B288=\"\",\"\",IF(Zahteve!G289=\"\",\"\",CONCATENATE(B288,\"-opis\")))","v":""},{"$f":"IF(B288=\"\",\"\",IF(Zahteve!H289=\"\",\"\",CONCATENATE(B288,\"-dni\")))","v":""},{"$f":"IF(B288=\"\",\"\",IF(Zahteve!H289=\"\",\"\",Zahteve!H289))","v":""}]
[{"$f":"IF(Zahteve!B290=\"\",\"\",Zahteve!B290)","v":""},{"$f":"IF(Zahteve!B290=\"\",\"\",LEFT(Zahteve!B290,1))","v":""},{"$f":"IF(B289=\"\",\"\",IF(Zahteve!F290=\"da\",CONCATENATE(B289,\"-DA\"),\"\"))","v":""},{"$f":"IF(B289=\"\",\"\",IF(Zahteve!A290=\"da\",CONCATENATE(B289,\"-ustreza\"),\"\"))","v":""},{"$f":"IF(B289=\"\",\"\",IF(Zahteve!G290=\"\",\"\",CONCATENATE(B289,\"-opis\")))","v":""},{"$f":"IF(B289=\"\",\"\",IF(Zahteve!H290=\"\",\"\",CONCATENATE(B289,\"-dni\")))","v":""},{"$f":"IF(B289=\"\",\"\",IF(Zahteve!H290=\"\",\"\",Zahteve!H290))","v":""}]
[{"$f":"IF(Zahteve!B291=\"\",\"\",Zahteve!B291)","v":""},{"$f":"IF(Zahteve!B291=\"\",\"\",LEFT(Zahteve!B291,1))","v":""},{"$f":"IF(B290=\"\",\"\",IF(Zahteve!F291=\"da\",CONCATENATE(B290,\"-DA\"),\"\"))","v":""},{"$f":"IF(B290=\"\",\"\",IF(Zahteve!A291=\"da\",CONCATENATE(B290,\"-ustreza\"),\"\"))","v":""},{"$f":"IF(B290=\"\",\"\",IF(Zahteve!G291=\"\",\"\",CONCATENATE(B290,\"-opis\")))","v":""},{"$f":"IF(B290=\"\",\"\",IF(Zahteve!H291=\"\",\"\",CONCATENATE(B290,\"-dni\")))","v":""},{"$f":"IF(B290=\"\",\"\",IF(Zahteve!H291=\"\",\"\",Zahteve!H291))","v":""}]
[{"$f":"IF(Zahteve!B292=\"\",\"\",Zahteve!B292)","v":"F.1.1"},{"$f":"IF(Zahteve!B292=\"\",\"\",LEFT(Zahteve!B292,1))","v":"F"},{"$f":"IF(B291=\"\",\"\",IF(Zahteve!F292=\"da\",CONCATENATE(B291,\"-DA\"),\"\"))","v":""},{"$f":"IF(B291=\"\",\"\",IF(Zahteve!A292=\"da\",CONCATENATE(B291,\"-ustreza\"),\"\"))","v":""},{"$f":"IF(B291=\"\",\"\",IF(Zahteve!G292=\"\",\"\",CONCATENATE(B291,\"-opis\")))","v":""},{"$f":"IF(B291=\"\",\"\",IF(Zahteve!H292=\"\",\"\",CONCATENATE(B291,\"-dni\")))","v":""},{"$f":"IF(B291=\"\",\"\",IF(Zahteve!H292=\"\",\"\",Zahteve!H292))","v":""}]
[{"$f":"IF(Zahteve!B293=\"\",\"\",Zahteve!B293)","v":"F.1.2"},{"$f":"IF(Zahteve!B293=\"\",\"\",LEFT(Zahteve!B293,1))","v":"F"},{"$f":"IF(B292=\"\",\"\",IF(Zahteve!F293=\"da\",CONCATENATE(B292,\"-DA\"),\"\"))","v":""},{"$f":"IF(B292=\"\",\"\",IF(Zahteve!A293=\"da\",CONCATENATE(B292,\"-ustreza\"),\"\"))","v":""},{"$f":"IF(B292=\"\",\"\",IF(Zahteve!G293=\"\",\"\",CONCATENATE(B292,\"-opis\")))","v":""},{"$f":"IF(B292=\"\",\"\",IF(Zahteve!H293=\"\",\"\",CONCATENATE(B292,\"-dni\")))","v":""},{"$f":"IF(B292=\"\",\"\",IF(Zahteve!H293=\"\",\"\",Zahteve!H293))","v":""}]
[{"$f":"IF(Zahteve!B294=\"\",\"\",Zahteve!B294)","v":"F.2.1"},{"$f":"IF(Zahteve!B294=\"\",\"\",LEFT(Zahteve!B294,1))","v":"F"},{"$f":"IF(B293=\"\",\"\",IF(Zahteve!F294=\"da\",CONCATENATE(B293,\"-DA\"),\"\"))","v":""},{"$f":"IF(B293=\"\",\"\",IF(Zahteve!A294=\"da\",CONCATENATE(B293,\"-ustreza\"),\"\"))","v":""},{"$f":"IF(B293=\"\",\"\",IF(Zahteve!G294=\"\",\"\",CONCATENATE(B293,\"-opis\")))","v":""},{"$f":"IF(B293=\"\",\"\",IF(Zahteve!H294=\"\",\"\",CONCATENATE(B293,\"-dni\")))","v":""},{"$f":"IF(B293=\"\",\"\",IF(Zahteve!H294=\"\",\"\",Zahteve!H294))","v":""}]
[{"$f":"IF(Zahteve!B295=\"\",\"\",Zahteve!B295)","v":"F.2.2"},{"$f":"IF(Zahteve!B295=\"\",\"\",LEFT(Zahteve!B295,1))","v":"F"},{"$f":"IF(B294=\"\",\"\",IF(Zahteve!F295=\"da\",CONCATENATE(B294,\"-DA\"),\"\"))","v":""},{"$f":"IF(B294=\"\",\"\",IF(Zahteve!A295=\"da\",CONCATENATE(B294,\"-ustreza\"),\"\"))","v":""},{"$f":"IF(B294=\"\",\"\",IF(Zahteve!G295=\"\",\"\",CONCATENATE(B294,\"-opis\")))","v":""},{"$f":"IF(B294=\"\",\"\",IF(Zahteve!H295=\"\",\"\",CONCATENATE(B294,\"-dni\")))","v":""},{"$f":"IF(B294=\"\",\"\",IF(Zahteve!H295=\"\",\"\",Zahteve!H295))","v":""}]
[{"$f":"IF(Zahteve!B296=\"\",\"\",Zahteve!B296)","v":"F.3.1"},{"$f":"IF(Zahteve!B296=\"\",\"\",LEFT(Zahteve!B296,1))","v":"F"},{"$f":"IF(B295=\"\",\"\",IF(Zahteve!F296=\"da\",CONCATENATE(B295,\"-DA\"),\"\"))","v":""},{"$f":"IF(B295=\"\",\"\",IF(Zahteve!A296=\"da\",CONCATENATE(B295,\"-ustreza\"),\"\"))","v":""},{"$f":"IF(B295=\"\",\"\",IF(Zahteve!G296=\"\",\"\",CONCATENATE(B295,\"-opis\")))","v":""},{"$f":"IF(B295=\"\",\"\",IF(Zahteve!H296=\"\",\"\",CONCATENATE(B295,\"-dni\")))","v":""},{"$f":"IF(B295=\"\",\"\",IF(Zahteve!H296=\"\",\"\",Zahteve!H296))","v":""}]
[{"$f":"IF(Zahteve!B297=\"\",\"\",Zahteve!B297)","v":"F.3.2"},{"$f":"IF(Zahteve!B297=\"\",\"\",LEFT(Zahteve!B297,1))","v":"F"},{"$f":"IF(B296=\"\",\"\",IF(Zahteve!F297=\"da\",CONCATENATE(B296,\"-DA\"),\"\"))","v":""},{"$f":"IF(B296=\"\",\"\",IF(Zahteve!A297=\"da\",CONCATENATE(B296,\"-ustreza\"),\"\"))","v":""},{"$f":"IF(B296=\"\",\"\",IF(Zahteve!G297=\"\",\"\",CONCATENATE(B296,\"-opis\")))","v":""},{"$f":"IF(B296=\"\",\"\",IF(Zahteve!H297=\"\",\"\",CONCATENATE(B296,\"-dni\")))","v":""},{"$f":"IF(B296=\"\",\"\",IF(Zahteve!H297=\"\",\"\",Zahteve!H297))","v":""}]
[{"$f":"IF(Zahteve!B298=\"\",\"\",Zahteve!B298)","v":"F.3.3"},{"$f":"IF(Zahteve!B298=\"\",\"\",LEFT(Zahteve!B298,1))","v":"F"},{"$f":"IF(B297=\"\",\"\",IF(Zahteve!F298=\"da\",CONCATENATE(B297,\"-DA\"),\"\"))","v":""},{"$f":"IF(B297=\"\",\"\",IF(Zahteve!A298=\"da\",CONCATENATE(B297,\"-ustreza\"),\"\"))","v":""},{"$f":"IF(B297=\"\",\"\",IF(Zahteve!G298=\"\",\"\",CONCATENATE(B297,\"-opis\")))","v":""},{"$f":"IF(B297=\"\",\"\",IF(Zahteve!H298=\"\",\"\",CONCATENATE(B297,\"-dni\")))","v":""},{"$f":"IF(B297=\"\",\"\",IF(Zahteve!H298=\"\",\"\",Zahteve!H298))","v":""}]
[{"$f":"IF(Zahteve!B299=\"\",\"\",Zahteve!B299)","v":"F.3.4"},{"$f":"IF(Zahteve!B299=\"\",\"\",LEFT(Zahteve!B299,1))","v":"F"},{"$f":"IF(B298=\"\",\"\",IF(Zahteve!F299=\"da\",CONCATENATE(B298,\"-DA\"),\"\"))","v":""},{"$f":"IF(B298=\"\",\"\",IF(Zahteve!A299=\"da\",CONCATENATE(B298,\"-ustreza\"),\"\"))","v":""},{"$f":"IF(B298=\"\",\"\",IF(Zahteve!G299=\"\",\"\",CONCATENATE(B298,\"-opis\")))","v":""},{"$f":"IF(B298=\"\",\"\",IF(Zahteve!H299=\"\",\"\",CONCATENATE(B298,\"-dni\")))","v":""},{"$f":"IF(B298=\"\",\"\",IF(Zahteve!H299=\"\",\"\",Zahteve!H299))","v":""}]
[{"$f":"IF(Zahteve!B300=\"\",\"\",Zahteve!B300)","v":"F.3.5"},{"$f":"IF(Zahteve!B300=\"\",\"\",LEFT(Zahteve!B300,1))","v":"F"},{"$f":"IF(B299=\"\",\"\",IF(Zahteve!F300=\"da\",CONCATENATE(B299,\"-DA\"),\"\"))","v":""},{"$f":"IF(B299=\"\",\"\",IF(Zahteve!A300=\"da\",CONCATENATE(B299,\"-ustreza\"),\"\"))","v":""},{"$f":"IF(B299=\"\",\"\",IF(Zahteve!G300=\"\",\"\",CONCATENATE(B299,\"-opis\")))","v":""},{"$f":"IF(B299=\"\",\"\",IF(Zahteve!H300=\"\",\"\",CONCATENATE(B299,\"-dni\")))","v":""},{"$f":"IF(B299=\"\",\"\",IF(Zahteve!H300=\"\",\"\",Zahteve!H300))","v":""}]
[{"$f":"IF(Zahteve!B301=\"\",\"\",Zahteve!B301)","v":"F.3.6"},{"$f":"IF(Zahteve!B301=\"\",\"\",LEFT(Zahteve!B301,1))","v":"F"},{"$f":"IF(B300=\"\",\"\",IF(Zahteve!F301=\"da\",CONCATENATE(B300,\"-DA\"),\"\"))","v":""},{"$f":"IF(B300=\"\",\"\",IF(Zahteve!A301=\"da\",CONCATENATE(B300,\"-ustreza\"),\"\"))","v":""},{"$f":"IF(B300=\"\",\"\",IF(Zahteve!G301=\"\",\"\",CONCATENATE(B300,\"-opis\")))","v":""},{"$f":"IF(B300=\"\",\"\",IF(Zahteve!H301=\"\",\"\",CONCATENATE(B300,\"-dni\")))","v":""},{"$f":"IF(B300=\"\",\"\",IF(Zahteve!H301=\"\",\"\",Zahteve!H301))","v":""}]
[{"$f":"IF(Zahteve!B302=\"\",\"\",Zahteve!B302)","v":"F.4.1"},{"$f":"IF(Zahteve!B302=\"\",\"\",LEFT(Zahteve!B302,1))","v":"F"},{"$f":"IF(B301=\"\",\"\",IF(Zahteve!F302=\"da\",CONCATENATE(B301,\"-DA\"),\"\"))","v":""},{"$f":"IF(B301=\"\",\"\",IF(Zahteve!A302=\"da\",CONCATENATE(B301,\"-ustreza\"),\"\"))","v":""},{"$f":"IF(B301=\"\",\"\",IF(Zahteve!G302=\"\",\"\",CONCATENATE(B301,\"-opis\")))","v":""},{"$f":"IF(B301=\"\",\"\",IF(Zahteve!H302=\"\",\"\",CONCATENATE(B301,\"-dni\")))","v":""},{"$f":"IF(B301=\"\",\"\",IF(Zahteve!H302=\"\",\"\",Zahteve!H302))","v":""}]
[{"$f":"IF(Zahteve!B303=\"\",\"\",Zahteve!B303)","v":"F.4.2"},{"$f":"IF(Zahteve!B303=\"\",\"\",LEFT(Zahteve!B303,1))","v":"F"},{"$f":"IF(B302=\"\",\"\",IF(Zahteve!F303=\"da\",CONCATENATE(B302,\"-DA\"),\"\"))","v":""},{"$f":"IF(B302=\"\",\"\",IF(Zahteve!A303=\"da\",CONCATENATE(B302,\"-ustreza\"),\"\"))","v":""},{"$f":"IF(B302=\"\",\"\",IF(Zahteve!G303=\"\",\"\",CONCATENATE(B302,\"-opis\")))","v":""},{"$f":"IF(B302=\"\",\"\",IF(Zahteve!H303=\"\",\"\",CONCATENATE(B302,\"-dni\")))","v":""},{"$f":"IF(B302=\"\",\"\",IF(Zahteve!H303=\"\",\"\",Zahteve!H303))","v":""}]
[{"$f":"IF(Zahteve!B304=\"\",\"\",Zahteve!B304)","v":""},{"$f":"IF(Zahteve!B304=\"\",\"\",LEFT(Zahteve!B304,1))","v":""},{"$f":"IF(B303=\"\",\"\",IF(Zahteve!F304=\"da\",CONCATENATE(B303,\"-DA\"),\"\"))","v":""},{"$f":"IF(B303=\"\",\"\",IF(Zahteve!A304=\"da\",CONCATENATE(B303,\"-ustreza\"),\"\"))","v":""},{"$f":"IF(B303=\"\",\"\",IF(Zahteve!G304=\"\",\"\",CONCATENATE(B303,\"-opis\")))","v":""},{"$f":"IF(B303=\"\",\"\",IF(Zahteve!H304=\"\",\"\",CONCATENATE(B303,\"-dni\")))","v":""},{"$f":"IF(B303=\"\",\"\",IF(Zahteve!H304=\"\",\"\",Zahteve!H304))","v":""}]
[{"$f":"IF(Zahteve!B305=\"\",\"\",Zahteve!B305)","v":"F.5.1"},{"$f":"IF(Zahteve!B305=\"\",\"\",LEFT(Zahteve!B305,1))","v":"F"},{"$f":"IF(B304=\"\",\"\",IF(Zahteve!F305=\"da\",CONCATENATE(B304,\"-DA\"),\"\"))","v":""},{"$f":"IF(B304=\"\",\"\",IF(Zahteve!A305=\"da\",CONCATENATE(B304,\"-ustreza\"),\"\"))","v":""},{"$f":"IF(B304=\"\",\"\",IF(Zahteve!G305=\"\",\"\",CONCATENATE(B304,\"-opis\")))","v":""},{"$f":"IF(B304=\"\",\"\",IF(Zahteve!H305=\"\",\"\",CONCATENATE(B304,\"-dni\")))","v":""},{"$f":"IF(B304=\"\",\"\",IF(Zahteve!H305=\"\",\"\",Zahteve!H305))","v":""}]
[{"$f":"IF(Zahteve!B306=\"\",\"\",Zahteve!B306)","v":"F.5.2"},{"$f":"IF(Zahteve!B306=\"\",\"\",LEFT(Zahteve!B306,1))","v":"F"},{"$f":"IF(B305=\"\",\"\",IF(Zahteve!F306=\"da\",CONCATENATE(B305,\"-DA\"),\"\"))","v":""},{"$f":"IF(B305=\"\",\"\",IF(Zahteve!A306=\"da\",CONCATENATE(B305,\"-ustreza\"),\"\"))","v":""},{"$f":"IF(B305=\"\",\"\",IF(Zahteve!G306=\"\",\"\",CONCATENATE(B305,\"-opis\")))","v":""},{"$f":"IF(B305=\"\",\"\",IF(Zahteve!H306=\"\",\"\",CONCATENATE(B305,\"-dni\")))","v":""},{"$f":"IF(B305=\"\",\"\",IF(Zahteve!H306=\"\",\"\",Zahteve!H306))","v":""}]
[{"$f":"IF(Zahteve!B307=\"\",\"\",Zahteve!B307)","v":"F.5.3"},{"$f":"IF(Zahteve!B307=\"\",\"\",LEFT(Zahteve!B307,1))","v":"F"},{"$f":"IF(B306=\"\",\"\",IF(Zahteve!F307=\"da\",CONCATENATE(B306,\"-DA\"),\"\"))","v":""},{"$f":"IF(B306=\"\",\"\",IF(Zahteve!A307=\"da\",CONCATENATE(B306,\"-ustreza\"),\"\"))","v":""},{"$f":"IF(B306=\"\",\"\",IF(Zahteve!G307=\"\",\"\",CONCATENATE(B306,\"-opis\")))","v":""},{"$f":"IF(B306=\"\",\"\",IF(Zahteve!H307=\"\",\"\",CONCATENATE(B306,\"-dni\")))","v":""},{"$f":"IF(B306=\"\",\"\",IF(Zahteve!H307=\"\",\"\",Zahteve!H307))","v":""}]
[{"$f":"IF(Zahteve!B308=\"\",\"\",Zahteve!B308)","v":"F.5.4"},{"$f":"IF(Zahteve!B308=\"\",\"\",LEFT(Zahteve!B308,1))","v":"F"},{"$f":"IF(B307=\"\",\"\",IF(Zahteve!F308=\"da\",CONCATENATE(B307,\"-DA\"),\"\"))","v":""},{"$f":"IF(B307=\"\",\"\",IF(Zahteve!A308=\"da\",CONCATENATE(B307,\"-ustreza\"),\"\"))","v":""},{"$f":"IF(B307=\"\",\"\",IF(Zahteve!G308=\"\",\"\",CONCATENATE(B307,\"-opis\")))","v":""},{"$f":"IF(B307=\"\",\"\",IF(Zahteve!H308=\"\",\"\",CONCATENATE(B307,\"-dni\")))","v":""},{"$f":"IF(B307=\"\",\"\",IF(Zahteve!H308=\"\",\"\",Zahteve!H308))","v":""}]
[{"$f":"IF(Zahteve!B309=\"\",\"\",Zahteve!B309)","v":"F.5.5"},{"$f":"IF(Zahteve!B309=\"\",\"\",LEFT(Zahteve!B309,1))","v":"F"},{"$f":"IF(B308=\"\",\"\",IF(Zahteve!F309=\"da\",CONCATENATE(B308,\"-DA\"),\"\"))","v":""},{"$f":"IF(B308=\"\",\"\",IF(Zahteve!A309=\"da\",CONCATENATE(B308,\"-ustreza\"),\"\"))","v":""},{"$f":"IF(B308=\"\",\"\",IF(Zahteve!G309=\"\",\"\",CONCATENATE(B308,\"-opis\")))","v":""},{"$f":"IF(B308=\"\",\"\",IF(Zahteve!H309=\"\",\"\",CONCATENATE(B308,\"-dni\")))","v":""},{"$f":"IF(B308=\"\",\"\",IF(Zahteve!H309=\"\",\"\",Zahteve!H309))","v":""}]
[{"$f":"IF(Zahteve!B310=\"\",\"\",Zahteve!B310)","v":""},{"$f":"IF(Zahteve!B310=\"\",\"\",LEFT(Zahteve!B310,1))","v":""},{"$f":"IF(B309=\"\",\"\",IF(Zahteve!F310=\"da\",CONCATENATE(B309,\"-DA\"),\"\"))","v":""},{"$f":"IF(B309=\"\",\"\",IF(Zahteve!A310=\"da\",CONCATENATE(B309,\"-ustreza\"),\"\"))","v":""},{"$f":"IF(B309=\"\",\"\",IF(Zahteve!G310=\"\",\"\",CONCATENATE(B309,\"-opis\")))","v":""},{"$f":"IF(B309=\"\",\"\",IF(Zahteve!H310=\"\",\"\",CONCATENATE(B309,\"-dni\")))","v":""},{"$f":"IF(B309=\"\",\"\",IF(Zahteve!H310=\"\",\"\",Zahteve!H310))","v":""}]
[{"$f":"IF(Zahteve!B311=\"\",\"\",Zahteve!B311)","v":""},{"$f":"IF(Zahteve!B311=\"\",\"\",LEFT(Zahteve!B311,1))","v":""},{"$f":"IF(B310=\"\",\"\",IF(Zahteve!F311=\"da\",CONCATENATE(B310,\"-DA\"),\"\"))","v":""},{"$f":"IF(B310=\"\",\"\",IF(Zahteve!A311=\"da\",CONCATENATE(B310,\"-ustreza\"),\"\"))","v":""},{"$f":"IF(B310=\"\",\"\",IF(Zahteve!G311=\"\",\"\",CONCATENATE(B310,\"-opis\")))","v":""},{"$f":"IF(B310=\"\",\"\",IF(Zahteve!H311=\"\",\"\",CONCATENATE(B310,\"-dni\")))","v":""},{"$f":"IF(B310=\"\",\"\",IF(Zahteve!H311=\"\",\"\",Zahteve!H311))","v":""}]
[{"$f":"IF(Zahteve!B312=\"\",\"\",Zahteve!B312)","v":"G.1.1"},{"$f":"IF(Zahteve!B312=\"\",\"\",LEFT(Zahteve!B312,1))","v":"G"},{"$f":"IF(B311=\"\",\"\",IF(Zahteve!F312=\"da\",CONCATENATE(B311,\"-DA\"),\"\"))","v":""},{"$f":"IF(B311=\"\",\"\",IF(Zahteve!A312=\"da\",CONCATENATE(B311,\"-ustreza\"),\"\"))","v":""},{"$f":"IF(B311=\"\",\"\",IF(Zahteve!G312=\"\",\"\",CONCATENATE(B311,\"-opis\")))","v":""},{"$f":"IF(B311=\"\",\"\",IF(Zahteve!H312=\"\",\"\",CONCATENATE(B311,\"-dni\")))","v":""},{"$f":"IF(B311=\"\",\"\",IF(Zahteve!H312=\"\",\"\",Zahteve!H312))","v":""}]
[{"$f":"IF(Zahteve!B313=\"\",\"\",Zahteve!B313)","v":"G.1.2"},{"$f":"IF(Zahteve!B313=\"\",\"\",LEFT(Zahteve!B313,1))","v":"G"},{"$f":"IF(B312=\"\",\"\",IF(Zahteve!F313=\"da\",CONCATENATE(B312,\"-DA\"),\"\"))","v":""},{"$f":"IF(B312=\"\",\"\",IF(Zahteve!A313=\"da\",CONCATENATE(B312,\"-ustreza\"),\"\"))","v":""},{"$f":"IF(B312=\"\",\"\",IF(Zahteve!G313=\"\",\"\",CONCATENATE(B312,\"-opis\")))","v":""},{"$f":"IF(B312=\"\",\"\",IF(Zahteve!H313=\"\",\"\",CONCATENATE(B312,\"-dni\")))","v":""},{"$f":"IF(B312=\"\",\"\",IF(Zahteve!H313=\"\",\"\",Zahteve!H313))","v":""}]
[{"$f":"IF(Zahteve!B314=\"\",\"\",Zahteve!B314)","v":"G.1.3"},{"$f":"IF(Zahteve!B314=\"\",\"\",LEFT(Zahteve!B314,1))","v":"G"},{"$f":"IF(B313=\"\",\"\",IF(Zahteve!F314=\"da\",CONCATENATE(B313,\"-DA\"),\"\"))","v":""},{"$f":"IF(B313=\"\",\"\",IF(Zahteve!A314=\"da\",CONCATENATE(B313,\"-ustreza\"),\"\"))","v":""},{"$f":"IF(B313=\"\",\"\",IF(Zahteve!G314=\"\",\"\",CONCATENATE(B313,\"-opis\")))","v":""},{"$f":"IF(B313=\"\",\"\",IF(Zahteve!H314=\"\",\"\",CONCATENATE(B313,\"-dni\")))","v":""},{"$f":"IF(B313=\"\",\"\",IF(Zahteve!H314=\"\",\"\",Zahteve!H314))","v":""}]
[{"$f":"IF(Zahteve!B315=\"\",\"\",Zahteve!B315)","v":"G.1.4"},{"$f":"IF(Zahteve!B315=\"\",\"\",LEFT(Zahteve!B315,1))","v":"G"},{"$f":"IF(B314=\"\",\"\",IF(Zahteve!F315=\"da\",CONCATENATE(B314,\"-DA\"),\"\"))","v":""},{"$f":"IF(B314=\"\",\"\",IF(Zahteve!A315=\"da\",CONCATENATE(B314,\"-ustreza\"),\"\"))","v":""},{"$f":"IF(B314=\"\",\"\",IF(Zahteve!G315=\"\",\"\",CONCATENATE(B314,\"-opis\")))","v":""},{"$f":"IF(B314=\"\",\"\",IF(Zahteve!H315=\"\",\"\",CONCATENATE(B314,\"-dni\")))","v":""},{"$f":"IF(B314=\"\",\"\",IF(Zahteve!H315=\"\",\"\",Zahteve!H315))","v":""}]
[{"$f":"IF(Zahteve!B316=\"\",\"\",Zahteve!B316)","v":"G.1.5"},{"$f":"IF(Zahteve!B316=\"\",\"\",LEFT(Zahteve!B316,1))","v":"G"},{"$f":"IF(B315=\"\",\"\",IF(Zahteve!F316=\"da\",CONCATENATE(B315,\"-DA\"),\"\"))","v":""},{"$f":"IF(B315=\"\",\"\",IF(Zahteve!A316=\"da\",CONCATENATE(B315,\"-ustreza\"),\"\"))","v":""},{"$f":"IF(B315=\"\",\"\",IF(Zahteve!G316=\"\",\"\",CONCATENATE(B315,\"-opis\")))","v":""},{"$f":"IF(B315=\"\",\"\",IF(Zahteve!H316=\"\",\"\",CONCATENATE(B315,\"-dni\")))","v":""},{"$f":"IF(B315=\"\",\"\",IF(Zahteve!H316=\"\",\"\",Zahteve!H316))","v":""}]
[{"$f":"IF(Zahteve!B317=\"\",\"\",Zahteve!B317)","v":"G.1.6"},{"$f":"IF(Zahteve!B317=\"\",\"\",LEFT(Zahteve!B317,1))","v":"G"},{"$f":"IF(B316=\"\",\"\",IF(Zahteve!F317=\"da\",CONCATENATE(B316,\"-DA\"),\"\"))","v":""},{"$f":"IF(B316=\"\",\"\",IF(Zahteve!A317=\"da\",CONCATENATE(B316,\"-ustreza\"),\"\"))","v":""},{"$f":"IF(B316=\"\",\"\",IF(Zahteve!G317=\"\",\"\",CONCATENATE(B316,\"-opis\")))","v":""},{"$f":"IF(B316=\"\",\"\",IF(Zahteve!H317=\"\",\"\",CONCATENATE(B316,\"-dni\")))","v":""},{"$f":"IF(B316=\"\",\"\",IF(Zahteve!H317=\"\",\"\",Zahteve!H317))","v":""}]
[{"$f":"IF(Zahteve!B318=\"\",\"\",Zahteve!B318)","v":"G.2.1"},{"$f":"IF(Zahteve!B318=\"\",\"\",LEFT(Zahteve!B318,1))","v":"G"},{"$f":"IF(B317=\"\",\"\",IF(Zahteve!F318=\"da\",CONCATENATE(B317,\"-DA\"),\"\"))","v":""},{"$f":"IF(B317=\"\",\"\",IF(Zahteve!A318=\"da\",CONCATENATE(B317,\"-ustreza\"),\"\"))","v":""},{"$f":"IF(B317=\"\",\"\",IF(Zahteve!G318=\"\",\"\",CONCATENATE(B317,\"-opis\")))","v":""},{"$f":"IF(B317=\"\",\"\",IF(Zahteve!H318=\"\",\"\",CONCATENATE(B317,\"-dni\")))","v":""},{"$f":"IF(B317=\"\",\"\",IF(Zahteve!H318=\"\",\"\",Zahteve!H318))","v":""}]
[{"$f":"IF(Zahteve!B319=\"\",\"\",Zahteve!B319)","v":"G.2.2"},{"$f":"IF(Zahteve!B319=\"\",\"\",LEFT(Zahteve!B319,1))","v":"G"},{"$f":"IF(B318=\"\",\"\",IF(Zahteve!F319=\"da\",CONCATENATE(B318,\"-DA\"),\"\"))","v":""},{"$f":"IF(B318=\"\",\"\",IF(Zahteve!A319=\"da\",CONCATENATE(B318,\"-ustreza\"),\"\"))","v":""},{"$f":"IF(B318=\"\",\"\",IF(Zahteve!G319=\"\",\"\",CONCATENATE(B318,\"-opis\")))","v":""},{"$f":"IF(B318=\"\",\"\",IF(Zahteve!H319=\"\",\"\",CONCATENATE(B318,\"-dni\")))","v":""},{"$f":"IF(B318=\"\",\"\",IF(Zahteve!H319=\"\",\"\",Zahteve!H319))","v":""}]
[{"$f":"IF(Zahteve!B320=\"\",\"\",Zahteve!B320)","v":"G.3.1"},{"$f":"IF(Zahteve!B320=\"\",\"\",LEFT(Zahteve!B320,1))","v":"G"},{"$f":"IF(B319=\"\",\"\",IF(Zahteve!F320=\"da\",CONCATENATE(B319,\"-DA\"),\"\"))","v":""},{"$f":"IF(B319=\"\",\"\",IF(Zahteve!A320=\"da\",CONCATENATE(B319,\"-ustreza\"),\"\"))","v":""},{"$f":"IF(B319=\"\",\"\",IF(Zahteve!G320=\"\",\"\",CONCATENATE(B319,\"-opis\")))","v":""},{"$f":"IF(B319=\"\",\"\",IF(Zahteve!H320=\"\",\"\",CONCATENATE(B319,\"-dni\")))","v":""},{"$f":"IF(B319=\"\",\"\",IF(Zahteve!H320=\"\",\"\",Zahteve!H320))","v":""}]
[{"$f":"IF(Zahteve!B321=\"\",\"\",Zahteve!B321)","v":"G.3.2"},{"$f":"IF(Zahteve!B321=\"\",\"\",LEFT(Zahteve!B321,1))","v":"G"},{"$f":"IF(B320=\"\",\"\",IF(Zahteve!F321=\"da\",CONCATENATE(B320,\"-DA\"),\"\"))","v":""},{"$f":"IF(B320=\"\",\"\",IF(Zahteve!A321=\"da\",CONCATENATE(B320,\"-ustreza\"),\"\"))","v":""},{"$f":"IF(B320=\"\",\"\",IF(Zahteve!G321=\"\",\"\",CONCATENATE(B320,\"-opis\")))","v":""},{"$f":"IF(B320=\"\",\"\",IF(Zahteve!H321=\"\",\"\",CONCATENATE(B320,\"-dni\")))","v":""},{"$f":"IF(B320=\"\",\"\",IF(Zahteve!H321=\"\",\"\",Zahteve!H321))","v":""}]
[{"$f":"IF(Zahteve!B322=\"\",\"\",Zahteve!B322)","v":"G.3.3"},{"$f":"IF(Zahteve!B322=\"\",\"\",LEFT(Zahteve!B322,1))","v":"G"},{"$f":"IF(B321=\"\",\"\",IF(Zahteve!F322=\"da\",CONCATENATE(B321,\"-DA\"),\"\"))","v":""},{"$f":"IF(B321=\"\",\"\",IF(Zahteve!A322=\"da\",CONCATENATE(B321,\"-ustreza\"),\"\"))","v":""},{"$f":"IF(B321=\"\",\"\",IF(Zahteve!G322=\"\",\"\",CONCATENATE(B321,\"-opis\")))","v":""},{"$f":"IF(B321=\"\",\"\",IF(Zahteve!H322=\"\",\"\",CONCATENATE(B321,\"-dni\")))","v":""},{"$f":"IF(B321=\"\",\"\",IF(Zahteve!H322=\"\",\"\",Zahteve!H322))","v":""}]
[{"$f":"IF(Zahteve!B323=\"\",\"\",Zahteve!B323)","v":"G.3.4"},{"$f":"IF(Zahteve!B323=\"\",\"\",LEFT(Zahteve!B323,1))","v":"G"},{"$f":"IF(B322=\"\",\"\",IF(Zahteve!F323=\"da\",CONCATENATE(B322,\"-DA\"),\"\"))","v":""},{"$f":"IF(B322=\"\",\"\",IF(Zahteve!A323=\"da\",CONCATENATE(B322,\"-ustreza\"),\"\"))","v":""},{"$f":"IF(B322=\"\",\"\",IF(Zahteve!G323=\"\",\"\",CONCATENATE(B322,\"-opis\")))","v":""},{"$f":"IF(B322=\"\",\"\",IF(Zahteve!H323=\"\",\"\",CONCATENATE(B322,\"-dni\")))","v":""},{"$f":"IF(B322=\"\",\"\",IF(Zahteve!H323=\"\",\"\",Zahteve!H323))","v":""}]
[{"$f":"IF(Zahteve!B324=\"\",\"\",Zahteve!B324)","v":"G.3.5"},{"$f":"IF(Zahteve!B324=\"\",\"\",LEFT(Zahteve!B324,1))","v":"G"},{"$f":"IF(B323=\"\",\"\",IF(Zahteve!F324=\"da\",CONCATENATE(B323,\"-DA\"),\"\"))","v":""},{"$f":"IF(B323=\"\",\"\",IF(Zahteve!A324=\"da\",CONCATENATE(B323,\"-ustreza\"),\"\"))","v":""},{"$f":"IF(B323=\"\",\"\",IF(Zahteve!G324=\"\",\"\",CONCATENATE(B323,\"-opis\")))","v":""},{"$f":"IF(B323=\"\",\"\",IF(Zahteve!H324=\"\",\"\",CONCATENATE(B323,\"-dni\")))","v":""},{"$f":"IF(B323=\"\",\"\",IF(Zahteve!H324=\"\",\"\",Zahteve!H324))","v":""}]
[{"$f":"IF(Zahteve!B325=\"\",\"\",Zahteve!B325)","v":"G.3.6"},{"$f":"IF(Zahteve!B325=\"\",\"\",LEFT(Zahteve!B325,1))","v":"G"},{"$f":"IF(B324=\"\",\"\",IF(Zahteve!F325=\"da\",CONCATENATE(B324,\"-DA\"),\"\"))","v":""},{"$f":"IF(B324=\"\",\"\",IF(Zahteve!A325=\"da\",CONCATENATE(B324,\"-ustreza\"),\"\"))","v":""},{"$f":"IF(B324=\"\",\"\",IF(Zahteve!G325=\"\",\"\",CONCATENATE(B324,\"-opis\")))","v":""},{"$f":"IF(B324=\"\",\"\",IF(Zahteve!H325=\"\",\"\",CONCATENATE(B324,\"-dni\")))","v":""},{"$f":"IF(B324=\"\",\"\",IF(Zahteve!H325=\"\",\"\",Zahteve!H325))","v":""}]
[{"$f":"IF(Zahteve!B326=\"\",\"\",Zahteve!B326)","v":"G.3.7"},{"$f":"IF(Zahteve!B326=\"\",\"\",LEFT(Zahteve!B326,1))","v":"G"},{"$f":"IF(B325=\"\",\"\",IF(Zahteve!F326=\"da\",CONCATENATE(B325,\"-DA\"),\"\"))","v":""},{"$f":"IF(B325=\"\",\"\",IF(Zahteve!A326=\"da\",CONCATENATE(B325,\"-ustreza\"),\"\"))","v":""},{"$f":"IF(B325=\"\",\"\",IF(Zahteve!G326=\"\",\"\",CONCATENATE(B325,\"-opis\")))","v":""},{"$f":"IF(B325=\"\",\"\",IF(Zahteve!H326=\"\",\"\",CONCATENATE(B325,\"-dni\")))","v":""},{"$f":"IF(B325=\"\",\"\",IF(Zahteve!H326=\"\",\"\",Zahteve!H326))","v":""}]
[{"$f":"IF(Zahteve!B327=\"\",\"\",Zahteve!B327)","v":"G.3.8"},{"$f":"IF(Zahteve!B327=\"\",\"\",LEFT(Zahteve!B327,1))","v":"G"},{"$f":"IF(B326=\"\",\"\",IF(Zahteve!F327=\"da\",CONCATENATE(B326,\"-DA\"),\"\"))","v":""},{"$f":"IF(B326=\"\",\"\",IF(Zahteve!A327=\"da\",CONCATENATE(B326,\"-ustreza\"),\"\"))","v":""},{"$f":"IF(B326=\"\",\"\",IF(Zahteve!G327=\"\",\"\",CONCATENATE(B326,\"-opis\")))","v":""},{"$f":"IF(B326=\"\",\"\",IF(Zahteve!H327=\"\",\"\",CONCATENATE(B326,\"-dni\")))","v":""},{"$f":"IF(B326=\"\",\"\",IF(Zahteve!H327=\"\",\"\",Zahteve!H327))","v":""}]
[{"$f":"IF(Zahteve!B328=\"\",\"\",Zahteve!B328)","v":"G.4.1"},{"$f":"IF(Zahteve!B328=\"\",\"\",LEFT(Zahteve!B328,1))","v":"G"},{"$f":"IF(B327=\"\",\"\",IF(Zahteve!F328=\"da\",CONCATENATE(B327,\"-DA\"),\"\"))","v":""},{"$f":"IF(B327=\"\",\"\",IF(Zahteve!A328=\"da\",CONCATENATE(B327,\"-ustreza\"),\"\"))","v":""},{"$f":"IF(B327=\"\",\"\",IF(Zahteve!G328=\"\",\"\",CONCATENATE(B327,\"-opis\")))","v":""},{"$f":"IF(B327=\"\",\"\",IF(Zahteve!H328=\"\",\"\",CONCATENATE(B327,\"-dni\")))","v":""},{"$f":"IF(B327=\"\",\"\",IF(Zahteve!H328=\"\",\"\",Zahteve!H328))","v":""}]
[{"$f":"IF(Zahteve!B329=\"\",\"\",Zahteve!B329)","v":"G.4.2"},{"$f":"IF(Zahteve!B329=\"\",\"\",LEFT(Zahteve!B329,1))","v":"G"},{"$f":"IF(B328=\"\",\"\",IF(Zahteve!F329=\"da\",CONCATENATE(B328,\"-DA\"),\"\"))","v":""},{"$f":"IF(B328=\"\",\"\",IF(Zahteve!A329=\"da\",CONCATENATE(B328,\"-ustreza\"),\"\"))","v":""},{"$f":"IF(B328=\"\",\"\",IF(Zahteve!G329=\"\",\"\",CONCATENATE(B328,\"-opis\")))","v":""},{"$f":"IF(B328=\"\",\"\",IF(Zahteve!H329=\"\",\"\",CONCATENATE(B328,\"-dni\")))","v":""},{"$f":"IF(B328=\"\",\"\",IF(Zahteve!H329=\"\",\"\",Zahteve!H329))","v":""}]
[{"$f":"IF(Zahteve!B330=\"\",\"\",Zahteve!B330)","v":"G.4.3"},{"$f":"IF(Zahteve!B330=\"\",\"\",LEFT(Zahteve!B330,1))","v":"G"},{"$f":"IF(B329=\"\",\"\",IF(Zahteve!F330=\"da\",CONCATENATE(B329,\"-DA\"),\"\"))","v":""},{"$f":"IF(B329=\"\",\"\",IF(Zahteve!A330=\"da\",CONCATENATE(B329,\"-ustreza\"),\"\"))","v":""},{"$f":"IF(B329=\"\",\"\",IF(Zahteve!G330=\"\",\"\",CONCATENATE(B329,\"-opis\")))","v":""},{"$f":"IF(B329=\"\",\"\",IF(Zahteve!H330=\"\",\"\",CONCATENATE(B329,\"-dni\")))","v":""},{"$f":"IF(B329=\"\",\"\",IF(Zahteve!H330=\"\",\"\",Zahteve!H330))","v":""}]
[{"$f":"IF(Zahteve!B331=\"\",\"\",Zahteve!B331)","v":"G.4.4"},{"$f":"IF(Zahteve!B331=\"\",\"\",LEFT(Zahteve!B331,1))","v":"G"},{"$f":"IF(B330=\"\",\"\",IF(Zahteve!F331=\"da\",CONCATENATE(B330,\"-DA\"),\"\"))","v":""},{"$f":"IF(B330=\"\",\"\",IF(Zahteve!A331=\"da\",CONCATENATE(B330,\"-ustreza\"),\"\"))","v":""},{"$f":"IF(B330=\"\",\"\",IF(Zahteve!G331=\"\",\"\",CONCATENATE(B330,\"-opis\")))","v":""},{"$f":"IF(B330=\"\",\"\",IF(Zahteve!H331=\"\",\"\",CONCATENATE(B330,\"-dni\")))","v":""},{"$f":"IF(B330=\"\",\"\",IF(Zahteve!H331=\"\",\"\",Zahteve!H331))","v":""}]
[{"$f":"IF(Zahteve!B332=\"\",\"\",Zahteve!B332)","v":"G.4.5"},{"$f":"IF(Zahteve!B332=\"\",\"\",LEFT(Zahteve!B332,1))","v":"G"},{"$f":"IF(B331=\"\",\"\",IF(Zahteve!F332=\"da\",CONCATENATE(B331,\"-DA\"),\"\"))","v":""},{"$f":"IF(B331=\"\",\"\",IF(Zahteve!A332=\"da\",CONCATENATE(B331,\"-ustreza\"),\"\"))","v":""},{"$f":"IF(B331=\"\",\"\",IF(Zahteve!G332=\"\",\"\",CONCATENATE(B331,\"-opis\")))","v":""},{"$f":"IF(B331=\"\",\"\",IF(Zahteve!H332=\"\",\"\",CONCATENATE(B331,\"-dni\")))","v":""},{"$f":"IF(B331=\"\",\"\",IF(Zahteve!H332=\"\",\"\",Zahteve!H332))","v":""}]
[{"$f":"IF(Zahteve!B333=\"\",\"\",Zahteve!B333)","v":"G.4.6"},{"$f":"IF(Zahteve!B333=\"\",\"\",LEFT(Zahteve!B333,1))","v":"G"},{"$f":"IF(B332=\"\",\"\",IF(Zahteve!F333=\"da\",CONCATENATE(B332,\"-DA\"),\"\"))","v":""},{"$f":"IF(B332=\"\",\"\",IF(Zahteve!A333=\"da\",CONCATENATE(B332,\"-ustreza\"),\"\"))","v":""},{"$f":"IF(B332=\"\",\"\",IF(Zahteve!G333=\"\",\"\",CONCATENATE(B332,\"-opis\")))","v":""},{"$f":"IF(B332=\"\",\"\",IF(Zahteve!H333=\"\",\"\",CONCATENATE(B332,\"-dni\")))","v":""},{"$f":"IF(B332=\"\",\"\",IF(Zahteve!H333=\"\",\"\",Zahteve!H333))","v":""}]
[{"$f":"IF(Zahteve!B334=\"\",\"\",Zahteve!B334)","v":"G.5.1"},{"$f":"IF(Zahteve!B334=\"\",\"\",LEFT(Zahteve!B334,1))","v":"G"},{"$f":"IF(B333=\"\",\"\",IF(Zahteve!F334=\"da\",CONCATENATE(B333,\"-DA\"),\"\"))","v":""},{"$f":"IF(B333=\"\",\"\",IF(Zahteve!A334=\"da\",CONCATENATE(B333,\"-ustreza\"),\"\"))","v":""},{"$f":"IF(B333=\"\",\"\",IF(Zahteve!G334=\"\",\"\",CONCATENATE(B333,\"-opis\")))","v":""},{"$f":"IF(B333=\"\",\"\",IF(Zahteve!H334=\"\",\"\",CONCATENATE(B333,\"-dni\")))","v":""},{"$f":"IF(B333=\"\",\"\",IF(Zahteve!H334=\"\",\"\",Zahteve!H334))","v":""}]
[{"$f":"IF(Zahteve!B335=\"\",\"\",Zahteve!B335)","v":"G.5.2"},{"$f":"IF(Zahteve!B335=\"\",\"\",LEFT(Zahteve!B335,1))","v":"G"},{"$f":"IF(B334=\"\",\"\",IF(Zahteve!F335=\"da\",CONCATENATE(B334,\"-DA\"),\"\"))","v":""},{"$f":"IF(B334=\"\",\"\",IF(Zahteve!A335=\"da\",CONCATENATE(B334,\"-ustreza\"),\"\"))","v":""},{"$f":"IF(B334=\"\",\"\",IF(Zahteve!G335=\"\",\"\",CONCATENATE(B334,\"-opis\")))","v":""},{"$f":"IF(B334=\"\",\"\",IF(Zahteve!H335=\"\",\"\",CONCATENATE(B334,\"-dni\")))","v":""},{"$f":"IF(B334=\"\",\"\",IF(Zahteve!H335=\"\",\"\",Zahteve!H335))","v":""}]
[{"$f":"IF(Zahteve!B336=\"\",\"\",Zahteve!B336)","v":"G.5.3"},{"$f":"IF(Zahteve!B336=\"\",\"\",LEFT(Zahteve!B336,1))","v":"G"},{"$f":"IF(B335=\"\",\"\",IF(Zahteve!F336=\"da\",CONCATENATE(B335,\"-DA\"),\"\"))","v":""},{"$f":"IF(B335=\"\",\"\",IF(Zahteve!A336=\"da\",CONCATENATE(B335,\"-ustreza\"),\"\"))","v":""},{"$f":"IF(B335=\"\",\"\",IF(Zahteve!G336=\"\",\"\",CONCATENATE(B335,\"-opis\")))","v":""},{"$f":"IF(B335=\"\",\"\",IF(Zahteve!H336=\"\",\"\",CONCATENATE(B335,\"-dni\")))","v":""},{"$f":"IF(B335=\"\",\"\",IF(Zahteve!H336=\"\",\"\",Zahteve!H336))","v":""}]
[{"$f":"IF(Zahteve!B337=\"\",\"\",Zahteve!B337)","v":"G.5.4"},{"$f":"IF(Zahteve!B337=\"\",\"\",LEFT(Zahteve!B337,1))","v":"G"},{"$f":"IF(B336=\"\",\"\",IF(Zahteve!F337=\"da\",CONCATENATE(B336,\"-DA\"),\"\"))","v":""},{"$f":"IF(B336=\"\",\"\",IF(Zahteve!A337=\"da\",CONCATENATE(B336,\"-ustreza\"),\"\"))","v":""},{"$f":"IF(B336=\"\",\"\",IF(Zahteve!G337=\"\",\"\",CONCATENATE(B336,\"-opis\")))","v":""},{"$f":"IF(B336=\"\",\"\",IF(Zahteve!H337=\"\",\"\",CONCATENATE(B336,\"-dni\")))","v":""},{"$f":"IF(B336=\"\",\"\",IF(Zahteve!H337=\"\",\"\",Zahteve!H337))","v":""}]
[{"$f":"IF(Zahteve!B338=\"\",\"\",Zahteve!B338)","v":"G.6.1"},{"$f":"IF(Zahteve!B338=\"\",\"\",LEFT(Zahteve!B338,1))","v":"G"},{"$f":"IF(B337=\"\",\"\",IF(Zahteve!F338=\"da\",CONCATENATE(B337,\"-DA\"),\"\"))","v":""},{"$f":"IF(B337=\"\",\"\",IF(Zahteve!A338=\"da\",CONCATENATE(B337,\"-ustreza\"),\"\"))","v":""},{"$f":"IF(B337=\"\",\"\",IF(Zahteve!G338=\"\",\"\",CONCATENATE(B337,\"-opis\")))","v":""},{"$f":"IF(B337=\"\",\"\",IF(Zahteve!H338=\"\",\"\",CONCATENATE(B337,\"-dni\")))","v":""},{"$f":"IF(B337=\"\",\"\",IF(Zahteve!H338=\"\",\"\",Zahteve!H338))","v":""}]
[{"$f":"IF(Zahteve!B339=\"\",\"\",Zahteve!B339)","v":"G.7.1"},{"$f":"IF(Zahteve!B339=\"\",\"\",LEFT(Zahteve!B339,1))","v":"G"},{"$f":"IF(B338=\"\",\"\",IF(Zahteve!F339=\"da\",CONCATENATE(B338,\"-DA\"),\"\"))","v":""},{"$f":"IF(B338=\"\",\"\",IF(Zahteve!A339=\"da\",CONCATENATE(B338,\"-ustreza\"),\"\"))","v":""},{"$f":"IF(B338=\"\",\"\",IF(Zahteve!G339=\"\",\"\",CONCATENATE(B338,\"-opis\")))","v":""},{"$f":"IF(B338=\"\",\"\",IF(Zahteve!H339=\"\",\"\",CONCATENATE(B338,\"-dni\")))","v":""},{"$f":"IF(B338=\"\",\"\",IF(Zahteve!H339=\"\",\"\",Zahteve!H339))","v":""}]
[{"$f":"IF(Zahteve!B340=\"\",\"\",Zahteve!B340)","v":"G.7.2"},{"$f":"IF(Zahteve!B340=\"\",\"\",LEFT(Zahteve!B340,1))","v":"G"},{"$f":"IF(B339=\"\",\"\",IF(Zahteve!F340=\"da\",CONCATENATE(B339,\"-DA\"),\"\"))","v":""},{"$f":"IF(B339=\"\",\"\",IF(Zahteve!A340=\"da\",CONCATENATE(B339,\"-ustreza\"),\"\"))","v":""},{"$f":"IF(B339=\"\",\"\",IF(Zahteve!G340=\"\",\"\",CONCATENATE(B339,\"-opis\")))","v":""},{"$f":"IF(B339=\"\",\"\",IF(Zahteve!H340=\"\",\"\",CONCATENATE(B339,\"-dni\")))","v":""},{"$f":"IF(B339=\"\",\"\",IF(Zahteve!H340=\"\",\"\",Zahteve!H340))","v":""}]
[{"$f":"IF(Zahteve!B341=\"\",\"\",Zahteve!B341)","v":""},{"$f":"IF(Zahteve!B341=\"\",\"\",LEFT(Zahteve!B341,1))","v":""},{"$f":"IF(B340=\"\",\"\",IF(Zahteve!F341=\"da\",CONCATENATE(B340,\"-DA\"),\"\"))","v":""},{"$f":"IF(B340=\"\",\"\",IF(Zahteve!A341=\"da\",CONCATENATE(B340,\"-ustreza\"),\"\"))","v":""},{"$f":"IF(B340=\"\",\"\",IF(Zahteve!G341=\"\",\"\",CONCATENATE(B340,\"-opis\")))","v":""},{"$f":"IF(B340=\"\",\"\",IF(Zahteve!H341=\"\",\"\",CONCATENATE(B340,\"-dni\")))","v":""},{"$f":"IF(B340=\"\",\"\",IF(Zahteve!H341=\"\",\"\",Zahteve!H341))","v":""}]
[{"$f":"IF(Zahteve!B342=\"\",\"\",Zahteve!B342)","v":""},{"$f":"IF(Zahteve!B342=\"\",\"\",LEFT(Zahteve!B342,1))","v":""},{"$f":"IF(B341=\"\",\"\",IF(Zahteve!F342=\"da\",CONCATENATE(B341,\"-DA\"),\"\"))","v":""},{"$f":"IF(B341=\"\",\"\",IF(Zahteve!A342=\"da\",CONCATENATE(B341,\"-ustreza\"),\"\"))","v":""},{"$f":"IF(B341=\"\",\"\",IF(Zahteve!G342=\"\",\"\",CONCATENATE(B341,\"-opis\")))","v":""},{"$f":"IF(B341=\"\",\"\",IF(Zahteve!H342=\"\",\"\",CONCATENATE(B341,\"-dni\")))","v":""},{"$f":"IF(B341=\"\",\"\",IF(Zahteve!H342=\"\",\"\",Zahteve!H342))","v":""}]
[{"$f":"IF(Zahteve!B343=\"\",\"\",Zahteve!B343)","v":"H.1.1"},{"$f":"IF(Zahteve!B343=\"\",\"\",LEFT(Zahteve!B343,1))","v":"H"},{"$f":"IF(B342=\"\",\"\",IF(Zahteve!F343=\"da\",CONCATENATE(B342,\"-DA\"),\"\"))","v":""},{"$f":"IF(B342=\"\",\"\",IF(Zahteve!A343=\"da\",CONCATENATE(B342,\"-ustreza\"),\"\"))","v":""},{"$f":"IF(B342=\"\",\"\",IF(Zahteve!G343=\"\",\"\",CONCATENATE(B342,\"-opis\")))","v":""},{"$f":"IF(B342=\"\",\"\",IF(Zahteve!H343=\"\",\"\",CONCATENATE(B342,\"-dni\")))","v":""},{"$f":"IF(B342=\"\",\"\",IF(Zahteve!H343=\"\",\"\",Zahteve!H343))","v":""}]
[{"$f":"IF(Zahteve!B344=\"\",\"\",Zahteve!B344)","v":"H.2.1"},{"$f":"IF(Zahteve!B344=\"\",\"\",LEFT(Zahteve!B344,1))","v":"H"},{"$f":"IF(B343=\"\",\"\",IF(Zahteve!F344=\"da\",CONCATENATE(B343,\"-DA\"),\"\"))","v":""},{"$f":"IF(B343=\"\",\"\",IF(Zahteve!A344=\"da\",CONCATENATE(B343,\"-ustreza\"),\"\"))","v":""},{"$f":"IF(B343=\"\",\"\",IF(Zahteve!G344=\"\",\"\",CONCATENATE(B343,\"-opis\")))","v":""},{"$f":"IF(B343=\"\",\"\",IF(Zahteve!H344=\"\",\"\",CONCATENATE(B343,\"-dni\")))","v":""},{"$f":"IF(B343=\"\",\"\",IF(Zahteve!H344=\"\",\"\",Zahteve!H344))","v":""}]
[{"$f":"IF(Zahteve!B345=\"\",\"\",Zahteve!B345)","v":"H.2.2"},{"$f":"IF(Zahteve!B345=\"\",\"\",LEFT(Zahteve!B345,1))","v":"H"},{"$f":"IF(B344=\"\",\"\",IF(Zahteve!F345=\"da\",CONCATENATE(B344,\"-DA\"),\"\"))","v":""},{"$f":"IF(B344=\"\",\"\",IF(Zahteve!A345=\"da\",CONCATENATE(B344,\"-ustreza\"),\"\"))","v":""},{"$f":"IF(B344=\"\",\"\",IF(Zahteve!G345=\"\",\"\",CONCATENATE(B344,\"-opis\")))","v":""},{"$f":"IF(B344=\"\",\"\",IF(Zahteve!H345=\"\",\"\",CONCATENATE(B344,\"-dni\")))","v":""},{"$f":"IF(B344=\"\",\"\",IF(Zahteve!H345=\"\",\"\",Zahteve!H345))","v":""}]
[{"$f":"IF(Zahteve!B346=\"\",\"\",Zahteve!B346)","v":"H.2.3"},{"$f":"IF(Zahteve!B346=\"\",\"\",LEFT(Zahteve!B346,1))","v":"H"},{"$f":"IF(B345=\"\",\"\",IF(Zahteve!F346=\"da\",CONCATENATE(B345,\"-DA\"),\"\"))","v":""},{"$f":"IF(B345=\"\",\"\",IF(Zahteve!A346=\"da\",CONCATENATE(B345,\"-ustreza\"),\"\"))","v":""},{"$f":"IF(B345=\"\",\"\",IF(Zahteve!G346=\"\",\"\",CONCATENATE(B345,\"-opis\")))","v":""},{"$f":"IF(B345=\"\",\"\",IF(Zahteve!H346=\"\",\"\",CONCATENATE(B345,\"-dni\")))","v":""},{"$f":"IF(B345=\"\",\"\",IF(Zahteve!H346=\"\",\"\",Zahteve!H346))","v":""}]
[{"$f":"IF(Zahteve!B347=\"\",\"\",Zahteve!B347)","v":"H.2.4"},{"$f":"IF(Zahteve!B347=\"\",\"\",LEFT(Zahteve!B347,1))","v":"H"},{"$f":"IF(B346=\"\",\"\",IF(Zahteve!F347=\"da\",CONCATENATE(B346,\"-DA\"),\"\"))","v":""},{"$f":"IF(B346=\"\",\"\",IF(Zahteve!A347=\"da\",CONCATENATE(B346,\"-ustreza\"),\"\"))","v":""},{"$f":"IF(B346=\"\",\"\",IF(Zahteve!G347=\"\",\"\",CONCATENATE(B346,\"-opis\")))","v":""},{"$f":"IF(B346=\"\",\"\",IF(Zahteve!H347=\"\",\"\",CONCATENATE(B346,\"-dni\")))","v":""},{"$f":"IF(B346=\"\",\"\",IF(Zahteve!H347=\"\",\"\",Zahteve!H347))","v":""}]
[{"$f":"IF(Zahteve!B348=\"\",\"\",Zahteve!B348)","v":"H.3.1"},{"$f":"IF(Zahteve!B348=\"\",\"\",LEFT(Zahteve!B348,1))","v":"H"},{"$f":"IF(B347=\"\",\"\",IF(Zahteve!F348=\"da\",CONCATENATE(B347,\"-DA\"),\"\"))","v":""},{"$f":"IF(B347=\"\",\"\",IF(Zahteve!A348=\"da\",CONCATENATE(B347,\"-ustreza\"),\"\"))","v":""},{"$f":"IF(B347=\"\",\"\",IF(Zahteve!G348=\"\",\"\",CONCATENATE(B347,\"-opis\")))","v":""},{"$f":"IF(B347=\"\",\"\",IF(Zahteve!H348=\"\",\"\",CONCATENATE(B347,\"-dni\")))","v":""},{"$f":"IF(B347=\"\",\"\",IF(Zahteve!H348=\"\",\"\",Zahteve!H348))","v":""}]
[{"$f":"IF(Zahteve!B349=\"\",\"\",Zahteve!B349)","v":"H.4.1"},{"$f":"IF(Zahteve!B349=\"\",\"\",LEFT(Zahteve!B349,1))","v":"H"},{"$f":"IF(B348=\"\",\"\",IF(Zahteve!F349=\"da\",CONCATENATE(B348,\"-DA\"),\"\"))","v":""},{"$f":"IF(B348=\"\",\"\",IF(Zahteve!A349=\"da\",CONCATENATE(B348,\"-ustreza\"),\"\"))","v":""},{"$f":"IF(B348=\"\",\"\",IF(Zahteve!G349=\"\",\"\",CONCATENATE(B348,\"-opis\")))","v":""},{"$f":"IF(B348=\"\",\"\",IF(Zahteve!H349=\"\",\"\",CONCATENATE(B348,\"-dni\")))","v":""},{"$f":"IF(B348=\"\",\"\",IF(Zahteve!H349=\"\",\"\",Zahteve!H349))","v":""}]
[{"$f":"IF(Zahteve!B350=\"\",\"\",Zahteve!B350)","v":"H.4.2"},{"$f":"IF(Zahteve!B350=\"\",\"\",LEFT(Zahteve!B350,1))","v":"H"},{"$f":"IF(B349=\"\",\"\",IF(Zahteve!F350=\"da\",CONCATENATE(B349,\"-DA\"),\"\"))","v":""},{"$f":"IF(B349=\"\",\"\",IF(Zahteve!A350=\"da\",CONCATENATE(B349,\"-ustreza\"),\"\"))","v":""},{"$f":"IF(B349=\"\",\"\",IF(Zahteve!G350=\"\",\"\",CONCATENATE(B349,\"-opis\")))","v":""},{"$f":"IF(B349=\"\",\"\",IF(Zahteve!H350=\"\",\"\",CONCATENATE(B349,\"-dni\")))","v":""},{"$f":"IF(B349=\"\",\"\",IF(Zahteve!H350=\"\",\"\",Zahteve!H350))","v":""}]
[{"$f":"IF(Zahteve!B351=\"\",\"\",Zahteve!B351)","v":"H.4.3"},{"$f":"IF(Zahteve!B351=\"\",\"\",LEFT(Zahteve!B351,1))","v":"H"},{"$f":"IF(B350=\"\",\"\",IF(Zahteve!F351=\"da\",CONCATENATE(B350,\"-DA\"),\"\"))","v":""},{"$f":"IF(B350=\"\",\"\",IF(Zahteve!A351=\"da\",CONCATENATE(B350,\"-ustreza\"),\"\"))","v":""},{"$f":"IF(B350=\"\",\"\",IF(Zahteve!G351=\"\",\"\",CONCATENATE(B350,\"-opis\")))","v":""},{"$f":"IF(B350=\"\",\"\",IF(Zahteve!H351=\"\",\"\",CONCATENATE(B350,\"-dni\")))","v":""},{"$f":"IF(B350=\"\",\"\",IF(Zahteve!H351=\"\",\"\",Zahteve!H351))","v":""}]
[{"$f":"IF(Zahteve!B352=\"\",\"\",Zahteve!B352)","v":"H.4.4"},{"$f":"IF(Zahteve!B352=\"\",\"\",LEFT(Zahteve!B352,1))","v":"H"},{"$f":"IF(B351=\"\",\"\",IF(Zahteve!F352=\"da\",CONCATENATE(B351,\"-DA\"),\"\"))","v":""},{"$f":"IF(B351=\"\",\"\",IF(Zahteve!A352=\"da\",CONCATENATE(B351,\"-ustreza\"),\"\"))","v":""},{"$f":"IF(B351=\"\",\"\",IF(Zahteve!G352=\"\",\"\",CONCATENATE(B351,\"-opis\")))","v":""},{"$f":"IF(B351=\"\",\"\",IF(Zahteve!H352=\"\",\"\",CONCATENATE(B351,\"-dni\")))","v":""},{"$f":"IF(B351=\"\",\"\",IF(Zahteve!H352=\"\",\"\",Zahteve!H352))","v":""}]
[{"$f":"IF(Zahteve!B353=\"\",\"\",Zahteve!B353)","v":"H.5.1"},{"$f":"IF(Zahteve!B353=\"\",\"\",LEFT(Zahteve!B353,1))","v":"H"},{"$f":"IF(B352=\"\",\"\",IF(Zahteve!F353=\"da\",CONCATENATE(B352,\"-DA\"),\"\"))","v":""},{"$f":"IF(B352=\"\",\"\",IF(Zahteve!A353=\"da\",CONCATENATE(B352,\"-ustreza\"),\"\"))","v":""},{"$f":"IF(B352=\"\",\"\",IF(Zahteve!G353=\"\",\"\",CONCATENATE(B352,\"-opis\")))","v":""},{"$f":"IF(B352=\"\",\"\",IF(Zahteve!H353=\"\",\"\",CONCATENATE(B352,\"-dni\")))","v":""},{"$f":"IF(B352=\"\",\"\",IF(Zahteve!H353=\"\",\"\",Zahteve!H353))","v":""}]
[{"$f":"IF(Zahteve!B354=\"\",\"\",Zahteve!B354)","v":"H.5.2"},{"$f":"IF(Zahteve!B354=\"\",\"\",LEFT(Zahteve!B354,1))","v":"H"},{"$f":"IF(B353=\"\",\"\",IF(Zahteve!F354=\"da\",CONCATENATE(B353,\"-DA\"),\"\"))","v":""},{"$f":"IF(B353=\"\",\"\",IF(Zahteve!A354=\"da\",CONCATENATE(B353,\"-ustreza\"),\"\"))","v":""},{"$f":"IF(B353=\"\",\"\",IF(Zahteve!G354=\"\",\"\",CONCATENATE(B353,\"-opis\")))","v":""},{"$f":"IF(B353=\"\",\"\",IF(Zahteve!H354=\"\",\"\",CONCATENATE(B353,\"-dni\")))","v":""},{"$f":"IF(B353=\"\",\"\",IF(Zahteve!H354=\"\",\"\",Zahteve!H354))","v":""}]
[{"$f":"IF(Zahteve!B355=\"\",\"\",Zahteve!B355)","v":"H.5.3"},{"$f":"IF(Zahteve!B355=\"\",\"\",LEFT(Zahteve!B355,1))","v":"H"},{"$f":"IF(B354=\"\",\"\",IF(Zahteve!F355=\"da\",CONCATENATE(B354,\"-DA\"),\"\"))","v":""},{"$f":"IF(B354=\"\",\"\",IF(Zahteve!A355=\"da\",CONCATENATE(B354,\"-ustreza\"),\"\"))","v":""},{"$f":"IF(B354=\"\",\"\",IF(Zahteve!G355=\"\",\"\",CONCATENATE(B354,\"-opis\")))","v":""},{"$f":"IF(B354=\"\",\"\",IF(Zahteve!H355=\"\",\"\",CONCATENATE(B354,\"-dni\")))","v":""},{"$f":"IF(B354=\"\",\"\",IF(Zahteve!H355=\"\",\"\",Zahteve!H355))","v":""}]
[{"$f":"IF(Zahteve!B356=\"\",\"\",Zahteve!B356)","v":""},{"$f":"IF(Zahteve!B356=\"\",\"\",LEFT(Zahteve!B356,1))","v":""},{"$f":"IF(B355=\"\",\"\",IF(Zahteve!F356=\"da\",CONCATENATE(B355,\"-DA\"),\"\"))","v":""},{"$f":"IF(B355=\"\",\"\",IF(Zahteve!A356=\"da\",CONCATENATE(B355,\"-ustreza\"),\"\"))","v":""},{"$f":"IF(B355=\"\",\"\",IF(Zahteve!G356=\"\",\"\",CONCATENATE(B355,\"-opis\")))","v":""},{"$f":"IF(B355=\"\",\"\",IF(Zahteve!H356=\"\",\"\",CONCATENATE(B355,\"-dni\")))","v":""},{"$f":"IF(B355=\"\",\"\",IF(Zahteve!H356=\"\",\"\",Zahteve!H356))","v":""}]
[{"$f":"IF(Zahteve!B357=\"\",\"\",Zahteve!B357)","v":"H.6.1"},{"$f":"IF(Zahteve!B357=\"\",\"\",LEFT(Zahteve!B357,1))","v":"H"},{"$f":"IF(B356=\"\",\"\",IF(Zahteve!F357=\"da\",CONCATENATE(B356,\"-DA\"),\"\"))","v":""},{"$f":"IF(B356=\"\",\"\",IF(Zahteve!A357=\"da\",CONCATENATE(B356,\"-ustreza\"),\"\"))","v":""},{"$f":"IF(B356=\"\",\"\",IF(Zahteve!G357=\"\",\"\",CONCATENATE(B356,\"-opis\")))","v":""},{"$f":"IF(B356=\"\",\"\",IF(Zahteve!H357=\"\",\"\",CONCATENATE(B356,\"-dni\")))","v":""},{"$f":"IF(B356=\"\",\"\",IF(Zahteve!H357=\"\",\"\",Zahteve!H357))","v":""}]
[{"$f":"IF(Zahteve!B358=\"\",\"\",Zahteve!B358)","v":"H.7.1"},{"$f":"IF(Zahteve!B358=\"\",\"\",LEFT(Zahteve!B358,1))","v":"H"},{"$f":"IF(B357=\"\",\"\",IF(Zahteve!F358=\"da\",CONCATENATE(B357,\"-DA\"),\"\"))","v":""},{"$f":"IF(B357=\"\",\"\",IF(Zahteve!A358=\"da\",CONCATENATE(B357,\"-ustreza\"),\"\"))","v":""},{"$f":"IF(B357=\"\",\"\",IF(Zahteve!G358=\"\",\"\",CONCATENATE(B357,\"-opis\")))","v":""},{"$f":"IF(B357=\"\",\"\",IF(Zahteve!H358=\"\",\"\",CONCATENATE(B357,\"-dni\")))","v":""},{"$f":"IF(B357=\"\",\"\",IF(Zahteve!H358=\"\",\"\",Zahteve!H358))","v":""}]
[{"$f":"IF(Zahteve!B359=\"\",\"\",Zahteve!B359)","v":"H.8.1"},{"$f":"IF(Zahteve!B359=\"\",\"\",LEFT(Zahteve!B359,1))","v":"H"},{"$f":"IF(B358=\"\",\"\",IF(Zahteve!F359=\"da\",CONCATENATE(B358,\"-DA\"),\"\"))","v":""},{"$f":"IF(B358=\"\",\"\",IF(Zahteve!A359=\"da\",CONCATENATE(B358,\"-ustreza\"),\"\"))","v":""},{"$f":"IF(B358=\"\",\"\",IF(Zahteve!G359=\"\",\"\",CONCATENATE(B358,\"-opis\")))","v":""},{"$f":"IF(B358=\"\",\"\",IF(Zahteve!H359=\"\",\"\",CONCATENATE(B358,\"-dni\")))","v":""},{"$f":"IF(B358=\"\",\"\",IF(Zahteve!H359=\"\",\"\",Zahteve!H359))","v":""}]
[{"$f":"IF(Zahteve!B360=\"\",\"\",Zahteve!B360)","v":"H.9.1"},{"$f":"IF(Zahteve!B360=\"\",\"\",LEFT(Zahteve!B360,1))","v":"H"},{"$f":"IF(B359=\"\",\"\",IF(Zahteve!F360=\"da\",CONCATENATE(B359,\"-DA\"),\"\"))","v":""},{"$f":"IF(B359=\"\",\"\",IF(Zahteve!A360=\"da\",CONCATENATE(B359,\"-ustreza\"),\"\"))","v":""},{"$f":"IF(B359=\"\",\"\",IF(Zahteve!G360=\"\",\"\",CONCATENATE(B359,\"-opis\")))","v":""},{"$f":"IF(B359=\"\",\"\",IF(Zahteve!H360=\"\",\"\",CONCATENATE(B359,\"-dni\")))","v":""},{"$f":"IF(B359=\"\",\"\",IF(Zahteve!H360=\"\",\"\",Zahteve!H360))","v":""}]
[{"$f":"IF(Zahteve!B361=\"\",\"\",Zahteve!B361)","v":"H.10.1"},{"$f":"IF(Zahteve!B361=\"\",\"\",LEFT(Zahteve!B361,1))","v":"H"},{"$f":"IF(B360=\"\",\"\",IF(Zahteve!F361=\"da\",CONCATENATE(B360,\"-DA\"),\"\"))","v":""},{"$f":"IF(B360=\"\",\"\",IF(Zahteve!A361=\"da\",CONCATENATE(B360,\"-ustreza\"),\"\"))","v":""},{"$f":"IF(B360=\"\",\"\",IF(Zahteve!G361=\"\",\"\",CONCATENATE(B360,\"-opis\")))","v":""},{"$f":"IF(B360=\"\",\"\",IF(Zahteve!H361=\"\",\"\",CONCATENATE(B360,\"-dni\")))","v":""},{"$f":"IF(B360=\"\",\"\",IF(Zahteve!H361=\"\",\"\",Zahteve!H361))","v":""}]
[{"$f":"IF(Zahteve!B362=\"\",\"\",Zahteve!B362)","v":"H.11.1"},{"$f":"IF(Zahteve!B362=\"\",\"\",LEFT(Zahteve!B362,1))","v":"H"},{"$f":"IF(B361=\"\",\"\",IF(Zahteve!F362=\"da\",CONCATENATE(B361,\"-DA\"),\"\"))","v":""},{"$f":"IF(B361=\"\",\"\",IF(Zahteve!A362=\"da\",CONCATENATE(B361,\"-ustreza\"),\"\"))","v":""},{"$f":"IF(B361=\"\",\"\",IF(Zahteve!G362=\"\",\"\",CONCATENATE(B361,\"-opis\")))","v":""},{"$f":"IF(B361=\"\",\"\",IF(Zahteve!H362=\"\",\"\",CONCATENATE(B361,\"-dni\")))","v":""},{"$f":"IF(B361=\"\",\"\",IF(Zahteve!H362=\"\",\"\",Zahteve!H362))","v":""}]
[{"$f":"IF(Zahteve!B363=\"\",\"\",Zahteve!B363)","v":"H.12.1"},{"$f":"IF(Zahteve!B363=\"\",\"\",LEFT(Zahteve!B363,1))","v":"H"},{"$f":"IF(B362=\"\",\"\",IF(Zahteve!F363=\"da\",CONCATENATE(B362,\"-DA\"),\"\"))","v":""},{"$f":"IF(B362=\"\",\"\",IF(Zahteve!A363=\"da\",CONCATENATE(B362,\"-ustreza\"),\"\"))","v":""},{"$f":"IF(B362=\"\",\"\",IF(Zahteve!G363=\"\",\"\",CONCATENATE(B362,\"-opis\")))","v":""},{"$f":"IF(B362=\"\",\"\",IF(Zahteve!H363=\"\",\"\",CONCATENATE(B362,\"-dni\")))","v":""},{"$f":"IF(B362=\"\",\"\",IF(Zahteve!H363=\"\",\"\",Zahteve!H363))","v":""}]
[{"$f":"IF(Zahteve!B364=\"\",\"\",Zahteve!B364)","v":"H.13.1"},{"$f":"IF(Zahteve!B364=\"\",\"\",LEFT(Zahteve!B364,1))","v":"H"},{"$f":"IF(B363=\"\",\"\",IF(Zahteve!F364=\"da\",CONCATENATE(B363,\"-DA\"),\"\"))","v":""},{"$f":"IF(B363=\"\",\"\",IF(Zahteve!A364=\"da\",CONCATENATE(B363,\"-ustreza\"),\"\"))","v":""},{"$f":"IF(B363=\"\",\"\",IF(Zahteve!G364=\"\",\"\",CONCATENATE(B363,\"-opis\")))","v":""},{"$f":"IF(B363=\"\",\"\",IF(Zahteve!H364=\"\",\"\",CONCATENATE(B363,\"-dni\")))","v":""},{"$f":"IF(B363=\"\",\"\",IF(Zahteve!H364=\"\",\"\",Zahteve!H364))","v":""}]
[{"$f":"IF(Zahteve!B365=\"\",\"\",Zahteve!B365)","v":""},{"$f":"IF(Zahteve!B365=\"\",\"\",LEFT(Zahteve!B365,1))","v":""},{"$f":"IF(B364=\"\",\"\",IF(Zahteve!F365=\"da\",CONCATENATE(B364,\"-DA\"),\"\"))","v":""},{"$f":"IF(B364=\"\",\"\",IF(Zahteve!A365=\"da\",CONCATENATE(B364,\"-ustreza\"),\"\"))","v":""},{"$f":"IF(B364=\"\",\"\",IF(Zahteve!G365=\"\",\"\",CONCATENATE(B364,\"-opis\")))","v":""},{"$f":"IF(B364=\"\",\"\",IF(Zahteve!H365=\"\",\"\",CONCATENATE(B364,\"-dni\")))","v":""},{"$f":"IF(B364=\"\",\"\",IF(Zahteve!H365=\"\",\"\",Zahteve!H365))","v":""}]
[{"$f":"IF(Zahteve!B366=\"\",\"\",Zahteve!B366)","v":"H.14.1"},{"$f":"IF(Zahteve!B366=\"\",\"\",LEFT(Zahteve!B366,1))","v":"H"},{"$f":"IF(B365=\"\",\"\",IF(Zahteve!F366=\"da\",CONCATENATE(B365,\"-DA\"),\"\"))","v":""},{"$f":"IF(B365=\"\",\"\",IF(Zahteve!A366=\"da\",CONCATENATE(B365,\"-ustreza\"),\"\"))","v":""},{"$f":"IF(B365=\"\",\"\",IF(Zahteve!G366=\"\",\"\",CONCATENATE(B365,\"-opis\")))","v":""},{"$f":"IF(B365=\"\",\"\",IF(Zahteve!H366=\"\",\"\",CONCATENATE(B365,\"-dni\")))","v":""},{"$f":"IF(B365=\"\",\"\",IF(Zahteve!H366=\"\",\"\",Zahteve!H366))","v":""}]
[{"$f":"IF(Zahteve!B367=\"\",\"\",Zahteve!B367)","v":"H.14.2"},{"$f":"IF(Zahteve!B367=\"\",\"\",LEFT(Zahteve!B367,1))","v":"H"},{"$f":"IF(B366=\"\",\"\",IF(Zahteve!F367=\"da\",CONCATENATE(B366,\"-DA\"),\"\"))","v":""},{"$f":"IF(B366=\"\",\"\",IF(Zahteve!A367=\"da\",CONCATENATE(B366,\"-ustreza\"),\"\"))","v":""},{"$f":"IF(B366=\"\",\"\",IF(Zahteve!G367=\"\",\"\",CONCATENATE(B366,\"-opis\")))","v":""},{"$f":"IF(B366=\"\",\"\",IF(Zahteve!H367=\"\",\"\",CONCATENATE(B366,\"-dni\")))","v":""},{"$f":"IF(B366=\"\",\"\",IF(Zahteve!H367=\"\",\"\",Zahteve!H367))","v":""}]
[{"$f":"IF(Zahteve!B368=\"\",\"\",Zahteve!B368)","v":"H.14.3"},{"$f":"IF(Zahteve!B368=\"\",\"\",LEFT(Zahteve!B368,1))","v":"H"},{"$f":"IF(B367=\"\",\"\",IF(Zahteve!F368=\"da\",CONCATENATE(B367,\"-DA\"),\"\"))","v":""},{"$f":"IF(B367=\"\",\"\",IF(Zahteve!A368=\"da\",CONCATENATE(B367,\"-ustreza\"),\"\"))","v":""},{"$f":"IF(B367=\"\",\"\",IF(Zahteve!G368=\"\",\"\",CONCATENATE(B367,\"-opis\")))","v":""},{"$f":"IF(B367=\"\",\"\",IF(Zahteve!H368=\"\",\"\",CONCATENATE(B367,\"-dni\")))","v":""},{"$f":"IF(B367=\"\",\"\",IF(Zahteve!H368=\"\",\"\",Zahteve!H368))","v":""}]
[{"$f":"IF(Zahteve!B369=\"\",\"\",Zahteve!B369)","v":"H.14.4"},{"$f":"IF(Zahteve!B369=\"\",\"\",LEFT(Zahteve!B369,1))","v":"H"},{"$f":"IF(B368=\"\",\"\",IF(Zahteve!F369=\"da\",CONCATENATE(B368,\"-DA\"),\"\"))","v":""},{"$f":"IF(B368=\"\",\"\",IF(Zahteve!A369=\"da\",CONCATENATE(B368,\"-ustreza\"),\"\"))","v":""},{"$f":"IF(B368=\"\",\"\",IF(Zahteve!G369=\"\",\"\",CONCATENATE(B368,\"-opis\")))","v":""},{"$f":"IF(B368=\"\",\"\",IF(Zahteve!H369=\"\",\"\",CONCATENATE(B368,\"-dni\")))","v":""},{"$f":"IF(B368=\"\",\"\",IF(Zahteve!H369=\"\",\"\",Zahteve!H369))","v":""}]
[{"$f":"IF(Zahteve!B370=\"\",\"\",Zahteve!B370)","v":"H.14.5"},{"$f":"IF(Zahteve!B370=\"\",\"\",LEFT(Zahteve!B370,1))","v":"H"},{"$f":"IF(B369=\"\",\"\",IF(Zahteve!F370=\"da\",CONCATENATE(B369,\"-DA\"),\"\"))","v":""},{"$f":"IF(B369=\"\",\"\",IF(Zahteve!A370=\"da\",CONCATENATE(B369,\"-ustreza\"),\"\"))","v":""},{"$f":"IF(B369=\"\",\"\",IF(Zahteve!G370=\"\",\"\",CONCATENATE(B369,\"-opis\")))","v":""},{"$f":"IF(B369=\"\",\"\",IF(Zahteve!H370=\"\",\"\",CONCATENATE(B369,\"-dni\")))","v":""},{"$f":"IF(B369=\"\",\"\",IF(Zahteve!H370=\"\",\"\",Zahteve!H370))","v":""}]
[{"$f":"IF(Zahteve!B371=\"\",\"\",Zahteve!B371)","v":""},{"$f":"IF(Zahteve!B371=\"\",\"\",LEFT(Zahteve!B371,1))","v":""},{"$f":"IF(B370=\"\",\"\",IF(Zahteve!F371=\"da\",CONCATENATE(B370,\"-DA\"),\"\"))","v":""},{"$f":"IF(B370=\"\",\"\",IF(Zahteve!A371=\"da\",CONCATENATE(B370,\"-ustreza\"),\"\"))","v":""},{"$f":"IF(B370=\"\",\"\",IF(Zahteve!G371=\"\",\"\",CONCATENATE(B370,\"-opis\")))","v":""},{"$f":"IF(B370=\"\",\"\",IF(Zahteve!H371=\"\",\"\",CONCATENATE(B370,\"-dni\")))","v":""},{"$f":"IF(B370=\"\",\"\",IF(Zahteve!H371=\"\",\"\",Zahteve!H371))","v":""}]
[{"$f":"IF(Zahteve!B372=\"\",\"\",Zahteve!B372)","v":"H.15.1"},{"$f":"IF(Zahteve!B372=\"\",\"\",LEFT(Zahteve!B372,1))","v":"H"},{"$f":"IF(B371=\"\",\"\",IF(Zahteve!F372=\"da\",CONCATENATE(B371,\"-DA\"),\"\"))","v":""},{"$f":"IF(B371=\"\",\"\",IF(Zahteve!A372=\"da\",CONCATENATE(B371,\"-ustreza\"),\"\"))","v":""},{"$f":"IF(B371=\"\",\"\",IF(Zahteve!G372=\"\",\"\",CONCATENATE(B371,\"-opis\")))","v":""},{"$f":"IF(B371=\"\",\"\",IF(Zahteve!H372=\"\",\"\",CONCATENATE(B371,\"-dni\")))","v":""},{"$f":"IF(B371=\"\",\"\",IF(Zahteve!H372=\"\",\"\",Zahteve!H372))","v":""}]
[{"$f":"IF(Zahteve!B373=\"\",\"\",Zahteve!B373)","v":"H.15.2"},{"$f":"IF(Zahteve!B373=\"\",\"\",LEFT(Zahteve!B373,1))","v":"H"},{"$f":"IF(B372=\"\",\"\",IF(Zahteve!F373=\"da\",CONCATENATE(B372,\"-DA\"),\"\"))","v":""},{"$f":"IF(B372=\"\",\"\",IF(Zahteve!A373=\"da\",CONCATENATE(B372,\"-ustreza\"),\"\"))","v":""},{"$f":"IF(B372=\"\",\"\",IF(Zahteve!G373=\"\",\"\",CONCATENATE(B372,\"-opis\")))","v":""},{"$f":"IF(B372=\"\",\"\",IF(Zahteve!H373=\"\",\"\",CONCATENATE(B372,\"-dni\")))","v":""},{"$f":"IF(B372=\"\",\"\",IF(Zahteve!H373=\"\",\"\",Zahteve!H373))","v":""}]
[{"$f":"IF(Zahteve!B374=\"\",\"\",Zahteve!B374)","v":"H.15.3"},{"$f":"IF(Zahteve!B374=\"\",\"\",LEFT(Zahteve!B374,1))","v":"H"},{"$f":"IF(B373=\"\",\"\",IF(Zahteve!F374=\"da\",CONCATENATE(B373,\"-DA\"),\"\"))","v":""},{"$f":"IF(B373=\"\",\"\",IF(Zahteve!A374=\"da\",CONCATENATE(B373,\"-ustreza\"),\"\"))","v":""},{"$f":"IF(B373=\"\",\"\",IF(Zahteve!G374=\"\",\"\",CONCATENATE(B373,\"-opis\")))","v":""},{"$f":"IF(B373=\"\",\"\",IF(Zahteve!H374=\"\",\"\",CONCATENATE(B373,\"-dni\")))","v":""},{"$f":"IF(B373=\"\",\"\",IF(Zahteve!H374=\"\",\"\",Zahteve!H374))","v":""}]
[{"$f":"IF(Zahteve!B375=\"\",\"\",Zahteve!B375)","v":"H.16.1"},{"$f":"IF(Zahteve!B375=\"\",\"\",LEFT(Zahteve!B375,1))","v":"H"},{"$f":"IF(B374=\"\",\"\",IF(Zahteve!F375=\"da\",CONCATENATE(B374,\"-DA\"),\"\"))","v":""},{"$f":"IF(B374=\"\",\"\",IF(Zahteve!A375=\"da\",CONCATENATE(B374,\"-ustreza\"),\"\"))","v":""},{"$f":"IF(B374=\"\",\"\",IF(Zahteve!G375=\"\",\"\",CONCATENATE(B374,\"-opis\")))","v":""},{"$f":"IF(B374=\"\",\"\",IF(Zahteve!H375=\"\",\"\",CONCATENATE(B374,\"-dni\")))","v":""},{"$f":"IF(B374=\"\",\"\",IF(Zahteve!H375=\"\",\"\",Zahteve!H375))","v":""}]
[{"$f":"IF(Zahteve!B376=\"\",\"\",Zahteve!B376)","v":"H.17.1"},{"$f":"IF(Zahteve!B376=\"\",\"\",LEFT(Zahteve!B376,1))","v":"H"},{"$f":"IF(B375=\"\",\"\",IF(Zahteve!F376=\"da\",CONCATENATE(B375,\"-DA\"),\"\"))","v":""},{"$f":"IF(B375=\"\",\"\",IF(Zahteve!A376=\"da\",CONCATENATE(B375,\"-ustreza\"),\"\"))","v":""},{"$f":"IF(B375=\"\",\"\",IF(Zahteve!G376=\"\",\"\",CONCATENATE(B375,\"-opis\")))","v":""},{"$f":"IF(B375=\"\",\"\",IF(Zahteve!H376=\"\",\"\",CONCATENATE(B375,\"-dni\")))","v":""},{"$f":"IF(B375=\"\",\"\",IF(Zahteve!H376=\"\",\"\",Zahteve!H376))","v":""}]
[{"$f":"IF(Zahteve!B377=\"\",\"\",Zahteve!B377)","v":"H.17.2"},{"$f":"IF(Zahteve!B377=\"\",\"\",LEFT(Zahteve!B377,1))","v":"H"},{"$f":"IF(B376=\"\",\"\",IF(Zahteve!F377=\"da\",CONCATENATE(B376,\"-DA\"),\"\"))","v":""},{"$f":"IF(B376=\"\",\"\",IF(Zahteve!A377=\"da\",CONCATENATE(B376,\"-ustreza\"),\"\"))","v":""},{"$f":"IF(B376=\"\",\"\",IF(Zahteve!G377=\"\",\"\",CONCATENATE(B376,\"-opis\")))","v":""},{"$f":"IF(B376=\"\",\"\",IF(Zahteve!H377=\"\",\"\",CONCATENATE(B376,\"-dni\")))","v":""},{"$f":"IF(B376=\"\",\"\",IF(Zahteve!H377=\"\",\"\",Zahteve!H377))","v":""}]
[{"$f":"IF(Zahteve!B378=\"\",\"\",Zahteve!B378)","v":"H.18.1"},{"$f":"IF(Zahteve!B378=\"\",\"\",LEFT(Zahteve!B378,1))","v":"H"},{"$f":"IF(B377=\"\",\"\",IF(Zahteve!F378=\"da\",CONCATENATE(B377,\"-DA\"),\"\"))","v":""},{"$f":"IF(B377=\"\",\"\",IF(Zahteve!A378=\"da\",CONCATENATE(B377,\"-ustreza\"),\"\"))","v":""},{"$f":"IF(B377=\"\",\"\",IF(Zahteve!G378=\"\",\"\",CONCATENATE(B377,\"-opis\")))","v":""},{"$f":"IF(B377=\"\",\"\",IF(Zahteve!H378=\"\",\"\",CONCATENATE(B377,\"-dni\")))","v":""},{"$f":"IF(B377=\"\",\"\",IF(Zahteve!H378=\"\",\"\",Zahteve!H378))","v":""}]
[{"$f":"IF(Zahteve!B379=\"\",\"\",Zahteve!B379)","v":"H.18.2"},{"$f":"IF(Zahteve!B379=\"\",\"\",LEFT(Zahteve!B379,1))","v":"H"},{"$f":"IF(B378=\"\",\"\",IF(Zahteve!F379=\"da\",CONCATENATE(B378,\"-DA\"),\"\"))","v":""},{"$f":"IF(B378=\"\",\"\",IF(Zahteve!A379=\"da\",CONCATENATE(B378,\"-ustreza\"),\"\"))","v":""},{"$f":"IF(B378=\"\",\"\",IF(Zahteve!G379=\"\",\"\",CONCATENATE(B378,\"-opis\")))","v":""},{"$f":"IF(B378=\"\",\"\",IF(Zahteve!H379=\"\",\"\",CONCATENATE(B378,\"-dni\")))","v":""},{"$f":"IF(B378=\"\",\"\",IF(Zahteve!H379=\"\",\"\",Zahteve!H379))","v":""}]
[{"$f":"IF(Zahteve!B380=\"\",\"\",Zahteve!B380)","v":"H.18.3"},{"$f":"IF(Zahteve!B380=\"\",\"\",LEFT(Zahteve!B380,1))","v":"H"},{"$f":"IF(B379=\"\",\"\",IF(Zahteve!F380=\"da\",CONCATENATE(B379,\"-DA\"),\"\"))","v":""},{"$f":"IF(B379=\"\",\"\",IF(Zahteve!A380=\"da\",CONCATENATE(B379,\"-ustreza\"),\"\"))","v":""},{"$f":"IF(B379=\"\",\"\",IF(Zahteve!G380=\"\",\"\",CONCATENATE(B379,\"-opis\")))","v":""},{"$f":"IF(B379=\"\",\"\",IF(Zahteve!H380=\"\",\"\",CONCATENATE(B379,\"-dni\")))","v":""},{"$f":"IF(B379=\"\",\"\",IF(Zahteve!H380=\"\",\"\",Zahteve!H380))","v":""}]
[{"$f":"IF(Zahteve!B381=\"\",\"\",Zahteve!B381)","v":"H.18.4"},{"$f":"IF(Zahteve!B381=\"\",\"\",LEFT(Zahteve!B381,1))","v":"H"},{"$f":"IF(B380=\"\",\"\",IF(Zahteve!F381=\"da\",CONCATENATE(B380,\"-DA\"),\"\"))","v":""},{"$f":"IF(B380=\"\",\"\",IF(Zahteve!A381=\"da\",CONCATENATE(B380,\"-ustreza\"),\"\"))","v":""},{"$f":"IF(B380=\"\",\"\",IF(Zahteve!G381=\"\",\"\",CONCATENATE(B380,\"-opis\")))","v":""},{"$f":"IF(B380=\"\",\"\",IF(Zahteve!H381=\"\",\"\",CONCATENATE(B380,\"-dni\")))","v":""},{"$f":"IF(B380=\"\",\"\",IF(Zahteve!H381=\"\",\"\",Zahteve!H381))","v":""}]
[{"$f":"IF(Zahteve!B382=\"\",\"\",Zahteve!B382)","v":"H.18.5"},{"$f":"IF(Zahteve!B382=\"\",\"\",LEFT(Zahteve!B382,1))","v":"H"},{"$f":"IF(B381=\"\",\"\",IF(Zahteve!F382=\"da\",CONCATENATE(B381,\"-DA\"),\"\"))","v":""},{"$f":"IF(B381=\"\",\"\",IF(Zahteve!A382=\"da\",CONCATENATE(B381,\"-ustreza\"),\"\"))","v":""},{"$f":"IF(B381=\"\",\"\",IF(Zahteve!G382=\"\",\"\",CONCATENATE(B381,\"-opis\")))","v":""},{"$f":"IF(B381=\"\",\"\",IF(Zahteve!H382=\"\",\"\",CONCATENATE(B381,\"-dni\")))","v":""},{"$f":"IF(B381=\"\",\"\",IF(Zahteve!H382=\"\",\"\",Zahteve!H382))","v":""}]
[{"$f":"IF(Zahteve!B383=\"\",\"\",Zahteve!B383)","v":"H.18.6"},{"$f":"IF(Zahteve!B383=\"\",\"\",LEFT(Zahteve!B383,1))","v":"H"},{"$f":"IF(B382=\"\",\"\",IF(Zahteve!F383=\"da\",CONCATENATE(B382,\"-DA\"),\"\"))","v":""},{"$f":"IF(B382=\"\",\"\",IF(Zahteve!A383=\"da\",CONCATENATE(B382,\"-ustreza\"),\"\"))","v":""},{"$f":"IF(B382=\"\",\"\",IF(Zahteve!G383=\"\",\"\",CONCATENATE(B382,\"-opis\")))","v":""},{"$f":"IF(B382=\"\",\"\",IF(Zahteve!H383=\"\",\"\",CONCATENATE(B382,\"-dni\")))","v":""},{"$f":"IF(B382=\"\",\"\",IF(Zahteve!H383=\"\",\"\",Zahteve!H383))","v":""}]
[{"$f":"IF(Zahteve!B384=\"\",\"\",Zahteve!B384)","v":"H.19.1"},{"$f":"IF(Zahteve!B384=\"\",\"\",LEFT(Zahteve!B384,1))","v":"H"},{"$f":"IF(B383=\"\",\"\",IF(Zahteve!F384=\"da\",CONCATENATE(B383,\"-DA\"),\"\"))","v":""},{"$f":"IF(B383=\"\",\"\",IF(Zahteve!A384=\"da\",CONCATENATE(B383,\"-ustreza\"),\"\"))","v":""},{"$f":"IF(B383=\"\",\"\",IF(Zahteve!G384=\"\",\"\",CONCATENATE(B383,\"-opis\")))","v":""},{"$f":"IF(B383=\"\",\"\",IF(Zahteve!H384=\"\",\"\",CONCATENATE(B383,\"-dni\")))","v":""},{"$f":"IF(B383=\"\",\"\",IF(Zahteve!H384=\"\",\"\",Zahteve!H384))","v":""}]
[{"$f":"IF(Zahteve!B385=\"\",\"\",Zahteve!B385)","v":"H.19.2"},{"$f":"IF(Zahteve!B385=\"\",\"\",LEFT(Zahteve!B385,1))","v":"H"},{"$f":"IF(B384=\"\",\"\",IF(Zahteve!F385=\"da\",CONCATENATE(B384,\"-DA\"),\"\"))","v":""},{"$f":"IF(B384=\"\",\"\",IF(Zahteve!A385=\"da\",CONCATENATE(B384,\"-ustreza\"),\"\"))","v":""},{"$f":"IF(B384=\"\",\"\",IF(Zahteve!G385=\"\",\"\",CONCATENATE(B384,\"-opis\")))","v":""},{"$f":"IF(B384=\"\",\"\",IF(Zahteve!H385=\"\",\"\",CONCATENATE(B384,\"-dni\")))","v":""},{"$f":"IF(B384=\"\",\"\",IF(Zahteve!H385=\"\",\"\",Zahteve!H385))","v":""}]
[{"$f":"IF(Zahteve!B386=\"\",\"\",Zahteve!B386)","v":"H.19.3"},{"$f":"IF(Zahteve!B386=\"\",\"\",LEFT(Zahteve!B386,1))","v":"H"},{"$f":"IF(B385=\"\",\"\",IF(Zahteve!F386=\"da\",CONCATENATE(B385,\"-DA\"),\"\"))","v":""},{"$f":"IF(B385=\"\",\"\",IF(Zahteve!A386=\"da\",CONCATENATE(B385,\"-ustreza\"),\"\"))","v":""},{"$f":"IF(B385=\"\",\"\",IF(Zahteve!G386=\"\",\"\",CONCATENATE(B385,\"-opis\")))","v":""},{"$f":"IF(B385=\"\",\"\",IF(Zahteve!H386=\"\",\"\",CONCATENATE(B385,\"-dni\")))","v":""},{"$f":"IF(B385=\"\",\"\",IF(Zahteve!H386=\"\",\"\",Zahteve!H386))","v":""}]
[{"$f":"IF(Zahteve!B387=\"\",\"\",Zahteve!B387)","v":"H.19.4"},{"$f":"IF(Zahteve!B387=\"\",\"\",LEFT(Zahteve!B387,1))","v":"H"},{"$f":"IF(B386=\"\",\"\",IF(Zahteve!F387=\"da\",CONCATENATE(B386,\"-DA\"),\"\"))","v":""},{"$f":"IF(B386=\"\",\"\",IF(Zahteve!A387=\"da\",CONCATENATE(B386,\"-ustreza\"),\"\"))","v":""},{"$f":"IF(B386=\"\",\"\",IF(Zahteve!G387=\"\",\"\",CONCATENATE(B386,\"-opis\")))","v":""},{"$f":"IF(B386=\"\",\"\",IF(Zahteve!H387=\"\",\"\",CONCATENATE(B386,\"-dni\")))","v":""},{"$f":"IF(B386=\"\",\"\",IF(Zahteve!H387=\"\",\"\",Zahteve!H387))","v":""}]
[{"$f":"IF(Zahteve!B388=\"\",\"\",Zahteve!B388)","v":"H.19.5"},{"$f":"IF(Zahteve!B388=\"\",\"\",LEFT(Zahteve!B388,1))","v":"H"},{"$f":"IF(B387=\"\",\"\",IF(Zahteve!F388=\"da\",CONCATENATE(B387,\"-DA\"),\"\"))","v":""},{"$f":"IF(B387=\"\",\"\",IF(Zahteve!A388=\"da\",CONCATENATE(B387,\"-ustreza\"),\"\"))","v":""},{"$f":"IF(B387=\"\",\"\",IF(Zahteve!G388=\"\",\"\",CONCATENATE(B387,\"-opis\")))","v":""},{"$f":"IF(B387=\"\",\"\",IF(Zahteve!H388=\"\",\"\",CONCATENATE(B387,\"-dni\")))","v":""},{"$f":"IF(B387=\"\",\"\",IF(Zahteve!H388=\"\",\"\",Zahteve!H388))","v":""}]
[{"$f":"IF(Zahteve!B389=\"\",\"\",Zahteve!B389)","v":"H.19.6"},{"$f":"IF(Zahteve!B389=\"\",\"\",LEFT(Zahteve!B389,1))","v":"H"},{"$f":"IF(B388=\"\",\"\",IF(Zahteve!F389=\"da\",CONCATENATE(B388,\"-DA\"),\"\"))","v":""},{"$f":"IF(B388=\"\",\"\",IF(Zahteve!A389=\"da\",CONCATENATE(B388,\"-ustreza\"),\"\"))","v":""},{"$f":"IF(B388=\"\",\"\",IF(Zahteve!G389=\"\",\"\",CONCATENATE(B388,\"-opis\")))","v":""},{"$f":"IF(B388=\"\",\"\",IF(Zahteve!H389=\"\",\"\",CONCATENATE(B388,\"-dni\")))","v":""},{"$f":"IF(B388=\"\",\"\",IF(Zahteve!H389=\"\",\"\",Zahteve!H389))","v":""}]
[{"$f":"IF(Zahteve!B390=\"\",\"\",Zahteve!B390)","v":"H.20.1"},{"$f":"IF(Zahteve!B390=\"\",\"\",LEFT(Zahteve!B390,1))","v":"H"},{"$f":"IF(B389=\"\",\"\",IF(Zahteve!F390=\"da\",CONCATENATE(B389,\"-DA\"),\"\"))","v":""},{"$f":"IF(B389=\"\",\"\",IF(Zahteve!A390=\"da\",CONCATENATE(B389,\"-ustreza\"),\"\"))","v":""},{"$f":"IF(B389=\"\",\"\",IF(Zahteve!G390=\"\",\"\",CONCATENATE(B389,\"-opis\")))","v":""},{"$f":"IF(B389=\"\",\"\",IF(Zahteve!H390=\"\",\"\",CONCATENATE(B389,\"-dni\")))","v":""},{"$f":"IF(B389=\"\",\"\",IF(Zahteve!H390=\"\",\"\",Zahteve!H390))","v":""}]
[{"$f":"IF(Zahteve!B391=\"\",\"\",Zahteve!B391)","v":"H.20.2"},{"$f":"IF(Zahteve!B391=\"\",\"\",LEFT(Zahteve!B391,1))","v":"H"},{"$f":"IF(B390=\"\",\"\",IF(Zahteve!F391=\"da\",CONCATENATE(B390,\"-DA\"),\"\"))","v":""},{"$f":"IF(B390=\"\",\"\",IF(Zahteve!A391=\"da\",CONCATENATE(B390,\"-ustreza\"),\"\"))","v":""},{"$f":"IF(B390=\"\",\"\",IF(Zahteve!G391=\"\",\"\",CONCATENATE(B390,\"-opis\")))","v":""},{"$f":"IF(B390=\"\",\"\",IF(Zahteve!H391=\"\",\"\",CONCATENATE(B390,\"-dni\")))","v":""},{"$f":"IF(B390=\"\",\"\",IF(Zahteve!H391=\"\",\"\",Zahteve!H391))","v":""}]
[{"$f":"IF(Zahteve!B392=\"\",\"\",Zahteve!B392)","v":"H.20.3"},{"$f":"IF(Zahteve!B392=\"\",\"\",LEFT(Zahteve!B392,1))","v":"H"},{"$f":"IF(B391=\"\",\"\",IF(Zahteve!F392=\"da\",CONCATENATE(B391,\"-DA\"),\"\"))","v":""},{"$f":"IF(B391=\"\",\"\",IF(Zahteve!A392=\"da\",CONCATENATE(B391,\"-ustreza\"),\"\"))","v":""},{"$f":"IF(B391=\"\",\"\",IF(Zahteve!G392=\"\",\"\",CONCATENATE(B391,\"-opis\")))","v":""},{"$f":"IF(B391=\"\",\"\",IF(Zahteve!H392=\"\",\"\",CONCATENATE(B391,\"-dni\")))","v":""},{"$f":"IF(B391=\"\",\"\",IF(Zahteve!H392=\"\",\"\",Zahteve!H392))","v":""}]
[{"$f":"IF(Zahteve!B393=\"\",\"\",Zahteve!B393)","v":"H.21.1"},{"$f":"IF(Zahteve!B393=\"\",\"\",LEFT(Zahteve!B393,1))","v":"H"},{"$f":"IF(B392=\"\",\"\",IF(Zahteve!F393=\"da\",CONCATENATE(B392,\"-DA\"),\"\"))","v":""},{"$f":"IF(B392=\"\",\"\",IF(Zahteve!A393=\"da\",CONCATENATE(B392,\"-ustreza\"),\"\"))","v":""},{"$f":"IF(B392=\"\",\"\",IF(Zahteve!G393=\"\",\"\",CONCATENATE(B392,\"-opis\")))","v":""},{"$f":"IF(B392=\"\",\"\",IF(Zahteve!H393=\"\",\"\",CONCATENATE(B392,\"-dni\")))","v":""},{"$f":"IF(B392=\"\",\"\",IF(Zahteve!H393=\"\",\"\",Zahteve!H393))","v":""}]
[{"$f":"IF(Zahteve!B394=\"\",\"\",Zahteve!B394)","v":"H.21.2"},{"$f":"IF(Zahteve!B394=\"\",\"\",LEFT(Zahteve!B394,1))","v":"H"},{"$f":"IF(B393=\"\",\"\",IF(Zahteve!F394=\"da\",CONCATENATE(B393,\"-DA\"),\"\"))","v":""},{"$f":"IF(B393=\"\",\"\",IF(Zahteve!A394=\"da\",CONCATENATE(B393,\"-ustreza\"),\"\"))","v":""},{"$f":"IF(B393=\"\",\"\",IF(Zahteve!G394=\"\",\"\",CONCATENATE(B393,\"-opis\")))","v":""},{"$f":"IF(B393=\"\",\"\",IF(Zahteve!H394=\"\",\"\",CONCATENATE(B393,\"-dni\")))","v":""},{"$f":"IF(B393=\"\",\"\",IF(Zahteve!H394=\"\",\"\",Zahteve!H394))","v":""}]
[{"$f":"IF(Zahteve!B395=\"\",\"\",Zahteve!B395)","v":"H.21.3"},{"$f":"IF(Zahteve!B395=\"\",\"\",LEFT(Zahteve!B395,1))","v":"H"},{"$f":"IF(B394=\"\",\"\",IF(Zahteve!F395=\"da\",CONCATENATE(B394,\"-DA\"),\"\"))","v":""},{"$f":"IF(B394=\"\",\"\",IF(Zahteve!A395=\"da\",CONCATENATE(B394,\"-ustreza\"),\"\"))","v":""},{"$f":"IF(B394=\"\",\"\",IF(Zahteve!G395=\"\",\"\",CONCATENATE(B394,\"-opis\")))","v":""},{"$f":"IF(B394=\"\",\"\",IF(Zahteve!H395=\"\",\"\",CONCATENATE(B394,\"-dni\")))","v":""},{"$f":"IF(B394=\"\",\"\",IF(Zahteve!H395=\"\",\"\",Zahteve!H395))","v":""}]
[{"$f":"IF(Zahteve!B396=\"\",\"\",Zahteve!B396)","v":""},{"$f":"IF(Zahteve!B396=\"\",\"\",LEFT(Zahteve!B396,1))","v":""},{"$f":"IF(B395=\"\",\"\",IF(Zahteve!F396=\"da\",CONCATENATE(B395,\"-DA\"),\"\"))","v":""},{"$f":"IF(B395=\"\",\"\",IF(Zahteve!A396=\"da\",CONCATENATE(B395,\"-ustreza\"),\"\"))","v":""},{"$f":"IF(B395=\"\",\"\",IF(Zahteve!G396=\"\",\"\",CONCATENATE(B395,\"-opis\")))","v":""},{"$f":"IF(B395=\"\",\"\",IF(Zahteve!H396=\"\",\"\",CONCATENATE(B395,\"-dni\")))","v":""},{"$f":"IF(B395=\"\",\"\",IF(Zahteve!H396=\"\",\"\",Zahteve!H396))","v":""}]
[{"$f":"IF(Zahteve!B397=\"\",\"\",Zahteve!B397)","v":"H.22.1"},{"$f":"IF(Zahteve!B397=\"\",\"\",LEFT(Zahteve!B397,1))","v":"H"},{"$f":"IF(B396=\"\",\"\",IF(Zahteve!F397=\"da\",CONCATENATE(B396,\"-DA\"),\"\"))","v":""},{"$f":"IF(B396=\"\",\"\",IF(Zahteve!A397=\"da\",CONCATENATE(B396,\"-ustreza\"),\"\"))","v":""},{"$f":"IF(B396=\"\",\"\",IF(Zahteve!G397=\"\",\"\",CONCATENATE(B396,\"-opis\")))","v":""},{"$f":"IF(B396=\"\",\"\",IF(Zahteve!H397=\"\",\"\",CONCATENATE(B396,\"-dni\")))","v":""},{"$f":"IF(B396=\"\",\"\",IF(Zahteve!H397=\"\",\"\",Zahteve!H397))","v":""}]
[{"$f":"IF(Zahteve!B398=\"\",\"\",Zahteve!B398)","v":"H.22.2"},{"$f":"IF(Zahteve!B398=\"\",\"\",LEFT(Zahteve!B398,1))","v":"H"},{"$f":"IF(B397=\"\",\"\",IF(Zahteve!F398=\"da\",CONCATENATE(B397,\"-DA\"),\"\"))","v":""},{"$f":"IF(B397=\"\",\"\",IF(Zahteve!A398=\"da\",CONCATENATE(B397,\"-ustreza\"),\"\"))","v":""},{"$f":"IF(B397=\"\",\"\",IF(Zahteve!G398=\"\",\"\",CONCATENATE(B397,\"-opis\")))","v":""},{"$f":"IF(B397=\"\",\"\",IF(Zahteve!H398=\"\",\"\",CONCATENATE(B397,\"-dni\")))","v":""},{"$f":"IF(B397=\"\",\"\",IF(Zahteve!H398=\"\",\"\",Zahteve!H398))","v":""}]
[{"$f":"IF(Zahteve!B399=\"\",\"\",Zahteve!B399)","v":"H.22.3"},{"$f":"IF(Zahteve!B399=\"\",\"\",LEFT(Zahteve!B399,1))","v":"H"},{"$f":"IF(B398=\"\",\"\",IF(Zahteve!F399=\"da\",CONCATENATE(B398,\"-DA\"),\"\"))","v":""},{"$f":"IF(B398=\"\",\"\",IF(Zahteve!A399=\"da\",CONCATENATE(B398,\"-ustreza\"),\"\"))","v":""},{"$f":"IF(B398=\"\",\"\",IF(Zahteve!G399=\"\",\"\",CONCATENATE(B398,\"-opis\")))","v":""},{"$f":"IF(B398=\"\",\"\",IF(Zahteve!H399=\"\",\"\",CONCATENATE(B398,\"-dni\")))","v":""},{"$f":"IF(B398=\"\",\"\",IF(Zahteve!H399=\"\",\"\",Zahteve!H399))","v":""}]
[{"$f":"IF(Zahteve!B400=\"\",\"\",Zahteve!B400)","v":"H.23.1"},{"$f":"IF(Zahteve!B400=\"\",\"\",LEFT(Zahteve!B400,1))","v":"H"},{"$f":"IF(B399=\"\",\"\",IF(Zahteve!F400=\"da\",CONCATENATE(B399,\"-DA\"),\"\"))","v":""},{"$f":"IF(B399=\"\",\"\",IF(Zahteve!A400=\"da\",CONCATENATE(B399,\"-ustreza\"),\"\"))","v":""},{"$f":"IF(B399=\"\",\"\",IF(Zahteve!G400=\"\",\"\",CONCATENATE(B399,\"-opis\")))","v":""},{"$f":"IF(B399=\"\",\"\",IF(Zahteve!H400=\"\",\"\",CONCATENATE(B399,\"-dni\")))","v":""},{"$f":"IF(B399=\"\",\"\",IF(Zahteve!H400=\"\",\"\",Zahteve!H400))","v":""}]
[{"$f":"IF(Zahteve!B401=\"\",\"\",Zahteve!B401)","v":"H.23.2"},{"$f":"IF(Zahteve!B401=\"\",\"\",LEFT(Zahteve!B401,1))","v":"H"},{"$f":"IF(B400=\"\",\"\",IF(Zahteve!F401=\"da\",CONCATENATE(B400,\"-DA\"),\"\"))","v":""},{"$f":"IF(B400=\"\",\"\",IF(Zahteve!A401=\"da\",CONCATENATE(B400,\"-ustreza\"),\"\"))","v":""},{"$f":"IF(B400=\"\",\"\",IF(Zahteve!G401=\"\",\"\",CONCATENATE(B400,\"-opis\")))","v":""},{"$f":"IF(B400=\"\",\"\",IF(Zahteve!H401=\"\",\"\",CONCATENATE(B400,\"-dni\")))","v":""},{"$f":"IF(B400=\"\",\"\",IF(Zahteve!H401=\"\",\"\",Zahteve!H401))","v":""}]
[{"$f":"IF(Zahteve!B402=\"\",\"\",Zahteve!B402)","v":"H.24.1"},{"$f":"IF(Zahteve!B402=\"\",\"\",LEFT(Zahteve!B402,1))","v":"H"},{"$f":"IF(B401=\"\",\"\",IF(Zahteve!F402=\"da\",CONCATENATE(B401,\"-DA\"),\"\"))","v":""},{"$f":"IF(B401=\"\",\"\",IF(Zahteve!A402=\"da\",CONCATENATE(B401,\"-ustreza\"),\"\"))","v":""},{"$f":"IF(B401=\"\",\"\",IF(Zahteve!G402=\"\",\"\",CONCATENATE(B401,\"-opis\")))","v":""},{"$f":"IF(B401=\"\",\"\",IF(Zahteve!H402=\"\",\"\",CONCATENATE(B401,\"-dni\")))","v":""},{"$f":"IF(B401=\"\",\"\",IF(Zahteve!H402=\"\",\"\",Zahteve!H402))","v":""}]
[{"$f":"IF(Zahteve!B403=\"\",\"\",Zahteve!B403)","v":"H.24.2"},{"$f":"IF(Zahteve!B403=\"\",\"\",LEFT(Zahteve!B403,1))","v":"H"},{"$f":"IF(B402=\"\",\"\",IF(Zahteve!F403=\"da\",CONCATENATE(B402,\"-DA\"),\"\"))","v":""},{"$f":"IF(B402=\"\",\"\",IF(Zahteve!A403=\"da\",CONCATENATE(B402,\"-ustreza\"),\"\"))","v":""},{"$f":"IF(B402=\"\",\"\",IF(Zahteve!G403=\"\",\"\",CONCATENATE(B402,\"-opis\")))","v":""},{"$f":"IF(B402=\"\",\"\",IF(Zahteve!H403=\"\",\"\",CONCATENATE(B402,\"-dni\")))","v":""},{"$f":"IF(B402=\"\",\"\",IF(Zahteve!H403=\"\",\"\",Zahteve!H403))","v":""}]
[{"$f":"IF(Zahteve!B404=\"\",\"\",Zahteve!B404)","v":"H.24.3"},{"$f":"IF(Zahteve!B404=\"\",\"\",LEFT(Zahteve!B404,1))","v":"H"},{"$f":"IF(B403=\"\",\"\",IF(Zahteve!F404=\"da\",CONCATENATE(B403,\"-DA\"),\"\"))","v":""},{"$f":"IF(B403=\"\",\"\",IF(Zahteve!A404=\"da\",CONCATENATE(B403,\"-ustreza\"),\"\"))","v":""},{"$f":"IF(B403=\"\",\"\",IF(Zahteve!G404=\"\",\"\",CONCATENATE(B403,\"-opis\")))","v":""},{"$f":"IF(B403=\"\",\"\",IF(Zahteve!H404=\"\",\"\",CONCATENATE(B403,\"-dni\")))","v":""},{"$f":"IF(B403=\"\",\"\",IF(Zahteve!H404=\"\",\"\",Zahteve!H404))","v":""}]
[{"$f":"IF(Zahteve!B405=\"\",\"\",Zahteve!B405)","v":""},{"$f":"IF(Zahteve!B405=\"\",\"\",LEFT(Zahteve!B405,1))","v":""},{"$f":"IF(B404=\"\",\"\",IF(Zahteve!F405=\"da\",CONCATENATE(B404,\"-DA\"),\"\"))","v":""},{"$f":"IF(B404=\"\",\"\",IF(Zahteve!A405=\"da\",CONCATENATE(B404,\"-ustreza\"),\"\"))","v":""},{"$f":"IF(B404=\"\",\"\",IF(Zahteve!G405=\"\",\"\",CONCATENATE(B404,\"-opis\")))","v":""},{"$f":"IF(B404=\"\",\"\",IF(Zahteve!H405=\"\",\"\",CONCATENATE(B404,\"-dni\")))","v":""},{"$f":"IF(B404=\"\",\"\",IF(Zahteve!H405=\"\",\"\",Zahteve!H405))","v":""}]
[{"$f":"IF(Zahteve!B406=\"\",\"\",Zahteve!B406)","v":""},{"$f":"IF(Zahteve!B406=\"\",\"\",LEFT(Zahteve!B406,1))","v":""},{"$f":"IF(B405=\"\",\"\",IF(Zahteve!F406=\"da\",CONCATENATE(B405,\"-DA\"),\"\"))","v":""},{"$f":"IF(B405=\"\",\"\",IF(Zahteve!A406=\"da\",CONCATENATE(B405,\"-ustreza\"),\"\"))","v":""},{"$f":"IF(B405=\"\",\"\",IF(Zahteve!G406=\"\",\"\",CONCATENATE(B405,\"-opis\")))","v":""},{"$f":"IF(B405=\"\",\"\",IF(Zahteve!H406=\"\",\"\",CONCATENATE(B405,\"-dni\")))","v":""},{"$f":"IF(B405=\"\",\"\",IF(Zahteve!H406=\"\",\"\",Zahteve!H406))","v":""}]
[{"$f":"IF(Zahteve!B407=\"\",\"\",Zahteve!B407)","v":"I.1.1"},{"$f":"IF(Zahteve!B407=\"\",\"\",LEFT(Zahteve!B407,1))","v":"I"},{"$f":"IF(B406=\"\",\"\",IF(Zahteve!F407=\"da\",CONCATENATE(B406,\"-DA\"),\"\"))","v":""},{"$f":"IF(B406=\"\",\"\",IF(Zahteve!A407=\"da\",CONCATENATE(B406,\"-ustreza\"),\"\"))","v":""},{"$f":"IF(B406=\"\",\"\",IF(Zahteve!G407=\"\",\"\",CONCATENATE(B406,\"-opis\")))","v":""},{"$f":"IF(B406=\"\",\"\",IF(Zahteve!H407=\"\",\"\",CONCATENATE(B406,\"-dni\")))","v":""},{"$f":"IF(B406=\"\",\"\",IF(Zahteve!H407=\"\",\"\",Zahteve!H407))","v":""}]
[{"$f":"IF(Zahteve!B408=\"\",\"\",Zahteve!B408)","v":"I.2.1"},{"$f":"IF(Zahteve!B408=\"\",\"\",LEFT(Zahteve!B408,1))","v":"I"},{"$f":"IF(B407=\"\",\"\",IF(Zahteve!F408=\"da\",CONCATENATE(B407,\"-DA\"),\"\"))","v":""},{"$f":"IF(B407=\"\",\"\",IF(Zahteve!A408=\"da\",CONCATENATE(B407,\"-ustreza\"),\"\"))","v":""},{"$f":"IF(B407=\"\",\"\",IF(Zahteve!G408=\"\",\"\",CONCATENATE(B407,\"-opis\")))","v":""},{"$f":"IF(B407=\"\",\"\",IF(Zahteve!H408=\"\",\"\",CONCATENATE(B407,\"-dni\")))","v":""},{"$f":"IF(B407=\"\",\"\",IF(Zahteve!H408=\"\",\"\",Zahteve!H408))","v":""}]
[{"$f":"IF(Zahteve!B409=\"\",\"\",Zahteve!B409)","v":"I.2.2"},{"$f":"IF(Zahteve!B409=\"\",\"\",LEFT(Zahteve!B409,1))","v":"I"},{"$f":"IF(B408=\"\",\"\",IF(Zahteve!F409=\"da\",CONCATENATE(B408,\"-DA\"),\"\"))","v":""},{"$f":"IF(B408=\"\",\"\",IF(Zahteve!A409=\"da\",CONCATENATE(B408,\"-ustreza\"),\"\"))","v":""},{"$f":"IF(B408=\"\",\"\",IF(Zahteve!G409=\"\",\"\",CONCATENATE(B408,\"-opis\")))","v":""},{"$f":"IF(B408=\"\",\"\",IF(Zahteve!H409=\"\",\"\",CONCATENATE(B408,\"-dni\")))","v":""},{"$f":"IF(B408=\"\",\"\",IF(Zahteve!H409=\"\",\"\",Zahteve!H409))","v":""}]
[{"$f":"IF(Zahteve!B410=\"\",\"\",Zahteve!B410)","v":"I.3.1"},{"$f":"IF(Zahteve!B410=\"\",\"\",LEFT(Zahteve!B410,1))","v":"I"},{"$f":"IF(B409=\"\",\"\",IF(Zahteve!F410=\"da\",CONCATENATE(B409,\"-DA\"),\"\"))","v":""},{"$f":"IF(B409=\"\",\"\",IF(Zahteve!A410=\"da\",CONCATENATE(B409,\"-ustreza\"),\"\"))","v":""},{"$f":"IF(B409=\"\",\"\",IF(Zahteve!G410=\"\",\"\",CONCATENATE(B409,\"-opis\")))","v":""},{"$f":"IF(B409=\"\",\"\",IF(Zahteve!H410=\"\",\"\",CONCATENATE(B409,\"-dni\")))","v":""},{"$f":"IF(B409=\"\",\"\",IF(Zahteve!H410=\"\",\"\",Zahteve!H410))","v":""}]
[{"$f":"IF(Zahteve!B411=\"\",\"\",Zahteve!B411)","v":"I.3.2"},{"$f":"IF(Zahteve!B411=\"\",\"\",LEFT(Zahteve!B411,1))","v":"I"},{"$f":"IF(B410=\"\",\"\",IF(Zahteve!F411=\"da\",CONCATENATE(B410,\"-DA\"),\"\"))","v":""},{"$f":"IF(B410=\"\",\"\",IF(Zahteve!A411=\"da\",CONCATENATE(B410,\"-ustreza\"),\"\"))","v":""},{"$f":"IF(B410=\"\",\"\",IF(Zahteve!G411=\"\",\"\",CONCATENATE(B410,\"-opis\")))","v":""},{"$f":"IF(B410=\"\",\"\",IF(Zahteve!H411=\"\",\"\",CONCATENATE(B410,\"-dni\")))","v":""},{"$f":"IF(B410=\"\",\"\",IF(Zahteve!H411=\"\",\"\",Zahteve!H411))","v":""}]
[{"$f":"IF(Zahteve!B412=\"\",\"\",Zahteve!B412)","v":"I.3.3"},{"$f":"IF(Zahteve!B412=\"\",\"\",LEFT(Zahteve!B412,1))","v":"I"},{"$f":"IF(B411=\"\",\"\",IF(Zahteve!F412=\"da\",CONCATENATE(B411,\"-DA\"),\"\"))","v":""},{"$f":"IF(B411=\"\",\"\",IF(Zahteve!A412=\"da\",CONCATENATE(B411,\"-ustreza\"),\"\"))","v":""},{"$f":"IF(B411=\"\",\"\",IF(Zahteve!G412=\"\",\"\",CONCATENATE(B411,\"-opis\")))","v":""},{"$f":"IF(B411=\"\",\"\",IF(Zahteve!H412=\"\",\"\",CONCATENATE(B411,\"-dni\")))","v":""},{"$f":"IF(B411=\"\",\"\",IF(Zahteve!H412=\"\",\"\",Zahteve!H412))","v":""}]
[{"$f":"IF(Zahteve!B413=\"\",\"\",Zahteve!B413)","v":"I.3.4"},{"$f":"IF(Zahteve!B413=\"\",\"\",LEFT(Zahteve!B413,1))","v":"I"},{"$f":"IF(B412=\"\",\"\",IF(Zahteve!F413=\"da\",CONCATENATE(B412,\"-DA\"),\"\"))","v":""},{"$f":"IF(B412=\"\",\"\",IF(Zahteve!A413=\"da\",CONCATENATE(B412,\"-ustreza\"),\"\"))","v":""},{"$f":"IF(B412=\"\",\"\",IF(Zahteve!G413=\"\",\"\",CONCATENATE(B412,\"-opis\")))","v":""},{"$f":"IF(B412=\"\",\"\",IF(Zahteve!H413=\"\",\"\",CONCATENATE(B412,\"-dni\")))","v":""},{"$f":"IF(B412=\"\",\"\",IF(Zahteve!H413=\"\",\"\",Zahteve!H413))","v":""}]
[{"$f":"IF(Zahteve!B414=\"\",\"\",Zahteve!B414)","v":"I.3.5"},{"$f":"IF(Zahteve!B414=\"\",\"\",LEFT(Zahteve!B414,1))","v":"I"},{"$f":"IF(B413=\"\",\"\",IF(Zahteve!F414=\"da\",CONCATENATE(B413,\"-DA\"),\"\"))","v":""},{"$f":"IF(B413=\"\",\"\",IF(Zahteve!A414=\"da\",CONCATENATE(B413,\"-ustreza\"),\"\"))","v":""},{"$f":"IF(B413=\"\",\"\",IF(Zahteve!G414=\"\",\"\",CONCATENATE(B413,\"-opis\")))","v":""},{"$f":"IF(B413=\"\",\"\",IF(Zahteve!H414=\"\",\"\",CONCATENATE(B413,\"-dni\")))","v":""},{"$f":"IF(B413=\"\",\"\",IF(Zahteve!H414=\"\",\"\",Zahteve!H414))","v":""}]
[{"$f":"IF(Zahteve!B415=\"\",\"\",Zahteve!B415)","v":"I.4.1"},{"$f":"IF(Zahteve!B415=\"\",\"\",LEFT(Zahteve!B415,1))","v":"I"},{"$f":"IF(B414=\"\",\"\",IF(Zahteve!F415=\"da\",CONCATENATE(B414,\"-DA\"),\"\"))","v":""},{"$f":"IF(B414=\"\",\"\",IF(Zahteve!A415=\"da\",CONCATENATE(B414,\"-ustreza\"),\"\"))","v":""},{"$f":"IF(B414=\"\",\"\",IF(Zahteve!G415=\"\",\"\",CONCATENATE(B414,\"-opis\")))","v":""},{"$f":"IF(B414=\"\",\"\",IF(Zahteve!H415=\"\",\"\",CONCATENATE(B414,\"-dni\")))","v":""},{"$f":"IF(B414=\"\",\"\",IF(Zahteve!H415=\"\",\"\",Zahteve!H415))","v":""}]
[{"$f":"IF(Zahteve!B416=\"\",\"\",Zahteve!B416)","v":"I.5.1"},{"$f":"IF(Zahteve!B416=\"\",\"\",LEFT(Zahteve!B416,1))","v":"I"},{"$f":"IF(B415=\"\",\"\",IF(Zahteve!F416=\"da\",CONCATENATE(B415,\"-DA\"),\"\"))","v":""},{"$f":"IF(B415=\"\",\"\",IF(Zahteve!A416=\"da\",CONCATENATE(B415,\"-ustreza\"),\"\"))","v":""},{"$f":"IF(B415=\"\",\"\",IF(Zahteve!G416=\"\",\"\",CONCATENATE(B415,\"-opis\")))","v":""},{"$f":"IF(B415=\"\",\"\",IF(Zahteve!H416=\"\",\"\",CONCATENATE(B415,\"-dni\")))","v":""},{"$f":"IF(B415=\"\",\"\",IF(Zahteve!H416=\"\",\"\",Zahteve!H416))","v":""}]
[{"$f":"IF(Zahteve!B417=\"\",\"\",Zahteve!B417)","v":"I.6.1"},{"$f":"IF(Zahteve!B417=\"\",\"\",LEFT(Zahteve!B417,1))","v":"I"},{"$f":"IF(B416=\"\",\"\",IF(Zahteve!F417=\"da\",CONCATENATE(B416,\"-DA\"),\"\"))","v":""},{"$f":"IF(B416=\"\",\"\",IF(Zahteve!A417=\"da\",CONCATENATE(B416,\"-ustreza\"),\"\"))","v":""},{"$f":"IF(B416=\"\",\"\",IF(Zahteve!G417=\"\",\"\",CONCATENATE(B416,\"-opis\")))","v":""},{"$f":"IF(B416=\"\",\"\",IF(Zahteve!H417=\"\",\"\",CONCATENATE(B416,\"-dni\")))","v":""},{"$f":"IF(B416=\"\",\"\",IF(Zahteve!H417=\"\",\"\",Zahteve!H417))","v":""}]
[{"$f":"IF(Zahteve!B418=\"\",\"\",Zahteve!B418)","v":"I.7.1"},{"$f":"IF(Zahteve!B418=\"\",\"\",LEFT(Zahteve!B418,1))","v":"I"},{"$f":"IF(B417=\"\",\"\",IF(Zahteve!F418=\"da\",CONCATENATE(B417,\"-DA\"),\"\"))","v":""},{"$f":"IF(B417=\"\",\"\",IF(Zahteve!A418=\"da\",CONCATENATE(B417,\"-ustreza\"),\"\"))","v":""},{"$f":"IF(B417=\"\",\"\",IF(Zahteve!G418=\"\",\"\",CONCATENATE(B417,\"-opis\")))","v":""},{"$f":"IF(B417=\"\",\"\",IF(Zahteve!H418=\"\",\"\",CONCATENATE(B417,\"-dni\")))","v":""},{"$f":"IF(B417=\"\",\"\",IF(Zahteve!H418=\"\",\"\",Zahteve!H418))","v":""}]
[{"$f":"IF(Zahteve!B419=\"\",\"\",Zahteve!B419)","v":"I.7.2"},{"$f":"IF(Zahteve!B419=\"\",\"\",LEFT(Zahteve!B419,1))","v":"I"},{"$f":"IF(B418=\"\",\"\",IF(Zahteve!F419=\"da\",CONCATENATE(B418,\"-DA\"),\"\"))","v":""},{"$f":"IF(B418=\"\",\"\",IF(Zahteve!A419=\"da\",CONCATENATE(B418,\"-ustreza\"),\"\"))","v":""},{"$f":"IF(B418=\"\",\"\",IF(Zahteve!G419=\"\",\"\",CONCATENATE(B418,\"-opis\")))","v":""},{"$f":"IF(B418=\"\",\"\",IF(Zahteve!H419=\"\",\"\",CONCATENATE(B418,\"-dni\")))","v":""},{"$f":"IF(B418=\"\",\"\",IF(Zahteve!H419=\"\",\"\",Zahteve!H419))","v":""}]
[{"$f":"IF(Zahteve!#REF!=\"\",\"\",Zahteve!#REF!)","v":{"$error":"#REF!"}},{"$f":"IF(Zahteve!#REF!=\"\",\"\",LEFT(Zahteve!#REF!,1))","v":{"$error":"#REF!"}},{"$f":"IF(B419=\"\",\"\",IF(Zahteve!#REF!=\"da\",CONCATENATE(B419,\"-DA\"),\"\"))","v":{"$error":"#REF!"}},{"$f":"IF(B419=\"\",\"\",IF(Zahteve!#REF!=\"da\",CONCATENATE(B419,\"-ustreza\"),\"\"))","v":{"$error":"#REF!"}},{"$f":"IF(B419=\"\",\"\",IF(Zahteve!#REF!=\"\",\"\",CONCATENATE(B419,\"-opis\")))","v":{"$error":"#REF!"}},{"$f":"IF(B419=\"\",\"\",IF(Zahteve!#REF!=\"\",\"\",CONCATENATE(B419,\"-dni\")))","v":{"$error":"#REF!"}},{"$f":"IF(B419=\"\",\"\",IF(Zahteve!#REF!=\"\",\"\",Zahteve!#REF!))","v":{"$error":"#REF!"}}]
[{"$f":"IF(Zahteve!B420=\"\",\"\",Zahteve!B420)","v":""},{"$f":"IF(Zahteve!B420=\"\",\"\",LEFT(Zahteve!B420,1))","v":""},{"$f":"IF(B420=\"\",\"\",IF(Zahteve!F420=\"da\",CONCATENATE(B420,\"-DA\"),\"\"))","v":""},{"$f":"IF(B420=\"\",\"\",IF(Zahteve!A420=\"da\",CONCATENATE(B420,\"-ustreza\"),\"\"))","v":""},{"$f":"IF(B420=\"\",\"\",IF(Zahteve!G420=\"\",\"\",CONCATENATE(B420,\"-opis\")))","v":""},{"$f":"IF(B420=\"\",\"\",IF(Zahteve!H420=\"\",\"\",CONCATENATE(B420,\"-dni\")))","v":""},{"$f":"IF(B420=\"\",\"\",IF(Zahteve!H420=\"\",\"\",Zahteve!H420))","v":""}]
[{"$f":"IF(Zahteve!B421=\"\",\"\",Zahteve!B421)","v":"I.8.1"},{"$f":"IF(Zahteve!B421=\"\",\"\",LEFT(Zahteve!B421,1))","v":"I"},{"$f":"IF(B421=\"\",\"\",IF(Zahteve!F421=\"da\",CONCATENATE(B421,\"-DA\"),\"\"))","v":""},{"$f":"IF(B421=\"\",\"\",IF(Zahteve!A421=\"da\",CONCATENATE(B421,\"-ustreza\"),\"\"))","v":""},{"$f":"IF(B421=\"\",\"\",IF(Zahteve!G421=\"\",\"\",CONCATENATE(B421,\"-opis\")))","v":""},{"$f":"IF(B421=\"\",\"\",IF(Zahteve!H421=\"\",\"\",CONCATENATE(B421,\"-dni\")))","v":""},{"$f":"IF(B421=\"\",\"\",IF(Zahteve!H421=\"\",\"\",Zahteve!H421))","v":""}]
[{"$f":"IF(Zahteve!B422=\"\",\"\",Zahteve!B422)","v":"I.9.1"},{"$f":"IF(Zahteve!B422=\"\",\"\",LEFT(Zahteve!B422,1))","v":"I"},{"$f":"IF(B422=\"\",\"\",IF(Zahteve!F422=\"da\",CONCATENATE(B422,\"-DA\"),\"\"))","v":""},{"$f":"IF(B422=\"\",\"\",IF(Zahteve!A422=\"da\",CONCATENATE(B422,\"-ustreza\"),\"\"))","v":""},{"$f":"IF(B422=\"\",\"\",IF(Zahteve!G422=\"\",\"\",CONCATENATE(B422,\"-opis\")))","v":""},{"$f":"IF(B422=\"\",\"\",IF(Zahteve!H422=\"\",\"\",CONCATENATE(B422,\"-dni\")))","v":""},{"$f":"IF(B422=\"\",\"\",IF(Zahteve!H422=\"\",\"\",Zahteve!H422))","v":""}]
[{"$f":"IF(Zahteve!B423=\"\",\"\",Zahteve!B423)","v":"I.9.2"},{"$f":"IF(Zahteve!B423=\"\",\"\",LEFT(Zahteve!B423,1))","v":"I"},{"$f":"IF(B423=\"\",\"\",IF(Zahteve!F423=\"da\",CONCATENATE(B423,\"-DA\"),\"\"))","v":""},{"$f":"IF(B423=\"\",\"\",IF(Zahteve!A423=\"da\",CONCATENATE(B423,\"-ustreza\"),\"\"))","v":""},{"$f":"IF(B423=\"\",\"\",IF(Zahteve!G423=\"\",\"\",CONCATENATE(B423,\"-opis\")))","v":""},{"$f":"IF(B423=\"\",\"\",IF(Zahteve!H423=\"\",\"\",CONCATENATE(B423,\"-dni\")))","v":""},{"$f":"IF(B423=\"\",\"\",IF(Zahteve!H423=\"\",\"\",Zahteve!H423))","v":""}]
[{"$f":"IF(Zahteve!B424=\"\",\"\",Zahteve!B424)","v":"I.9.3"},{"$f":"IF(Zahteve!B424=\"\",\"\",LEFT(Zahteve!B424,1))","v":"I"},{"$f":"IF(B424=\"\",\"\",IF(Zahteve!F424=\"da\",CONCATENATE(B424,\"-DA\"),\"\"))","v":""},{"$f":"IF(B424=\"\",\"\",IF(Zahteve!A424=\"da\",CONCATENATE(B424,\"-ustreza\"),\"\"))","v":""},{"$f":"IF(B424=\"\",\"\",IF(Zahteve!G424=\"\",\"\",CONCATENATE(B424,\"-opis\")))","v":""},{"$f":"IF(B424=\"\",\"\",IF(Zahteve!H424=\"\",\"\",CONCATENATE(B424,\"-dni\")))","v":""},{"$f":"IF(B424=\"\",\"\",IF(Zahteve!H424=\"\",\"\",Zahteve!H424))","v":""}]
[{"$f":"IF(Zahteve!B425=\"\",\"\",Zahteve!B425)","v":"I.10.1"},{"$f":"IF(Zahteve!B425=\"\",\"\",LEFT(Zahteve!B425,1))","v":"I"},{"$f":"IF(B425=\"\",\"\",IF(Zahteve!F425=\"da\",CONCATENATE(B425,\"-DA\"),\"\"))","v":""},{"$f":"IF(B425=\"\",\"\",IF(Zahteve!A425=\"da\",CONCATENATE(B425,\"-ustreza\"),\"\"))","v":""},{"$f":"IF(B425=\"\",\"\",IF(Zahteve!G425=\"\",\"\",CONCATENATE(B425,\"-opis\")))","v":""},{"$f":"IF(B425=\"\",\"\",IF(Zahteve!H425=\"\",\"\",CONCATENATE(B425,\"-dni\")))","v":""},{"$f":"IF(B425=\"\",\"\",IF(Zahteve!H425=\"\",\"\",Zahteve!H425))","v":""}]
[{"$f":"IF(Zahteve!B426=\"\",\"\",Zahteve!B426)","v":"I.10.2"},{"$f":"IF(Zahteve!B426=\"\",\"\",LEFT(Zahteve!B426,1))","v":"I"},{"$f":"IF(B426=\"\",\"\",IF(Zahteve!F426=\"da\",CONCATENATE(B426,\"-DA\"),\"\"))","v":""},{"$f":"IF(B426=\"\",\"\",IF(Zahteve!A426=\"da\",CONCATENATE(B426,\"-ustreza\"),\"\"))","v":""},{"$f":"IF(B426=\"\",\"\",IF(Zahteve!G426=\"\",\"\",CONCATENATE(B426,\"-opis\")))","v":""},{"$f":"IF(B426=\"\",\"\",IF(Zahteve!H426=\"\",\"\",CONCATENATE(B426,\"-dni\")))","v":""},{"$f":"IF(B426=\"\",\"\",IF(Zahteve!H426=\"\",\"\",Zahteve!H426))","v":""}]
[{"$f":"IF(Zahteve!B427=\"\",\"\",Zahteve!B427)","v":"I.10.3"},{"$f":"IF(Zahteve!B427=\"\",\"\",LEFT(Zahteve!B427,1))","v":"I"},{"$f":"IF(B427=\"\",\"\",IF(Zahteve!F427=\"da\",CONCATENATE(B427,\"-DA\"),\"\"))","v":""},{"$f":"IF(B427=\"\",\"\",IF(Zahteve!A427=\"da\",CONCATENATE(B427,\"-ustreza\"),\"\"))","v":""},{"$f":"IF(B427=\"\",\"\",IF(Zahteve!G427=\"\",\"\",CONCATENATE(B427,\"-opis\")))","v":""},{"$f":"IF(B427=\"\",\"\",IF(Zahteve!H427=\"\",\"\",CONCATENATE(B427,\"-dni\")))","v":""},{"$f":"IF(B427=\"\",\"\",IF(Zahteve!H427=\"\",\"\",Zahteve!H427))","v":""}]
[{"$f":"IF(Zahteve!B428=\"\",\"\",Zahteve!B428)","v":"I.10.4"},{"$f":"IF(Zahteve!B428=\"\",\"\",LEFT(Zahteve!B428,1))","v":"I"},{"$f":"IF(B428=\"\",\"\",IF(Zahteve!F428=\"da\",CONCATENATE(B428,\"-DA\"),\"\"))","v":""},{"$f":"IF(B428=\"\",\"\",IF(Zahteve!A428=\"da\",CONCATENATE(B428,\"-ustreza\"),\"\"))","v":""},{"$f":"IF(B428=\"\",\"\",IF(Zahteve!G428=\"\",\"\",CONCATENATE(B428,\"-opis\")))","v":""},{"$f":"IF(B428=\"\",\"\",IF(Zahteve!H428=\"\",\"\",CONCATENATE(B428,\"-dni\")))","v":""},{"$f":"IF(B428=\"\",\"\",IF(Zahteve!H428=\"\",\"\",Zahteve!H428))","v":""}]
[{"$f":"IF(Zahteve!B429=\"\",\"\",Zahteve!B429)","v":"I.11.1"},{"$f":"IF(Zahteve!B429=\"\",\"\",LEFT(Zahteve!B429,1))","v":"I"},{"$f":"IF(B429=\"\",\"\",IF(Zahteve!F429=\"da\",CONCATENATE(B429,\"-DA\"),\"\"))","v":""},{"$f":"IF(B429=\"\",\"\",IF(Zahteve!A429=\"da\",CONCATENATE(B429,\"-ustreza\"),\"\"))","v":""},{"$f":"IF(B429=\"\",\"\",IF(Zahteve!G429=\"\",\"\",CONCATENATE(B429,\"-opis\")))","v":""},{"$f":"IF(B429=\"\",\"\",IF(Zahteve!H429=\"\",\"\",CONCATENATE(B429,\"-dni\")))","v":""},{"$f":"IF(B429=\"\",\"\",IF(Zahteve!H429=\"\",\"\",Zahteve!H429))","v":""}]
[{"$f":"IF(Zahteve!B430=\"\",\"\",Zahteve!B430)","v":"I.12.1"},{"$f":"IF(Zahteve!B430=\"\",\"\",LEFT(Zahteve!B430,1))","v":"I"},{"$f":"IF(B430=\"\",\"\",IF(Zahteve!F430=\"da\",CONCATENATE(B430,\"-DA\"),\"\"))","v":""},{"$f":"IF(B430=\"\",\"\",IF(Zahteve!A430=\"da\",CONCATENATE(B430,\"-ustreza\"),\"\"))","v":""},{"$f":"IF(B430=\"\",\"\",IF(Zahteve!G430=\"\",\"\",CONCATENATE(B430,\"-opis\")))","v":""},{"$f":"IF(B430=\"\",\"\",IF(Zahteve!H430=\"\",\"\",CONCATENATE(B430,\"-dni\")))","v":""},{"$f":"IF(B430=\"\",\"\",IF(Zahteve!H430=\"\",\"\",Zahteve!H430))","v":""}]
[{"$f":"IF(Zahteve!B431=\"\",\"\",Zahteve!B431)","v":""},{"$f":"IF(Zahteve!B431=\"\",\"\",LEFT(Zahteve!B431,1))","v":""},{"$f":"IF(B431=\"\",\"\",IF(Zahteve!F431=\"da\",CONCATENATE(B431,\"-DA\"),\"\"))","v":""},{"$f":"IF(B431=\"\",\"\",IF(Zahteve!A431=\"da\",CONCATENATE(B431,\"-ustreza\"),\"\"))","v":""},{"$f":"IF(B431=\"\",\"\",IF(Zahteve!G431=\"\",\"\",CONCATENATE(B431,\"-opis\")))","v":""},{"$f":"IF(B431=\"\",\"\",IF(Zahteve!H431=\"\",\"\",CONCATENATE(B431,\"-dni\")))","v":""},{"$f":"IF(B431=\"\",\"\",IF(Zahteve!H431=\"\",\"\",Zahteve!H431))","v":""}]
[{"$f":"IF(Zahteve!B432=\"\",\"\",Zahteve!B432)","v":"I.13.1"},{"$f":"IF(Zahteve!B432=\"\",\"\",LEFT(Zahteve!B432,1))","v":"I"},{"$f":"IF(B432=\"\",\"\",IF(Zahteve!F432=\"da\",CONCATENATE(B432,\"-DA\"),\"\"))","v":""},{"$f":"IF(B432=\"\",\"\",IF(Zahteve!A432=\"da\",CONCATENATE(B432,\"-ustreza\"),\"\"))","v":""},{"$f":"IF(B432=\"\",\"\",IF(Zahteve!G432=\"\",\"\",CONCATENATE(B432,\"-opis\")))","v":""},{"$f":"IF(B432=\"\",\"\",IF(Zahteve!H432=\"\",\"\",CONCATENATE(B432,\"-dni\")))","v":""},{"$f":"IF(B432=\"\",\"\",IF(Zahteve!H432=\"\",\"\",Zahteve!H432))","v":""}]
[{"$f":"IF(Zahteve!B433=\"\",\"\",Zahteve!B433)","v":"I.14.1"},{"$f":"IF(Zahteve!B433=\"\",\"\",LEFT(Zahteve!B433,1))","v":"I"},{"$f":"IF(B433=\"\",\"\",IF(Zahteve!F433=\"da\",CONCATENATE(B433,\"-DA\"),\"\"))","v":""},{"$f":"IF(B433=\"\",\"\",IF(Zahteve!A433=\"da\",CONCATENATE(B433,\"-ustreza\"),\"\"))","v":""},{"$f":"IF(B433=\"\",\"\",IF(Zahteve!G433=\"\",\"\",CONCATENATE(B433,\"-opis\")))","v":""},{"$f":"IF(B433=\"\",\"\",IF(Zahteve!H433=\"\",\"\",CONCATENATE(B433,\"-dni\")))","v":""},{"$f":"IF(B433=\"\",\"\",IF(Zahteve!H433=\"\",\"\",Zahteve!H433))","v":""}]
[{"$f":"IF(Zahteve!B434=\"\",\"\",Zahteve!B434)","v":"I.15.1"},{"$f":"IF(Zahteve!B434=\"\",\"\",LEFT(Zahteve!B434,1))","v":"I"},{"$f":"IF(B434=\"\",\"\",IF(Zahteve!F434=\"da\",CONCATENATE(B434,\"-DA\"),\"\"))","v":""},{"$f":"IF(B434=\"\",\"\",IF(Zahteve!A434=\"da\",CONCATENATE(B434,\"-ustreza\"),\"\"))","v":""},{"$f":"IF(B434=\"\",\"\",IF(Zahteve!G434=\"\",\"\",CONCATENATE(B434,\"-opis\")))","v":""},{"$f":"IF(B434=\"\",\"\",IF(Zahteve!H434=\"\",\"\",CONCATENATE(B434,\"-dni\")))","v":""},{"$f":"IF(B434=\"\",\"\",IF(Zahteve!H434=\"\",\"\",Zahteve!H434))","v":""}]
[{"$f":"IF(Zahteve!B435=\"\",\"\",Zahteve!B435)","v":"I.16.1"},{"$f":"IF(Zahteve!B435=\"\",\"\",LEFT(Zahteve!B435,1))","v":"I"},{"$f":"IF(B435=\"\",\"\",IF(Zahteve!F435=\"da\",CONCATENATE(B435,\"-DA\"),\"\"))","v":""},{"$f":"IF(B435=\"\",\"\",IF(Zahteve!A435=\"da\",CONCATENATE(B435,\"-ustreza\"),\"\"))","v":""},{"$f":"IF(B435=\"\",\"\",IF(Zahteve!G435=\"\",\"\",CONCATENATE(B435,\"-opis\")))","v":""},{"$f":"IF(B435=\"\",\"\",IF(Zahteve!H435=\"\",\"\",CONCATENATE(B435,\"-dni\")))","v":""},{"$f":"IF(B435=\"\",\"\",IF(Zahteve!H435=\"\",\"\",Zahteve!H435))","v":""}]
[{"$f":"IF(Zahteve!B436=\"\",\"\",Zahteve!B436)","v":"I.16.2"},{"$f":"IF(Zahteve!B436=\"\",\"\",LEFT(Zahteve!B436,1))","v":"I"},{"$f":"IF(B436=\"\",\"\",IF(Zahteve!F436=\"da\",CONCATENATE(B436,\"-DA\"),\"\"))","v":""},{"$f":"IF(B436=\"\",\"\",IF(Zahteve!A436=\"da\",CONCATENATE(B436,\"-ustreza\"),\"\"))","v":""},{"$f":"IF(B436=\"\",\"\",IF(Zahteve!G436=\"\",\"\",CONCATENATE(B436,\"-opis\")))","v":""},{"$f":"IF(B436=\"\",\"\",IF(Zahteve!H436=\"\",\"\",CONCATENATE(B436,\"-dni\")))","v":""},{"$f":"IF(B436=\"\",\"\",IF(Zahteve!H436=\"\",\"\",Zahteve!H436))","v":""}]
[{"$f":"IF(Zahteve!B437=\"\",\"\",Zahteve!B437)","v":"I.16.3"},{"$f":"IF(Zahteve!B437=\"\",\"\",LEFT(Zahteve!B437,1))","v":"I"},{"$f":"IF(B437=\"\",\"\",IF(Zahteve!F437=\"da\",CONCATENATE(B437,\"-DA\"),\"\"))","v":""},{"$f":"IF(B437=\"\",\"\",IF(Zahteve!A437=\"da\",CONCATENATE(B437,\"-ustreza\"),\"\"))","v":""},{"$f":"IF(B437=\"\",\"\",IF(Zahteve!G437=\"\",\"\",CONCATENATE(B437,\"-opis\")))","v":""},{"$f":"IF(B437=\"\",\"\",IF(Zahteve!H437=\"\",\"\",CONCATENATE(B437,\"-dni\")))","v":""},{"$f":"IF(B437=\"\",\"\",IF(Zahteve!H437=\"\",\"\",Zahteve!H437))","v":""}]
[{"$f":"IF(Zahteve!B438=\"\",\"\",Zahteve!B438)","v":"I.16.4"},{"$f":"IF(Zahteve!B438=\"\",\"\",LEFT(Zahteve!B438,1))","v":"I"},{"$f":"IF(B438=\"\",\"\",IF(Zahteve!F438=\"da\",CONCATENATE(B438,\"-DA\"),\"\"))","v":""},{"$f":"IF(B438=\"\",\"\",IF(Zahteve!A438=\"da\",CONCATENATE(B438,\"-ustreza\"),\"\"))","v":""},{"$f":"IF(B438=\"\",\"\",IF(Zahteve!G438=\"\",\"\",CONCATENATE(B438,\"-opis\")))","v":""},{"$f":"IF(B438=\"\",\"\",IF(Zahteve!H438=\"\",\"\",CONCATENATE(B438,\"-dni\")))","v":""},{"$f":"IF(B438=\"\",\"\",IF(Zahteve!H438=\"\",\"\",Zahteve!H438))","v":""}]
[{"$f":"IF(Zahteve!B439=\"\",\"\",Zahteve!B439)","v":"I.17.1"},{"$f":"IF(Zahteve!B439=\"\",\"\",LEFT(Zahteve!B439,1))","v":"I"},{"$f":"IF(B439=\"\",\"\",IF(Zahteve!F439=\"da\",CONCATENATE(B439,\"-DA\"),\"\"))","v":""},{"$f":"IF(B439=\"\",\"\",IF(Zahteve!A439=\"da\",CONCATENATE(B439,\"-ustreza\"),\"\"))","v":""},{"$f":"IF(B439=\"\",\"\",IF(Zahteve!G439=\"\",\"\",CONCATENATE(B439,\"-opis\")))","v":""},{"$f":"IF(B439=\"\",\"\",IF(Zahteve!H439=\"\",\"\",CONCATENATE(B439,\"-dni\")))","v":""},{"$f":"IF(B439=\"\",\"\",IF(Zahteve!H439=\"\",\"\",Zahteve!H439))","v":""}]
[{"$f":"IF(Zahteve!B440=\"\",\"\",Zahteve!B440)","v":"I.17.2"},{"$f":"IF(Zahteve!B440=\"\",\"\",LEFT(Zahteve!B440,1))","v":"I"},{"$f":"IF(B440=\"\",\"\",IF(Zahteve!F440=\"da\",CONCATENATE(B440,\"-DA\"),\"\"))","v":""},{"$f":"IF(B440=\"\",\"\",IF(Zahteve!A440=\"da\",CONCATENATE(B440,\"-ustreza\"),\"\"))","v":""},{"$f":"IF(B440=\"\",\"\",IF(Zahteve!G440=\"\",\"\",CONCATENATE(B440,\"-opis\")))","v":""},{"$f":"IF(B440=\"\",\"\",IF(Zahteve!H440=\"\",\"\",CONCATENATE(B440,\"-dni\")))","v":""},{"$f":"IF(B440=\"\",\"\",IF(Zahteve!H440=\"\",\"\",Zahteve!H440))","v":""}]
[{"$f":"IF(Zahteve!B441=\"\",\"\",Zahteve!B441)","v":"I.17.3"},{"$f":"IF(Zahteve!B441=\"\",\"\",LEFT(Zahteve!B441,1))","v":"I"},{"$f":"IF(B441=\"\",\"\",IF(Zahteve!F441=\"da\",CONCATENATE(B441,\"-DA\"),\"\"))","v":""},{"$f":"IF(B441=\"\",\"\",IF(Zahteve!A441=\"da\",CONCATENATE(B441,\"-ustreza\"),\"\"))","v":""},{"$f":"IF(B441=\"\",\"\",IF(Zahteve!G441=\"\",\"\",CONCATENATE(B441,\"-opis\")))","v":""},{"$f":"IF(B441=\"\",\"\",IF(Zahteve!H441=\"\",\"\",CONCATENATE(B441,\"-dni\")))","v":""},{"$f":"IF(B441=\"\",\"\",IF(Zahteve!H441=\"\",\"\",Zahteve!H441))","v":""}]
[{"$f":"IF(Zahteve!B442=\"\",\"\",Zahteve!B442)","v":"I.17.4"},{"$f":"IF(Zahteve!B442=\"\",\"\",LEFT(Zahteve!B442,1))","v":"I"},{"$f":"IF(B442=\"\",\"\",IF(Zahteve!F442=\"da\",CONCATENATE(B442,\"-DA\"),\"\"))","v":""},{"$f":"IF(B442=\"\",\"\",IF(Zahteve!A442=\"da\",CONCATENATE(B442,\"-ustreza\"),\"\"))","v":""},{"$f":"IF(B442=\"\",\"\",IF(Zahteve!G442=\"\",\"\",CONCATENATE(B442,\"-opis\")))","v":""},{"$f":"IF(B442=\"\",\"\",IF(Zahteve!H442=\"\",\"\",CONCATENATE(B442,\"-dni\")))","v":""},{"$f":"IF(B442=\"\",\"\",IF(Zahteve!H442=\"\",\"\",Zahteve!H442))","v":""}]
[{"$f":"IF(Zahteve!B443=\"\",\"\",Zahteve!B443)","v":""},{"$f":"IF(Zahteve!B443=\"\",\"\",LEFT(Zahteve!B443,1))","v":""},{"$f":"IF(B443=\"\",\"\",IF(Zahteve!F443=\"da\",CONCATENATE(B443,\"-DA\"),\"\"))","v":""},{"$f":"IF(B443=\"\",\"\",IF(Zahteve!A443=\"da\",CONCATENATE(B443,\"-ustreza\"),\"\"))","v":""},{"$f":"IF(B443=\"\",\"\",IF(Zahteve!G443=\"\",\"\",CONCATENATE(B443,\"-opis\")))","v":""},{"$f":"IF(B443=\"\",\"\",IF(Zahteve!H443=\"\",\"\",CONCATENATE(B443,\"-dni\")))","v":""},{"$f":"IF(B443=\"\",\"\",IF(Zahteve!H443=\"\",\"\",Zahteve!H443))","v":""}]
[{"$f":"IF(Zahteve!B444=\"\",\"\",Zahteve!B444)","v":"I.18.1"},{"$f":"IF(Zahteve!B444=\"\",\"\",LEFT(Zahteve!B444,1))","v":"I"},{"$f":"IF(B444=\"\",\"\",IF(Zahteve!F444=\"da\",CONCATENATE(B444,\"-DA\"),\"\"))","v":""},{"$f":"IF(B444=\"\",\"\",IF(Zahteve!A444=\"da\",CONCATENATE(B444,\"-ustreza\"),\"\"))","v":""},{"$f":"IF(B444=\"\",\"\",IF(Zahteve!G444=\"\",\"\",CONCATENATE(B444,\"-opis\")))","v":""},{"$f":"IF(B444=\"\",\"\",IF(Zahteve!H444=\"\",\"\",CONCATENATE(B444,\"-dni\")))","v":""},{"$f":"IF(B444=\"\",\"\",IF(Zahteve!H444=\"\",\"\",Zahteve!H444))","v":""}]
[{"$f":"IF(Zahteve!B445=\"\",\"\",Zahteve!B445)","v":"I.18.2"},{"$f":"IF(Zahteve!B445=\"\",\"\",LEFT(Zahteve!B445,1))","v":"I"},{"$f":"IF(B445=\"\",\"\",IF(Zahteve!F445=\"da\",CONCATENATE(B445,\"-DA\"),\"\"))","v":""},{"$f":"IF(B445=\"\",\"\",IF(Zahteve!A445=\"da\",CONCATENATE(B445,\"-ustreza\"),\"\"))","v":""},{"$f":"IF(B445=\"\",\"\",IF(Zahteve!G445=\"\",\"\",CONCATENATE(B445,\"-opis\")))","v":""},{"$f":"IF(B445=\"\",\"\",IF(Zahteve!H445=\"\",\"\",CONCATENATE(B445,\"-dni\")))","v":""},{"$f":"IF(B445=\"\",\"\",IF(Zahteve!H445=\"\",\"\",Zahteve!H445))","v":""}]
[{"$f":"IF(Zahteve!B446=\"\",\"\",Zahteve!B446)","v":"I.18.3"},{"$f":"IF(Zahteve!B446=\"\",\"\",LEFT(Zahteve!B446,1))","v":"I"},{"$f":"IF(B446=\"\",\"\",IF(Zahteve!F446=\"da\",CONCATENATE(B446,\"-DA\"),\"\"))","v":""},{"$f":"IF(B446=\"\",\"\",IF(Zahteve!A446=\"da\",CONCATENATE(B446,\"-ustreza\"),\"\"))","v":""},{"$f":"IF(B446=\"\",\"\",IF(Zahteve!G446=\"\",\"\",CONCATENATE(B446,\"-opis\")))","v":""},{"$f":"IF(B446=\"\",\"\",IF(Zahteve!H446=\"\",\"\",CONCATENATE(B446,\"-dni\")))","v":""},{"$f":"IF(B446=\"\",\"\",IF(Zahteve!H446=\"\",\"\",Zahteve!H446))","v":""}]
[{"$f":"IF(Zahteve!B447=\"\",\"\",Zahteve!B447)","v":"I.18.4"},{"$f":"IF(Zahteve!B447=\"\",\"\",LEFT(Zahteve!B447,1))","v":"I"},{"$f":"IF(B447=\"\",\"\",IF(Zahteve!F447=\"da\",CONCATENATE(B447,\"-DA\"),\"\"))","v":""},{"$f":"IF(B447=\"\",\"\",IF(Zahteve!A447=\"da\",CONCATENATE(B447,\"-ustreza\"),\"\"))","v":""},{"$f":"IF(B447=\"\",\"\",IF(Zahteve!G447=\"\",\"\",CONCATENATE(B447,\"-opis\")))","v":""},{"$f":"IF(B447=\"\",\"\",IF(Zahteve!H447=\"\",\"\",CONCATENATE(B447,\"-dni\")))","v":""},{"$f":"IF(B447=\"\",\"\",IF(Zahteve!H447=\"\",\"\",Zahteve!H447))","v":""}]
[{"$f":"IF(Zahteve!B448=\"\",\"\",Zahteve!B448)","v":"I.18.5"},{"$f":"IF(Zahteve!B448=\"\",\"\",LEFT(Zahteve!B448,1))","v":"I"},{"$f":"IF(B448=\"\",\"\",IF(Zahteve!F448=\"da\",CONCATENATE(B448,\"-DA\"),\"\"))","v":""},{"$f":"IF(B448=\"\",\"\",IF(Zahteve!A448=\"da\",CONCATENATE(B448,\"-ustreza\"),\"\"))","v":""},{"$f":"IF(B448=\"\",\"\",IF(Zahteve!G448=\"\",\"\",CONCATENATE(B448,\"-opis\")))","v":""},{"$f":"IF(B448=\"\",\"\",IF(Zahteve!H448=\"\",\"\",CONCATENATE(B448,\"-dni\")))","v":""},{"$f":"IF(B448=\"\",\"\",IF(Zahteve!H448=\"\",\"\",Zahteve!H448))","v":""}]
[{"$f":"IF(Zahteve!B449=\"\",\"\",Zahteve!B449)","v":"I.19.1"},{"$f":"IF(Zahteve!B449=\"\",\"\",LEFT(Zahteve!B449,1))","v":"I"},{"$f":"IF(B449=\"\",\"\",IF(Zahteve!F449=\"da\",CONCATENATE(B449,\"-DA\"),\"\"))","v":""},{"$f":"IF(B449=\"\",\"\",IF(Zahteve!A449=\"da\",CONCATENATE(B449,\"-ustreza\"),\"\"))","v":""},{"$f":"IF(B449=\"\",\"\",IF(Zahteve!G449=\"\",\"\",CONCATENATE(B449,\"-opis\")))","v":""},{"$f":"IF(B449=\"\",\"\",IF(Zahteve!H449=\"\",\"\",CONCATENATE(B449,\"-dni\")))","v":""},{"$f":"IF(B449=\"\",\"\",IF(Zahteve!H449=\"\",\"\",Zahteve!H449))","v":""}]
[{"$f":"IF(Zahteve!B450=\"\",\"\",Zahteve!B450)","v":"I.19.2"},{"$f":"IF(Zahteve!B450=\"\",\"\",LEFT(Zahteve!B450,1))","v":"I"},{"$f":"IF(B450=\"\",\"\",IF(Zahteve!F450=\"da\",CONCATENATE(B450,\"-DA\"),\"\"))","v":""},{"$f":"IF(B450=\"\",\"\",IF(Zahteve!A450=\"da\",CONCATENATE(B450,\"-ustreza\"),\"\"))","v":""},{"$f":"IF(B450=\"\",\"\",IF(Zahteve!G450=\"\",\"\",CONCATENATE(B450,\"-opis\")))","v":""},{"$f":"IF(B450=\"\",\"\",IF(Zahteve!H450=\"\",\"\",CONCATENATE(B450,\"-dni\")))","v":""},{"$f":"IF(B450=\"\",\"\",IF(Zahteve!H450=\"\",\"\",Zahteve!H450))","v":""}]
[{"$f":"IF(Zahteve!B451=\"\",\"\",Zahteve!B451)","v":"I.19.3"},{"$f":"IF(Zahteve!B451=\"\",\"\",LEFT(Zahteve!B451,1))","v":"I"},{"$f":"IF(B451=\"\",\"\",IF(Zahteve!F451=\"da\",CONCATENATE(B451,\"-DA\"),\"\"))","v":""},{"$f":"IF(B451=\"\",\"\",IF(Zahteve!A451=\"da\",CONCATENATE(B451,\"-ustreza\"),\"\"))","v":""},{"$f":"IF(B451=\"\",\"\",IF(Zahteve!G451=\"\",\"\",CONCATENATE(B451,\"-opis\")))","v":""},{"$f":"IF(B451=\"\",\"\",IF(Zahteve!H451=\"\",\"\",CONCATENATE(B451,\"-dni\")))","v":""},{"$f":"IF(B451=\"\",\"\",IF(Zahteve!H451=\"\",\"\",Zahteve!H451))","v":""}]
[{"$f":"IF(Zahteve!B452=\"\",\"\",Zahteve!B452)","v":"I.19.4"},{"$f":"IF(Zahteve!B452=\"\",\"\",LEFT(Zahteve!B452,1))","v":"I"},{"$f":"IF(B452=\"\",\"\",IF(Zahteve!F452=\"da\",CONCATENATE(B452,\"-DA\"),\"\"))","v":""},{"$f":"IF(B452=\"\",\"\",IF(Zahteve!A452=\"da\",CONCATENATE(B452,\"-ustreza\"),\"\"))","v":""},{"$f":"IF(B452=\"\",\"\",IF(Zahteve!G452=\"\",\"\",CONCATENATE(B452,\"-opis\")))","v":""},{"$f":"IF(B452=\"\",\"\",IF(Zahteve!H452=\"\",\"\",CONCATENATE(B452,\"-dni\")))","v":""},{"$f":"IF(B452=\"\",\"\",IF(Zahteve!H452=\"\",\"\",Zahteve!H452))","v":""}]
[{"$f":"IF(Zahteve!B453=\"\",\"\",Zahteve!B453)","v":"I.19.5"},{"$f":"IF(Zahteve!B453=\"\",\"\",LEFT(Zahteve!B453,1))","v":"I"},{"$f":"IF(B453=\"\",\"\",IF(Zahteve!F453=\"da\",CONCATENATE(B453,\"-DA\"),\"\"))","v":""},{"$f":"IF(B453=\"\",\"\",IF(Zahteve!A453=\"da\",CONCATENATE(B453,\"-ustreza\"),\"\"))","v":""},{"$f":"IF(B453=\"\",\"\",IF(Zahteve!G453=\"\",\"\",CONCATENATE(B453,\"-opis\")))","v":""},{"$f":"IF(B453=\"\",\"\",IF(Zahteve!H453=\"\",\"\",CONCATENATE(B453,\"-dni\")))","v":""},{"$f":"IF(B453=\"\",\"\",IF(Zahteve!H453=\"\",\"\",Zahteve!H453))","v":""}]
[{"$f":"IF(Zahteve!B454=\"\",\"\",Zahteve!B454)","v":"I.19.6"},{"$f":"IF(Zahteve!B454=\"\",\"\",LEFT(Zahteve!B454,1))","v":"I"},{"$f":"IF(B454=\"\",\"\",IF(Zahteve!F454=\"da\",CONCATENATE(B454,\"-DA\"),\"\"))","v":""},{"$f":"IF(B454=\"\",\"\",IF(Zahteve!A454=\"da\",CONCATENATE(B454,\"-ustreza\"),\"\"))","v":""},{"$f":"IF(B454=\"\",\"\",IF(Zahteve!G454=\"\",\"\",CONCATENATE(B454,\"-opis\")))","v":""},{"$f":"IF(B454=\"\",\"\",IF(Zahteve!H454=\"\",\"\",CONCATENATE(B454,\"-dni\")))","v":""},{"$f":"IF(B454=\"\",\"\",IF(Zahteve!H454=\"\",\"\",Zahteve!H454))","v":""}]
[{"$f":"IF(Zahteve!B455=\"\",\"\",Zahteve!B455)","v":"I.19.7"},{"$f":"IF(Zahteve!B455=\"\",\"\",LEFT(Zahteve!B455,1))","v":"I"},{"$f":"IF(B455=\"\",\"\",IF(Zahteve!F455=\"da\",CONCATENATE(B455,\"-DA\"),\"\"))","v":""},{"$f":"IF(B455=\"\",\"\",IF(Zahteve!A455=\"da\",CONCATENATE(B455,\"-ustreza\"),\"\"))","v":""},{"$f":"IF(B455=\"\",\"\",IF(Zahteve!G455=\"\",\"\",CONCATENATE(B455,\"-opis\")))","v":""},{"$f":"IF(B455=\"\",\"\",IF(Zahteve!H455=\"\",\"\",CONCATENATE(B455,\"-dni\")))","v":""},{"$f":"IF(B455=\"\",\"\",IF(Zahteve!H455=\"\",\"\",Zahteve!H455))","v":""}]
[{"$f":"IF(Zahteve!B456=\"\",\"\",Zahteve!B456)","v":"I.19.8"},{"$f":"IF(Zahteve!B456=\"\",\"\",LEFT(Zahteve!B456,1))","v":"I"},{"$f":"IF(B456=\"\",\"\",IF(Zahteve!F456=\"da\",CONCATENATE(B456,\"-DA\"),\"\"))","v":""},{"$f":"IF(B456=\"\",\"\",IF(Zahteve!A456=\"da\",CONCATENATE(B456,\"-ustreza\"),\"\"))","v":""},{"$f":"IF(B456=\"\",\"\",IF(Zahteve!G456=\"\",\"\",CONCATENATE(B456,\"-opis\")))","v":""},{"$f":"IF(B456=\"\",\"\",IF(Zahteve!H456=\"\",\"\",CONCATENATE(B456,\"-dni\")))","v":""},{"$f":"IF(B456=\"\",\"\",IF(Zahteve!H456=\"\",\"\",Zahteve!H456))","v":""}]
[{"$f":"IF(Zahteve!B457=\"\",\"\",Zahteve!B457)","v":"I.19.9"},{"$f":"IF(Zahteve!B457=\"\",\"\",LEFT(Zahteve!B457,1))","v":"I"},{"$f":"IF(B457=\"\",\"\",IF(Zahteve!F457=\"da\",CONCATENATE(B457,\"-DA\"),\"\"))","v":""},{"$f":"IF(B457=\"\",\"\",IF(Zahteve!A457=\"da\",CONCATENATE(B457,\"-ustreza\"),\"\"))","v":""},{"$f":"IF(B457=\"\",\"\",IF(Zahteve!G457=\"\",\"\",CONCATENATE(B457,\"-opis\")))","v":""},{"$f":"IF(B457=\"\",\"\",IF(Zahteve!H457=\"\",\"\",CONCATENATE(B457,\"-dni\")))","v":""},{"$f":"IF(B457=\"\",\"\",IF(Zahteve!H457=\"\",\"\",Zahteve!H457))","v":""}]
[{"$f":"IF(Zahteve!B458=\"\",\"\",Zahteve!B458)","v":"I.19.10"},{"$f":"IF(Zahteve!B458=\"\",\"\",LEFT(Zahteve!B458,1))","v":"I"},{"$f":"IF(B458=\"\",\"\",IF(Zahteve!F458=\"da\",CONCATENATE(B458,\"-DA\"),\"\"))","v":""},{"$f":"IF(B458=\"\",\"\",IF(Zahteve!A458=\"da\",CONCATENATE(B458,\"-ustreza\"),\"\"))","v":""},{"$f":"IF(B458=\"\",\"\",IF(Zahteve!G458=\"\",\"\",CONCATENATE(B458,\"-opis\")))","v":""},{"$f":"IF(B458=\"\",\"\",IF(Zahteve!H458=\"\",\"\",CONCATENATE(B458,\"-dni\")))","v":""},{"$f":"IF(B458=\"\",\"\",IF(Zahteve!H458=\"\",\"\",Zahteve!H458))","v":""}]
[{"$f":"IF(Zahteve!B459=\"\",\"\",Zahteve!B459)","v":"I.20.1"},{"$f":"IF(Zahteve!B459=\"\",\"\",LEFT(Zahteve!B459,1))","v":"I"},{"$f":"IF(B459=\"\",\"\",IF(Zahteve!F459=\"da\",CONCATENATE(B459,\"-DA\"),\"\"))","v":""},{"$f":"IF(B459=\"\",\"\",IF(Zahteve!A459=\"da\",CONCATENATE(B459,\"-ustreza\"),\"\"))","v":""},{"$f":"IF(B459=\"\",\"\",IF(Zahteve!G459=\"\",\"\",CONCATENATE(B459,\"-opis\")))","v":""},{"$f":"IF(B459=\"\",\"\",IF(Zahteve!H459=\"\",\"\",CONCATENATE(B459,\"-dni\")))","v":""},{"$f":"IF(B459=\"\",\"\",IF(Zahteve!H459=\"\",\"\",Zahteve!H459))","v":""}]
[{"$f":"IF(Zahteve!B460=\"\",\"\",Zahteve!B460)","v":"I.20.2"},{"$f":"IF(Zahteve!B460=\"\",\"\",LEFT(Zahteve!B460,1))","v":"I"},{"$f":"IF(B460=\"\",\"\",IF(Zahteve!F460=\"da\",CONCATENATE(B460,\"-DA\"),\"\"))","v":""},{"$f":"IF(B460=\"\",\"\",IF(Zahteve!A460=\"da\",CONCATENATE(B460,\"-ustreza\"),\"\"))","v":""},{"$f":"IF(B460=\"\",\"\",IF(Zahteve!G460=\"\",\"\",CONCATENATE(B460,\"-opis\")))","v":""},{"$f":"IF(B460=\"\",\"\",IF(Zahteve!H460=\"\",\"\",CONCATENATE(B460,\"-dni\")))","v":""},{"$f":"IF(B460=\"\",\"\",IF(Zahteve!H460=\"\",\"\",Zahteve!H460))","v":""}]
[{"$f":"IF(Zahteve!B461=\"\",\"\",Zahteve!B461)","v":"I.20.3"},{"$f":"IF(Zahteve!B461=\"\",\"\",LEFT(Zahteve!B461,1))","v":"I"},{"$f":"IF(B461=\"\",\"\",IF(Zahteve!F461=\"da\",CONCATENATE(B461,\"-DA\"),\"\"))","v":""},{"$f":"IF(B461=\"\",\"\",IF(Zahteve!A461=\"da\",CONCATENATE(B461,\"-ustreza\"),\"\"))","v":""},{"$f":"IF(B461=\"\",\"\",IF(Zahteve!G461=\"\",\"\",CONCATENATE(B461,\"-opis\")))","v":""},{"$f":"IF(B461=\"\",\"\",IF(Zahteve!H461=\"\",\"\",CONCATENATE(B461,\"-dni\")))","v":""},{"$f":"IF(B461=\"\",\"\",IF(Zahteve!H461=\"\",\"\",Zahteve!H461))","v":""}]
[{"$f":"IF(Zahteve!B462=\"\",\"\",Zahteve!B462)","v":"I.20.4"},{"$f":"IF(Zahteve!B462=\"\",\"\",LEFT(Zahteve!B462,1))","v":"I"},{"$f":"IF(B462=\"\",\"\",IF(Zahteve!F462=\"da\",CONCATENATE(B462,\"-DA\"),\"\"))","v":""},{"$f":"IF(B462=\"\",\"\",IF(Zahteve!A462=\"da\",CONCATENATE(B462,\"-ustreza\"),\"\"))","v":""},{"$f":"IF(B462=\"\",\"\",IF(Zahteve!G462=\"\",\"\",CONCATENATE(B462,\"-opis\")))","v":""},{"$f":"IF(B462=\"\",\"\",IF(Zahteve!H462=\"\",\"\",CONCATENATE(B462,\"-dni\")))","v":""},{"$f":"IF(B462=\"\",\"\",IF(Zahteve!H462=\"\",\"\",Zahteve!H462))","v":""}]
[{"$f":"IF(Zahteve!B463=\"\",\"\",Zahteve!B463)","v":""},{"$f":"IF(Zahteve!B463=\"\",\"\",LEFT(Zahteve!B463,1))","v":""},{"$f":"IF(B463=\"\",\"\",IF(Zahteve!F463=\"da\",CONCATENATE(B463,\"-DA\"),\"\"))","v":""},{"$f":"IF(B463=\"\",\"\",IF(Zahteve!A463=\"da\",CONCATENATE(B463,\"-ustreza\"),\"\"))","v":""},{"$f":"IF(B463=\"\",\"\",IF(Zahteve!G463=\"\",\"\",CONCATENATE(B463,\"-opis\")))","v":""},{"$f":"IF(B463=\"\",\"\",IF(Zahteve!H463=\"\",\"\",CONCATENATE(B463,\"-dni\")))","v":""},{"$f":"IF(B463=\"\",\"\",IF(Zahteve!H463=\"\",\"\",Zahteve!H463))","v":""}]
[{"$f":"IF(Zahteve!B464=\"\",\"\",Zahteve!B464)","v":"I.21.1"},{"$f":"IF(Zahteve!B464=\"\",\"\",LEFT(Zahteve!B464,1))","v":"I"},{"$f":"IF(B464=\"\",\"\",IF(Zahteve!F464=\"da\",CONCATENATE(B464,\"-DA\"),\"\"))","v":""},{"$f":"IF(B464=\"\",\"\",IF(Zahteve!A464=\"da\",CONCATENATE(B464,\"-ustreza\"),\"\"))","v":""},{"$f":"IF(B464=\"\",\"\",IF(Zahteve!G464=\"\",\"\",CONCATENATE(B464,\"-opis\")))","v":""},{"$f":"IF(B464=\"\",\"\",IF(Zahteve!H464=\"\",\"\",CONCATENATE(B464,\"-dni\")))","v":""},{"$f":"IF(B464=\"\",\"\",IF(Zahteve!H464=\"\",\"\",Zahteve!H464))","v":""}]
[{"$f":"IF(Zahteve!B465=\"\",\"\",Zahteve!B465)","v":"I.22.1"},{"$f":"IF(Zahteve!B465=\"\",\"\",LEFT(Zahteve!B465,1))","v":"I"},{"$f":"IF(B465=\"\",\"\",IF(Zahteve!F465=\"da\",CONCATENATE(B465,\"-DA\"),\"\"))","v":""},{"$f":"IF(B465=\"\",\"\",IF(Zahteve!A465=\"da\",CONCATENATE(B465,\"-ustreza\"),\"\"))","v":""},{"$f":"IF(B465=\"\",\"\",IF(Zahteve!G465=\"\",\"\",CONCATENATE(B465,\"-opis\")))","v":""},{"$f":"IF(B465=\"\",\"\",IF(Zahteve!H465=\"\",\"\",CONCATENATE(B465,\"-dni\")))","v":""},{"$f":"IF(B465=\"\",\"\",IF(Zahteve!H465=\"\",\"\",Zahteve!H465))","v":""}]
[{"$f":"IF(Zahteve!B466=\"\",\"\",Zahteve!B466)","v":"I.22.2"},{"$f":"IF(Zahteve!B466=\"\",\"\",LEFT(Zahteve!B466,1))","v":"I"},{"$f":"IF(B466=\"\",\"\",IF(Zahteve!F466=\"da\",CONCATENATE(B466,\"-DA\"),\"\"))","v":""},{"$f":"IF(B466=\"\",\"\",IF(Zahteve!A466=\"da\",CONCATENATE(B466,\"-ustreza\"),\"\"))","v":""},{"$f":"IF(B466=\"\",\"\",IF(Zahteve!G466=\"\",\"\",CONCATENATE(B466,\"-opis\")))","v":""},{"$f":"IF(B466=\"\",\"\",IF(Zahteve!H466=\"\",\"\",CONCATENATE(B466,\"-dni\")))","v":""},{"$f":"IF(B466=\"\",\"\",IF(Zahteve!H466=\"\",\"\",Zahteve!H466))","v":""}]
[{"$f":"IF(Zahteve!B467=\"\",\"\",Zahteve!B467)","v":"I.23.1"},{"$f":"IF(Zahteve!B467=\"\",\"\",LEFT(Zahteve!B467,1))","v":"I"},{"$f":"IF(B467=\"\",\"\",IF(Zahteve!F467=\"da\",CONCATENATE(B467,\"-DA\"),\"\"))","v":""},{"$f":"IF(B467=\"\",\"\",IF(Zahteve!A467=\"da\",CONCATENATE(B467,\"-ustreza\"),\"\"))","v":""},{"$f":"IF(B467=\"\",\"\",IF(Zahteve!G467=\"\",\"\",CONCATENATE(B467,\"-opis\")))","v":""},{"$f":"IF(B467=\"\",\"\",IF(Zahteve!H467=\"\",\"\",CONCATENATE(B467,\"-dni\")))","v":""},{"$f":"IF(B467=\"\",\"\",IF(Zahteve!H467=\"\",\"\",Zahteve!H467))","v":""}]
[{"$f":"IF(Zahteve!B468=\"\",\"\",Zahteve!B468)","v":"I.23.2"},{"$f":"IF(Zahteve!B468=\"\",\"\",LEFT(Zahteve!B468,1))","v":"I"},{"$f":"IF(B468=\"\",\"\",IF(Zahteve!F468=\"da\",CONCATENATE(B468,\"-DA\"),\"\"))","v":""},{"$f":"IF(B468=\"\",\"\",IF(Zahteve!A468=\"da\",CONCATENATE(B468,\"-ustreza\"),\"\"))","v":""},{"$f":"IF(B468=\"\",\"\",IF(Zahteve!G468=\"\",\"\",CONCATENATE(B468,\"-opis\")))","v":""},{"$f":"IF(B468=\"\",\"\",IF(Zahteve!H468=\"\",\"\",CONCATENATE(B468,\"-dni\")))","v":""},{"$f":"IF(B468=\"\",\"\",IF(Zahteve!H468=\"\",\"\",Zahteve!H468))","v":""}]
[{"$f":"IF(Zahteve!B469=\"\",\"\",Zahteve!B469)","v":"I.24.1"},{"$f":"IF(Zahteve!B469=\"\",\"\",LEFT(Zahteve!B469,1))","v":"I"},{"$f":"IF(B469=\"\",\"\",IF(Zahteve!F469=\"da\",CONCATENATE(B469,\"-DA\"),\"\"))","v":""},{"$f":"IF(B469=\"\",\"\",IF(Zahteve!A469=\"da\",CONCATENATE(B469,\"-ustreza\"),\"\"))","v":""},{"$f":"IF(B469=\"\",\"\",IF(Zahteve!G469=\"\",\"\",CONCATENATE(B469,\"-opis\")))","v":""},{"$f":"IF(B469=\"\",\"\",IF(Zahteve!H469=\"\",\"\",CONCATENATE(B469,\"-dni\")))","v":""},{"$f":"IF(B469=\"\",\"\",IF(Zahteve!H469=\"\",\"\",Zahteve!H469))","v":""}]
[{"$f":"IF(Zahteve!B470=\"\",\"\",Zahteve!B470)","v":""},{"$f":"IF(Zahteve!B470=\"\",\"\",LEFT(Zahteve!B470,1))","v":""},{"$f":"IF(B470=\"\",\"\",IF(Zahteve!F470=\"da\",CONCATENATE(B470,\"-DA\"),\"\"))","v":""},{"$f":"IF(B470=\"\",\"\",IF(Zahteve!A470=\"da\",CONCATENATE(B470,\"-ustreza\"),\"\"))","v":""},{"$f":"IF(B470=\"\",\"\",IF(Zahteve!G470=\"\",\"\",CONCATENATE(B470,\"-opis\")))","v":""},{"$f":"IF(B470=\"\",\"\",IF(Zahteve!H470=\"\",\"\",CONCATENATE(B470,\"-dni\")))","v":""},{"$f":"IF(B470=\"\",\"\",IF(Zahteve!H470=\"\",\"\",Zahteve!H470))","v":""}]
[{"$f":"IF(Zahteve!B471=\"\",\"\",Zahteve!B471)","v":"I.25.1"},{"$f":"IF(Zahteve!B471=\"\",\"\",LEFT(Zahteve!B471,1))","v":"I"},{"$f":"IF(B471=\"\",\"\",IF(Zahteve!F471=\"da\",CONCATENATE(B471,\"-DA\"),\"\"))","v":""},{"$f":"IF(B471=\"\",\"\",IF(Zahteve!A471=\"da\",CONCATENATE(B471,\"-ustreza\"),\"\"))","v":""},{"$f":"IF(B471=\"\",\"\",IF(Zahteve!G471=\"\",\"\",CONCATENATE(B471,\"-opis\")))","v":""},{"$f":"IF(B471=\"\",\"\",IF(Zahteve!H471=\"\",\"\",CONCATENATE(B471,\"-dni\")))","v":""},{"$f":"IF(B471=\"\",\"\",IF(Zahteve!H471=\"\",\"\",Zahteve!H471))","v":""}]
[{"$f":"IF(Zahteve!B472=\"\",\"\",Zahteve!B472)","v":"I.26.1"},{"$f":"IF(Zahteve!B472=\"\",\"\",LEFT(Zahteve!B472,1))","v":"I"},{"$f":"IF(B472=\"\",\"\",IF(Zahteve!F472=\"da\",CONCATENATE(B472,\"-DA\"),\"\"))","v":""},{"$f":"IF(B472=\"\",\"\",IF(Zahteve!A472=\"da\",CONCATENATE(B472,\"-ustreza\"),\"\"))","v":""},{"$f":"IF(B472=\"\",\"\",IF(Zahteve!G472=\"\",\"\",CONCATENATE(B472,\"-opis\")))","v":""},{"$f":"IF(B472=\"\",\"\",IF(Zahteve!H472=\"\",\"\",CONCATENATE(B472,\"-dni\")))","v":""},{"$f":"IF(B472=\"\",\"\",IF(Zahteve!H472=\"\",\"\",Zahteve!H472))","v":""}]
[{"$f":"IF(Zahteve!B473=\"\",\"\",Zahteve!B473)","v":"I.26.2"},{"$f":"IF(Zahteve!B473=\"\",\"\",LEFT(Zahteve!B473,1))","v":"I"},{"$f":"IF(B473=\"\",\"\",IF(Zahteve!F473=\"da\",CONCATENATE(B473,\"-DA\"),\"\"))","v":""},{"$f":"IF(B473=\"\",\"\",IF(Zahteve!A473=\"da\",CONCATENATE(B473,\"-ustreza\"),\"\"))","v":""},{"$f":"IF(B473=\"\",\"\",IF(Zahteve!G473=\"\",\"\",CONCATENATE(B473,\"-opis\")))","v":""},{"$f":"IF(B473=\"\",\"\",IF(Zahteve!H473=\"\",\"\",CONCATENATE(B473,\"-dni\")))","v":""},{"$f":"IF(B473=\"\",\"\",IF(Zahteve!H473=\"\",\"\",Zahteve!H473))","v":""}]
[{"$f":"IF(Zahteve!B474=\"\",\"\",Zahteve!B474)","v":"I.27.1"},{"$f":"IF(Zahteve!B474=\"\",\"\",LEFT(Zahteve!B474,1))","v":"I"},{"$f":"IF(B474=\"\",\"\",IF(Zahteve!F474=\"da\",CONCATENATE(B474,\"-DA\"),\"\"))","v":""},{"$f":"IF(B474=\"\",\"\",IF(Zahteve!A474=\"da\",CONCATENATE(B474,\"-ustreza\"),\"\"))","v":""},{"$f":"IF(B474=\"\",\"\",IF(Zahteve!G474=\"\",\"\",CONCATENATE(B474,\"-opis\")))","v":""},{"$f":"IF(B474=\"\",\"\",IF(Zahteve!H474=\"\",\"\",CONCATENATE(B474,\"-dni\")))","v":""},{"$f":"IF(B474=\"\",\"\",IF(Zahteve!H474=\"\",\"\",Zahteve!H474))","v":""}]
[{"$f":"IF(Zahteve!B475=\"\",\"\",Zahteve!B475)","v":"I.28.1"},{"$f":"IF(Zahteve!B475=\"\",\"\",LEFT(Zahteve!B475,1))","v":"I"},{"$f":"IF(B475=\"\",\"\",IF(Zahteve!F475=\"da\",CONCATENATE(B475,\"-DA\"),\"\"))","v":""},{"$f":"IF(B475=\"\",\"\",IF(Zahteve!A475=\"da\",CONCATENATE(B475,\"-ustreza\"),\"\"))","v":""},{"$f":"IF(B475=\"\",\"\",IF(Zahteve!G475=\"\",\"\",CONCATENATE(B475,\"-opis\")))","v":""},{"$f":"IF(B475=\"\",\"\",IF(Zahteve!H475=\"\",\"\",CONCATENATE(B475,\"-dni\")))","v":""},{"$f":"IF(B475=\"\",\"\",IF(Zahteve!H475=\"\",\"\",Zahteve!H475))","v":""}]
[{"$f":"IF(Zahteve!B476=\"\",\"\",Zahteve!B476)","v":""},{"$f":"IF(Zahteve!B476=\"\",\"\",LEFT(Zahteve!B476,1))","v":""},{"$f":"IF(B476=\"\",\"\",IF(Zahteve!F476=\"da\",CONCATENATE(B476,\"-DA\"),\"\"))","v":""},{"$f":"IF(B476=\"\",\"\",IF(Zahteve!A476=\"da\",CONCATENATE(B476,\"-ustreza\"),\"\"))","v":""},{"$f":"IF(B476=\"\",\"\",IF(Zahteve!G476=\"\",\"\",CONCATENATE(B476,\"-opis\")))","v":""},{"$f":"IF(B476=\"\",\"\",IF(Zahteve!H476=\"\",\"\",CONCATENATE(B476,\"-dni\")))","v":""},{"$f":"IF(B476=\"\",\"\",IF(Zahteve!H476=\"\",\"\",Zahteve!H476))","v":""}]
[{"$f":"IF(Zahteve!B477=\"\",\"\",Zahteve!B477)","v":"I.29.1"},{"$f":"IF(Zahteve!B477=\"\",\"\",LEFT(Zahteve!B477,1))","v":"I"},{"$f":"IF(B477=\"\",\"\",IF(Zahteve!F477=\"da\",CONCATENATE(B477,\"-DA\"),\"\"))","v":""},{"$f":"IF(B477=\"\",\"\",IF(Zahteve!A477=\"da\",CONCATENATE(B477,\"-ustreza\"),\"\"))","v":""},{"$f":"IF(B477=\"\",\"\",IF(Zahteve!G477=\"\",\"\",CONCATENATE(B477,\"-opis\")))","v":""},{"$f":"IF(B477=\"\",\"\",IF(Zahteve!H477=\"\",\"\",CONCATENATE(B477,\"-dni\")))","v":""},{"$f":"IF(B477=\"\",\"\",IF(Zahteve!H477=\"\",\"\",Zahteve!H477))","v":""}]
[{"$f":"IF(Zahteve!B478=\"\",\"\",Zahteve!B478)","v":"I.29.2"},{"$f":"IF(Zahteve!B478=\"\",\"\",LEFT(Zahteve!B478,1))","v":"I"},{"$f":"IF(B478=\"\",\"\",IF(Zahteve!F478=\"da\",CONCATENATE(B478,\"-DA\"),\"\"))","v":""},{"$f":"IF(B478=\"\",\"\",IF(Zahteve!A478=\"da\",CONCATENATE(B478,\"-ustreza\"),\"\"))","v":""},{"$f":"IF(B478=\"\",\"\",IF(Zahteve!G478=\"\",\"\",CONCATENATE(B478,\"-opis\")))","v":""},{"$f":"IF(B478=\"\",\"\",IF(Zahteve!H478=\"\",\"\",CONCATENATE(B478,\"-dni\")))","v":""},{"$f":"IF(B478=\"\",\"\",IF(Zahteve!H478=\"\",\"\",Zahteve!H478))","v":""}]
[{"$f":"IF(Zahteve!B479=\"\",\"\",Zahteve!B479)","v":"I.29.3"},{"$f":"IF(Zahteve!B479=\"\",\"\",LEFT(Zahteve!B479,1))","v":"I"},{"$f":"IF(B479=\"\",\"\",IF(Zahteve!F479=\"da\",CONCATENATE(B479,\"-DA\"),\"\"))","v":""},{"$f":"IF(B479=\"\",\"\",IF(Zahteve!A479=\"da\",CONCATENATE(B479,\"-ustreza\"),\"\"))","v":""},{"$f":"IF(B479=\"\",\"\",IF(Zahteve!G479=\"\",\"\",CONCATENATE(B479,\"-opis\")))","v":""},{"$f":"IF(B479=\"\",\"\",IF(Zahteve!H479=\"\",\"\",CONCATENATE(B479,\"-dni\")))","v":""},{"$f":"IF(B479=\"\",\"\",IF(Zahteve!H479=\"\",\"\",Zahteve!H479))","v":""}]
[{"$f":"IF(Zahteve!B480=\"\",\"\",Zahteve!B480)","v":"I.29.4"},{"$f":"IF(Zahteve!B480=\"\",\"\",LEFT(Zahteve!B480,1))","v":"I"},{"$f":"IF(B480=\"\",\"\",IF(Zahteve!F480=\"da\",CONCATENATE(B480,\"-DA\"),\"\"))","v":""},{"$f":"IF(B480=\"\",\"\",IF(Zahteve!A480=\"da\",CONCATENATE(B480,\"-ustreza\"),\"\"))","v":""},{"$f":"IF(B480=\"\",\"\",IF(Zahteve!G480=\"\",\"\",CONCATENATE(B480,\"-opis\")))","v":""},{"$f":"IF(B480=\"\",\"\",IF(Zahteve!H480=\"\",\"\",CONCATENATE(B480,\"-dni\")))","v":""},{"$f":"IF(B480=\"\",\"\",IF(Zahteve!H480=\"\",\"\",Zahteve!H480))","v":""}]
[{"$f":"IF(Zahteve!B481=\"\",\"\",Zahteve!B481)","v":"I.29.5"},{"$f":"IF(Zahteve!B481=\"\",\"\",LEFT(Zahteve!B481,1))","v":"I"},{"$f":"IF(B481=\"\",\"\",IF(Zahteve!F481=\"da\",CONCATENATE(B481,\"-DA\"),\"\"))","v":""},{"$f":"IF(B481=\"\",\"\",IF(Zahteve!A481=\"da\",CONCATENATE(B481,\"-ustreza\"),\"\"))","v":""},{"$f":"IF(B481=\"\",\"\",IF(Zahteve!G481=\"\",\"\",CONCATENATE(B481,\"-opis\")))","v":""},{"$f":"IF(B481=\"\",\"\",IF(Zahteve!H481=\"\",\"\",CONCATENATE(B481,\"-dni\")))","v":""},{"$f":"IF(B481=\"\",\"\",IF(Zahteve!H481=\"\",\"\",Zahteve!H481))","v":""}]
[{"$f":"IF(Zahteve!B482=\"\",\"\",Zahteve!B482)","v":"I.29.6"},{"$f":"IF(Zahteve!B482=\"\",\"\",LEFT(Zahteve!B482,1))","v":"I"},{"$f":"IF(B482=\"\",\"\",IF(Zahteve!F482=\"da\",CONCATENATE(B482,\"-DA\"),\"\"))","v":""},{"$f":"IF(B482=\"\",\"\",IF(Zahteve!A482=\"da\",CONCATENATE(B482,\"-ustreza\"),\"\"))","v":""},{"$f":"IF(B482=\"\",\"\",IF(Zahteve!G482=\"\",\"\",CONCATENATE(B482,\"-opis\")))","v":""},{"$f":"IF(B482=\"\",\"\",IF(Zahteve!H482=\"\",\"\",CONCATENATE(B482,\"-dni\")))","v":""},{"$f":"IF(B482=\"\",\"\",IF(Zahteve!H482=\"\",\"\",Zahteve!H482))","v":""}]
[{"$f":"IF(Zahteve!B483=\"\",\"\",Zahteve!B483)","v":"I.30.1"},{"$f":"IF(Zahteve!B483=\"\",\"\",LEFT(Zahteve!B483,1))","v":"I"},{"$f":"IF(B483=\"\",\"\",IF(Zahteve!F483=\"da\",CONCATENATE(B483,\"-DA\"),\"\"))","v":""},{"$f":"IF(B483=\"\",\"\",IF(Zahteve!A483=\"da\",CONCATENATE(B483,\"-ustreza\"),\"\"))","v":""},{"$f":"IF(B483=\"\",\"\",IF(Zahteve!G483=\"\",\"\",CONCATENATE(B483,\"-opis\")))","v":""},{"$f":"IF(B483=\"\",\"\",IF(Zahteve!H483=\"\",\"\",CONCATENATE(B483,\"-dni\")))","v":""},{"$f":"IF(B483=\"\",\"\",IF(Zahteve!H483=\"\",\"\",Zahteve!H483))","v":""}]
[{"$f":"IF(Zahteve!B484=\"\",\"\",Zahteve!B484)","v":"I.30.2"},{"$f":"IF(Zahteve!B484=\"\",\"\",LEFT(Zahteve!B484,1))","v":"I"},{"$f":"IF(B484=\"\",\"\",IF(Zahteve!F484=\"da\",CONCATENATE(B484,\"-DA\"),\"\"))","v":""},{"$f":"IF(B484=\"\",\"\",IF(Zahteve!A484=\"da\",CONCATENATE(B484,\"-ustreza\"),\"\"))","v":""},{"$f":"IF(B484=\"\",\"\",IF(Zahteve!G484=\"\",\"\",CONCATENATE(B484,\"-opis\")))","v":""},{"$f":"IF(B484=\"\",\"\",IF(Zahteve!H484=\"\",\"\",CONCATENATE(B484,\"-dni\")))","v":""},{"$f":"IF(B484=\"\",\"\",IF(Zahteve!H484=\"\",\"\",Zahteve!H484))","v":""}]
[{"$f":"IF(Zahteve!B485=\"\",\"\",Zahteve!B485)","v":"I.30.3"},{"$f":"IF(Zahteve!B485=\"\",\"\",LEFT(Zahteve!B485,1))","v":"I"},{"$f":"IF(B485=\"\",\"\",IF(Zahteve!F485=\"da\",CONCATENATE(B485,\"-DA\"),\"\"))","v":""},{"$f":"IF(B485=\"\",\"\",IF(Zahteve!A485=\"da\",CONCATENATE(B485,\"-ustreza\"),\"\"))","v":""},{"$f":"IF(B485=\"\",\"\",IF(Zahteve!G485=\"\",\"\",CONCATENATE(B485,\"-opis\")))","v":""},{"$f":"IF(B485=\"\",\"\",IF(Zahteve!H485=\"\",\"\",CONCATENATE(B485,\"-dni\")))","v":""},{"$f":"IF(B485=\"\",\"\",IF(Zahteve!H485=\"\",\"\",Zahteve!H485))","v":""}]
[{"$f":"IF(Zahteve!B486=\"\",\"\",Zahteve!B486)","v":"I.30.4"},{"$f":"IF(Zahteve!B486=\"\",\"\",LEFT(Zahteve!B486,1))","v":"I"},{"$f":"IF(B486=\"\",\"\",IF(Zahteve!F486=\"da\",CONCATENATE(B486,\"-DA\"),\"\"))","v":""},{"$f":"IF(B486=\"\",\"\",IF(Zahteve!A486=\"da\",CONCATENATE(B486,\"-ustreza\"),\"\"))","v":""},{"$f":"IF(B486=\"\",\"\",IF(Zahteve!G486=\"\",\"\",CONCATENATE(B486,\"-opis\")))","v":""},{"$f":"IF(B486=\"\",\"\",IF(Zahteve!H486=\"\",\"\",CONCATENATE(B486,\"-dni\")))","v":""},{"$f":"IF(B486=\"\",\"\",IF(Zahteve!H486=\"\",\"\",Zahteve!H486))","v":""}]
[{"$f":"IF(Zahteve!B487=\"\",\"\",Zahteve!B487)","v":"I.30.5"},{"$f":"IF(Zahteve!B487=\"\",\"\",LEFT(Zahteve!B487,1))","v":"I"},{"$f":"IF(B487=\"\",\"\",IF(Zahteve!F487=\"da\",CONCATENATE(B487,\"-DA\"),\"\"))","v":""},{"$f":"IF(B487=\"\",\"\",IF(Zahteve!A487=\"da\",CONCATENATE(B487,\"-ustreza\"),\"\"))","v":""},{"$f":"IF(B487=\"\",\"\",IF(Zahteve!G487=\"\",\"\",CONCATENATE(B487,\"-opis\")))","v":""},{"$f":"IF(B487=\"\",\"\",IF(Zahteve!H487=\"\",\"\",CONCATENATE(B487,\"-dni\")))","v":""},{"$f":"IF(B487=\"\",\"\",IF(Zahteve!H487=\"\",\"\",Zahteve!H487))","v":""}]
[{"$f":"IF(Zahteve!B488=\"\",\"\",Zahteve!B488)","v":"I.30.6"},{"$f":"IF(Zahteve!B488=\"\",\"\",LEFT(Zahteve!B488,1))","v":"I"},{"$f":"IF(B488=\"\",\"\",IF(Zahteve!F488=\"da\",CONCATENATE(B488,\"-DA\"),\"\"))","v":""},{"$f":"IF(B488=\"\",\"\",IF(Zahteve!A488=\"da\",CONCATENATE(B488,\"-ustreza\"),\"\"))","v":""},{"$f":"IF(B488=\"\",\"\",IF(Zahteve!G488=\"\",\"\",CONCATENATE(B488,\"-opis\")))","v":""},{"$f":"IF(B488=\"\",\"\",IF(Zahteve!H488=\"\",\"\",CONCATENATE(B488,\"-dni\")))","v":""},{"$f":"IF(B488=\"\",\"\",IF(Zahteve!H488=\"\",\"\",Zahteve!H488))","v":""}]
[{"$f":"IF(Zahteve!B489=\"\",\"\",Zahteve!B489)","v":"I.30.7"},{"$f":"IF(Zahteve!B489=\"\",\"\",LEFT(Zahteve!B489,1))","v":"I"},{"$f":"IF(B489=\"\",\"\",IF(Zahteve!F489=\"da\",CONCATENATE(B489,\"-DA\"),\"\"))","v":""},{"$f":"IF(B489=\"\",\"\",IF(Zahteve!A489=\"da\",CONCATENATE(B489,\"-ustreza\"),\"\"))","v":""},{"$f":"IF(B489=\"\",\"\",IF(Zahteve!G489=\"\",\"\",CONCATENATE(B489,\"-opis\")))","v":""},{"$f":"IF(B489=\"\",\"\",IF(Zahteve!H489=\"\",\"\",CONCATENATE(B489,\"-dni\")))","v":""},{"$f":"IF(B489=\"\",\"\",IF(Zahteve!H489=\"\",\"\",Zahteve!H489))","v":""}]
[{"$f":"IF(Zahteve!B490=\"\",\"\",Zahteve!B490)","v":"I.31.1"},{"$f":"IF(Zahteve!B490=\"\",\"\",LEFT(Zahteve!B490,1))","v":"I"},{"$f":"IF(B490=\"\",\"\",IF(Zahteve!F490=\"da\",CONCATENATE(B490,\"-DA\"),\"\"))","v":""},{"$f":"IF(B490=\"\",\"\",IF(Zahteve!A490=\"da\",CONCATENATE(B490,\"-ustreza\"),\"\"))","v":""},{"$f":"IF(B490=\"\",\"\",IF(Zahteve!G490=\"\",\"\",CONCATENATE(B490,\"-opis\")))","v":""},{"$f":"IF(B490=\"\",\"\",IF(Zahteve!H490=\"\",\"\",CONCATENATE(B490,\"-dni\")))","v":""},{"$f":"IF(B490=\"\",\"\",IF(Zahteve!H490=\"\",\"\",Zahteve!H490))","v":""}]
[{"$f":"IF(Zahteve!B491=\"\",\"\",Zahteve!B491)","v":"I.31.2"},{"$f":"IF(Zahteve!B491=\"\",\"\",LEFT(Zahteve!B491,1))","v":"I"},{"$f":"IF(B491=\"\",\"\",IF(Zahteve!F491=\"da\",CONCATENATE(B491,\"-DA\"),\"\"))","v":""},{"$f":"IF(B491=\"\",\"\",IF(Zahteve!A491=\"da\",CONCATENATE(B491,\"-ustreza\"),\"\"))","v":""},{"$f":"IF(B491=\"\",\"\",IF(Zahteve!G491=\"\",\"\",CONCATENATE(B491,\"-opis\")))","v":""},{"$f":"IF(B491=\"\",\"\",IF(Zahteve!H491=\"\",\"\",CONCATENATE(B491,\"-dni\")))","v":""},{"$f":"IF(B491=\"\",\"\",IF(Zahteve!H491=\"\",\"\",Zahteve!H491))","v":""}]
[{"$f":"IF(Zahteve!B492=\"\",\"\",Zahteve!B492)","v":"I.32.1"},{"$f":"IF(Zahteve!B492=\"\",\"\",LEFT(Zahteve!B492,1))","v":"I"},{"$f":"IF(B492=\"\",\"\",IF(Zahteve!F492=\"da\",CONCATENATE(B492,\"-DA\"),\"\"))","v":""},{"$f":"IF(B492=\"\",\"\",IF(Zahteve!A492=\"da\",CONCATENATE(B492,\"-ustreza\"),\"\"))","v":""},{"$f":"IF(B492=\"\",\"\",IF(Zahteve!G492=\"\",\"\",CONCATENATE(B492,\"-opis\")))","v":""},{"$f":"IF(B492=\"\",\"\",IF(Zahteve!H492=\"\",\"\",CONCATENATE(B492,\"-dni\")))","v":""},{"$f":"IF(B492=\"\",\"\",IF(Zahteve!H492=\"\",\"\",Zahteve!H492))","v":""}]
[{"$f":"IF(Zahteve!B493=\"\",\"\",Zahteve!B493)","v":"I.32.2"},{"$f":"IF(Zahteve!B493=\"\",\"\",LEFT(Zahteve!B493,1))","v":"I"},{"$f":"IF(B493=\"\",\"\",IF(Zahteve!F493=\"da\",CONCATENATE(B493,\"-DA\"),\"\"))","v":""},{"$f":"IF(B493=\"\",\"\",IF(Zahteve!A493=\"da\",CONCATENATE(B493,\"-ustreza\"),\"\"))","v":""},{"$f":"IF(B493=\"\",\"\",IF(Zahteve!G493=\"\",\"\",CONCATENATE(B493,\"-opis\")))","v":""},{"$f":"IF(B493=\"\",\"\",IF(Zahteve!H493=\"\",\"\",CONCATENATE(B493,\"-dni\")))","v":""},{"$f":"IF(B493=\"\",\"\",IF(Zahteve!H493=\"\",\"\",Zahteve!H493))","v":""}]
[{"$f":"IF(Zahteve!B494=\"\",\"\",Zahteve!B494)","v":"I.32.3"},{"$f":"IF(Zahteve!B494=\"\",\"\",LEFT(Zahteve!B494,1))","v":"I"},{"$f":"IF(B494=\"\",\"\",IF(Zahteve!F494=\"da\",CONCATENATE(B494,\"-DA\"),\"\"))","v":""},{"$f":"IF(B494=\"\",\"\",IF(Zahteve!A494=\"da\",CONCATENATE(B494,\"-ustreza\"),\"\"))","v":""},{"$f":"IF(B494=\"\",\"\",IF(Zahteve!G494=\"\",\"\",CONCATENATE(B494,\"-opis\")))","v":""},{"$f":"IF(B494=\"\",\"\",IF(Zahteve!H494=\"\",\"\",CONCATENATE(B494,\"-dni\")))","v":""},{"$f":"IF(B494=\"\",\"\",IF(Zahteve!H494=\"\",\"\",Zahteve!H494))","v":""}]
[{"$f":"IF(Zahteve!B495=\"\",\"\",Zahteve!B495)","v":"I.33.1"},{"$f":"IF(Zahteve!B495=\"\",\"\",LEFT(Zahteve!B495,1))","v":"I"},{"$f":"IF(B495=\"\",\"\",IF(Zahteve!F495=\"da\",CONCATENATE(B495,\"-DA\"),\"\"))","v":""},{"$f":"IF(B495=\"\",\"\",IF(Zahteve!A495=\"da\",CONCATENATE(B495,\"-ustreza\"),\"\"))","v":""},{"$f":"IF(B495=\"\",\"\",IF(Zahteve!G495=\"\",\"\",CONCATENATE(B495,\"-opis\")))","v":""},{"$f":"IF(B495=\"\",\"\",IF(Zahteve!H495=\"\",\"\",CONCATENATE(B495,\"-dni\")))","v":""},{"$f":"IF(B495=\"\",\"\",IF(Zahteve!H495=\"\",\"\",Zahteve!H495))","v":""}]
[{"$f":"IF(Zahteve!B496=\"\",\"\",Zahteve!B496)","v":"I.33.2"},{"$f":"IF(Zahteve!B496=\"\",\"\",LEFT(Zahteve!B496,1))","v":"I"},{"$f":"IF(B496=\"\",\"\",IF(Zahteve!F496=\"da\",CONCATENATE(B496,\"-DA\"),\"\"))","v":""},{"$f":"IF(B496=\"\",\"\",IF(Zahteve!A496=\"da\",CONCATENATE(B496,\"-ustreza\"),\"\"))","v":""},{"$f":"IF(B496=\"\",\"\",IF(Zahteve!G496=\"\",\"\",CONCATENATE(B496,\"-opis\")))","v":""},{"$f":"IF(B496=\"\",\"\",IF(Zahteve!H496=\"\",\"\",CONCATENATE(B496,\"-dni\")))","v":""},{"$f":"IF(B496=\"\",\"\",IF(Zahteve!H496=\"\",\"\",Zahteve!H496))","v":""}]
[{"$f":"IF(Zahteve!B497=\"\",\"\",Zahteve!B497)","v":"I.34.1"},{"$f":"IF(Zahteve!B497=\"\",\"\",LEFT(Zahteve!B497,1))","v":"I"},{"$f":"IF(B497=\"\",\"\",IF(Zahteve!F497=\"da\",CONCATENATE(B497,\"-DA\"),\"\"))","v":""},{"$f":"IF(B497=\"\",\"\",IF(Zahteve!A497=\"da\",CONCATENATE(B497,\"-ustreza\"),\"\"))","v":""},{"$f":"IF(B497=\"\",\"\",IF(Zahteve!G497=\"\",\"\",CONCATENATE(B497,\"-opis\")))","v":""},{"$f":"IF(B497=\"\",\"\",IF(Zahteve!H497=\"\",\"\",CONCATENATE(B497,\"-dni\")))","v":""},{"$f":"IF(B497=\"\",\"\",IF(Zahteve!H497=\"\",\"\",Zahteve!H497))","v":""}]
[{"$f":"IF(Zahteve!B498=\"\",\"\",Zahteve!B498)","v":""},{"$f":"IF(Zahteve!B498=\"\",\"\",LEFT(Zahteve!B498,1))","v":""},{"$f":"IF(B498=\"\",\"\",IF(Zahteve!F498=\"da\",CONCATENATE(B498,\"-DA\"),\"\"))","v":""},{"$f":"IF(B498=\"\",\"\",IF(Zahteve!A498=\"da\",CONCATENATE(B498,\"-ustreza\"),\"\"))","v":""},{"$f":"IF(B498=\"\",\"\",IF(Zahteve!G498=\"\",\"\",CONCATENATE(B498,\"-opis\")))","v":""},{"$f":"IF(B498=\"\",\"\",IF(Zahteve!H498=\"\",\"\",CONCATENATE(B498,\"-dni\")))","v":""},{"$f":"IF(B498=\"\",\"\",IF(Zahteve!H498=\"\",\"\",Zahteve!H498))","v":""}]
[{"$f":"IF(Zahteve!B499=\"\",\"\",Zahteve!B499)","v":"I.35.1"},{"$f":"IF(Zahteve!B499=\"\",\"\",LEFT(Zahteve!B499,1))","v":"I"},{"$f":"IF(B499=\"\",\"\",IF(Zahteve!F499=\"da\",CONCATENATE(B499,\"-DA\"),\"\"))","v":""},{"$f":"IF(B499=\"\",\"\",IF(Zahteve!A499=\"da\",CONCATENATE(B499,\"-ustreza\"),\"\"))","v":""},{"$f":"IF(B499=\"\",\"\",IF(Zahteve!G499=\"\",\"\",CONCATENATE(B499,\"-opis\")))","v":""},{"$f":"IF(B499=\"\",\"\",IF(Zahteve!H499=\"\",\"\",CONCATENATE(B499,\"-dni\")))","v":""},{"$f":"IF(B499=\"\",\"\",IF(Zahteve!H499=\"\",\"\",Zahteve!H499))","v":""}]
[{"$f":"IF(Zahteve!B500=\"\",\"\",Zahteve!B500)","v":"I.35.2"},{"$f":"IF(Zahteve!B500=\"\",\"\",LEFT(Zahteve!B500,1))","v":"I"},{"$f":"IF(B500=\"\",\"\",IF(Zahteve!F500=\"da\",CONCATENATE(B500,\"-DA\"),\"\"))","v":""},{"$f":"IF(B500=\"\",\"\",IF(Zahteve!A500=\"da\",CONCATENATE(B500,\"-ustreza\"),\"\"))","v":""},{"$f":"IF(B500=\"\",\"\",IF(Zahteve!G500=\"\",\"\",CONCATENATE(B500,\"-opis\")))","v":""},{"$f":"IF(B500=\"\",\"\",IF(Zahteve!H500=\"\",\"\",CONCATENATE(B500,\"-dni\")))","v":""},{"$f":"IF(B500=\"\",\"\",IF(Zahteve!H500=\"\",\"\",Zahteve!H500))","v":""}]
[{"$f":"IF(Zahteve!B501=\"\",\"\",Zahteve!B501)","v":"I.35.3"},{"$f":"IF(Zahteve!B501=\"\",\"\",LEFT(Zahteve!B501,1))","v":"I"},{"$f":"IF(B501=\"\",\"\",IF(Zahteve!F501=\"da\",CONCATENATE(B501,\"-DA\"),\"\"))","v":""},{"$f":"IF(B501=\"\",\"\",IF(Zahteve!A501=\"da\",CONCATENATE(B501,\"-ustreza\"),\"\"))","v":""},{"$f":"IF(B501=\"\",\"\",IF(Zahteve!G501=\"\",\"\",CONCATENATE(B501,\"-opis\")))","v":""},{"$f":"IF(B501=\"\",\"\",IF(Zahteve!H501=\"\",\"\",CONCATENATE(B501,\"-dni\")))","v":""},{"$f":"IF(B501=\"\",\"\",IF(Zahteve!H501=\"\",\"\",Zahteve!H501))","v":""}]
[{"$f":"IF(Zahteve!B502=\"\",\"\",Zahteve!B502)","v":"I.36.1"},{"$f":"IF(Zahteve!B502=\"\",\"\",LEFT(Zahteve!B502,1))","v":"I"},{"$f":"IF(B502=\"\",\"\",IF(Zahteve!F502=\"da\",CONCATENATE(B502,\"-DA\"),\"\"))","v":""},{"$f":"IF(B502=\"\",\"\",IF(Zahteve!A502=\"da\",CONCATENATE(B502,\"-ustreza\"),\"\"))","v":""},{"$f":"IF(B502=\"\",\"\",IF(Zahteve!G502=\"\",\"\",CONCATENATE(B502,\"-opis\")))","v":""},{"$f":"IF(B502=\"\",\"\",IF(Zahteve!H502=\"\",\"\",CONCATENATE(B502,\"-dni\")))","v":""},{"$f":"IF(B502=\"\",\"\",IF(Zahteve!H502=\"\",\"\",Zahteve!H502))","v":""}]
[{"$f":"IF(Zahteve!B503=\"\",\"\",Zahteve!B503)","v":"I.36.2"},{"$f":"IF(Zahteve!B503=\"\",\"\",LEFT(Zahteve!B503,1))","v":"I"},{"$f":"IF(B503=\"\",\"\",IF(Zahteve!F503=\"da\",CONCATENATE(B503,\"-DA\"),\"\"))","v":""},{"$f":"IF(B503=\"\",\"\",IF(Zahteve!A503=\"da\",CONCATENATE(B503,\"-ustreza\"),\"\"))","v":""},{"$f":"IF(B503=\"\",\"\",IF(Zahteve!G503=\"\",\"\",CONCATENATE(B503,\"-opis\")))","v":""},{"$f":"IF(B503=\"\",\"\",IF(Zahteve!H503=\"\",\"\",CONCATENATE(B503,\"-dni\")))","v":""},{"$f":"IF(B503=\"\",\"\",IF(Zahteve!H503=\"\",\"\",Zahteve!H503))","v":""}]
[{"$f":"IF(Zahteve!B504=\"\",\"\",Zahteve!B504)","v":"I.36.3"},{"$f":"IF(Zahteve!B504=\"\",\"\",LEFT(Zahteve!B504,1))","v":"I"},{"$f":"IF(B504=\"\",\"\",IF(Zahteve!F504=\"da\",CONCATENATE(B504,\"-DA\"),\"\"))","v":""},{"$f":"IF(B504=\"\",\"\",IF(Zahteve!A504=\"da\",CONCATENATE(B504,\"-ustreza\"),\"\"))","v":""},{"$f":"IF(B504=\"\",\"\",IF(Zahteve!G504=\"\",\"\",CONCATENATE(B504,\"-opis\")))","v":""},{"$f":"IF(B504=\"\",\"\",IF(Zahteve!H504=\"\",\"\",CONCATENATE(B504,\"-dni\")))","v":""},{"$f":"IF(B504=\"\",\"\",IF(Zahteve!H504=\"\",\"\",Zahteve!H504))","v":""}]
[{"$f":"IF(Zahteve!B505=\"\",\"\",Zahteve!B505)","v":"I.37.1"},{"$f":"IF(Zahteve!B505=\"\",\"\",LEFT(Zahteve!B505,1))","v":"I"},{"$f":"IF(B505=\"\",\"\",IF(Zahteve!F505=\"da\",CONCATENATE(B505,\"-DA\"),\"\"))","v":""},{"$f":"IF(B505=\"\",\"\",IF(Zahteve!A505=\"da\",CONCATENATE(B505,\"-ustreza\"),\"\"))","v":""},{"$f":"IF(B505=\"\",\"\",IF(Zahteve!G505=\"\",\"\",CONCATENATE(B505,\"-opis\")))","v":""},{"$f":"IF(B505=\"\",\"\",IF(Zahteve!H505=\"\",\"\",CONCATENATE(B505,\"-dni\")))","v":""},{"$f":"IF(B505=\"\",\"\",IF(Zahteve!H505=\"\",\"\",Zahteve!H505))","v":""}]
[{"$f":"IF(Zahteve!B506=\"\",\"\",Zahteve!B506)","v":"I.37.2"},{"$f":"IF(Zahteve!B506=\"\",\"\",LEFT(Zahteve!B506,1))","v":"I"},{"$f":"IF(B506=\"\",\"\",IF(Zahteve!F506=\"da\",CONCATENATE(B506,\"-DA\"),\"\"))","v":""},{"$f":"IF(B506=\"\",\"\",IF(Zahteve!A506=\"da\",CONCATENATE(B506,\"-ustreza\"),\"\"))","v":""},{"$f":"IF(B506=\"\",\"\",IF(Zahteve!G506=\"\",\"\",CONCATENATE(B506,\"-opis\")))","v":""},{"$f":"IF(B506=\"\",\"\",IF(Zahteve!H506=\"\",\"\",CONCATENATE(B506,\"-dni\")))","v":""},{"$f":"IF(B506=\"\",\"\",IF(Zahteve!H506=\"\",\"\",Zahteve!H506))","v":""}]
[{"$f":"IF(Zahteve!B507=\"\",\"\",Zahteve!B507)","v":"I.37.3"},{"$f":"IF(Zahteve!B507=\"\",\"\",LEFT(Zahteve!B507,1))","v":"I"},{"$f":"IF(B507=\"\",\"\",IF(Zahteve!F507=\"da\",CONCATENATE(B507,\"-DA\"),\"\"))","v":""},{"$f":"IF(B507=\"\",\"\",IF(Zahteve!A507=\"da\",CONCATENATE(B507,\"-ustreza\"),\"\"))","v":""},{"$f":"IF(B507=\"\",\"\",IF(Zahteve!G507=\"\",\"\",CONCATENATE(B507,\"-opis\")))","v":""},{"$f":"IF(B507=\"\",\"\",IF(Zahteve!H507=\"\",\"\",CONCATENATE(B507,\"-dni\")))","v":""},{"$f":"IF(B507=\"\",\"\",IF(Zahteve!H507=\"\",\"\",Zahteve!H507))","v":""}]
[{"$f":"IF(Zahteve!B508=\"\",\"\",Zahteve!B508)","v":"I.37.4"},{"$f":"IF(Zahteve!B508=\"\",\"\",LEFT(Zahteve!B508,1))","v":"I"},{"$f":"IF(B508=\"\",\"\",IF(Zahteve!F508=\"da\",CONCATENATE(B508,\"-DA\"),\"\"))","v":""},{"$f":"IF(B508=\"\",\"\",IF(Zahteve!A508=\"da\",CONCATENATE(B508,\"-ustreza\"),\"\"))","v":""},{"$f":"IF(B508=\"\",\"\",IF(Zahteve!G508=\"\",\"\",CONCATENATE(B508,\"-opis\")))","v":""},{"$f":"IF(B508=\"\",\"\",IF(Zahteve!H508=\"\",\"\",CONCATENATE(B508,\"-dni\")))","v":""},{"$f":"IF(B508=\"\",\"\",IF(Zahteve!H508=\"\",\"\",Zahteve!H508))","v":""}]
[{"$f":"IF(Zahteve!B509=\"\",\"\",Zahteve!B509)","v":""},{"$f":"IF(Zahteve!B509=\"\",\"\",LEFT(Zahteve!B509,1))","v":""},{"$f":"IF(B509=\"\",\"\",IF(Zahteve!F509=\"da\",CONCATENATE(B509,\"-DA\"),\"\"))","v":""},{"$f":"IF(B509=\"\",\"\",IF(Zahteve!A509=\"da\",CONCATENATE(B509,\"-ustreza\"),\"\"))","v":""},{"$f":"IF(B509=\"\",\"\",IF(Zahteve!G509=\"\",\"\",CONCATENATE(B509,\"-opis\")))","v":""},{"$f":"IF(B509=\"\",\"\",IF(Zahteve!H509=\"\",\"\",CONCATENATE(B509,\"-dni\")))","v":""},{"$f":"IF(B509=\"\",\"\",IF(Zahteve!H509=\"\",\"\",Zahteve!H509))","v":""}]
[{"$f":"IF(Zahteve!B510=\"\",\"\",Zahteve!B510)","v":"I.38.1"},{"$f":"IF(Zahteve!B510=\"\",\"\",LEFT(Zahteve!B510,1))","v":"I"},{"$f":"IF(B510=\"\",\"\",IF(Zahteve!F510=\"da\",CONCATENATE(B510,\"-DA\"),\"\"))","v":""},{"$f":"IF(B510=\"\",\"\",IF(Zahteve!A510=\"da\",CONCATENATE(B510,\"-ustreza\"),\"\"))","v":""},{"$f":"IF(B510=\"\",\"\",IF(Zahteve!G510=\"\",\"\",CONCATENATE(B510,\"-opis\")))","v":""},{"$f":"IF(B510=\"\",\"\",IF(Zahteve!H510=\"\",\"\",CONCATENATE(B510,\"-dni\")))","v":""},{"$f":"IF(B510=\"\",\"\",IF(Zahteve!H510=\"\",\"\",Zahteve!H510))","v":""}]
[{"$f":"IF(Zahteve!B511=\"\",\"\",Zahteve!B511)","v":"I.39.1"},{"$f":"IF(Zahteve!B511=\"\",\"\",LEFT(Zahteve!B511,1))","v":"I"},{"$f":"IF(B511=\"\",\"\",IF(Zahteve!F511=\"da\",CONCATENATE(B511,\"-DA\"),\"\"))","v":""},{"$f":"IF(B511=\"\",\"\",IF(Zahteve!A511=\"da\",CONCATENATE(B511,\"-ustreza\"),\"\"))","v":""},{"$f":"IF(B511=\"\",\"\",IF(Zahteve!G511=\"\",\"\",CONCATENATE(B511,\"-opis\")))","v":""},{"$f":"IF(B511=\"\",\"\",IF(Zahteve!H511=\"\",\"\",CONCATENATE(B511,\"-dni\")))","v":""},{"$f":"IF(B511=\"\",\"\",IF(Zahteve!H511=\"\",\"\",Zahteve!H511))","v":""}]
[{"$f":"IF(Zahteve!B512=\"\",\"\",Zahteve!B512)","v":"I.40.1"},{"$f":"IF(Zahteve!B512=\"\",\"\",LEFT(Zahteve!B512,1))","v":"I"},{"$f":"IF(B512=\"\",\"\",IF(Zahteve!F512=\"da\",CONCATENATE(B512,\"-DA\"),\"\"))","v":""},{"$f":"IF(B512=\"\",\"\",IF(Zahteve!A512=\"da\",CONCATENATE(B512,\"-ustreza\"),\"\"))","v":""},{"$f":"IF(B512=\"\",\"\",IF(Zahteve!G512=\"\",\"\",CONCATENATE(B512,\"-opis\")))","v":""},{"$f":"IF(B512=\"\",\"\",IF(Zahteve!H512=\"\",\"\",CONCATENATE(B512,\"-dni\")))","v":""},{"$f":"IF(B512=\"\",\"\",IF(Zahteve!H512=\"\",\"\",Zahteve!H512))","v":""}]
[{"$f":"IF(Zahteve!B513=\"\",\"\",Zahteve!B513)","v":"I.40.2"},{"$f":"IF(Zahteve!B513=\"\",\"\",LEFT(Zahteve!B513,1))","v":"I"},{"$f":"IF(B513=\"\",\"\",IF(Zahteve!F513=\"da\",CONCATENATE(B513,\"-DA\"),\"\"))","v":""},{"$f":"IF(B513=\"\",\"\",IF(Zahteve!A513=\"da\",CONCATENATE(B513,\"-ustreza\"),\"\"))","v":""},{"$f":"IF(B513=\"\",\"\",IF(Zahteve!G513=\"\",\"\",CONCATENATE(B513,\"-opis\")))","v":""},{"$f":"IF(B513=\"\",\"\",IF(Zahteve!H513=\"\",\"\",CONCATENATE(B513,\"-dni\")))","v":""},{"$f":"IF(B513=\"\",\"\",IF(Zahteve!H513=\"\",\"\",Zahteve!H513))","v":""}]
[{"$f":"IF(Zahteve!B514=\"\",\"\",Zahteve!B514)","v":"I.40.3"},{"$f":"IF(Zahteve!B514=\"\",\"\",LEFT(Zahteve!B514,1))","v":"I"},{"$f":"IF(B514=\"\",\"\",IF(Zahteve!F514=\"da\",CONCATENATE(B514,\"-DA\"),\"\"))","v":""},{"$f":"IF(B514=\"\",\"\",IF(Zahteve!A514=\"da\",CONCATENATE(B514,\"-ustreza\"),\"\"))","v":""},{"$f":"IF(B514=\"\",\"\",IF(Zahteve!G514=\"\",\"\",CONCATENATE(B514,\"-opis\")))","v":""},{"$f":"IF(B514=\"\",\"\",IF(Zahteve!H514=\"\",\"\",CONCATENATE(B514,\"-dni\")))","v":""},{"$f":"IF(B514=\"\",\"\",IF(Zahteve!H514=\"\",\"\",Zahteve!H514))","v":""}]
[{"$f":"IF(Zahteve!B515=\"\",\"\",Zahteve!B515)","v":"I.41.1"},{"$f":"IF(Zahteve!B515=\"\",\"\",LEFT(Zahteve!B515,1))","v":"I"},{"$f":"IF(B515=\"\",\"\",IF(Zahteve!F515=\"da\",CONCATENATE(B515,\"-DA\"),\"\"))","v":""},{"$f":"IF(B515=\"\",\"\",IF(Zahteve!A515=\"da\",CONCATENATE(B515,\"-ustreza\"),\"\"))","v":""},{"$f":"IF(B515=\"\",\"\",IF(Zahteve!G515=\"\",\"\",CONCATENATE(B515,\"-opis\")))","v":""},{"$f":"IF(B515=\"\",\"\",IF(Zahteve!H515=\"\",\"\",CONCATENATE(B515,\"-dni\")))","v":""},{"$f":"IF(B515=\"\",\"\",IF(Zahteve!H515=\"\",\"\",Zahteve!H515))","v":""}]
[{"$f":"IF(Zahteve!B516=\"\",\"\",Zahteve!B516)","v":"I.41.2"},{"$f":"IF(Zahteve!B516=\"\",\"\",LEFT(Zahteve!B516,1))","v":"I"},{"$f":"IF(B516=\"\",\"\",IF(Zahteve!F516=\"da\",CONCATENATE(B516,\"-DA\"),\"\"))","v":""},{"$f":"IF(B516=\"\",\"\",IF(Zahteve!A516=\"da\",CONCATENATE(B516,\"-ustreza\"),\"\"))","v":""},{"$f":"IF(B516=\"\",\"\",IF(Zahteve!G516=\"\",\"\",CONCATENATE(B516,\"-opis\")))","v":""},{"$f":"IF(B516=\"\",\"\",IF(Zahteve!H516=\"\",\"\",CONCATENATE(B516,\"-dni\")))","v":""},{"$f":"IF(B516=\"\",\"\",IF(Zahteve!H516=\"\",\"\",Zahteve!H516))","v":""}]
[{"$f":"IF(Zahteve!B517=\"\",\"\",Zahteve!B517)","v":"I.41.3"},{"$f":"IF(Zahteve!B517=\"\",\"\",LEFT(Zahteve!B517,1))","v":"I"},{"$f":"IF(B517=\"\",\"\",IF(Zahteve!F517=\"da\",CONCATENATE(B517,\"-DA\"),\"\"))","v":""},{"$f":"IF(B517=\"\",\"\",IF(Zahteve!A517=\"da\",CONCATENATE(B517,\"-ustreza\"),\"\"))","v":""},{"$f":"IF(B517=\"\",\"\",IF(Zahteve!G517=\"\",\"\",CONCATENATE(B517,\"-opis\")))","v":""},{"$f":"IF(B517=\"\",\"\",IF(Zahteve!H517=\"\",\"\",CONCATENATE(B517,\"-dni\")))","v":""},{"$f":"IF(B517=\"\",\"\",IF(Zahteve!H517=\"\",\"\",Zahteve!H517))","v":""}]
[{"$f":"IF(Zahteve!B518=\"\",\"\",Zahteve!B518)","v":"I.41.4"},{"$f":"IF(Zahteve!B518=\"\",\"\",LEFT(Zahteve!B518,1))","v":"I"},{"$f":"IF(B518=\"\",\"\",IF(Zahteve!F518=\"da\",CONCATENATE(B518,\"-DA\"),\"\"))","v":""},{"$f":"IF(B518=\"\",\"\",IF(Zahteve!A518=\"da\",CONCATENATE(B518,\"-ustreza\"),\"\"))","v":""},{"$f":"IF(B518=\"\",\"\",IF(Zahteve!G518=\"\",\"\",CONCATENATE(B518,\"-opis\")))","v":""},{"$f":"IF(B518=\"\",\"\",IF(Zahteve!H518=\"\",\"\",CONCATENATE(B518,\"-dni\")))","v":""},{"$f":"IF(B518=\"\",\"\",IF(Zahteve!H518=\"\",\"\",Zahteve!H518))","v":""}]
[{"$f":"IF(Zahteve!B519=\"\",\"\",Zahteve!B519)","v":""},{"$f":"IF(Zahteve!B519=\"\",\"\",LEFT(Zahteve!B519,1))","v":""},{"$f":"IF(B519=\"\",\"\",IF(Zahteve!F519=\"da\",CONCATENATE(B519,\"-DA\"),\"\"))","v":""},{"$f":"IF(B519=\"\",\"\",IF(Zahteve!A519=\"da\",CONCATENATE(B519,\"-ustreza\"),\"\"))","v":""},{"$f":"IF(B519=\"\",\"\",IF(Zahteve!G519=\"\",\"\",CONCATENATE(B519,\"-opis\")))","v":""},{"$f":"IF(B519=\"\",\"\",IF(Zahteve!H519=\"\",\"\",CONCATENATE(B519,\"-dni\")))","v":""},{"$f":"IF(B519=\"\",\"\",IF(Zahteve!H519=\"\",\"\",Zahteve!H519))","v":""}]
[{"$f":"IF(Zahteve!B520=\"\",\"\",Zahteve!B520)","v":""},{"$f":"IF(Zahteve!B520=\"\",\"\",LEFT(Zahteve!B520,1))","v":""},{"$f":"IF(B520=\"\",\"\",IF(Zahteve!F520=\"da\",CONCATENATE(B520,\"-DA\"),\"\"))","v":""},{"$f":"IF(B520=\"\",\"\",IF(Zahteve!A520=\"da\",CONCATENATE(B520,\"-ustreza\"),\"\"))","v":""},{"$f":"IF(B520=\"\",\"\",IF(Zahteve!G520=\"\",\"\",CONCATENATE(B520,\"-opis\")))","v":""},{"$f":"IF(B520=\"\",\"\",IF(Zahteve!H520=\"\",\"\",CONCATENATE(B520,\"-dni\")))","v":""},{"$f":"IF(B520=\"\",\"\",IF(Zahteve!H520=\"\",\"\",Zahteve!H520))","v":""}]
[{"$f":"IF(Zahteve!B521=\"\",\"\",Zahteve!B521)","v":"J.1.1"},{"$f":"IF(Zahteve!B521=\"\",\"\",LEFT(Zahteve!B521,1))","v":"J"},{"$f":"IF(B521=\"\",\"\",IF(Zahteve!F521=\"da\",CONCATENATE(B521,\"-DA\"),\"\"))","v":""},{"$f":"IF(B521=\"\",\"\",IF(Zahteve!A521=\"da\",CONCATENATE(B521,\"-ustreza\"),\"\"))","v":""},{"$f":"IF(B521=\"\",\"\",IF(Zahteve!G521=\"\",\"\",CONCATENATE(B521,\"-opis\")))","v":""},{"$f":"IF(B521=\"\",\"\",IF(Zahteve!H521=\"\",\"\",CONCATENATE(B521,\"-dni\")))","v":""},{"$f":"IF(B521=\"\",\"\",IF(Zahteve!H521=\"\",\"\",Zahteve!H521))","v":""}]
[{"$f":"IF(Zahteve!B522=\"\",\"\",Zahteve!B522)","v":"J.2.1"},{"$f":"IF(Zahteve!B522=\"\",\"\",LEFT(Zahteve!B522,1))","v":"J"},{"$f":"IF(B522=\"\",\"\",IF(Zahteve!F522=\"da\",CONCATENATE(B522,\"-DA\"),\"\"))","v":""},{"$f":"IF(B522=\"\",\"\",IF(Zahteve!A522=\"da\",CONCATENATE(B522,\"-ustreza\"),\"\"))","v":""},{"$f":"IF(B522=\"\",\"\",IF(Zahteve!G522=\"\",\"\",CONCATENATE(B522,\"-opis\")))","v":""},{"$f":"IF(B522=\"\",\"\",IF(Zahteve!H522=\"\",\"\",CONCATENATE(B522,\"-dni\")))","v":""},{"$f":"IF(B522=\"\",\"\",IF(Zahteve!H522=\"\",\"\",Zahteve!H522))","v":""}]
[{"$f":"IF(Zahteve!B523=\"\",\"\",Zahteve!B523)","v":"J.2.2"},{"$f":"IF(Zahteve!B523=\"\",\"\",LEFT(Zahteve!B523,1))","v":"J"},{"$f":"IF(B523=\"\",\"\",IF(Zahteve!F523=\"da\",CONCATENATE(B523,\"-DA\"),\"\"))","v":""},{"$f":"IF(B523=\"\",\"\",IF(Zahteve!A523=\"da\",CONCATENATE(B523,\"-ustreza\"),\"\"))","v":""},{"$f":"IF(B523=\"\",\"\",IF(Zahteve!G523=\"\",\"\",CONCATENATE(B523,\"-opis\")))","v":""},{"$f":"IF(B523=\"\",\"\",IF(Zahteve!H523=\"\",\"\",CONCATENATE(B523,\"-dni\")))","v":""},{"$f":"IF(B523=\"\",\"\",IF(Zahteve!H523=\"\",\"\",Zahteve!H523))","v":""}]
[{"$f":"IF(Zahteve!B524=\"\",\"\",Zahteve!B524)","v":"J.3.1"},{"$f":"IF(Zahteve!B524=\"\",\"\",LEFT(Zahteve!B524,1))","v":"J"},{"$f":"IF(B524=\"\",\"\",IF(Zahteve!F524=\"da\",CONCATENATE(B524,\"-DA\"),\"\"))","v":""},{"$f":"IF(B524=\"\",\"\",IF(Zahteve!A524=\"da\",CONCATENATE(B524,\"-ustreza\"),\"\"))","v":""},{"$f":"IF(B524=\"\",\"\",IF(Zahteve!G524=\"\",\"\",CONCATENATE(B524,\"-opis\")))","v":""},{"$f":"IF(B524=\"\",\"\",IF(Zahteve!H524=\"\",\"\",CONCATENATE(B524,\"-dni\")))","v":""},{"$f":"IF(B524=\"\",\"\",IF(Zahteve!H524=\"\",\"\",Zahteve!H524))","v":""}]
[{"$f":"IF(Zahteve!B525=\"\",\"\",Zahteve!B525)","v":"J.3.2"},{"$f":"IF(Zahteve!B525=\"\",\"\",LEFT(Zahteve!B525,1))","v":"J"},{"$f":"IF(B525=\"\",\"\",IF(Zahteve!F525=\"da\",CONCATENATE(B525,\"-DA\"),\"\"))","v":""},{"$f":"IF(B525=\"\",\"\",IF(Zahteve!A525=\"da\",CONCATENATE(B525,\"-ustreza\"),\"\"))","v":""},{"$f":"IF(B525=\"\",\"\",IF(Zahteve!G525=\"\",\"\",CONCATENATE(B525,\"-opis\")))","v":""},{"$f":"IF(B525=\"\",\"\",IF(Zahteve!H525=\"\",\"\",CONCATENATE(B525,\"-dni\")))","v":""},{"$f":"IF(B525=\"\",\"\",IF(Zahteve!H525=\"\",\"\",Zahteve!H525))","v":""}]
[{"$f":"IF(Zahteve!B526=\"\",\"\",Zahteve!B526)","v":"J.3.3"},{"$f":"IF(Zahteve!B526=\"\",\"\",LEFT(Zahteve!B526,1))","v":"J"},{"$f":"IF(B526=\"\",\"\",IF(Zahteve!F526=\"da\",CONCATENATE(B526,\"-DA\"),\"\"))","v":""},{"$f":"IF(B526=\"\",\"\",IF(Zahteve!A526=\"da\",CONCATENATE(B526,\"-ustreza\"),\"\"))","v":""},{"$f":"IF(B526=\"\",\"\",IF(Zahteve!G526=\"\",\"\",CONCATENATE(B526,\"-opis\")))","v":""},{"$f":"IF(B526=\"\",\"\",IF(Zahteve!H526=\"\",\"\",CONCATENATE(B526,\"-dni\")))","v":""},{"$f":"IF(B526=\"\",\"\",IF(Zahteve!H526=\"\",\"\",Zahteve!H526))","v":""}]
[{"$f":"IF(Zahteve!B527=\"\",\"\",Zahteve!B527)","v":"J.3.4"},{"$f":"IF(Zahteve!B527=\"\",\"\",LEFT(Zahteve!B527,1))","v":"J"},{"$f":"IF(B527=\"\",\"\",IF(Zahteve!F527=\"da\",CONCATENATE(B527,\"-DA\"),\"\"))","v":""},{"$f":"IF(B527=\"\",\"\",IF(Zahteve!A527=\"da\",CONCATENATE(B527,\"-ustreza\"),\"\"))","v":""},{"$f":"IF(B527=\"\",\"\",IF(Zahteve!G527=\"\",\"\",CONCATENATE(B527,\"-opis\")))","v":""},{"$f":"IF(B527=\"\",\"\",IF(Zahteve!H527=\"\",\"\",CONCATENATE(B527,\"-dni\")))","v":""},{"$f":"IF(B527=\"\",\"\",IF(Zahteve!H527=\"\",\"\",Zahteve!H527))","v":""}]
[{"$f":"IF(Zahteve!B528=\"\",\"\",Zahteve!B528)","v":"J.4.1"},{"$f":"IF(Zahteve!B528=\"\",\"\",LEFT(Zahteve!B528,1))","v":"J"},{"$f":"IF(B528=\"\",\"\",IF(Zahteve!F528=\"da\",CONCATENATE(B528,\"-DA\"),\"\"))","v":""},{"$f":"IF(B528=\"\",\"\",IF(Zahteve!A528=\"da\",CONCATENATE(B528,\"-ustreza\"),\"\"))","v":""},{"$f":"IF(B528=\"\",\"\",IF(Zahteve!G528=\"\",\"\",CONCATENATE(B528,\"-opis\")))","v":""},{"$f":"IF(B528=\"\",\"\",IF(Zahteve!H528=\"\",\"\",CONCATENATE(B528,\"-dni\")))","v":""},{"$f":"IF(B528=\"\",\"\",IF(Zahteve!H528=\"\",\"\",Zahteve!H528))","v":""}]
[{"$f":"IF(Zahteve!B529=\"\",\"\",Zahteve!B529)","v":"J.4.2"},{"$f":"IF(Zahteve!B529=\"\",\"\",LEFT(Zahteve!B529,1))","v":"J"},{"$f":"IF(B529=\"\",\"\",IF(Zahteve!F529=\"da\",CONCATENATE(B529,\"-DA\"),\"\"))","v":""},{"$f":"IF(B529=\"\",\"\",IF(Zahteve!A529=\"da\",CONCATENATE(B529,\"-ustreza\"),\"\"))","v":""},{"$f":"IF(B529=\"\",\"\",IF(Zahteve!G529=\"\",\"\",CONCATENATE(B529,\"-opis\")))","v":""},{"$f":"IF(B529=\"\",\"\",IF(Zahteve!H529=\"\",\"\",CONCATENATE(B529,\"-dni\")))","v":""},{"$f":"IF(B529=\"\",\"\",IF(Zahteve!H529=\"\",\"\",Zahteve!H529))","v":""}]
[{"$f":"IF(Zahteve!B530=\"\",\"\",Zahteve!B530)","v":"J.4.3"},{"$f":"IF(Zahteve!B530=\"\",\"\",LEFT(Zahteve!B530,1))","v":"J"},{"$f":"IF(B530=\"\",\"\",IF(Zahteve!F530=\"da\",CONCATENATE(B530,\"-DA\"),\"\"))","v":""},{"$f":"IF(B530=\"\",\"\",IF(Zahteve!A530=\"da\",CONCATENATE(B530,\"-ustreza\"),\"\"))","v":""},{"$f":"IF(B530=\"\",\"\",IF(Zahteve!G530=\"\",\"\",CONCATENATE(B530,\"-opis\")))","v":""},{"$f":"IF(B530=\"\",\"\",IF(Zahteve!H530=\"\",\"\",CONCATENATE(B530,\"-dni\")))","v":""},{"$f":"IF(B530=\"\",\"\",IF(Zahteve!H530=\"\",\"\",Zahteve!H530))","v":""}]
[{"$f":"IF(Zahteve!B531=\"\",\"\",Zahteve!B531)","v":"J.4.4"},{"$f":"IF(Zahteve!B531=\"\",\"\",LEFT(Zahteve!B531,1))","v":"J"},{"$f":"IF(B531=\"\",\"\",IF(Zahteve!F531=\"da\",CONCATENATE(B531,\"-DA\"),\"\"))","v":""},{"$f":"IF(B531=\"\",\"\",IF(Zahteve!A531=\"da\",CONCATENATE(B531,\"-ustreza\"),\"\"))","v":""},{"$f":"IF(B531=\"\",\"\",IF(Zahteve!G531=\"\",\"\",CONCATENATE(B531,\"-opis\")))","v":""},{"$f":"IF(B531=\"\",\"\",IF(Zahteve!H531=\"\",\"\",CONCATENATE(B531,\"-dni\")))","v":""},{"$f":"IF(B531=\"\",\"\",IF(Zahteve!H531=\"\",\"\",Zahteve!H531))","v":""}]
[{"$f":"IF(Zahteve!B532=\"\",\"\",Zahteve!B532)","v":""},{"$f":"IF(Zahteve!B532=\"\",\"\",LEFT(Zahteve!B532,1))","v":""},{"$f":"IF(B532=\"\",\"\",IF(Zahteve!F532=\"da\",CONCATENATE(B532,\"-DA\"),\"\"))","v":""},{"$f":"IF(B532=\"\",\"\",IF(Zahteve!A532=\"da\",CONCATENATE(B532,\"-ustreza\"),\"\"))","v":""},{"$f":"IF(B532=\"\",\"\",IF(Zahteve!G532=\"\",\"\",CONCATENATE(B532,\"-opis\")))","v":""},{"$f":"IF(B532=\"\",\"\",IF(Zahteve!H532=\"\",\"\",CONCATENATE(B532,\"-dni\")))","v":""},{"$f":"IF(B532=\"\",\"\",IF(Zahteve!H532=\"\",\"\",Zahteve!H532))","v":""}]
[{"$f":"IF(Zahteve!B533=\"\",\"\",Zahteve!B533)","v":"J.5.1"},{"$f":"IF(Zahteve!B533=\"\",\"\",LEFT(Zahteve!B533,1))","v":"J"},{"$f":"IF(B533=\"\",\"\",IF(Zahteve!F533=\"da\",CONCATENATE(B533,\"-DA\"),\"\"))","v":""},{"$f":"IF(B533=\"\",\"\",IF(Zahteve!A533=\"da\",CONCATENATE(B533,\"-ustreza\"),\"\"))","v":""},{"$f":"IF(B533=\"\",\"\",IF(Zahteve!G533=\"\",\"\",CONCATENATE(B533,\"-opis\")))","v":""},{"$f":"IF(B533=\"\",\"\",IF(Zahteve!H533=\"\",\"\",CONCATENATE(B533,\"-dni\")))","v":""},{"$f":"IF(B533=\"\",\"\",IF(Zahteve!H533=\"\",\"\",Zahteve!H533))","v":""}]
[{"$f":"IF(Zahteve!B534=\"\",\"\",Zahteve!B534)","v":"J.5.2"},{"$f":"IF(Zahteve!B534=\"\",\"\",LEFT(Zahteve!B534,1))","v":"J"},{"$f":"IF(B534=\"\",\"\",IF(Zahteve!F534=\"da\",CONCATENATE(B534,\"-DA\"),\"\"))","v":""},{"$f":"IF(B534=\"\",\"\",IF(Zahteve!A534=\"da\",CONCATENATE(B534,\"-ustreza\"),\"\"))","v":""},{"$f":"IF(B534=\"\",\"\",IF(Zahteve!G534=\"\",\"\",CONCATENATE(B534,\"-opis\")))","v":""},{"$f":"IF(B534=\"\",\"\",IF(Zahteve!H534=\"\",\"\",CONCATENATE(B534,\"-dni\")))","v":""},{"$f":"IF(B534=\"\",\"\",IF(Zahteve!H534=\"\",\"\",Zahteve!H534))","v":""}]
[{"$f":"IF(Zahteve!B535=\"\",\"\",Zahteve!B535)","v":"J.5.3"},{"$f":"IF(Zahteve!B535=\"\",\"\",LEFT(Zahteve!B535,1))","v":"J"},{"$f":"IF(B535=\"\",\"\",IF(Zahteve!F535=\"da\",CONCATENATE(B535,\"-DA\"),\"\"))","v":""},{"$f":"IF(B535=\"\",\"\",IF(Zahteve!A535=\"da\",CONCATENATE(B535,\"-ustreza\"),\"\"))","v":""},{"$f":"IF(B535=\"\",\"\",IF(Zahteve!G535=\"\",\"\",CONCATENATE(B535,\"-opis\")))","v":""},{"$f":"IF(B535=\"\",\"\",IF(Zahteve!H535=\"\",\"\",CONCATENATE(B535,\"-dni\")))","v":""},{"$f":"IF(B535=\"\",\"\",IF(Zahteve!H535=\"\",\"\",Zahteve!H535))","v":""}]
[{"$f":"IF(Zahteve!B536=\"\",\"\",Zahteve!B536)","v":"J.5.4"},{"$f":"IF(Zahteve!B536=\"\",\"\",LEFT(Zahteve!B536,1))","v":"J"},{"$f":"IF(B536=\"\",\"\",IF(Zahteve!F536=\"da\",CONCATENATE(B536,\"-DA\"),\"\"))","v":""},{"$f":"IF(B536=\"\",\"\",IF(Zahteve!A536=\"da\",CONCATENATE(B536,\"-ustreza\"),\"\"))","v":""},{"$f":"IF(B536=\"\",\"\",IF(Zahteve!G536=\"\",\"\",CONCATENATE(B536,\"-opis\")))","v":""},{"$f":"IF(B536=\"\",\"\",IF(Zahteve!H536=\"\",\"\",CONCATENATE(B536,\"-dni\")))","v":""},{"$f":"IF(B536=\"\",\"\",IF(Zahteve!H536=\"\",\"\",Zahteve!H536))","v":""}]
[{"$f":"IF(Zahteve!B537=\"\",\"\",Zahteve!B537)","v":"J.5.5"},{"$f":"IF(Zahteve!B537=\"\",\"\",LEFT(Zahteve!B537,1))","v":"J"},{"$f":"IF(B537=\"\",\"\",IF(Zahteve!F537=\"da\",CONCATENATE(B537,\"-DA\"),\"\"))","v":""},{"$f":"IF(B537=\"\",\"\",IF(Zahteve!A537=\"da\",CONCATENATE(B537,\"-ustreza\"),\"\"))","v":""},{"$f":"IF(B537=\"\",\"\",IF(Zahteve!G537=\"\",\"\",CONCATENATE(B537,\"-opis\")))","v":""},{"$f":"IF(B537=\"\",\"\",IF(Zahteve!H537=\"\",\"\",CONCATENATE(B537,\"-dni\")))","v":""},{"$f":"IF(B537=\"\",\"\",IF(Zahteve!H537=\"\",\"\",Zahteve!H537))","v":""}]
[{"$f":"IF(Zahteve!B538=\"\",\"\",Zahteve!B538)","v":"J.5.6"},{"$f":"IF(Zahteve!B538=\"\",\"\",LEFT(Zahteve!B538,1))","v":"J"},{"$f":"IF(B538=\"\",\"\",IF(Zahteve!F538=\"da\",CONCATENATE(B538,\"-DA\"),\"\"))","v":""},{"$f":"IF(B538=\"\",\"\",IF(Zahteve!A538=\"da\",CONCATENATE(B538,\"-ustreza\"),\"\"))","v":""},{"$f":"IF(B538=\"\",\"\",IF(Zahteve!G538=\"\",\"\",CONCATENATE(B538,\"-opis\")))","v":""},{"$f":"IF(B538=\"\",\"\",IF(Zahteve!H538=\"\",\"\",CONCATENATE(B538,\"-dni\")))","v":""},{"$f":"IF(B538=\"\",\"\",IF(Zahteve!H538=\"\",\"\",Zahteve!H538))","v":""}]
[{"$f":"IF(Zahteve!B539=\"\",\"\",Zahteve!B539)","v":"J.5.7"},{"$f":"IF(Zahteve!B539=\"\",\"\",LEFT(Zahteve!B539,1))","v":"J"},{"$f":"IF(B539=\"\",\"\",IF(Zahteve!F539=\"da\",CONCATENATE(B539,\"-DA\"),\"\"))","v":""},{"$f":"IF(B539=\"\",\"\",IF(Zahteve!A539=\"da\",CONCATENATE(B539,\"-ustreza\"),\"\"))","v":""},{"$f":"IF(B539=\"\",\"\",IF(Zahteve!G539=\"\",\"\",CONCATENATE(B539,\"-opis\")))","v":""},{"$f":"IF(B539=\"\",\"\",IF(Zahteve!H539=\"\",\"\",CONCATENATE(B539,\"-dni\")))","v":""},{"$f":"IF(B539=\"\",\"\",IF(Zahteve!H539=\"\",\"\",Zahteve!H539))","v":""}]
[{"$f":"IF(Zahteve!B540=\"\",\"\",Zahteve!B540)","v":"J.5.8"},{"$f":"IF(Zahteve!B540=\"\",\"\",LEFT(Zahteve!B540,1))","v":"J"},{"$f":"IF(B540=\"\",\"\",IF(Zahteve!F540=\"da\",CONCATENATE(B540,\"-DA\"),\"\"))","v":""},{"$f":"IF(B540=\"\",\"\",IF(Zahteve!A540=\"da\",CONCATENATE(B540,\"-ustreza\"),\"\"))","v":""},{"$f":"IF(B540=\"\",\"\",IF(Zahteve!G540=\"\",\"\",CONCATENATE(B540,\"-opis\")))","v":""},{"$f":"IF(B540=\"\",\"\",IF(Zahteve!H540=\"\",\"\",CONCATENATE(B540,\"-dni\")))","v":""},{"$f":"IF(B540=\"\",\"\",IF(Zahteve!H540=\"\",\"\",Zahteve!H540))","v":""}]
[{"$f":"IF(Zahteve!B541=\"\",\"\",Zahteve!B541)","v":"J.5.9"},{"$f":"IF(Zahteve!B541=\"\",\"\",LEFT(Zahteve!B541,1))","v":"J"},{"$f":"IF(B541=\"\",\"\",IF(Zahteve!F541=\"da\",CONCATENATE(B541,\"-DA\"),\"\"))","v":""},{"$f":"IF(B541=\"\",\"\",IF(Zahteve!A541=\"da\",CONCATENATE(B541,\"-ustreza\"),\"\"))","v":""},{"$f":"IF(B541=\"\",\"\",IF(Zahteve!G541=\"\",\"\",CONCATENATE(B541,\"-opis\")))","v":""},{"$f":"IF(B541=\"\",\"\",IF(Zahteve!H541=\"\",\"\",CONCATENATE(B541,\"-dni\")))","v":""},{"$f":"IF(B541=\"\",\"\",IF(Zahteve!H541=\"\",\"\",Zahteve!H541))","v":""}]
[{"$f":"IF(Zahteve!B542=\"\",\"\",Zahteve!B542)","v":"J.5.10"},{"$f":"IF(Zahteve!B542=\"\",\"\",LEFT(Zahteve!B542,1))","v":"J"},{"$f":"IF(B542=\"\",\"\",IF(Zahteve!F542=\"da\",CONCATENATE(B542,\"-DA\"),\"\"))","v":""},{"$f":"IF(B542=\"\",\"\",IF(Zahteve!A542=\"da\",CONCATENATE(B542,\"-ustreza\"),\"\"))","v":""},{"$f":"IF(B542=\"\",\"\",IF(Zahteve!G542=\"\",\"\",CONCATENATE(B542,\"-opis\")))","v":""},{"$f":"IF(B542=\"\",\"\",IF(Zahteve!H542=\"\",\"\",CONCATENATE(B542,\"-dni\")))","v":""},{"$f":"IF(B542=\"\",\"\",IF(Zahteve!H542=\"\",\"\",Zahteve!H542))","v":""}]
[{"$f":"IF(Zahteve!B543=\"\",\"\",Zahteve!B543)","v":""},{"$f":"IF(Zahteve!B543=\"\",\"\",LEFT(Zahteve!B543,1))","v":""},{"$f":"IF(B543=\"\",\"\",IF(Zahteve!F543=\"da\",CONCATENATE(B543,\"-DA\"),\"\"))","v":""},{"$f":"IF(B543=\"\",\"\",IF(Zahteve!A543=\"da\",CONCATENATE(B543,\"-ustreza\"),\"\"))","v":""},{"$f":"IF(B543=\"\",\"\",IF(Zahteve!G543=\"\",\"\",CONCATENATE(B543,\"-opis\")))","v":""},{"$f":"IF(B543=\"\",\"\",IF(Zahteve!H543=\"\",\"\",CONCATENATE(B543,\"-dni\")))","v":""},{"$f":"IF(B543=\"\",\"\",IF(Zahteve!H543=\"\",\"\",Zahteve!H543))","v":""}]
[{"$f":"IF(Zahteve!B544=\"\",\"\",Zahteve!B544)","v":"J.6.1"},{"$f":"IF(Zahteve!B544=\"\",\"\",LEFT(Zahteve!B544,1))","v":"J"},{"$f":"IF(B544=\"\",\"\",IF(Zahteve!F544=\"da\",CONCATENATE(B544,\"-DA\"),\"\"))","v":""},{"$f":"IF(B544=\"\",\"\",IF(Zahteve!A544=\"da\",CONCATENATE(B544,\"-ustreza\"),\"\"))","v":""},{"$f":"IF(B544=\"\",\"\",IF(Zahteve!G544=\"\",\"\",CONCATENATE(B544,\"-opis\")))","v":""},{"$f":"IF(B544=\"\",\"\",IF(Zahteve!H544=\"\",\"\",CONCATENATE(B544,\"-dni\")))","v":""},{"$f":"IF(B544=\"\",\"\",IF(Zahteve!H544=\"\",\"\",Zahteve!H544))","v":""}]
[{"$f":"IF(Zahteve!B545=\"\",\"\",Zahteve!B545)","v":"J.6.2"},{"$f":"IF(Zahteve!B545=\"\",\"\",LEFT(Zahteve!B545,1))","v":"J"},{"$f":"IF(B545=\"\",\"\",IF(Zahteve!F545=\"da\",CONCATENATE(B545,\"-DA\"),\"\"))","v":""},{"$f":"IF(B545=\"\",\"\",IF(Zahteve!A545=\"da\",CONCATENATE(B545,\"-ustreza\"),\"\"))","v":""},{"$f":"IF(B545=\"\",\"\",IF(Zahteve!G545=\"\",\"\",CONCATENATE(B545,\"-opis\")))","v":""},{"$f":"IF(B545=\"\",\"\",IF(Zahteve!H545=\"\",\"\",CONCATENATE(B545,\"-dni\")))","v":""},{"$f":"IF(B545=\"\",\"\",IF(Zahteve!H545=\"\",\"\",Zahteve!H545))","v":""}]
[{"$f":"IF(Zahteve!B546=\"\",\"\",Zahteve!B546)","v":"J.6.3"},{"$f":"IF(Zahteve!B546=\"\",\"\",LEFT(Zahteve!B546,1))","v":"J"},{"$f":"IF(B546=\"\",\"\",IF(Zahteve!F546=\"da\",CONCATENATE(B546,\"-DA\"),\"\"))","v":""},{"$f":"IF(B546=\"\",\"\",IF(Zahteve!A546=\"da\",CONCATENATE(B546,\"-ustreza\"),\"\"))","v":""},{"$f":"IF(B546=\"\",\"\",IF(Zahteve!G546=\"\",\"\",CONCATENATE(B546,\"-opis\")))","v":""},{"$f":"IF(B546=\"\",\"\",IF(Zahteve!H546=\"\",\"\",CONCATENATE(B546,\"-dni\")))","v":""},{"$f":"IF(B546=\"\",\"\",IF(Zahteve!H546=\"\",\"\",Zahteve!H546))","v":""}]
[{"$f":"IF(Zahteve!B547=\"\",\"\",Zahteve!B547)","v":""},{"$f":"IF(Zahteve!B547=\"\",\"\",LEFT(Zahteve!B547,1))","v":""},{"$f":"IF(B547=\"\",\"\",IF(Zahteve!F547=\"da\",CONCATENATE(B547,\"-DA\"),\"\"))","v":""},{"$f":"IF(B547=\"\",\"\",IF(Zahteve!A547=\"da\",CONCATENATE(B547,\"-ustreza\"),\"\"))","v":""},{"$f":"IF(B547=\"\",\"\",IF(Zahteve!G547=\"\",\"\",CONCATENATE(B547,\"-opis\")))","v":""},{"$f":"IF(B547=\"\",\"\",IF(Zahteve!H547=\"\",\"\",CONCATENATE(B547,\"-dni\")))","v":""},{"$f":"IF(B547=\"\",\"\",IF(Zahteve!H547=\"\",\"\",Zahteve!H547))","v":""}]
[{"$f":"IF(Zahteve!B548=\"\",\"\",Zahteve!B548)","v":"J.7.1"},{"$f":"IF(Zahteve!B548=\"\",\"\",LEFT(Zahteve!B548,1))","v":"J"},{"$f":"IF(B548=\"\",\"\",IF(Zahteve!F548=\"da\",CONCATENATE(B548,\"-DA\"),\"\"))","v":""},{"$f":"IF(B548=\"\",\"\",IF(Zahteve!A548=\"da\",CONCATENATE(B548,\"-ustreza\"),\"\"))","v":""},{"$f":"IF(B548=\"\",\"\",IF(Zahteve!G548=\"\",\"\",CONCATENATE(B548,\"-opis\")))","v":""},{"$f":"IF(B548=\"\",\"\",IF(Zahteve!H548=\"\",\"\",CONCATENATE(B548,\"-dni\")))","v":""},{"$f":"IF(B548=\"\",\"\",IF(Zahteve!H548=\"\",\"\",Zahteve!H548))","v":""}]
[{"$f":"IF(Zahteve!B549=\"\",\"\",Zahteve!B549)","v":"J.7.2"},{"$f":"IF(Zahteve!B549=\"\",\"\",LEFT(Zahteve!B549,1))","v":"J"},{"$f":"IF(B549=\"\",\"\",IF(Zahteve!F549=\"da\",CONCATENATE(B549,\"-DA\"),\"\"))","v":""},{"$f":"IF(B549=\"\",\"\",IF(Zahteve!A549=\"da\",CONCATENATE(B549,\"-ustreza\"),\"\"))","v":""},{"$f":"IF(B549=\"\",\"\",IF(Zahteve!G549=\"\",\"\",CONCATENATE(B549,\"-opis\")))","v":""},{"$f":"IF(B549=\"\",\"\",IF(Zahteve!H549=\"\",\"\",CONCATENATE(B549,\"-dni\")))","v":""},{"$f":"IF(B549=\"\",\"\",IF(Zahteve!H549=\"\",\"\",Zahteve!H549))","v":""}]
[{"$f":"IF(Zahteve!B550=\"\",\"\",Zahteve!B550)","v":"J.7.3"},{"$f":"IF(Zahteve!B550=\"\",\"\",LEFT(Zahteve!B550,1))","v":"J"},{"$f":"IF(B550=\"\",\"\",IF(Zahteve!F550=\"da\",CONCATENATE(B550,\"-DA\"),\"\"))","v":""},{"$f":"IF(B550=\"\",\"\",IF(Zahteve!A550=\"da\",CONCATENATE(B550,\"-ustreza\"),\"\"))","v":""},{"$f":"IF(B550=\"\",\"\",IF(Zahteve!G550=\"\",\"\",CONCATENATE(B550,\"-opis\")))","v":""},{"$f":"IF(B550=\"\",\"\",IF(Zahteve!H550=\"\",\"\",CONCATENATE(B550,\"-dni\")))","v":""},{"$f":"IF(B550=\"\",\"\",IF(Zahteve!H550=\"\",\"\",Zahteve!H550))","v":""}]
[{"$f":"IF(Zahteve!B551=\"\",\"\",Zahteve!B551)","v":"J.7.4"},{"$f":"IF(Zahteve!B551=\"\",\"\",LEFT(Zahteve!B551,1))","v":"J"},{"$f":"IF(B551=\"\",\"\",IF(Zahteve!F551=\"da\",CONCATENATE(B551,\"-DA\"),\"\"))","v":""},{"$f":"IF(B551=\"\",\"\",IF(Zahteve!A551=\"da\",CONCATENATE(B551,\"-ustreza\"),\"\"))","v":""},{"$f":"IF(B551=\"\",\"\",IF(Zahteve!G551=\"\",\"\",CONCATENATE(B551,\"-opis\")))","v":""},{"$f":"IF(B551=\"\",\"\",IF(Zahteve!H551=\"\",\"\",CONCATENATE(B551,\"-dni\")))","v":""},{"$f":"IF(B551=\"\",\"\",IF(Zahteve!H551=\"\",\"\",Zahteve!H551))","v":""}]
[{"$f":"IF(Zahteve!B552=\"\",\"\",Zahteve!B552)","v":"J.8.1"},{"$f":"IF(Zahteve!B552=\"\",\"\",LEFT(Zahteve!B552,1))","v":"J"},{"$f":"IF(B552=\"\",\"\",IF(Zahteve!F552=\"da\",CONCATENATE(B552,\"-DA\"),\"\"))","v":""},{"$f":"IF(B552=\"\",\"\",IF(Zahteve!A552=\"da\",CONCATENATE(B552,\"-ustreza\"),\"\"))","v":""},{"$f":"IF(B552=\"\",\"\",IF(Zahteve!G552=\"\",\"\",CONCATENATE(B552,\"-opis\")))","v":""},{"$f":"IF(B552=\"\",\"\",IF(Zahteve!H552=\"\",\"\",CONCATENATE(B552,\"-dni\")))","v":""},{"$f":"IF(B552=\"\",\"\",IF(Zahteve!H552=\"\",\"\",Zahteve!H552))","v":""}]
[{"$f":"IF(Zahteve!B553=\"\",\"\",Zahteve!B553)","v":"J.8.2"},{"$f":"IF(Zahteve!B553=\"\",\"\",LEFT(Zahteve!B553,1))","v":"J"},{"$f":"IF(B553=\"\",\"\",IF(Zahteve!F553=\"da\",CONCATENATE(B553,\"-DA\"),\"\"))","v":""},{"$f":"IF(B553=\"\",\"\",IF(Zahteve!A553=\"da\",CONCATENATE(B553,\"-ustreza\"),\"\"))","v":""},{"$f":"IF(B553=\"\",\"\",IF(Zahteve!G553=\"\",\"\",CONCATENATE(B553,\"-opis\")))","v":""},{"$f":"IF(B553=\"\",\"\",IF(Zahteve!H553=\"\",\"\",CONCATENATE(B553,\"-dni\")))","v":""},{"$f":"IF(B553=\"\",\"\",IF(Zahteve!H553=\"\",\"\",Zahteve!H553))","v":""}]
[{"$f":"IF(Zahteve!B554=\"\",\"\",Zahteve!B554)","v":"J.8.3"},{"$f":"IF(Zahteve!B554=\"\",\"\",LEFT(Zahteve!B554,1))","v":"J"},{"$f":"IF(B554=\"\",\"\",IF(Zahteve!F554=\"da\",CONCATENATE(B554,\"-DA\"),\"\"))","v":""},{"$f":"IF(B554=\"\",\"\",IF(Zahteve!A554=\"da\",CONCATENATE(B554,\"-ustreza\"),\"\"))","v":""},{"$f":"IF(B554=\"\",\"\",IF(Zahteve!G554=\"\",\"\",CONCATENATE(B554,\"-opis\")))","v":""},{"$f":"IF(B554=\"\",\"\",IF(Zahteve!H554=\"\",\"\",CONCATENATE(B554,\"-dni\")))","v":""},{"$f":"IF(B554=\"\",\"\",IF(Zahteve!H554=\"\",\"\",Zahteve!H554))","v":""}]
[{"$f":"IF(Zahteve!B555=\"\",\"\",Zahteve!B555)","v":"J.8.4"},{"$f":"IF(Zahteve!B555=\"\",\"\",LEFT(Zahteve!B555,1))","v":"J"},{"$f":"IF(B555=\"\",\"\",IF(Zahteve!F555=\"da\",CONCATENATE(B555,\"-DA\"),\"\"))","v":""},{"$f":"IF(B555=\"\",\"\",IF(Zahteve!A555=\"da\",CONCATENATE(B555,\"-ustreza\"),\"\"))","v":""},{"$f":"IF(B555=\"\",\"\",IF(Zahteve!G555=\"\",\"\",CONCATENATE(B555,\"-opis\")))","v":""},{"$f":"IF(B555=\"\",\"\",IF(Zahteve!H555=\"\",\"\",CONCATENATE(B555,\"-dni\")))","v":""},{"$f":"IF(B555=\"\",\"\",IF(Zahteve!H555=\"\",\"\",Zahteve!H555))","v":""}]
[{"$f":"IF(Zahteve!B556=\"\",\"\",Zahteve!B556)","v":"J.9.1"},{"$f":"IF(Zahteve!B556=\"\",\"\",LEFT(Zahteve!B556,1))","v":"J"},{"$f":"IF(B556=\"\",\"\",IF(Zahteve!F556=\"da\",CONCATENATE(B556,\"-DA\"),\"\"))","v":""},{"$f":"IF(B556=\"\",\"\",IF(Zahteve!A556=\"da\",CONCATENATE(B556,\"-ustreza\"),\"\"))","v":""},{"$f":"IF(B556=\"\",\"\",IF(Zahteve!G556=\"\",\"\",CONCATENATE(B556,\"-opis\")))","v":""},{"$f":"IF(B556=\"\",\"\",IF(Zahteve!H556=\"\",\"\",CONCATENATE(B556,\"-dni\")))","v":""},{"$f":"IF(B556=\"\",\"\",IF(Zahteve!H556=\"\",\"\",Zahteve!H556))","v":""}]
[{"$f":"IF(Zahteve!B557=\"\",\"\",Zahteve!B557)","v":"J.10.1"},{"$f":"IF(Zahteve!B557=\"\",\"\",LEFT(Zahteve!B557,1))","v":"J"},{"$f":"IF(B557=\"\",\"\",IF(Zahteve!F557=\"da\",CONCATENATE(B557,\"-DA\"),\"\"))","v":""},{"$f":"IF(B557=\"\",\"\",IF(Zahteve!A557=\"da\",CONCATENATE(B557,\"-ustreza\"),\"\"))","v":""},{"$f":"IF(B557=\"\",\"\",IF(Zahteve!G557=\"\",\"\",CONCATENATE(B557,\"-opis\")))","v":""},{"$f":"IF(B557=\"\",\"\",IF(Zahteve!H557=\"\",\"\",CONCATENATE(B557,\"-dni\")))","v":""},{"$f":"IF(B557=\"\",\"\",IF(Zahteve!H557=\"\",\"\",Zahteve!H557))","v":""}]
[{"$f":"IF(Zahteve!B558=\"\",\"\",Zahteve!B558)","v":""},{"$f":"IF(Zahteve!B558=\"\",\"\",LEFT(Zahteve!B558,1))","v":""},{"$f":"IF(B558=\"\",\"\",IF(Zahteve!F558=\"da\",CONCATENATE(B558,\"-DA\"),\"\"))","v":""},{"$f":"IF(B558=\"\",\"\",IF(Zahteve!A558=\"da\",CONCATENATE(B558,\"-ustreza\"),\"\"))","v":""},{"$f":"IF(B558=\"\",\"\",IF(Zahteve!G558=\"\",\"\",CONCATENATE(B558,\"-opis\")))","v":""},{"$f":"IF(B558=\"\",\"\",IF(Zahteve!H558=\"\",\"\",CONCATENATE(B558,\"-dni\")))","v":""},{"$f":"IF(B558=\"\",\"\",IF(Zahteve!H558=\"\",\"\",Zahteve!H558))","v":""}]
[{"$f":"IF(Zahteve!B559=\"\",\"\",Zahteve!B559)","v":"J.11.1"},{"$f":"IF(Zahteve!B559=\"\",\"\",LEFT(Zahteve!B559,1))","v":"J"},{"$f":"IF(B559=\"\",\"\",IF(Zahteve!F559=\"da\",CONCATENATE(B559,\"-DA\"),\"\"))","v":""},{"$f":"IF(B559=\"\",\"\",IF(Zahteve!A559=\"da\",CONCATENATE(B559,\"-ustreza\"),\"\"))","v":""},{"$f":"IF(B559=\"\",\"\",IF(Zahteve!G559=\"\",\"\",CONCATENATE(B559,\"-opis\")))","v":""},{"$f":"IF(B559=\"\",\"\",IF(Zahteve!H559=\"\",\"\",CONCATENATE(B559,\"-dni\")))","v":""},{"$f":"IF(B559=\"\",\"\",IF(Zahteve!H559=\"\",\"\",Zahteve!H559))","v":""}]
[{"$f":"IF(Zahteve!B560=\"\",\"\",Zahteve!B560)","v":"J.11.2"},{"$f":"IF(Zahteve!B560=\"\",\"\",LEFT(Zahteve!B560,1))","v":"J"},{"$f":"IF(B560=\"\",\"\",IF(Zahteve!F560=\"da\",CONCATENATE(B560,\"-DA\"),\"\"))","v":""},{"$f":"IF(B560=\"\",\"\",IF(Zahteve!A560=\"da\",CONCATENATE(B560,\"-ustreza\"),\"\"))","v":""},{"$f":"IF(B560=\"\",\"\",IF(Zahteve!G560=\"\",\"\",CONCATENATE(B560,\"-opis\")))","v":""},{"$f":"IF(B560=\"\",\"\",IF(Zahteve!H560=\"\",\"\",CONCATENATE(B560,\"-dni\")))","v":""},{"$f":"IF(B560=\"\",\"\",IF(Zahteve!H560=\"\",\"\",Zahteve!H560))","v":""}]
[{"$f":"IF(Zahteve!B561=\"\",\"\",Zahteve!B561)","v":"J.11.3"},{"$f":"IF(Zahteve!B561=\"\",\"\",LEFT(Zahteve!B561,1))","v":"J"},{"$f":"IF(B561=\"\",\"\",IF(Zahteve!F561=\"da\",CONCATENATE(B561,\"-DA\"),\"\"))","v":""},{"$f":"IF(B561=\"\",\"\",IF(Zahteve!A561=\"da\",CONCATENATE(B561,\"-ustreza\"),\"\"))","v":""},{"$f":"IF(B561=\"\",\"\",IF(Zahteve!G561=\"\",\"\",CONCATENATE(B561,\"-opis\")))","v":""},{"$f":"IF(B561=\"\",\"\",IF(Zahteve!H561=\"\",\"\",CONCATENATE(B561,\"-dni\")))","v":""},{"$f":"IF(B561=\"\",\"\",IF(Zahteve!H561=\"\",\"\",Zahteve!H561))","v":""}]
[{"$f":"IF(Zahteve!B562=\"\",\"\",Zahteve!B562)","v":""},{"$f":"IF(Zahteve!B562=\"\",\"\",LEFT(Zahteve!B562,1))","v":""},{"$f":"IF(B562=\"\",\"\",IF(Zahteve!F562=\"da\",CONCATENATE(B562,\"-DA\"),\"\"))","v":""},{"$f":"IF(B562=\"\",\"\",IF(Zahteve!A562=\"da\",CONCATENATE(B562,\"-ustreza\"),\"\"))","v":""},{"$f":"IF(B562=\"\",\"\",IF(Zahteve!G562=\"\",\"\",CONCATENATE(B562,\"-opis\")))","v":""},{"$f":"IF(B562=\"\",\"\",IF(Zahteve!H562=\"\",\"\",CONCATENATE(B562,\"-dni\")))","v":""},{"$f":"IF(B562=\"\",\"\",IF(Zahteve!H562=\"\",\"\",Zahteve!H562))","v":""}]
[{"$f":"IF(Zahteve!B563=\"\",\"\",Zahteve!B563)","v":""},{"$f":"IF(Zahteve!B563=\"\",\"\",LEFT(Zahteve!B563,1))","v":""},{"$f":"IF(B563=\"\",\"\",IF(Zahteve!F563=\"da\",CONCATENATE(B563,\"-DA\"),\"\"))","v":""},{"$f":"IF(B563=\"\",\"\",IF(Zahteve!A563=\"da\",CONCATENATE(B563,\"-ustreza\"),\"\"))","v":""},{"$f":"IF(B563=\"\",\"\",IF(Zahteve!G563=\"\",\"\",CONCATENATE(B563,\"-opis\")))","v":""},{"$f":"IF(B563=\"\",\"\",IF(Zahteve!H563=\"\",\"\",CONCATENATE(B563,\"-dni\")))","v":""},{"$f":"IF(B563=\"\",\"\",IF(Zahteve!H563=\"\",\"\",Zahteve!H563))","v":""}]
[{"$f":"IF(Zahteve!B564=\"\",\"\",Zahteve!B564)","v":"K.1.1"},{"$f":"IF(Zahteve!B564=\"\",\"\",LEFT(Zahteve!B564,1))","v":"K"},{"$f":"IF(B564=\"\",\"\",IF(Zahteve!F564=\"da\",CONCATENATE(B564,\"-DA\"),\"\"))","v":""},{"$f":"IF(B564=\"\",\"\",IF(Zahteve!A564=\"da\",CONCATENATE(B564,\"-ustreza\"),\"\"))","v":""},{"$f":"IF(B564=\"\",\"\",IF(Zahteve!G564=\"\",\"\",CONCATENATE(B564,\"-opis\")))","v":"K-opis"},{"$f":"IF(B564=\"\",\"\",IF(Zahteve!H564=\"\",\"\",CONCATENATE(B564,\"-dni\")))","v":"K-dni"},{"$f":"IF(B564=\"\",\"\",IF(Zahteve!H564=\"\",\"\",Zahteve!H564))","v":"se ne vpisuje"}]
[{"$f":"IF(Zahteve!B565=\"\",\"\",Zahteve!B565)","v":"K.2.1"},{"$f":"IF(Zahteve!B565=\"\",\"\",LEFT(Zahteve!B565,1))","v":"K"},{"$f":"IF(B565=\"\",\"\",IF(Zahteve!F565=\"da\",CONCATENATE(B565,\"-DA\"),\"\"))","v":""},{"$f":"IF(B565=\"\",\"\",IF(Zahteve!A565=\"da\",CONCATENATE(B565,\"-ustreza\"),\"\"))","v":""},{"$f":"IF(B565=\"\",\"\",IF(Zahteve!G565=\"\",\"\",CONCATENATE(B565,\"-opis\")))","v":"K-opis"},{"$f":"IF(B565=\"\",\"\",IF(Zahteve!H565=\"\",\"\",CONCATENATE(B565,\"-dni\")))","v":"K-dni"},{"$f":"IF(B565=\"\",\"\",IF(Zahteve!H565=\"\",\"\",Zahteve!H565))","v":"se ne vpisuje"}]
[{"$f":"IF(Zahteve!B566=\"\",\"\",Zahteve!B566)","v":"K.2.2"},{"$f":"IF(Zahteve!B566=\"\",\"\",LEFT(Zahteve!B566,1))","v":"K"},{"$f":"IF(B566=\"\",\"\",IF(Zahteve!F566=\"da\",CONCATENATE(B566,\"-DA\"),\"\"))","v":""},{"$f":"IF(B566=\"\",\"\",IF(Zahteve!A566=\"da\",CONCATENATE(B566,\"-ustreza\"),\"\"))","v":""},{"$f":"IF(B566=\"\",\"\",IF(Zahteve!G566=\"\",\"\",CONCATENATE(B566,\"-opis\")))","v":"K-opis"},{"$f":"IF(B566=\"\",\"\",IF(Zahteve!H566=\"\",\"\",CONCATENATE(B566,\"-dni\")))","v":"K-dni"},{"$f":"IF(B566=\"\",\"\",IF(Zahteve!H566=\"\",\"\",Zahteve!H566))","v":"se ne vpisuje"}]
[{"$f":"IF(Zahteve!B567=\"\",\"\",Zahteve!B567)","v":"K.2.3"},{"$f":"IF(Zahteve!B567=\"\",\"\",LEFT(Zahteve!B567,1))","v":"K"},{"$f":"IF(B567=\"\",\"\",IF(Zahteve!F567=\"da\",CONCATENATE(B567,\"-DA\"),\"\"))","v":""},{"$f":"IF(B567=\"\",\"\",IF(Zahteve!A567=\"da\",CONCATENATE(B567,\"-ustreza\"),\"\"))","v":""},{"$f":"IF(B567=\"\",\"\",IF(Zahteve!G567=\"\",\"\",CONCATENATE(B567,\"-opis\")))","v":"K-opis"},{"$f":"IF(B567=\"\",\"\",IF(Zahteve!H567=\"\",\"\",CONCATENATE(B567,\"-dni\")))","v":"K-dni"},{"$f":"IF(B567=\"\",\"\",IF(Zahteve!H567=\"\",\"\",Zahteve!H567))","v":"se ne vpisuje"}]
[{"$f":"IF(Zahteve!B568=\"\",\"\",Zahteve!B568)","v":"K.2.4"},{"$f":"IF(Zahteve!B568=\"\",\"\",LEFT(Zahteve!B568,1))","v":"K"},{"$f":"IF(B568=\"\",\"\",IF(Zahteve!F568=\"da\",CONCATENATE(B568,\"-DA\"),\"\"))","v":""},{"$f":"IF(B568=\"\",\"\",IF(Zahteve!A568=\"da\",CONCATENATE(B568,\"-ustreza\"),\"\"))","v":""},{"$f":"IF(B568=\"\",\"\",IF(Zahteve!G568=\"\",\"\",CONCATENATE(B568,\"-opis\")))","v":"K-opis"},{"$f":"IF(B568=\"\",\"\",IF(Zahteve!H568=\"\",\"\",CONCATENATE(B568,\"-dni\")))","v":"K-dni"},{"$f":"IF(B568=\"\",\"\",IF(Zahteve!H568=\"\",\"\",Zahteve!H568))","v":"se ne vpisuje"}]
[{"$f":"IF(Zahteve!B569=\"\",\"\",Zahteve!B569)","v":"K.2.5"},{"$f":"IF(Zahteve!B569=\"\",\"\",LEFT(Zahteve!B569,1))","v":"K"},{"$f":"IF(B569=\"\",\"\",IF(Zahteve!F569=\"da\",CONCATENATE(B569,\"-DA\"),\"\"))","v":""},{"$f":"IF(B569=\"\",\"\",IF(Zahteve!A569=\"da\",CONCATENATE(B569,\"-ustreza\"),\"\"))","v":""},{"$f":"IF(B569=\"\",\"\",IF(Zahteve!G569=\"\",\"\",CONCATENATE(B569,\"-opis\")))","v":"K-opis"},{"$f":"IF(B569=\"\",\"\",IF(Zahteve!H569=\"\",\"\",CONCATENATE(B569,\"-dni\")))","v":"K-dni"},{"$f":"IF(B569=\"\",\"\",IF(Zahteve!H569=\"\",\"\",Zahteve!H569))","v":"se ne vpisuje"}]
[{"$f":"IF(Zahteve!B570=\"\",\"\",Zahteve!B570)","v":"K.3.1"},{"$f":"IF(Zahteve!B570=\"\",\"\",LEFT(Zahteve!B570,1))","v":"K"},{"$f":"IF(B570=\"\",\"\",IF(Zahteve!F570=\"da\",CONCATENATE(B570,\"-DA\"),\"\"))","v":""},{"$f":"IF(B570=\"\",\"\",IF(Zahteve!A570=\"da\",CONCATENATE(B570,\"-ustreza\"),\"\"))","v":""},{"$f":"IF(B570=\"\",\"\",IF(Zahteve!G570=\"\",\"\",CONCATENATE(B570,\"-opis\")))","v":"K-opis"},{"$f":"IF(B570=\"\",\"\",IF(Zahteve!H570=\"\",\"\",CONCATENATE(B570,\"-dni\")))","v":"K-dni"},{"$f":"IF(B570=\"\",\"\",IF(Zahteve!H570=\"\",\"\",Zahteve!H570))","v":"se ne vpisuje"}]
[{"$f":"IF(Zahteve!B571=\"\",\"\",Zahteve!B571)","v":""},{"$f":"IF(Zahteve!B571=\"\",\"\",LEFT(Zahteve!B571,1))","v":""},{"$f":"IF(B571=\"\",\"\",IF(Zahteve!F571=\"da\",CONCATENATE(B571,\"-DA\"),\"\"))","v":""},{"$f":"IF(B571=\"\",\"\",IF(Zahteve!A571=\"da\",CONCATENATE(B571,\"-ustreza\"),\"\"))","v":""},{"$f":"IF(B571=\"\",\"\",IF(Zahteve!G571=\"\",\"\",CONCATENATE(B571,\"-opis\")))","v":""},{"$f":"IF(B571=\"\",\"\",IF(Zahteve!H571=\"\",\"\",CONCATENATE(B571,\"-dni\")))","v":""},{"$f":"IF(B571=\"\",\"\",IF(Zahteve!H571=\"\",\"\",Zahteve!H571))","v":""}]
[{"$f":"IF(Zahteve!B572=\"\",\"\",Zahteve!B572)","v":""},{"$f":"IF(Zahteve!B572=\"\",\"\",LEFT(Zahteve!B572,1))","v":""},{"$f":"IF(B572=\"\",\"\",IF(Zahteve!F572=\"da\",CONCATENATE(B572,\"-DA\"),\"\"))","v":""},{"$f":"IF(B572=\"\",\"\",IF(Zahteve!A572=\"da\",CONCATENATE(B572,\"-ustreza\"),\"\"))","v":""},{"$f":"IF(B572=\"\",\"\",IF(Zahteve!G572=\"\",\"\",CONCATENATE(B572,\"-opis\")))","v":""},{"$f":"IF(B572=\"\",\"\",IF(Zahteve!H572=\"\",\"\",CONCATENATE(B572,\"-dni\")))","v":""},{"$f":"IF(B572=\"\",\"\",IF(Zahteve!H572=\"\",\"\",Zahteve!H572))","v":""}]
[{"$f":"IF(Zahteve!B573=\"\",\"\",Zahteve!B573)","v":"L.1.1"},{"$f":"IF(Zahteve!B573=\"\",\"\",LEFT(Zahteve!B573,1))","v":"L"},{"$f":"IF(B573=\"\",\"\",IF(Zahteve!F573=\"da\",CONCATENATE(B573,\"-DA\"),\"\"))","v":""},{"$f":"IF(B573=\"\",\"\",IF(Zahteve!A573=\"da\",CONCATENATE(B573,\"-ustreza\"),\"\"))","v":""},{"$f":"IF(B573=\"\",\"\",IF(Zahteve!G573=\"\",\"\",CONCATENATE(B573,\"-opis\")))","v":""},{"$f":"IF(B573=\"\",\"\",IF(Zahteve!H573=\"\",\"\",CONCATENATE(B573,\"-dni\")))","v":""},{"$f":"IF(B573=\"\",\"\",IF(Zahteve!H573=\"\",\"\",Zahteve!H573))","v":""}]
[{"$f":"IF(Zahteve!B574=\"\",\"\",Zahteve!B574)","v":"L.1.2"},{"$f":"IF(Zahteve!B574=\"\",\"\",LEFT(Zahteve!B574,1))","v":"L"},{"$f":"IF(B574=\"\",\"\",IF(Zahteve!F574=\"da\",CONCATENATE(B574,\"-DA\"),\"\"))","v":""},{"$f":"IF(B574=\"\",\"\",IF(Zahteve!A574=\"da\",CONCATENATE(B574,\"-ustreza\"),\"\"))","v":""},{"$f":"IF(B574=\"\",\"\",IF(Zahteve!G574=\"\",\"\",CONCATENATE(B574,\"-opis\")))","v":""},{"$f":"IF(B574=\"\",\"\",IF(Zahteve!H574=\"\",\"\",CONCATENATE(B574,\"-dni\")))","v":""},{"$f":"IF(B574=\"\",\"\",IF(Zahteve!H574=\"\",\"\",Zahteve!H574))","v":""}]
[{"$f":"IF(Zahteve!B575=\"\",\"\",Zahteve!B575)","v":"L.1.3"},{"$f":"IF(Zahteve!B575=\"\",\"\",LEFT(Zahteve!B575,1))","v":"L"},{"$f":"IF(B575=\"\",\"\",IF(Zahteve!F575=\"da\",CONCATENATE(B575,\"-DA\"),\"\"))","v":""},{"$f":"IF(B575=\"\",\"\",IF(Zahteve!A575=\"da\",CONCATENATE(B575,\"-ustreza\"),\"\"))","v":""},{"$f":"IF(B575=\"\",\"\",IF(Zahteve!G575=\"\",\"\",CONCATENATE(B575,\"-opis\")))","v":""},{"$f":"IF(B575=\"\",\"\",IF(Zahteve!H575=\"\",\"\",CONCATENATE(B575,\"-dni\")))","v":""},{"$f":"IF(B575=\"\",\"\",IF(Zahteve!H575=\"\",\"\",Zahteve!H575))","v":""}]
[{"$f":"IF(Zahteve!B576=\"\",\"\",Zahteve!B576)","v":"L.1.4"},{"$f":"IF(Zahteve!B576=\"\",\"\",LEFT(Zahteve!B576,1))","v":"L"},{"$f":"IF(B576=\"\",\"\",IF(Zahteve!F576=\"da\",CONCATENATE(B576,\"-DA\"),\"\"))","v":""},{"$f":"IF(B576=\"\",\"\",IF(Zahteve!A576=\"da\",CONCATENATE(B576,\"-ustreza\"),\"\"))","v":""},{"$f":"IF(B576=\"\",\"\",IF(Zahteve!G576=\"\",\"\",CONCATENATE(B576,\"-opis\")))","v":""},{"$f":"IF(B576=\"\",\"\",IF(Zahteve!H576=\"\",\"\",CONCATENATE(B576,\"-dni\")))","v":""},{"$f":"IF(B576=\"\",\"\",IF(Zahteve!H576=\"\",\"\",Zahteve!H576))","v":""}]
[{"$f":"IF(Zahteve!B577=\"\",\"\",Zahteve!B577)","v":"L.2.1"},{"$f":"IF(Zahteve!B577=\"\",\"\",LEFT(Zahteve!B577,1))","v":"L"},{"$f":"IF(B577=\"\",\"\",IF(Zahteve!F577=\"da\",CONCATENATE(B577,\"-DA\"),\"\"))","v":""},{"$f":"IF(B577=\"\",\"\",IF(Zahteve!A577=\"da\",CONCATENATE(B577,\"-ustreza\"),\"\"))","v":""},{"$f":"IF(B577=\"\",\"\",IF(Zahteve!G577=\"\",\"\",CONCATENATE(B577,\"-opis\")))","v":""},{"$f":"IF(B577=\"\",\"\",IF(Zahteve!H577=\"\",\"\",CONCATENATE(B577,\"-dni\")))","v":""},{"$f":"IF(B577=\"\",\"\",IF(Zahteve!H577=\"\",\"\",Zahteve!H577))","v":""}]
[{"$f":"IF(Zahteve!B578=\"\",\"\",Zahteve!B578)","v":""},{"$f":"IF(Zahteve!B578=\"\",\"\",LEFT(Zahteve!B578,1))","v":""},{"$f":"IF(B578=\"\",\"\",IF(Zahteve!F578=\"da\",CONCATENATE(B578,\"-DA\"),\"\"))","v":""},{"$f":"IF(B578=\"\",\"\",IF(Zahteve!A578=\"da\",CONCATENATE(B578,\"-ustreza\"),\"\"))","v":""},{"$f":"IF(B578=\"\",\"\",IF(Zahteve!G578=\"\",\"\",CONCATENATE(B578,\"-opis\")))","v":""},{"$f":"IF(B578=\"\",\"\",IF(Zahteve!H578=\"\",\"\",CONCATENATE(B578,\"-dni\")))","v":""},{"$f":"IF(B578=\"\",\"\",IF(Zahteve!H578=\"\",\"\",Zahteve!H578))","v":""}]
[{"$f":"IF(Zahteve!B579=\"\",\"\",Zahteve!B579)","v":""},{"$f":"IF(Zahteve!B579=\"\",\"\",LEFT(Zahteve!B579,1))","v":""},{"$f":"IF(B579=\"\",\"\",IF(Zahteve!F579=\"da\",CONCATENATE(B579,\"-DA\"),\"\"))","v":""},{"$f":"IF(B579=\"\",\"\",IF(Zahteve!A579=\"da\",CONCATENATE(B579,\"-ustreza\"),\"\"))","v":""},{"$f":"IF(B579=\"\",\"\",IF(Zahteve!G579=\"\",\"\",CONCATENATE(B579,\"-opis\")))","v":""},{"$f":"IF(B579=\"\",\"\",IF(Zahteve!H579=\"\",\"\",CONCATENATE(B579,\"-dni\")))","v":""},{"$f":"IF(B579=\"\",\"\",IF(Zahteve!H579=\"\",\"\",Zahteve!H579))","v":""}]
[{"$f":"IF(Zahteve!B580=\"\",\"\",Zahteve!B580)","v":"M.1.1"},{"$f":"IF(Zahteve!B580=\"\",\"\",LEFT(Zahteve!B580,1))","v":"M"},{"$f":"IF(B580=\"\",\"\",IF(Zahteve!F580=\"da\",CONCATENATE(B580,\"-DA\"),\"\"))","v":""},{"$f":"IF(B580=\"\",\"\",IF(Zahteve!A580=\"da\",CONCATENATE(B580,\"-ustreza\"),\"\"))","v":""},{"$f":"IF(B580=\"\",\"\",IF(Zahteve!G580=\"\",\"\",CONCATENATE(B580,\"-opis\")))","v":"M-opis"},{"$f":"IF(B580=\"\",\"\",IF(Zahteve!H580=\"\",\"\",CONCATENATE(B580,\"-dni\")))","v":"M-dni"},{"$f":"IF(B580=\"\",\"\",IF(Zahteve!H580=\"\",\"\",Zahteve!H580))","v":"se ne vpisuje"}]
[{"$f":"IF(Zahteve!B581=\"\",\"\",Zahteve!B581)","v":"M.2.1"},{"$f":"IF(Zahteve!B581=\"\",\"\",LEFT(Zahteve!B581,1))","v":"M"},{"$f":"IF(B581=\"\",\"\",IF(Zahteve!F581=\"da\",CONCATENATE(B581,\"-DA\"),\"\"))","v":""},{"$f":"IF(B581=\"\",\"\",IF(Zahteve!A581=\"da\",CONCATENATE(B581,\"-ustreza\"),\"\"))","v":""},{"$f":"IF(B581=\"\",\"\",IF(Zahteve!G581=\"\",\"\",CONCATENATE(B581,\"-opis\")))","v":"M-opis"},{"$f":"IF(B581=\"\",\"\",IF(Zahteve!H581=\"\",\"\",CONCATENATE(B581,\"-dni\")))","v":"M-dni"},{"$f":"IF(B581=\"\",\"\",IF(Zahteve!H581=\"\",\"\",Zahteve!H581))","v":"se ne vpisuje"}]
[{"$f":"IF(Zahteve!B582=\"\",\"\",Zahteve!B582)","v":"M.3.1"},{"$f":"IF(Zahteve!B582=\"\",\"\",LEFT(Zahteve!B582,1))","v":"M"},{"$f":"IF(B582=\"\",\"\",IF(Zahteve!F582=\"da\",CONCATENATE(B582,\"-DA\"),\"\"))","v":""},{"$f":"IF(B582=\"\",\"\",IF(Zahteve!A582=\"da\",CONCATENATE(B582,\"-ustreza\"),\"\"))","v":""},{"$f":"IF(B582=\"\",\"\",IF(Zahteve!G582=\"\",\"\",CONCATENATE(B582,\"-opis\")))","v":"M-opis"},{"$f":"IF(B582=\"\",\"\",IF(Zahteve!H582=\"\",\"\",CONCATENATE(B582,\"-dni\")))","v":"M-dni"},{"$f":"IF(B582=\"\",\"\",IF(Zahteve!H582=\"\",\"\",Zahteve!H582))","v":"se ne vpisuje"}]
[{"$f":"IF(Zahteve!B583=\"\",\"\",Zahteve!B583)","v":""},{"$f":"IF(Zahteve!B583=\"\",\"\",LEFT(Zahteve!B583,1))","v":""},{"$f":"IF(B583=\"\",\"\",IF(Zahteve!F583=\"da\",CONCATENATE(B583,\"-DA\"),\"\"))","v":""},{"$f":"IF(B583=\"\",\"\",IF(Zahteve!A583=\"da\",CONCATENATE(B583,\"-ustreza\"),\"\"))","v":""},{"$f":"IF(B583=\"\",\"\",IF(Zahteve!G583=\"\",\"\",CONCATENATE(B583,\"-opis\")))","v":""},{"$f":"IF(B583=\"\",\"\",IF(Zahteve!H583=\"\",\"\",CONCATENATE(B583,\"-dni\")))","v":""},{"$f":"IF(B583=\"\",\"\",IF(Zahteve!H583=\"\",\"\",Zahteve!H583))","v":""}]
[{"$f":"IF(Zahteve!B584=\"\",\"\",Zahteve!B584)","v":"M.4.1"},{"$f":"IF(Zahteve!B584=\"\",\"\",LEFT(Zahteve!B584,1))","v":"M"},{"$f":"IF(B584=\"\",\"\",IF(Zahteve!F584=\"da\",CONCATENATE(B584,\"-DA\"),\"\"))","v":""},{"$f":"IF(B584=\"\",\"\",IF(Zahteve!A584=\"da\",CONCATENATE(B584,\"-ustreza\"),\"\"))","v":""},{"$f":"IF(B584=\"\",\"\",IF(Zahteve!G584=\"\",\"\",CONCATENATE(B584,\"-opis\")))","v":"M-opis"},{"$f":"IF(B584=\"\",\"\",IF(Zahteve!H584=\"\",\"\",CONCATENATE(B584,\"-dni\")))","v":"M-dni"},{"$f":"IF(B584=\"\",\"\",IF(Zahteve!H584=\"\",\"\",Zahteve!H584))","v":"se ne vpisuje"}]
[{"$f":"IF(Zahteve!B585=\"\",\"\",Zahteve!B585)","v":"M.4.2"},{"$f":"IF(Zahteve!B585=\"\",\"\",LEFT(Zahteve!B585,1))","v":"M"},{"$f":"IF(B585=\"\",\"\",IF(Zahteve!F585=\"da\",CONCATENATE(B585,\"-DA\"),\"\"))","v":""},{"$f":"IF(B585=\"\",\"\",IF(Zahteve!A585=\"da\",CONCATENATE(B585,\"-ustreza\"),\"\"))","v":""},{"$f":"IF(B585=\"\",\"\",IF(Zahteve!G585=\"\",\"\",CONCATENATE(B585,\"-opis\")))","v":"M-opis"},{"$f":"IF(B585=\"\",\"\",IF(Zahteve!H585=\"\",\"\",CONCATENATE(B585,\"-dni\")))","v":"M-dni"},{"$f":"IF(B585=\"\",\"\",IF(Zahteve!H585=\"\",\"\",Zahteve!H585))","v":"se ne vpisuje"}]
[{"$f":"IF(Zahteve!B586=\"\",\"\",Zahteve!B586)","v":""},{"$f":"IF(Zahteve!B586=\"\",\"\",LEFT(Zahteve!B586,1))","v":""},{"$f":"IF(B586=\"\",\"\",IF(Zahteve!F586=\"da\",CONCATENATE(B586,\"-DA\"),\"\"))","v":""},{"$f":"IF(B586=\"\",\"\",IF(Zahteve!A586=\"da\",CONCATENATE(B586,\"-ustreza\"),\"\"))","v":""},{"$f":"IF(B586=\"\",\"\",IF(Zahteve!G586=\"\",\"\",CONCATENATE(B586,\"-opis\")))","v":""},{"$f":"IF(B586=\"\",\"\",IF(Zahteve!H586=\"\",\"\",CONCATENATE(B586,\"-dni\")))","v":""},{"$f":"IF(B586=\"\",\"\",IF(Zahteve!H586=\"\",\"\",Zahteve!H586))","v":""}]
[{"$f":"IF(Zahteve!B587=\"\",\"\",Zahteve!B587)","v":"M.5.1"},{"$f":"IF(Zahteve!B587=\"\",\"\",LEFT(Zahteve!B587,1))","v":"M"},{"$f":"IF(B587=\"\",\"\",IF(Zahteve!F587=\"da\",CONCATENATE(B587,\"-DA\"),\"\"))","v":""},{"$f":"IF(B587=\"\",\"\",IF(Zahteve!A587=\"da\",CONCATENATE(B587,\"-ustreza\"),\"\"))","v":""},{"$f":"IF(B587=\"\",\"\",IF(Zahteve!G587=\"\",\"\",CONCATENATE(B587,\"-opis\")))","v":"M-opis"},{"$f":"IF(B587=\"\",\"\",IF(Zahteve!H587=\"\",\"\",CONCATENATE(B587,\"-dni\")))","v":"M-dni"},{"$f":"IF(B587=\"\",\"\",IF(Zahteve!H587=\"\",\"\",Zahteve!H587))","v":"se ne vpisuje"}]
[{"$f":"IF(Zahteve!B588=\"\",\"\",Zahteve!B588)","v":""},{"$f":"IF(Zahteve!B588=\"\",\"\",LEFT(Zahteve!B588,1))","v":""},{"$f":"IF(B588=\"\",\"\",IF(Zahteve!F588=\"da\",CONCATENATE(B588,\"-DA\"),\"\"))","v":""},{"$f":"IF(B588=\"\",\"\",IF(Zahteve!A588=\"da\",CONCATENATE(B588,\"-ustreza\"),\"\"))","v":""},{"$f":"IF(B588=\"\",\"\",IF(Zahteve!G588=\"\",\"\",CONCATENATE(B588,\"-opis\")))","v":""},{"$f":"IF(B588=\"\",\"\",IF(Zahteve!H588=\"\",\"\",CONCATENATE(B588,\"-dni\")))","v":""},{"$f":"IF(B588=\"\",\"\",IF(Zahteve!H588=\"\",\"\",Zahteve!H588))","v":""}]
[{"$f":"IF(Zahteve!B589=\"\",\"\",Zahteve!B589)","v":"M.6.1"},{"$f":"IF(Zahteve!B589=\"\",\"\",LEFT(Zahteve!B589,1))","v":"M"},{"$f":"IF(B589=\"\",\"\",IF(Zahteve!F589=\"da\",CONCATENATE(B589,\"-DA\"),\"\"))","v":""},{"$f":"IF(B589=\"\",\"\",IF(Zahteve!A589=\"da\",CONCATENATE(B589,\"-ustreza\"),\"\"))","v":""},{"$f":"IF(B589=\"\",\"\",IF(Zahteve!G589=\"\",\"\",CONCATENATE(B589,\"-opis\")))","v":"M-opis"},{"$f":"IF(B589=\"\",\"\",IF(Zahteve!H589=\"\",\"\",CONCATENATE(B589,\"-dni\")))","v":"M-dni"},{"$f":"IF(B589=\"\",\"\",IF(Zahteve!H589=\"\",\"\",Zahteve!H589))","v":"se ne vpisuje"}]
[{"$f":"IF(Zahteve!B590=\"\",\"\",Zahteve!B590)","v":""},{"$f":"IF(Zahteve!B590=\"\",\"\",LEFT(Zahteve!B590,1))","v":""},{"$f":"IF(B590=\"\",\"\",IF(Zahteve!F590=\"da\",CONCATENATE(B590,\"-DA\"),\"\"))","v":""},{"$f":"IF(B590=\"\",\"\",IF(Zahteve!A590=\"da\",CONCATENATE(B590,\"-ustreza\"),\"\"))","v":""},{"$f":"IF(B590=\"\",\"\",IF(Zahteve!G590=\"\",\"\",CONCATENATE(B590,\"-opis\")))","v":""},{"$f":"IF(B590=\"\",\"\",IF(Zahteve!H590=\"\",\"\",CONCATENATE(B590,\"-dni\")))","v":""},{"$f":"IF(B590=\"\",\"\",IF(Zahteve!H590=\"\",\"\",Zahteve!H590))","v":""}]
[{"$f":"IF(Zahteve!B591=\"\",\"\",Zahteve!B591)","v":"M.7.1"},{"$f":"IF(Zahteve!B591=\"\",\"\",LEFT(Zahteve!B591,1))","v":"M"},{"$f":"IF(B591=\"\",\"\",IF(Zahteve!F591=\"da\",CONCATENATE(B591,\"-DA\"),\"\"))","v":""},{"$f":"IF(B591=\"\",\"\",IF(Zahteve!A591=\"da\",CONCATENATE(B591,\"-ustreza\"),\"\"))","v":""},{"$f":"IF(B591=\"\",\"\",IF(Zahteve!G591=\"\",\"\",CONCATENATE(B591,\"-opis\")))","v":"M-opis"},{"$f":"IF(B591=\"\",\"\",IF(Zahteve!H591=\"\",\"\",CONCATENATE(B591,\"-dni\")))","v":"M-dni"},{"$f":"IF(B591=\"\",\"\",IF(Zahteve!H591=\"\",\"\",Zahteve!H591))","v":"se ne vpisuje"}]
[{"$f":"IF(Zahteve!B592=\"\",\"\",Zahteve!B592)","v":"M.8.1"},{"$f":"IF(Zahteve!B592=\"\",\"\",LEFT(Zahteve!B592,1))","v":"M"},{"$f":"IF(B592=\"\",\"\",IF(Zahteve!F592=\"da\",CONCATENATE(B592,\"-DA\"),\"\"))","v":""},{"$f":"IF(B592=\"\",\"\",IF(Zahteve!A592=\"da\",CONCATENATE(B592,\"-ustreza\"),\"\"))","v":""},{"$f":"IF(B592=\"\",\"\",IF(Zahteve!G592=\"\",\"\",CONCATENATE(B592,\"-opis\")))","v":"M-opis"},{"$f":"IF(B592=\"\",\"\",IF(Zahteve!H592=\"\",\"\",CONCATENATE(B592,\"-dni\")))","v":"M-dni"},{"$f":"IF(B592=\"\",\"\",IF(Zahteve!H592=\"\",\"\",Zahteve!H592))","v":"se ne vpisuje"}]
[{"$f":"IF(Zahteve!B593=\"\",\"\",Zahteve!B593)","v":""},{"$f":"IF(Zahteve!B593=\"\",\"\",LEFT(Zahteve!B593,1))","v":""},{"$f":"IF(B593=\"\",\"\",IF(Zahteve!F593=\"da\",CONCATENATE(B593,\"-DA\"),\"\"))","v":""},{"$f":"IF(B593=\"\",\"\",IF(Zahteve!A593=\"da\",CONCATENATE(B593,\"-ustreza\"),\"\"))","v":""},{"$f":"IF(B593=\"\",\"\",IF(Zahteve!G593=\"\",\"\",CONCATENATE(B593,\"-opis\")))","v":""},{"$f":"IF(B593=\"\",\"\",IF(Zahteve!H593=\"\",\"\",CONCATENATE(B593,\"-dni\")))","v":""},{"$f":"IF(B593=\"\",\"\",IF(Zahteve!H593=\"\",\"\",Zahteve!H593))","v":""}]
[{"$f":"IF(Zahteve!B594=\"\",\"\",Zahteve!B594)","v":"M.9.1"},{"$f":"IF(Zahteve!B594=\"\",\"\",LEFT(Zahteve!B594,1))","v":"M"},{"$f":"IF(B594=\"\",\"\",IF(Zahteve!F594=\"da\",CONCATENATE(B594,\"-DA\"),\"\"))","v":""},{"$f":"IF(B594=\"\",\"\",IF(Zahteve!A594=\"da\",CONCATENATE(B594,\"-ustreza\"),\"\"))","v":""},{"$f":"IF(B594=\"\",\"\",IF(Zahteve!G594=\"\",\"\",CONCATENATE(B594,\"-opis\")))","v":"M-opis"},{"$f":"IF(B594=\"\",\"\",IF(Zahteve!H594=\"\",\"\",CONCATENATE(B594,\"-dni\")))","v":"M-dni"},{"$f":"IF(B594=\"\",\"\",IF(Zahteve!H594=\"\",\"\",Zahteve!H594))","v":"se ne vpisuje"}]
[{"$f":"IF(Zahteve!B595=\"\",\"\",Zahteve!B595)","v":"M.9.2"},{"$f":"IF(Zahteve!B595=\"\",\"\",LEFT(Zahteve!B595,1))","v":"M"},{"$f":"IF(B595=\"\",\"\",IF(Zahteve!F595=\"da\",CONCATENATE(B595,\"-DA\"),\"\"))","v":""},{"$f":"IF(B595=\"\",\"\",IF(Zahteve!A595=\"da\",CONCATENATE(B595,\"-ustreza\"),\"\"))","v":""},{"$f":"IF(B595=\"\",\"\",IF(Zahteve!G595=\"\",\"\",CONCATENATE(B595,\"-opis\")))","v":"M-opis"},{"$f":"IF(B595=\"\",\"\",IF(Zahteve!H595=\"\",\"\",CONCATENATE(B595,\"-dni\")))","v":"M-dni"},{"$f":"IF(B595=\"\",\"\",IF(Zahteve!H595=\"\",\"\",Zahteve!H595))","v":"se ne vpisuje"}]
[{"$f":"IF(Zahteve!B596=\"\",\"\",Zahteve!B596)","v":"M.9.3"},{"$f":"IF(Zahteve!B596=\"\",\"\",LEFT(Zahteve!B596,1))","v":"M"},{"$f":"IF(B596=\"\",\"\",IF(Zahteve!F596=\"da\",CONCATENATE(B596,\"-DA\"),\"\"))","v":""},{"$f":"IF(B596=\"\",\"\",IF(Zahteve!A596=\"da\",CONCATENATE(B596,\"-ustreza\"),\"\"))","v":""},{"$f":"IF(B596=\"\",\"\",IF(Zahteve!G596=\"\",\"\",CONCATENATE(B596,\"-opis\")))","v":"M-opis"},{"$f":"IF(B596=\"\",\"\",IF(Zahteve!H596=\"\",\"\",CONCATENATE(B596,\"-dni\")))","v":"M-dni"},{"$f":"IF(B596=\"\",\"\",IF(Zahteve!H596=\"\",\"\",Zahteve!H596))","v":"se ne vpisuje"}]
[{"$f":"IF(Zahteve!B597=\"\",\"\",Zahteve!B597)","v":""},{"$f":"IF(Zahteve!B597=\"\",\"\",LEFT(Zahteve!B597,1))","v":""},{"$f":"IF(B597=\"\",\"\",IF(Zahteve!F597=\"da\",CONCATENATE(B597,\"-DA\"),\"\"))","v":""},{"$f":"IF(B597=\"\",\"\",IF(Zahteve!A597=\"da\",CONCATENATE(B597,\"-ustreza\"),\"\"))","v":""},{"$f":"IF(B597=\"\",\"\",IF(Zahteve!G597=\"\",\"\",CONCATENATE(B597,\"-opis\")))","v":""},{"$f":"IF(B597=\"\",\"\",IF(Zahteve!H597=\"\",\"\",CONCATENATE(B597,\"-dni\")))","v":""},{"$f":"IF(B597=\"\",\"\",IF(Zahteve!H597=\"\",\"\",Zahteve!H597))","v":""}]
[{"$f":"IF(Zahteve!B598=\"\",\"\",Zahteve!B598)","v":"M.10.1"},{"$f":"IF(Zahteve!B598=\"\",\"\",LEFT(Zahteve!B598,1))","v":"M"},{"$f":"IF(B598=\"\",\"\",IF(Zahteve!F598=\"da\",CONCATENATE(B598,\"-DA\"),\"\"))","v":""},{"$f":"IF(B598=\"\",\"\",IF(Zahteve!A598=\"da\",CONCATENATE(B598,\"-ustreza\"),\"\"))","v":""},{"$f":"IF(B598=\"\",\"\",IF(Zahteve!G598=\"\",\"\",CONCATENATE(B598,\"-opis\")))","v":"M-opis"},{"$f":"IF(B598=\"\",\"\",IF(Zahteve!H598=\"\",\"\",CONCATENATE(B598,\"-dni\")))","v":"M-dni"},{"$f":"IF(B598=\"\",\"\",IF(Zahteve!H598=\"\",\"\",Zahteve!H598))","v":"se ne vpisuje"}]
[{"$f":"IF(Zahteve!B599=\"\",\"\",Zahteve!B599)","v":"M.11.1"},{"$f":"IF(Zahteve!B599=\"\",\"\",LEFT(Zahteve!B599,1))","v":"M"},{"$f":"IF(B599=\"\",\"\",IF(Zahteve!F599=\"da\",CONCATENATE(B599,\"-DA\"),\"\"))","v":""},{"$f":"IF(B599=\"\",\"\",IF(Zahteve!A599=\"da\",CONCATENATE(B599,\"-ustreza\"),\"\"))","v":""},{"$f":"IF(B599=\"\",\"\",IF(Zahteve!G599=\"\",\"\",CONCATENATE(B599,\"-opis\")))","v":"M-opis"},{"$f":"IF(B599=\"\",\"\",IF(Zahteve!H599=\"\",\"\",CONCATENATE(B599,\"-dni\")))","v":"M-dni"},{"$f":"IF(B599=\"\",\"\",IF(Zahteve!H599=\"\",\"\",Zahteve!H599))","v":"se ne vpisuje"}]
[{"$f":"IF(Zahteve!B600=\"\",\"\",Zahteve!B600)","v":""},{"$f":"IF(Zahteve!B600=\"\",\"\",LEFT(Zahteve!B600,1))","v":""},{"$f":"IF(B600=\"\",\"\",IF(Zahteve!F600=\"da\",CONCATENATE(B600,\"-DA\"),\"\"))","v":""},{"$f":"IF(B600=\"\",\"\",IF(Zahteve!A600=\"da\",CONCATENATE(B600,\"-ustreza\"),\"\"))","v":""},{"$f":"IF(B600=\"\",\"\",IF(Zahteve!G600=\"\",\"\",CONCATENATE(B600,\"-opis\")))","v":""},{"$f":"IF(B600=\"\",\"\",IF(Zahteve!H600=\"\",\"\",CONCATENATE(B600,\"-dni\")))","v":""},{"$f":"IF(B600=\"\",\"\",IF(Zahteve!H600=\"\",\"\",Zahteve!H600))","v":""}]
[{"$f":"IF(Zahteve!B601=\"\",\"\",Zahteve!B601)","v":"M.12.1"},{"$f":"IF(Zahteve!B601=\"\",\"\",LEFT(Zahteve!B601,1))","v":"M"},{"$f":"IF(B601=\"\",\"\",IF(Zahteve!F601=\"da\",CONCATENATE(B601,\"-DA\"),\"\"))","v":""},{"$f":"IF(B601=\"\",\"\",IF(Zahteve!A601=\"da\",CONCATENATE(B601,\"-ustreza\"),\"\"))","v":""},{"$f":"IF(B601=\"\",\"\",IF(Zahteve!G601=\"\",\"\",CONCATENATE(B601,\"-opis\")))","v":"M-opis"},{"$f":"IF(B601=\"\",\"\",IF(Zahteve!H601=\"\",\"\",CONCATENATE(B601,\"-dni\")))","v":"M-dni"},{"$f":"IF(B601=\"\",\"\",IF(Zahteve!H601=\"\",\"\",Zahteve!H601))","v":"se ne vpisuje"}]
[{"$f":"IF(Zahteve!B602=\"\",\"\",Zahteve!B602)","v":""},{"$f":"IF(Zahteve!B602=\"\",\"\",LEFT(Zahteve!B602,1))","v":""},{"$f":"IF(B602=\"\",\"\",IF(Zahteve!F602=\"da\",CONCATENATE(B602,\"-DA\"),\"\"))","v":""},{"$f":"IF(B602=\"\",\"\",IF(Zahteve!A602=\"da\",CONCATENATE(B602,\"-ustreza\"),\"\"))","v":""},{"$f":"IF(B602=\"\",\"\",IF(Zahteve!G602=\"\",\"\",CONCATENATE(B602,\"-opis\")))","v":""},{"$f":"IF(B602=\"\",\"\",IF(Zahteve!H602=\"\",\"\",CONCATENATE(B602,\"-dni\")))","v":""},{"$f":"IF(B602=\"\",\"\",IF(Zahteve!H602=\"\",\"\",Zahteve!H602))","v":""}]
[{"$f":"IF(Zahteve!B603=\"\",\"\",Zahteve!B603)","v":"M.13.1"},{"$f":"IF(Zahteve!B603=\"\",\"\",LEFT(Zahteve!B603,1))","v":"M"},{"$f":"IF(B603=\"\",\"\",IF(Zahteve!F603=\"da\",CONCATENATE(B603,\"-DA\"),\"\"))","v":""},{"$f":"IF(B603=\"\",\"\",IF(Zahteve!A603=\"da\",CONCATENATE(B603,\"-ustreza\"),\"\"))","v":""},{"$f":"IF(B603=\"\",\"\",IF(Zahteve!G603=\"\",\"\",CONCATENATE(B603,\"-opis\")))","v":"M-opis"},{"$f":"IF(B603=\"\",\"\",IF(Zahteve!H603=\"\",\"\",CONCATENATE(B603,\"-dni\")))","v":"M-dni"},{"$f":"IF(B603=\"\",\"\",IF(Zahteve!H603=\"\",\"\",Zahteve!H603))","v":"se ne vpisuje"}]
[{"$f":"IF(Zahteve!B604=\"\",\"\",Zahteve!B604)","v":""},{"$f":"IF(Zahteve!B604=\"\",\"\",LEFT(Zahteve!B604,1))","v":""},{"$f":"IF(B604=\"\",\"\",IF(Zahteve!F604=\"da\",CONCATENATE(B604,\"-DA\"),\"\"))","v":""},{"$f":"IF(B604=\"\",\"\",IF(Zahteve!A604=\"da\",CONCATENATE(B604,\"-ustreza\"),\"\"))","v":""},{"$f":"IF(B604=\"\",\"\",IF(Zahteve!G604=\"\",\"\",CONCATENATE(B604,\"-opis\")))","v":""},{"$f":"IF(B604=\"\",\"\",IF(Zahteve!H604=\"\",\"\",CONCATENATE(B604,\"-dni\")))","v":""},{"$f":"IF(B604=\"\",\"\",IF(Zahteve!H604=\"\",\"\",Zahteve!H604))","v":""}]
[{"$f":"IF(Zahteve!B605=\"\",\"\",Zahteve!B605)","v":"M.14.1"},{"$f":"IF(Zahteve!B605=\"\",\"\",LEFT(Zahteve!B605,1))","v":"M"},{"$f":"IF(B605=\"\",\"\",IF(Zahteve!F605=\"da\",CONCATENATE(B605,\"-DA\"),\"\"))","v":""},{"$f":"IF(B605=\"\",\"\",IF(Zahteve!A605=\"da\",CONCATENATE(B605,\"-ustreza\"),\"\"))","v":""},{"$f":"IF(B605=\"\",\"\",IF(Zahteve!G605=\"\",\"\",CONCATENATE(B605,\"-opis\")))","v":"M-opis"},{"$f":"IF(B605=\"\",\"\",IF(Zahteve!H605=\"\",\"\",CONCATENATE(B605,\"-dni\")))","v":"M-dni"},{"$f":"IF(B605=\"\",\"\",IF(Zahteve!H605=\"\",\"\",Zahteve!H605))","v":"se ne vpisuje"}]
[{"$f":"IF(Zahteve!B606=\"\",\"\",Zahteve!B606)","v":"M.15.1"},{"$f":"IF(Zahteve!B606=\"\",\"\",LEFT(Zahteve!B606,1))","v":"M"},{"$f":"IF(B606=\"\",\"\",IF(Zahteve!F606=\"da\",CONCATENATE(B606,\"-DA\"),\"\"))","v":""},{"$f":"IF(B606=\"\",\"\",IF(Zahteve!A606=\"da\",CONCATENATE(B606,\"-ustreza\"),\"\"))","v":""},{"$f":"IF(B606=\"\",\"\",IF(Zahteve!G606=\"\",\"\",CONCATENATE(B606,\"-opis\")))","v":"M-opis"},{"$f":"IF(B606=\"\",\"\",IF(Zahteve!H606=\"\",\"\",CONCATENATE(B606,\"-dni\")))","v":"M-dni"},{"$f":"IF(B606=\"\",\"\",IF(Zahteve!H606=\"\",\"\",Zahteve!H606))","v":"se ne vpisuje"}]
[{"$f":"IF(Zahteve!B607=\"\",\"\",Zahteve!B607)","v":"M.15.2"},{"$f":"IF(Zahteve!B607=\"\",\"\",LEFT(Zahteve!B607,1))","v":"M"},{"$f":"IF(B607=\"\",\"\",IF(Zahteve!F607=\"da\",CONCATENATE(B607,\"-DA\"),\"\"))","v":""},{"$f":"IF(B607=\"\",\"\",IF(Zahteve!A607=\"da\",CONCATENATE(B607,\"-ustreza\"),\"\"))","v":""},{"$f":"IF(B607=\"\",\"\",IF(Zahteve!G607=\"\",\"\",CONCATENATE(B607,\"-opis\")))","v":"M-opis"},{"$f":"IF(B607=\"\",\"\",IF(Zahteve!H607=\"\",\"\",CONCATENATE(B607,\"-dni\")))","v":"M-dni"},{"$f":"IF(B607=\"\",\"\",IF(Zahteve!H607=\"\",\"\",Zahteve!H607))","v":"se ne vpisuje"}]
[{"$f":"IF(Zahteve!B608=\"\",\"\",Zahteve!B608)","v":"M.16.1"},{"$f":"IF(Zahteve!B608=\"\",\"\",LEFT(Zahteve!B608,1))","v":"M"},{"$f":"IF(B608=\"\",\"\",IF(Zahteve!F608=\"da\",CONCATENATE(B608,\"-DA\"),\"\"))","v":""},{"$f":"IF(B608=\"\",\"\",IF(Zahteve!A608=\"da\",CONCATENATE(B608,\"-ustreza\"),\"\"))","v":""},{"$f":"IF(B608=\"\",\"\",IF(Zahteve!G608=\"\",\"\",CONCATENATE(B608,\"-opis\")))","v":"M-opis"},{"$f":"IF(B608=\"\",\"\",IF(Zahteve!H608=\"\",\"\",CONCATENATE(B608,\"-dni\")))","v":"M-dni"},{"$f":"IF(B608=\"\",\"\",IF(Zahteve!H608=\"\",\"\",Zahteve!H608))","v":"se ne vpisuje"}]
[{"$f":"IF(Zahteve!B609=\"\",\"\",Zahteve!B609)","v":""},{"$f":"IF(Zahteve!B609=\"\",\"\",LEFT(Zahteve!B609,1))","v":""},{"$f":"IF(B609=\"\",\"\",IF(Zahteve!F609=\"da\",CONCATENATE(B609,\"-DA\"),\"\"))","v":""},{"$f":"IF(B609=\"\",\"\",IF(Zahteve!A609=\"da\",CONCATENATE(B609,\"-ustreza\"),\"\"))","v":""},{"$f":"IF(B609=\"\",\"\",IF(Zahteve!G609=\"\",\"\",CONCATENATE(B609,\"-opis\")))","v":""},{"$f":"IF(B609=\"\",\"\",IF(Zahteve!H609=\"\",\"\",CONCATENATE(B609,\"-dni\")))","v":""},{"$f":"IF(B609=\"\",\"\",IF(Zahteve!H609=\"\",\"\",Zahteve!H609))","v":""}]
[{"$f":"IF(Zahteve!B610=\"\",\"\",Zahteve!B610)","v":""},{"$f":"IF(Zahteve!B610=\"\",\"\",LEFT(Zahteve!B610,1))","v":""},{"$f":"IF(B610=\"\",\"\",IF(Zahteve!F610=\"da\",CONCATENATE(B610,\"-DA\"),\"\"))","v":""},{"$f":"IF(B610=\"\",\"\",IF(Zahteve!A610=\"da\",CONCATENATE(B610,\"-ustreza\"),\"\"))","v":""},{"$f":"IF(B610=\"\",\"\",IF(Zahteve!G610=\"\",\"\",CONCATENATE(B610,\"-opis\")))","v":""},{"$f":"IF(B610=\"\",\"\",IF(Zahteve!H610=\"\",\"\",CONCATENATE(B610,\"-dni\")))","v":""},{"$f":"IF(B610=\"\",\"\",IF(Zahteve!H610=\"\",\"\",Zahteve!H610))","v":""}]
[{"$f":"IF(Zahteve!B611=\"\",\"\",Zahteve!B611)","v":"M.17.1"},{"$f":"IF(Zahteve!B611=\"\",\"\",LEFT(Zahteve!B611,1))","v":"M"},{"$f":"IF(B611=\"\",\"\",IF(Zahteve!F611=\"da\",CONCATENATE(B611,\"-DA\"),\"\"))","v":""},{"$f":"IF(B611=\"\",\"\",IF(Zahteve!A611=\"da\",CONCATENATE(B611,\"-ustreza\"),\"\"))","v":""},{"$f":"IF(B611=\"\",\"\",IF(Zahteve!G611=\"\",\"\",CONCATENATE(B611,\"-opis\")))","v":"M-opis"},{"$f":"IF(B611=\"\",\"\",IF(Zahteve!H611=\"\",\"\",CONCATENATE(B611,\"-dni\")))","v":"M-dni"},{"$f":"IF(B611=\"\",\"\",IF(Zahteve!H611=\"\",\"\",Zahteve!H611))","v":"se ne vpisuje"}]
[{"$f":"IF(Zahteve!B612=\"\",\"\",Zahteve!B612)","v":"M.17.2"},{"$f":"IF(Zahteve!B612=\"\",\"\",LEFT(Zahteve!B612,1))","v":"M"},{"$f":"IF(B612=\"\",\"\",IF(Zahteve!F612=\"da\",CONCATENATE(B612,\"-DA\"),\"\"))","v":""},{"$f":"IF(B612=\"\",\"\",IF(Zahteve!A612=\"da\",CONCATENATE(B612,\"-ustreza\"),\"\"))","v":""},{"$f":"IF(B612=\"\",\"\",IF(Zahteve!G612=\"\",\"\",CONCATENATE(B612,\"-opis\")))","v":"M-opis"},{"$f":"IF(B612=\"\",\"\",IF(Zahteve!H612=\"\",\"\",CONCATENATE(B612,\"-dni\")))","v":"M-dni"},{"$f":"IF(B612=\"\",\"\",IF(Zahteve!H612=\"\",\"\",Zahteve!H612))","v":"se ne vpisuje"}]
[{"$f":"IF(Zahteve!B613=\"\",\"\",Zahteve!B613)","v":"M.17.3"},{"$f":"IF(Zahteve!B613=\"\",\"\",LEFT(Zahteve!B613,1))","v":"M"},{"$f":"IF(B613=\"\",\"\",IF(Zahteve!F613=\"da\",CONCATENATE(B613,\"-DA\"),\"\"))","v":""},{"$f":"IF(B613=\"\",\"\",IF(Zahteve!A613=\"da\",CONCATENATE(B613,\"-ustreza\"),\"\"))","v":""},{"$f":"IF(B613=\"\",\"\",IF(Zahteve!G613=\"\",\"\",CONCATENATE(B613,\"-opis\")))","v":"M-opis"},{"$f":"IF(B613=\"\",\"\",IF(Zahteve!H613=\"\",\"\",CONCATENATE(B613,\"-dni\")))","v":"M-dni"},{"$f":"IF(B613=\"\",\"\",IF(Zahteve!H613=\"\",\"\",Zahteve!H613))","v":"se ne vpisuje"}]
[{"$f":"IF(Zahteve!B614=\"\",\"\",Zahteve!B614)","v":"M.17.4"},{"$f":"IF(Zahteve!B614=\"\",\"\",LEFT(Zahteve!B614,1))","v":"M"},{"$f":"IF(B614=\"\",\"\",IF(Zahteve!F614=\"da\",CONCATENATE(B614,\"-DA\"),\"\"))","v":""},{"$f":"IF(B614=\"\",\"\",IF(Zahteve!A614=\"da\",CONCATENATE(B614,\"-ustreza\"),\"\"))","v":""},{"$f":"IF(B614=\"\",\"\",IF(Zahteve!G614=\"\",\"\",CONCATENATE(B614,\"-opis\")))","v":"M-opis"},{"$f":"IF(B614=\"\",\"\",IF(Zahteve!H614=\"\",\"\",CONCATENATE(B614,\"-dni\")))","v":"M-dni"},{"$f":"IF(B614=\"\",\"\",IF(Zahteve!H614=\"\",\"\",Zahteve!H614))","v":"se ne vpisuje"}]
[{"$f":"IF(Zahteve!B615=\"\",\"\",Zahteve!B615)","v":"M.18.1"},{"$f":"IF(Zahteve!B615=\"\",\"\",LEFT(Zahteve!B615,1))","v":"M"},{"$f":"IF(B615=\"\",\"\",IF(Zahteve!F615=\"da\",CONCATENATE(B615,\"-DA\"),\"\"))","v":""},{"$f":"IF(B615=\"\",\"\",IF(Zahteve!A615=\"da\",CONCATENATE(B615,\"-ustreza\"),\"\"))","v":""},{"$f":"IF(B615=\"\",\"\",IF(Zahteve!G615=\"\",\"\",CONCATENATE(B615,\"-opis\")))","v":"M-opis"},{"$f":"IF(B615=\"\",\"\",IF(Zahteve!H615=\"\",\"\",CONCATENATE(B615,\"-dni\")))","v":"M-dni"},{"$f":"IF(B615=\"\",\"\",IF(Zahteve!H615=\"\",\"\",Zahteve!H615))","v":"se ne vpisuje"}]
[{"$f":"IF(Zahteve!B616=\"\",\"\",Zahteve!B616)","v":"M.18.2"},{"$f":"IF(Zahteve!B616=\"\",\"\",LEFT(Zahteve!B616,1))","v":"M"},{"$f":"IF(B616=\"\",\"\",IF(Zahteve!F616=\"da\",CONCATENATE(B616,\"-DA\"),\"\"))","v":""},{"$f":"IF(B616=\"\",\"\",IF(Zahteve!A616=\"da\",CONCATENATE(B616,\"-ustreza\"),\"\"))","v":""},{"$f":"IF(B616=\"\",\"\",IF(Zahteve!G616=\"\",\"\",CONCATENATE(B616,\"-opis\")))","v":"M-opis"},{"$f":"IF(B616=\"\",\"\",IF(Zahteve!H616=\"\",\"\",CONCATENATE(B616,\"-dni\")))","v":"M-dni"},{"$f":"IF(B616=\"\",\"\",IF(Zahteve!H616=\"\",\"\",Zahteve!H616))","v":"se ne vpisuje"}]
[{"$f":"IF(Zahteve!B617=\"\",\"\",Zahteve!B617)","v":"M.18.3"},{"$f":"IF(Zahteve!B617=\"\",\"\",LEFT(Zahteve!B617,1))","v":"M"},{"$f":"IF(B617=\"\",\"\",IF(Zahteve!F617=\"da\",CONCATENATE(B617,\"-DA\"),\"\"))","v":""},{"$f":"IF(B617=\"\",\"\",IF(Zahteve!A617=\"da\",CONCATENATE(B617,\"-ustreza\"),\"\"))","v":""},{"$f":"IF(B617=\"\",\"\",IF(Zahteve!G617=\"\",\"\",CONCATENATE(B617,\"-opis\")))","v":"M-opis"},{"$f":"IF(B617=\"\",\"\",IF(Zahteve!H617=\"\",\"\",CONCATENATE(B617,\"-dni\")))","v":"M-dni"},{"$f":"IF(B617=\"\",\"\",IF(Zahteve!H617=\"\",\"\",Zahteve!H617))","v":"se ne vpisuje"}]
[{"$f":"IF(Zahteve!B618=\"\",\"\",Zahteve!B618)","v":"M.18.4"},{"$f":"IF(Zahteve!B618=\"\",\"\",LEFT(Zahteve!B618,1))","v":"M"},{"$f":"IF(B618=\"\",\"\",IF(Zahteve!F618=\"da\",CONCATENATE(B618,\"-DA\"),\"\"))","v":""},{"$f":"IF(B618=\"\",\"\",IF(Zahteve!A618=\"da\",CONCATENATE(B618,\"-ustreza\"),\"\"))","v":""},{"$f":"IF(B618=\"\",\"\",IF(Zahteve!G618=\"\",\"\",CONCATENATE(B618,\"-opis\")))","v":"M-opis"},{"$f":"IF(B618=\"\",\"\",IF(Zahteve!H618=\"\",\"\",CONCATENATE(B618,\"-dni\")))","v":"M-dni"},{"$f":"IF(B618=\"\",\"\",IF(Zahteve!H618=\"\",\"\",Zahteve!H618))","v":"se ne vpisuje"}]
[{"$f":"IF(Zahteve!B619=\"\",\"\",Zahteve!B619)","v":"M.18.5"},{"$f":"IF(Zahteve!B619=\"\",\"\",LEFT(Zahteve!B619,1))","v":"M"},{"$f":"IF(B619=\"\",\"\",IF(Zahteve!F619=\"da\",CONCATENATE(B619,\"-DA\"),\"\"))","v":""},{"$f":"IF(B619=\"\",\"\",IF(Zahteve!A619=\"da\",CONCATENATE(B619,\"-ustreza\"),\"\"))","v":""},{"$f":"IF(B619=\"\",\"\",IF(Zahteve!G619=\"\",\"\",CONCATENATE(B619,\"-opis\")))","v":"M-opis"},{"$f":"IF(B619=\"\",\"\",IF(Zahteve!H619=\"\",\"\",CONCATENATE(B619,\"-dni\")))","v":"M-dni"},{"$f":"IF(B619=\"\",\"\",IF(Zahteve!H619=\"\",\"\",Zahteve!H619))","v":"se ne vpisuje"}]
[{"$f":"IF(Zahteve!B620=\"\",\"\",Zahteve!B620)","v":"M.18.6"},{"$f":"IF(Zahteve!B620=\"\",\"\",LEFT(Zahteve!B620,1))","v":"M"},{"$f":"IF(B620=\"\",\"\",IF(Zahteve!F620=\"da\",CONCATENATE(B620,\"-DA\"),\"\"))","v":""},{"$f":"IF(B620=\"\",\"\",IF(Zahteve!A620=\"da\",CONCATENATE(B620,\"-ustreza\"),\"\"))","v":""},{"$f":"IF(B620=\"\",\"\",IF(Zahteve!G620=\"\",\"\",CONCATENATE(B620,\"-opis\")))","v":"M-opis"},{"$f":"IF(B620=\"\",\"\",IF(Zahteve!H620=\"\",\"\",CONCATENATE(B620,\"-dni\")))","v":"M-dni"},{"$f":"IF(B620=\"\",\"\",IF(Zahteve!H620=\"\",\"\",Zahteve!H620))","v":"se ne vpisuje"}]
[{"$f":"IF(Zahteve!B621=\"\",\"\",Zahteve!B621)","v":""},{"$f":"IF(Zahteve!B621=\"\",\"\",LEFT(Zahteve!B621,1))","v":""},{"$f":"IF(B621=\"\",\"\",IF(Zahteve!F621=\"da\",CONCATENATE(B621,\"-DA\"),\"\"))","v":""},{"$f":"IF(B621=\"\",\"\",IF(Zahteve!A621=\"da\",CONCATENATE(B621,\"-ustreza\"),\"\"))","v":""},{"$f":"IF(B621=\"\",\"\",IF(Zahteve!G621=\"\",\"\",CONCATENATE(B621,\"-opis\")))","v":""},{"$f":"IF(B621=\"\",\"\",IF(Zahteve!H621=\"\",\"\",CONCATENATE(B621,\"-dni\")))","v":""},{"$f":"IF(B621=\"\",\"\",IF(Zahteve!H621=\"\",\"\",Zahteve!H621))","v":""}]
[{"$f":"IF(Zahteve!B622=\"\",\"\",Zahteve!B622)","v":"M.19.1"},{"$f":"IF(Zahteve!B622=\"\",\"\",LEFT(Zahteve!B622,1))","v":"M"},{"$f":"IF(B622=\"\",\"\",IF(Zahteve!F622=\"da\",CONCATENATE(B622,\"-DA\"),\"\"))","v":""},{"$f":"IF(B622=\"\",\"\",IF(Zahteve!A622=\"da\",CONCATENATE(B622,\"-ustreza\"),\"\"))","v":""},{"$f":"IF(B622=\"\",\"\",IF(Zahteve!G622=\"\",\"\",CONCATENATE(B622,\"-opis\")))","v":"M-opis"},{"$f":"IF(B622=\"\",\"\",IF(Zahteve!H622=\"\",\"\",CONCATENATE(B622,\"-dni\")))","v":"M-dni"},{"$f":"IF(B622=\"\",\"\",IF(Zahteve!H622=\"\",\"\",Zahteve!H622))","v":"se ne vpisuje"}]
[{"$f":"IF(Zahteve!B623=\"\",\"\",Zahteve!B623)","v":"M.19.2"},{"$f":"IF(Zahteve!B623=\"\",\"\",LEFT(Zahteve!B623,1))","v":"M"},{"$f":"IF(B623=\"\",\"\",IF(Zahteve!F623=\"da\",CONCATENATE(B623,\"-DA\"),\"\"))","v":""},{"$f":"IF(B623=\"\",\"\",IF(Zahteve!A623=\"da\",CONCATENATE(B623,\"-ustreza\"),\"\"))","v":""},{"$f":"IF(B623=\"\",\"\",IF(Zahteve!G623=\"\",\"\",CONCATENATE(B623,\"-opis\")))","v":"M-opis"},{"$f":"IF(B623=\"\",\"\",IF(Zahteve!H623=\"\",\"\",CONCATENATE(B623,\"-dni\")))","v":"M-dni"},{"$f":"IF(B623=\"\",\"\",IF(Zahteve!H623=\"\",\"\",Zahteve!H623))","v":"se ne vpisuje"}]
[{"$f":"IF(Zahteve!B624=\"\",\"\",Zahteve!B624)","v":"M.19.3"},{"$f":"IF(Zahteve!B624=\"\",\"\",LEFT(Zahteve!B624,1))","v":"M"},{"$f":"IF(B624=\"\",\"\",IF(Zahteve!F624=\"da\",CONCATENATE(B624,\"-DA\"),\"\"))","v":""},{"$f":"IF(B624=\"\",\"\",IF(Zahteve!A624=\"da\",CONCATENATE(B624,\"-ustreza\"),\"\"))","v":""},{"$f":"IF(B624=\"\",\"\",IF(Zahteve!G624=\"\",\"\",CONCATENATE(B624,\"-opis\")))","v":"M-opis"},{"$f":"IF(B624=\"\",\"\",IF(Zahteve!H624=\"\",\"\",CONCATENATE(B624,\"-dni\")))","v":"M-dni"},{"$f":"IF(B624=\"\",\"\",IF(Zahteve!H624=\"\",\"\",Zahteve!H624))","v":"se ne vpisuje"}]
[{"$f":"IF(Zahteve!B625=\"\",\"\",Zahteve!B625)","v":"M.19.4"},{"$f":"IF(Zahteve!B625=\"\",\"\",LEFT(Zahteve!B625,1))","v":"M"},{"$f":"IF(B625=\"\",\"\",IF(Zahteve!F625=\"da\",CONCATENATE(B625,\"-DA\"),\"\"))","v":""},{"$f":"IF(B625=\"\",\"\",IF(Zahteve!A625=\"da\",CONCATENATE(B625,\"-ustreza\"),\"\"))","v":""},{"$f":"IF(B625=\"\",\"\",IF(Zahteve!G625=\"\",\"\",CONCATENATE(B625,\"-opis\")))","v":"M-opis"},{"$f":"IF(B625=\"\",\"\",IF(Zahteve!H625=\"\",\"\",CONCATENATE(B625,\"-dni\")))","v":"M-dni"},{"$f":"IF(B625=\"\",\"\",IF(Zahteve!H625=\"\",\"\",Zahteve!H625))","v":"se ne vpisuje"}]
[{"$f":"IF(Zahteve!B626=\"\",\"\",Zahteve!B626)","v":"M.20.1"},{"$f":"IF(Zahteve!B626=\"\",\"\",LEFT(Zahteve!B626,1))","v":"M"},{"$f":"IF(B626=\"\",\"\",IF(Zahteve!F626=\"da\",CONCATENATE(B626,\"-DA\"),\"\"))","v":""},{"$f":"IF(B626=\"\",\"\",IF(Zahteve!A626=\"da\",CONCATENATE(B626,\"-ustreza\"),\"\"))","v":""},{"$f":"IF(B626=\"\",\"\",IF(Zahteve!G626=\"\",\"\",CONCATENATE(B626,\"-opis\")))","v":"M-opis"},{"$f":"IF(B626=\"\",\"\",IF(Zahteve!H626=\"\",\"\",CONCATENATE(B626,\"-dni\")))","v":"M-dni"},{"$f":"IF(B626=\"\",\"\",IF(Zahteve!H626=\"\",\"\",Zahteve!H626))","v":"se ne vpisuje"}]
[{"$f":"IF(Zahteve!B627=\"\",\"\",Zahteve!B627)","v":"M.20.2"},{"$f":"IF(Zahteve!B627=\"\",\"\",LEFT(Zahteve!B627,1))","v":"M"},{"$f":"IF(B627=\"\",\"\",IF(Zahteve!F627=\"da\",CONCATENATE(B627,\"-DA\"),\"\"))","v":""},{"$f":"IF(B627=\"\",\"\",IF(Zahteve!A627=\"da\",CONCATENATE(B627,\"-ustreza\"),\"\"))","v":""},{"$f":"IF(B627=\"\",\"\",IF(Zahteve!G627=\"\",\"\",CONCATENATE(B627,\"-opis\")))","v":"M-opis"},{"$f":"IF(B627=\"\",\"\",IF(Zahteve!H627=\"\",\"\",CONCATENATE(B627,\"-dni\")))","v":"M-dni"},{"$f":"IF(B627=\"\",\"\",IF(Zahteve!H627=\"\",\"\",Zahteve!H627))","v":"se ne vpisuje"}]
[{"$f":"IF(Zahteve!B628=\"\",\"\",Zahteve!B628)","v":""},{"$f":"IF(Zahteve!B628=\"\",\"\",LEFT(Zahteve!B628,1))","v":""},{"$f":"IF(B628=\"\",\"\",IF(Zahteve!F628=\"da\",CONCATENATE(B628,\"-DA\"),\"\"))","v":""},{"$f":"IF(B628=\"\",\"\",IF(Zahteve!A628=\"da\",CONCATENATE(B628,\"-ustreza\"),\"\"))","v":""},{"$f":"IF(B628=\"\",\"\",IF(Zahteve!G628=\"\",\"\",CONCATENATE(B628,\"-opis\")))","v":""},{"$f":"IF(B628=\"\",\"\",IF(Zahteve!H628=\"\",\"\",CONCATENATE(B628,\"-dni\")))","v":""},{"$f":"IF(B628=\"\",\"\",IF(Zahteve!H628=\"\",\"\",Zahteve!H628))","v":""}]
[{"$f":"IF(Zahteve!B629=\"\",\"\",Zahteve!B629)","v":"M.21.1"},{"$f":"IF(Zahteve!B629=\"\",\"\",LEFT(Zahteve!B629,1))","v":"M"},{"$f":"IF(B629=\"\",\"\",IF(Zahteve!F629=\"da\",CONCATENATE(B629,\"-DA\"),\"\"))","v":""},{"$f":"IF(B629=\"\",\"\",IF(Zahteve!A629=\"da\",CONCATENATE(B629,\"-ustreza\"),\"\"))","v":""},{"$f":"IF(B629=\"\",\"\",IF(Zahteve!G629=\"\",\"\",CONCATENATE(B629,\"-opis\")))","v":"M-opis"},{"$f":"IF(B629=\"\",\"\",IF(Zahteve!H629=\"\",\"\",CONCATENATE(B629,\"-dni\")))","v":"M-dni"},{"$f":"IF(B629=\"\",\"\",IF(Zahteve!H629=\"\",\"\",Zahteve!H629))","v":"se ne vpisuje"}]
[{"$f":"IF(Zahteve!B630=\"\",\"\",Zahteve!B630)","v":"M.22.1"},{"$f":"IF(Zahteve!B630=\"\",\"\",LEFT(Zahteve!B630,1))","v":"M"},{"$f":"IF(B630=\"\",\"\",IF(Zahteve!F630=\"da\",CONCATENATE(B630,\"-DA\"),\"\"))","v":""},{"$f":"IF(B630=\"\",\"\",IF(Zahteve!A630=\"da\",CONCATENATE(B630,\"-ustreza\"),\"\"))","v":""},{"$f":"IF(B630=\"\",\"\",IF(Zahteve!G630=\"\",\"\",CONCATENATE(B630,\"-opis\")))","v":"M-opis"},{"$f":"IF(B630=\"\",\"\",IF(Zahteve!H630=\"\",\"\",CONCATENATE(B630,\"-dni\")))","v":"M-dni"},{"$f":"IF(B630=\"\",\"\",IF(Zahteve!H630=\"\",\"\",Zahteve!H630))","v":"se ne vpisuje"}]
[{"$f":"IF(Zahteve!B631=\"\",\"\",Zahteve!B631)","v":"M.23.1"},{"$f":"IF(Zahteve!B631=\"\",\"\",LEFT(Zahteve!B631,1))","v":"M"},{"$f":"IF(B631=\"\",\"\",IF(Zahteve!F631=\"da\",CONCATENATE(B631,\"-DA\"),\"\"))","v":""},{"$f":"IF(B631=\"\",\"\",IF(Zahteve!A631=\"da\",CONCATENATE(B631,\"-ustreza\"),\"\"))","v":""},{"$f":"IF(B631=\"\",\"\",IF(Zahteve!G631=\"\",\"\",CONCATENATE(B631,\"-opis\")))","v":"M-opis"},{"$f":"IF(B631=\"\",\"\",IF(Zahteve!H631=\"\",\"\",CONCATENATE(B631,\"-dni\")))","v":"M-dni"},{"$f":"IF(B631=\"\",\"\",IF(Zahteve!H631=\"\",\"\",Zahteve!H631))","v":"se ne vpisuje"}]
[{"$f":"IF(Zahteve!B632=\"\",\"\",Zahteve!B632)","v":"M.24.1"},{"$f":"IF(Zahteve!B632=\"\",\"\",LEFT(Zahteve!B632,1))","v":"M"},{"$f":"IF(B632=\"\",\"\",IF(Zahteve!F632=\"da\",CONCATENATE(B632,\"-DA\"),\"\"))","v":""},{"$f":"IF(B632=\"\",\"\",IF(Zahteve!A632=\"da\",CONCATENATE(B632,\"-ustreza\"),\"\"))","v":""},{"$f":"IF(B632=\"\",\"\",IF(Zahteve!G632=\"\",\"\",CONCATENATE(B632,\"-opis\")))","v":"M-opis"},{"$f":"IF(B632=\"\",\"\",IF(Zahteve!H632=\"\",\"\",CONCATENATE(B632,\"-dni\")))","v":"M-dni"},{"$f":"IF(B632=\"\",\"\",IF(Zahteve!H632=\"\",\"\",Zahteve!H632))","v":"se ne vpisuje"}]
[{"$f":"IF(Zahteve!B633=\"\",\"\",Zahteve!B633)","v":""},{"$f":"IF(Zahteve!B633=\"\",\"\",LEFT(Zahteve!B633,1))","v":""},{"$f":"IF(B633=\"\",\"\",IF(Zahteve!F633=\"da\",CONCATENATE(B633,\"-DA\"),\"\"))","v":""},{"$f":"IF(B633=\"\",\"\",IF(Zahteve!A633=\"da\",CONCATENATE(B633,\"-ustreza\"),\"\"))","v":""},{"$f":"IF(B633=\"\",\"\",IF(Zahteve!G633=\"\",\"\",CONCATENATE(B633,\"-opis\")))","v":""},{"$f":"IF(B633=\"\",\"\",IF(Zahteve!H633=\"\",\"\",CONCATENATE(B633,\"-dni\")))","v":""},{"$f":"IF(B633=\"\",\"\",IF(Zahteve!H633=\"\",\"\",Zahteve!H633))","v":""}]
[{"$f":"IF(Zahteve!B634=\"\",\"\",Zahteve!B634)","v":"M.25.1"},{"$f":"IF(Zahteve!B634=\"\",\"\",LEFT(Zahteve!B634,1))","v":"M"},{"$f":"IF(B634=\"\",\"\",IF(Zahteve!F634=\"da\",CONCATENATE(B634,\"-DA\"),\"\"))","v":""},{"$f":"IF(B634=\"\",\"\",IF(Zahteve!A634=\"da\",CONCATENATE(B634,\"-ustreza\"),\"\"))","v":""},{"$f":"IF(B634=\"\",\"\",IF(Zahteve!G634=\"\",\"\",CONCATENATE(B634,\"-opis\")))","v":"M-opis"},{"$f":"IF(B634=\"\",\"\",IF(Zahteve!H634=\"\",\"\",CONCATENATE(B634,\"-dni\")))","v":"M-dni"},{"$f":"IF(B634=\"\",\"\",IF(Zahteve!H634=\"\",\"\",Zahteve!H634))","v":"se ne vpisuje"}]
[{"$f":"IF(Zahteve!B635=\"\",\"\",Zahteve!B635)","v":""},{"$f":"IF(Zahteve!B635=\"\",\"\",LEFT(Zahteve!B635,1))","v":""},{"$f":"IF(B635=\"\",\"\",IF(Zahteve!F635=\"da\",CONCATENATE(B635,\"-DA\"),\"\"))","v":""},{"$f":"IF(B635=\"\",\"\",IF(Zahteve!A635=\"da\",CONCATENATE(B635,\"-ustreza\"),\"\"))","v":""},{"$f":"IF(B635=\"\",\"\",IF(Zahteve!G635=\"\",\"\",CONCATENATE(B635,\"-opis\")))","v":""},{"$f":"IF(B635=\"\",\"\",IF(Zahteve!H635=\"\",\"\",CONCATENATE(B635,\"-dni\")))","v":""},{"$f":"IF(B635=\"\",\"\",IF(Zahteve!H635=\"\",\"\",Zahteve!H635))","v":""}]
[{"$f":"IF(Zahteve!B636=\"\",\"\",Zahteve!B636)","v":""},{"$f":"IF(Zahteve!B636=\"\",\"\",LEFT(Zahteve!B636,1))","v":""},{"$f":"IF(B636=\"\",\"\",IF(Zahteve!F636=\"da\",CONCATENATE(B636,\"-DA\"),\"\"))","v":""},{"$f":"IF(B636=\"\",\"\",IF(Zahteve!A636=\"da\",CONCATENATE(B636,\"-ustreza\"),\"\"))","v":""},{"$f":"IF(B636=\"\",\"\",IF(Zahteve!G636=\"\",\"\",CONCATENATE(B636,\"-opis\")))","v":""},{"$f":"IF(B636=\"\",\"\",IF(Zahteve!H636=\"\",\"\",CONCATENATE(B636,\"-dni\")))","v":""},{"$f":"IF(B636=\"\",\"\",IF(Zahteve!H636=\"\",\"\",Zahteve!H636))","v":""}]
[{"$f":"IF(Zahteve!B637=\"\",\"\",Zahteve!B637)","v":"N.1.1"},{"$f":"IF(Zahteve!B637=\"\",\"\",LEFT(Zahteve!B637,1))","v":"N"},{"$f":"IF(B637=\"\",\"\",IF(Zahteve!F637=\"da\",CONCATENATE(B637,\"-DA\"),\"\"))","v":""},{"$f":"IF(B637=\"\",\"\",IF(Zahteve!A637=\"da\",CONCATENATE(B637,\"-ustreza\"),\"\"))","v":""},{"$f":"IF(B637=\"\",\"\",IF(Zahteve!G637=\"\",\"\",CONCATENATE(B637,\"-opis\")))","v":"N-opis"},{"$f":"IF(B637=\"\",\"\",IF(Zahteve!H637=\"\",\"\",CONCATENATE(B637,\"-dni\")))","v":"N-dni"},{"$f":"IF(B637=\"\",\"\",IF(Zahteve!H637=\"\",\"\",Zahteve!H637))","v":"se ne vpisuje"}]
[{"$f":"IF(Zahteve!B638=\"\",\"\",Zahteve!B638)","v":""},{"$f":"IF(Zahteve!B638=\"\",\"\",LEFT(Zahteve!B638,1))","v":""},{"$f":"IF(B638=\"\",\"\",IF(Zahteve!F638=\"da\",CONCATENATE(B638,\"-DA\"),\"\"))","v":""},{"$f":"IF(B638=\"\",\"\",IF(Zahteve!A638=\"da\",CONCATENATE(B638,\"-ustreza\"),\"\"))","v":""},{"$f":"IF(B638=\"\",\"\",IF(Zahteve!G638=\"\",\"\",CONCATENATE(B638,\"-opis\")))","v":""},{"$f":"IF(B638=\"\",\"\",IF(Zahteve!H638=\"\",\"\",CONCATENATE(B638,\"-dni\")))","v":""},{"$f":"IF(B638=\"\",\"\",IF(Zahteve!H638=\"\",\"\",Zahteve!H638))","v":""}]
[{"$f":"IF(Zahteve!B639=\"\",\"\",Zahteve!B639)","v":"N.1.2"},{"$f":"IF(Zahteve!B639=\"\",\"\",LEFT(Zahteve!B639,1))","v":"N"},{"$f":"IF(B639=\"\",\"\",IF(Zahteve!F639=\"da\",CONCATENATE(B639,\"-DA\"),\"\"))","v":""},{"$f":"IF(B639=\"\",\"\",IF(Zahteve!A639=\"da\",CONCATENATE(B639,\"-ustreza\"),\"\"))","v":""},{"$f":"IF(B639=\"\",\"\",IF(Zahteve!G639=\"\",\"\",CONCATENATE(B639,\"-opis\")))","v":"N-opis"},{"$f":"IF(B639=\"\",\"\",IF(Zahteve!H639=\"\",\"\",CONCATENATE(B639,\"-dni\")))","v":"N-dni"},{"$f":"IF(B639=\"\",\"\",IF(Zahteve!H639=\"\",\"\",Zahteve!H639))","v":"se ne vpisuje"}]
[{"$f":"IF(Zahteve!B640=\"\",\"\",Zahteve!B640)","v":""},{"$f":"IF(Zahteve!B640=\"\",\"\",LEFT(Zahteve!B640,1))","v":""},{"$f":"IF(B640=\"\",\"\",IF(Zahteve!F640=\"da\",CONCATENATE(B640,\"-DA\"),\"\"))","v":""},{"$f":"IF(B640=\"\",\"\",IF(Zahteve!A640=\"da\",CONCATENATE(B640,\"-ustreza\"),\"\"))","v":""},{"$f":"IF(B640=\"\",\"\",IF(Zahteve!G640=\"\",\"\",CONCATENATE(B640,\"-opis\")))","v":""},{"$f":"IF(B640=\"\",\"\",IF(Zahteve!H640=\"\",\"\",CONCATENATE(B640,\"-dni\")))","v":""},{"$f":"IF(B640=\"\",\"\",IF(Zahteve!H640=\"\",\"\",Zahteve!H640))","v":""}]
[{"$f":"IF(Zahteve!B641=\"\",\"\",Zahteve!B641)","v":""},{"$f":"IF(Zahteve!B641=\"\",\"\",LEFT(Zahteve!B641,1))","v":""},{"$f":"IF(B641=\"\",\"\",IF(Zahteve!F641=\"da\",CONCATENATE(B641,\"-DA\"),\"\"))","v":""},{"$f":"IF(B641=\"\",\"\",IF(Zahteve!A641=\"da\",CONCATENATE(B641,\"-ustreza\"),\"\"))","v":""},{"$f":"IF(B641=\"\",\"\",IF(Zahteve!G641=\"\",\"\",CONCATENATE(B641,\"-opis\")))","v":""},{"$f":"IF(B641=\"\",\"\",IF(Zahteve!H641=\"\",\"\",CONCATENATE(B641,\"-dni\")))","v":""},{"$f":"IF(B641=\"\",\"\",IF(Zahteve!H641=\"\",\"\",Zahteve!H641))","v":""}]
[{"$f":"IF(Zahteve!B642=\"\",\"\",Zahteve!B642)","v":""},{"$f":"IF(Zahteve!B642=\"\",\"\",LEFT(Zahteve!B642,1))","v":""},{"$f":"IF(B642=\"\",\"\",IF(Zahteve!F642=\"da\",CONCATENATE(B642,\"-DA\"),\"\"))","v":""},{"$f":"IF(B642=\"\",\"\",IF(Zahteve!A642=\"da\",CONCATENATE(B642,\"-ustreza\"),\"\"))","v":""},{"$f":"IF(B642=\"\",\"\",IF(Zahteve!G642=\"\",\"\",CONCATENATE(B642,\"-opis\")))","v":""},{"$f":"IF(B642=\"\",\"\",IF(Zahteve!H642=\"\",\"\",CONCATENATE(B642,\"-dni\")))","v":""},{"$f":"IF(B642=\"\",\"\",IF(Zahteve!H642=\"\",\"\",Zahteve!H642))","v":""}]
[{"$f":"IF(Zahteve!B643=\"\",\"\",Zahteve!B643)","v":""},{"$f":"IF(Zahteve!B643=\"\",\"\",LEFT(Zahteve!B643,1))","v":""},{"$f":"IF(B643=\"\",\"\",IF(Zahteve!F643=\"da\",CONCATENATE(B643,\"-DA\"),\"\"))","v":""},{"$f":"IF(B643=\"\",\"\",IF(Zahteve!A643=\"da\",CONCATENATE(B643,\"-ustreza\"),\"\"))","v":""},{"$f":"IF(B643=\"\",\"\",IF(Zahteve!G643=\"\",\"\",CONCATENATE(B643,\"-opis\")))","v":""},{"$f":"IF(B643=\"\",\"\",IF(Zahteve!H643=\"\",\"\",CONCATENATE(B643,\"-dni\")))","v":""},{"$f":"IF(B643=\"\",\"\",IF(Zahteve!H643=\"\",\"\",Zahteve!H643))","v":""}]
[{"$f":"IF(Zahteve!B644=\"\",\"\",Zahteve!B644)","v":""},{"$f":"IF(Zahteve!B644=\"\",\"\",LEFT(Zahteve!B644,1))","v":""},{"$f":"IF(B644=\"\",\"\",IF(Zahteve!F644=\"da\",CONCATENATE(B644,\"-DA\"),\"\"))","v":""},{"$f":"IF(B644=\"\",\"\",IF(Zahteve!A644=\"da\",CONCATENATE(B644,\"-ustreza\"),\"\"))","v":""},{"$f":"IF(B644=\"\",\"\",IF(Zahteve!G644=\"\",\"\",CONCATENATE(B644,\"-opis\")))","v":""},{"$f":"IF(B644=\"\",\"\",IF(Zahteve!H644=\"\",\"\",CONCATENATE(B644,\"-dni\")))","v":""},{"$f":"IF(B644=\"\",\"\",IF(Zahteve!H644=\"\",\"\",Zahteve!H644))","v":""}]
[{"$f":"IF(Zahteve!B645=\"\",\"\",Zahteve!B645)","v":""},{"$f":"IF(Zahteve!B645=\"\",\"\",LEFT(Zahteve!B645,1))","v":""},{"$f":"IF(B645=\"\",\"\",IF(Zahteve!F645=\"da\",CONCATENATE(B645,\"-DA\"),\"\"))","v":""},{"$f":"IF(B645=\"\",\"\",IF(Zahteve!A645=\"da\",CONCATENATE(B645,\"-ustreza\"),\"\"))","v":""},{"$f":"IF(B645=\"\",\"\",IF(Zahteve!G645=\"\",\"\",CONCATENATE(B645,\"-opis\")))","v":""},{"$f":"IF(B645=\"\",\"\",IF(Zahteve!H645=\"\",\"\",CONCATENATE(B645,\"-dni\")))","v":""},{"$f":"IF(B645=\"\",\"\",IF(Zahteve!H645=\"\",\"\",Zahteve!H645))","v":""}]
[{"$f":"IF(Zahteve!B646=\"\",\"\",Zahteve!B646)","v":""},{"$f":"IF(Zahteve!B646=\"\",\"\",LEFT(Zahteve!B646,1))","v":""},{"$f":"IF(B646=\"\",\"\",IF(Zahteve!F646=\"da\",CONCATENATE(B646,\"-DA\"),\"\"))","v":""},{"$f":"IF(B646=\"\",\"\",IF(Zahteve!A646=\"da\",CONCATENATE(B646,\"-ustreza\"),\"\"))","v":""},{"$f":"IF(B646=\"\",\"\",IF(Zahteve!G646=\"\",\"\",CONCATENATE(B646,\"-opis\")))","v":""},{"$f":"IF(B646=\"\",\"\",IF(Zahteve!H646=\"\",\"\",CONCATENATE(B646,\"-dni\")))","v":""},{"$f":"IF(B646=\"\",\"\",IF(Zahteve!H646=\"\",\"\",Zahteve!H646))","v":""}]
[{"$f":"IF(Zahteve!B647=\"\",\"\",Zahteve!B647)","v":""},{"$f":"IF(Zahteve!B647=\"\",\"\",LEFT(Zahteve!B647,1))","v":""},{"$f":"IF(B647=\"\",\"\",IF(Zahteve!F647=\"da\",CONCATENATE(B647,\"-DA\"),\"\"))","v":""},{"$f":"IF(B647=\"\",\"\",IF(Zahteve!A647=\"da\",CONCATENATE(B647,\"-ustreza\"),\"\"))","v":""},{"$f":"IF(B647=\"\",\"\",IF(Zahteve!G647=\"\",\"\",CONCATENATE(B647,\"-opis\")))","v":""},{"$f":"IF(B647=\"\",\"\",IF(Zahteve!H647=\"\",\"\",CONCATENATE(B647,\"-dni\")))","v":""},{"$f":"IF(B647=\"\",\"\",IF(Zahteve!H647=\"\",\"\",Zahteve!H647))","v":""}]
[{"$f":"IF(Zahteve!B648=\"\",\"\",Zahteve!B648)","v":""},{"$f":"IF(Zahteve!B648=\"\",\"\",LEFT(Zahteve!B648,1))","v":""},{"$f":"IF(B648=\"\",\"\",IF(Zahteve!F648=\"da\",CONCATENATE(B648,\"-DA\"),\"\"))","v":""},{"$f":"IF(B648=\"\",\"\",IF(Zahteve!A648=\"da\",CONCATENATE(B648,\"-ustreza\"),\"\"))","v":""},{"$f":"IF(B648=\"\",\"\",IF(Zahteve!G648=\"\",\"\",CONCATENATE(B648,\"-opis\")))","v":""},{"$f":"IF(B648=\"\",\"\",IF(Zahteve!H648=\"\",\"\",CONCATENATE(B648,\"-dni\")))","v":""},{"$f":"IF(B648=\"\",\"\",IF(Zahteve!H648=\"\",\"\",Zahteve!H648))","v":""}]
[{"$f":"IF(Zahteve!B649=\"\",\"\",Zahteve!B649)","v":""},{"$f":"IF(Zahteve!B649=\"\",\"\",LEFT(Zahteve!B649,1))","v":""},{"$f":"IF(B649=\"\",\"\",IF(Zahteve!F649=\"da\",CONCATENATE(B649,\"-DA\"),\"\"))","v":""},{"$f":"IF(B649=\"\",\"\",IF(Zahteve!A649=\"da\",CONCATENATE(B649,\"-ustreza\"),\"\"))","v":""},{"$f":"IF(B649=\"\",\"\",IF(Zahteve!G649=\"\",\"\",CONCATENATE(B649,\"-opis\")))","v":""},{"$f":"IF(B649=\"\",\"\",IF(Zahteve!H649=\"\",\"\",CONCATENATE(B649,\"-dni\")))","v":""},{"$f":"IF(B649=\"\",\"\",IF(Zahteve!H649=\"\",\"\",Zahteve!H649))","v":""}]
[{"$f":"IF(Zahteve!B650=\"\",\"\",Zahteve!B650)","v":""},{"$f":"IF(Zahteve!B650=\"\",\"\",LEFT(Zahteve!B650,1))","v":""},{"$f":"IF(B650=\"\",\"\",IF(Zahteve!F650=\"da\",CONCATENATE(B650,\"-DA\"),\"\"))","v":""},{"$f":"IF(B650=\"\",\"\",IF(Zahteve!A650=\"da\",CONCATENATE(B650,\"-ustreza\"),\"\"))","v":""},{"$f":"IF(B650=\"\",\"\",IF(Zahteve!G650=\"\",\"\",CONCATENATE(B650,\"-opis\")))","v":""},{"$f":"IF(B650=\"\",\"\",IF(Zahteve!H650=\"\",\"\",CONCATENATE(B650,\"-dni\")))","v":""},{"$f":"IF(B650=\"\",\"\",IF(Zahteve!H650=\"\",\"\",Zahteve!H650))","v":""}]
[{"$f":"IF(Zahteve!B651=\"\",\"\",Zahteve!B651)","v":""},{"$f":"IF(Zahteve!B651=\"\",\"\",LEFT(Zahteve!B651,1))","v":""},{"$f":"IF(B651=\"\",\"\",IF(Zahteve!F651=\"da\",CONCATENATE(B651,\"-DA\"),\"\"))","v":""},{"$f":"IF(B651=\"\",\"\",IF(Zahteve!A651=\"da\",CONCATENATE(B651,\"-ustreza\"),\"\"))","v":""},{"$f":"IF(B651=\"\",\"\",IF(Zahteve!G651=\"\",\"\",CONCATENATE(B651,\"-opis\")))","v":""},{"$f":"IF(B651=\"\",\"\",IF(Zahteve!H651=\"\",\"\",CONCATENATE(B651,\"-dni\")))","v":""},{"$f":"IF(B651=\"\",\"\",IF(Zahteve!H651=\"\",\"\",Zahteve!H651))","v":""}]
[{"$f":"IF(Zahteve!B652=\"\",\"\",Zahteve!B652)","v":""},{"$f":"IF(Zahteve!B652=\"\",\"\",LEFT(Zahteve!B652,1))","v":""},{"$f":"IF(B652=\"\",\"\",IF(Zahteve!F652=\"da\",CONCATENATE(B652,\"-DA\"),\"\"))","v":""},{"$f":"IF(B652=\"\",\"\",IF(Zahteve!A652=\"da\",CONCATENATE(B652,\"-ustreza\"),\"\"))","v":""},{"$f":"IF(B652=\"\",\"\",IF(Zahteve!G652=\"\",\"\",CONCATENATE(B652,\"-opis\")))","v":""},{"$f":"IF(B652=\"\",\"\",IF(Zahteve!H652=\"\",\"\",CONCATENATE(B652,\"-dni\")))","v":""},{"$f":"IF(B652=\"\",\"\",IF(Zahteve!H652=\"\",\"\",Zahteve!H652))","v":""}]
[{"$f":"IF(Zahteve!B653=\"\",\"\",Zahteve!B653)","v":""},{"$f":"IF(Zahteve!B653=\"\",\"\",LEFT(Zahteve!B653,1))","v":""},{"$f":"IF(B653=\"\",\"\",IF(Zahteve!F653=\"da\",CONCATENATE(B653,\"-DA\"),\"\"))","v":""},{"$f":"IF(B653=\"\",\"\",IF(Zahteve!A653=\"da\",CONCATENATE(B653,\"-ustreza\"),\"\"))","v":""},{"$f":"IF(B653=\"\",\"\",IF(Zahteve!G653=\"\",\"\",CONCATENATE(B653,\"-opis\")))","v":""},{"$f":"IF(B653=\"\",\"\",IF(Zahteve!H653=\"\",\"\",CONCATENATE(B653,\"-dni\")))","v":""},{"$f":"IF(B653=\"\",\"\",IF(Zahteve!H653=\"\",\"\",Zahteve!H653))","v":""}]
[{"$f":"IF(Zahteve!B654=\"\",\"\",Zahteve!B654)","v":""},{"$f":"IF(Zahteve!B654=\"\",\"\",LEFT(Zahteve!B654,1))","v":""},{"$f":"IF(B654=\"\",\"\",IF(Zahteve!F654=\"da\",CONCATENATE(B654,\"-DA\"),\"\"))","v":""},{"$f":"IF(B654=\"\",\"\",IF(Zahteve!A654=\"da\",CONCATENATE(B654,\"-ustreza\"),\"\"))","v":""},{"$f":"IF(B654=\"\",\"\",IF(Zahteve!G654=\"\",\"\",CONCATENATE(B654,\"-opis\")))","v":""},{"$f":"IF(B654=\"\",\"\",IF(Zahteve!H654=\"\",\"\",CONCATENATE(B654,\"-dni\")))","v":""},{"$f":"IF(B654=\"\",\"\",IF(Zahteve!H654=\"\",\"\",Zahteve!H654))","v":""}]
[{"$f":"IF(Zahteve!B655=\"\",\"\",Zahteve!B655)","v":""},{"$f":"IF(Zahteve!B655=\"\",\"\",LEFT(Zahteve!B655,1))","v":""},{"$f":"IF(B655=\"\",\"\",IF(Zahteve!F655=\"da\",CONCATENATE(B655,\"-DA\"),\"\"))","v":""},{"$f":"IF(B655=\"\",\"\",IF(Zahteve!A655=\"da\",CONCATENATE(B655,\"-ustreza\"),\"\"))","v":""},{"$f":"IF(B655=\"\",\"\",IF(Zahteve!G655=\"\",\"\",CONCATENATE(B655,\"-opis\")))","v":""},{"$f":"IF(B655=\"\",\"\",IF(Zahteve!H655=\"\",\"\",CONCATENATE(B655,\"-dni\")))","v":""},{"$f":"IF(B655=\"\",\"\",IF(Zahteve!H655=\"\",\"\",Zahteve!H655))","v":""}]
[{"$f":"IF(Zahteve!B656=\"\",\"\",Zahteve!B656)","v":""},{"$f":"IF(Zahteve!B656=\"\",\"\",LEFT(Zahteve!B656,1))","v":""},{"$f":"IF(B656=\"\",\"\",IF(Zahteve!F656=\"da\",CONCATENATE(B656,\"-DA\"),\"\"))","v":""},{"$f":"IF(B656=\"\",\"\",IF(Zahteve!A656=\"da\",CONCATENATE(B656,\"-ustreza\"),\"\"))","v":""},{"$f":"IF(B656=\"\",\"\",IF(Zahteve!G656=\"\",\"\",CONCATENATE(B656,\"-opis\")))","v":""},{"$f":"IF(B656=\"\",\"\",IF(Zahteve!H656=\"\",\"\",CONCATENATE(B656,\"-dni\")))","v":""},{"$f":"IF(B656=\"\",\"\",IF(Zahteve!H656=\"\",\"\",Zahteve!H656))","v":""}]
[{"$f":"IF(Zahteve!B657=\"\",\"\",Zahteve!B657)","v":""},{"$f":"IF(Zahteve!B657=\"\",\"\",LEFT(Zahteve!B657,1))","v":""},{"$f":"IF(B657=\"\",\"\",IF(Zahteve!F657=\"da\",CONCATENATE(B657,\"-DA\"),\"\"))","v":""},{"$f":"IF(B657=\"\",\"\",IF(Zahteve!A657=\"da\",CONCATENATE(B657,\"-ustreza\"),\"\"))","v":""},{"$f":"IF(B657=\"\",\"\",IF(Zahteve!G657=\"\",\"\",CONCATENATE(B657,\"-opis\")))","v":""},{"$f":"IF(B657=\"\",\"\",IF(Zahteve!H657=\"\",\"\",CONCATENATE(B657,\"-dni\")))","v":""},{"$f":"IF(B657=\"\",\"\",IF(Zahteve!H657=\"\",\"\",Zahteve!H657))","v":""}]
[{"$f":"IF(Zahteve!B658=\"\",\"\",Zahteve!B658)","v":""},{"$f":"IF(Zahteve!B658=\"\",\"\",LEFT(Zahteve!B658,1))","v":""},{"$f":"IF(B658=\"\",\"\",IF(Zahteve!F658=\"da\",CONCATENATE(B658,\"-DA\"),\"\"))","v":""},{"$f":"IF(B658=\"\",\"\",IF(Zahteve!A658=\"da\",CONCATENATE(B658,\"-ustreza\"),\"\"))","v":""},{"$f":"IF(B658=\"\",\"\",IF(Zahteve!G658=\"\",\"\",CONCATENATE(B658,\"-opis\")))","v":""},{"$f":"IF(B658=\"\",\"\",IF(Zahteve!H658=\"\",\"\",CONCATENATE(B658,\"-dni\")))","v":""},{"$f":"IF(B658=\"\",\"\",IF(Zahteve!H658=\"\",\"\",Zahteve!H658))","v":""}]
[{"$f":"IF(Zahteve!B659=\"\",\"\",Zahteve!B659)","v":""},{"$f":"IF(Zahteve!B659=\"\",\"\",LEFT(Zahteve!B659,1))","v":""},{"$f":"IF(B659=\"\",\"\",IF(Zahteve!F659=\"da\",CONCATENATE(B659,\"-DA\"),\"\"))","v":""},{"$f":"IF(B659=\"\",\"\",IF(Zahteve!A659=\"da\",CONCATENATE(B659,\"-ustreza\"),\"\"))","v":""},{"$f":"IF(B659=\"\",\"\",IF(Zahteve!G659=\"\",\"\",CONCATENATE(B659,\"-opis\")))","v":""},{"$f":"IF(B659=\"\",\"\",IF(Zahteve!H659=\"\",\"\",CONCATENATE(B659,\"-dni\")))","v":""},{"$f":"IF(B659=\"\",\"\",IF(Zahteve!H659=\"\",\"\",Zahteve!H659))","v":""}]
[{"$f":"IF(Zahteve!B660=\"\",\"\",Zahteve!B660)","v":""},{"$f":"IF(Zahteve!B660=\"\",\"\",LEFT(Zahteve!B660,1))","v":""},{"$f":"IF(B660=\"\",\"\",IF(Zahteve!F660=\"da\",CONCATENATE(B660,\"-DA\"),\"\"))","v":""},{"$f":"IF(B660=\"\",\"\",IF(Zahteve!A660=\"da\",CONCATENATE(B660,\"-ustreza\"),\"\"))","v":""},{"$f":"IF(B660=\"\",\"\",IF(Zahteve!G660=\"\",\"\",CONCATENATE(B660,\"-opis\")))","v":""},{"$f":"IF(B660=\"\",\"\",IF(Zahteve!H660=\"\",\"\",CONCATENATE(B660,\"-dni\")))","v":""},{"$f":"IF(B660=\"\",\"\",IF(Zahteve!H660=\"\",\"\",Zahteve!H660))","v":""}]
[{"$f":"IF(Zahteve!B661=\"\",\"\",Zahteve!B661)","v":""},{"$f":"IF(Zahteve!B661=\"\",\"\",LEFT(Zahteve!B661,1))","v":""},{"$f":"IF(B661=\"\",\"\",IF(Zahteve!F661=\"da\",CONCATENATE(B661,\"-DA\"),\"\"))","v":""},{"$f":"IF(B661=\"\",\"\",IF(Zahteve!A661=\"da\",CONCATENATE(B661,\"-ustreza\"),\"\"))","v":""},{"$f":"IF(B661=\"\",\"\",IF(Zahteve!G661=\"\",\"\",CONCATENATE(B661,\"-opis\")))","v":""},{"$f":"IF(B661=\"\",\"\",IF(Zahteve!H661=\"\",\"\",CONCATENATE(B661,\"-dni\")))","v":""},{"$f":"IF(B661=\"\",\"\",IF(Zahteve!H661=\"\",\"\",Zahteve!H661))","v":""}]
[{"$f":"IF(Zahteve!B662=\"\",\"\",Zahteve!B662)","v":""},{"$f":"IF(Zahteve!B662=\"\",\"\",LEFT(Zahteve!B662,1))","v":""},{"$f":"IF(B662=\"\",\"\",IF(Zahteve!F662=\"da\",CONCATENATE(B662,\"-DA\"),\"\"))","v":""},{"$f":"IF(B662=\"\",\"\",IF(Zahteve!A662=\"da\",CONCATENATE(B662,\"-ustreza\"),\"\"))","v":""},{"$f":"IF(B662=\"\",\"\",IF(Zahteve!G662=\"\",\"\",CONCATENATE(B662,\"-opis\")))","v":""},{"$f":"IF(B662=\"\",\"\",IF(Zahteve!H662=\"\",\"\",CONCATENATE(B662,\"-dni\")))","v":""},{"$f":"IF(B662=\"\",\"\",IF(Zahteve!H662=\"\",\"\",Zahteve!H662))","v":""}]
[{"$f":"IF(Zahteve!B663=\"\",\"\",Zahteve!B663)","v":""},{"$f":"IF(Zahteve!B663=\"\",\"\",LEFT(Zahteve!B663,1))","v":""},{"$f":"IF(B663=\"\",\"\",IF(Zahteve!F663=\"da\",CONCATENATE(B663,\"-DA\"),\"\"))","v":""},{"$f":"IF(B663=\"\",\"\",IF(Zahteve!A663=\"da\",CONCATENATE(B663,\"-ustreza\"),\"\"))","v":""},{"$f":"IF(B663=\"\",\"\",IF(Zahteve!G663=\"\",\"\",CONCATENATE(B663,\"-opis\")))","v":""},{"$f":"IF(B663=\"\",\"\",IF(Zahteve!H663=\"\",\"\",CONCATENATE(B663,\"-dni\")))","v":""},{"$f":"IF(B663=\"\",\"\",IF(Zahteve!H663=\"\",\"\",Zahteve!H663))","v":""}]
[{"$f":"IF(Zahteve!B664=\"\",\"\",Zahteve!B664)","v":""},{"$f":"IF(Zahteve!B664=\"\",\"\",LEFT(Zahteve!B664,1))","v":""},{"$f":"IF(B664=\"\",\"\",IF(Zahteve!F664=\"da\",CONCATENATE(B664,\"-DA\"),\"\"))","v":""},{"$f":"IF(B664=\"\",\"\",IF(Zahteve!A664=\"da\",CONCATENATE(B664,\"-ustreza\"),\"\"))","v":""},{"$f":"IF(B664=\"\",\"\",IF(Zahteve!G664=\"\",\"\",CONCATENATE(B664,\"-opis\")))","v":""},{"$f":"IF(B664=\"\",\"\",IF(Zahteve!H664=\"\",\"\",CONCATENATE(B664,\"-dni\")))","v":""},{"$f":"IF(B664=\"\",\"\",IF(Zahteve!H664=\"\",\"\",Zahteve!H664))","v":""}]
[{"$f":"IF(Zahteve!B665=\"\",\"\",Zahteve!B665)","v":""},{"$f":"IF(Zahteve!B665=\"\",\"\",LEFT(Zahteve!B665,1))","v":""},{"$f":"IF(B665=\"\",\"\",IF(Zahteve!F665=\"da\",CONCATENATE(B665,\"-DA\"),\"\"))","v":""},{"$f":"IF(B665=\"\",\"\",IF(Zahteve!A665=\"da\",CONCATENATE(B665,\"-ustreza\"),\"\"))","v":""},{"$f":"IF(B665=\"\",\"\",IF(Zahteve!G665=\"\",\"\",CONCATENATE(B665,\"-opis\")))","v":""},{"$f":"IF(B665=\"\",\"\",IF(Zahteve!H665=\"\",\"\",CONCATENATE(B665,\"-dni\")))","v":""},{"$f":"IF(B665=\"\",\"\",IF(Zahteve!H665=\"\",\"\",Zahteve!H665))","v":""}]
[{"$f":"IF(Zahteve!B666=\"\",\"\",Zahteve!B666)","v":""},{"$f":"IF(Zahteve!B666=\"\",\"\",LEFT(Zahteve!B666,1))","v":""},{"$f":"IF(B666=\"\",\"\",IF(Zahteve!F666=\"da\",CONCATENATE(B666,\"-DA\"),\"\"))","v":""},{"$f":"IF(B666=\"\",\"\",IF(Zahteve!A666=\"da\",CONCATENATE(B666,\"-ustreza\"),\"\"))","v":""},{"$f":"IF(B666=\"\",\"\",IF(Zahteve!G666=\"\",\"\",CONCATENATE(B666,\"-opis\")))","v":""},{"$f":"IF(B666=\"\",\"\",IF(Zahteve!H666=\"\",\"\",CONCATENATE(B666,\"-dni\")))","v":""},{"$f":"IF(B666=\"\",\"\",IF(Zahteve!H666=\"\",\"\",Zahteve!H666))","v":""}]
[{"$f":"IF(Zahteve!B667=\"\",\"\",Zahteve!B667)","v":""},{"$f":"IF(Zahteve!B667=\"\",\"\",LEFT(Zahteve!B667,1))","v":""},{"$f":"IF(B667=\"\",\"\",IF(Zahteve!F667=\"da\",CONCATENATE(B667,\"-DA\"),\"\"))","v":""},{"$f":"IF(B667=\"\",\"\",IF(Zahteve!A667=\"da\",CONCATENATE(B667,\"-ustreza\"),\"\"))","v":""},{"$f":"IF(B667=\"\",\"\",IF(Zahteve!G667=\"\",\"\",CONCATENATE(B667,\"-opis\")))","v":""},{"$f":"IF(B667=\"\",\"\",IF(Zahteve!H667=\"\",\"\",CONCATENATE(B667,\"-dni\")))","v":""},{"$f":"IF(B667=\"\",\"\",IF(Zahteve!H667=\"\",\"\",Zahteve!H667))","v":""}]
[{"$f":"IF(Zahteve!B668=\"\",\"\",Zahteve!B668)","v":""},{"$f":"IF(Zahteve!B668=\"\",\"\",LEFT(Zahteve!B668,1))","v":""},{"$f":"IF(B668=\"\",\"\",IF(Zahteve!F668=\"da\",CONCATENATE(B668,\"-DA\"),\"\"))","v":""},{"$f":"IF(B668=\"\",\"\",IF(Zahteve!A668=\"da\",CONCATENATE(B668,\"-ustreza\"),\"\"))","v":""},{"$f":"IF(B668=\"\",\"\",IF(Zahteve!G668=\"\",\"\",CONCATENATE(B668,\"-opis\")))","v":""},{"$f":"IF(B668=\"\",\"\",IF(Zahteve!H668=\"\",\"\",CONCATENATE(B668,\"-dni\")))","v":""},{"$f":"IF(B668=\"\",\"\",IF(Zahteve!H668=\"\",\"\",Zahteve!H668))","v":""}]
[{"$f":"IF(Zahteve!B669=\"\",\"\",Zahteve!B669)","v":""},{"$f":"IF(Zahteve!B669=\"\",\"\",LEFT(Zahteve!B669,1))","v":""},{"$f":"IF(B669=\"\",\"\",IF(Zahteve!F669=\"da\",CONCATENATE(B669,\"-DA\"),\"\"))","v":""},{"$f":"IF(B669=\"\",\"\",IF(Zahteve!A669=\"da\",CONCATENATE(B669,\"-ustreza\"),\"\"))","v":""},{"$f":"IF(B669=\"\",\"\",IF(Zahteve!G669=\"\",\"\",CONCATENATE(B669,\"-opis\")))","v":""},{"$f":"IF(B669=\"\",\"\",IF(Zahteve!H669=\"\",\"\",CONCATENATE(B669,\"-dni\")))","v":""},{"$f":"IF(B669=\"\",\"\",IF(Zahteve!H669=\"\",\"\",Zahteve!H669))","v":""}]
[{"$f":"IF(Zahteve!B670=\"\",\"\",Zahteve!B670)","v":""},{"$f":"IF(Zahteve!B670=\"\",\"\",LEFT(Zahteve!B670,1))","v":""},{"$f":"IF(B670=\"\",\"\",IF(Zahteve!F670=\"da\",CONCATENATE(B670,\"-DA\"),\"\"))","v":""},{"$f":"IF(B670=\"\",\"\",IF(Zahteve!A670=\"da\",CONCATENATE(B670,\"-ustreza\"),\"\"))","v":""},{"$f":"IF(B670=\"\",\"\",IF(Zahteve!G670=\"\",\"\",CONCATENATE(B670,\"-opis\")))","v":""},{"$f":"IF(B670=\"\",\"\",IF(Zahteve!H670=\"\",\"\",CONCATENATE(B670,\"-dni\")))","v":""},{"$f":"IF(B670=\"\",\"\",IF(Zahteve!H670=\"\",\"\",Zahteve!H670))","v":""}]
[{"$f":"IF(Zahteve!B671=\"\",\"\",Zahteve!B671)","v":""},{"$f":"IF(Zahteve!B671=\"\",\"\",LEFT(Zahteve!B671,1))","v":""},{"$f":"IF(B671=\"\",\"\",IF(Zahteve!F671=\"da\",CONCATENATE(B671,\"-DA\"),\"\"))","v":""},{"$f":"IF(B671=\"\",\"\",IF(Zahteve!A671=\"da\",CONCATENATE(B671,\"-ustreza\"),\"\"))","v":""},{"$f":"IF(B671=\"\",\"\",IF(Zahteve!G671=\"\",\"\",CONCATENATE(B671,\"-opis\")))","v":""},{"$f":"IF(B671=\"\",\"\",IF(Zahteve!H671=\"\",\"\",CONCATENATE(B671,\"-dni\")))","v":""},{"$f":"IF(B671=\"\",\"\",IF(Zahteve!H671=\"\",\"\",Zahteve!H671))","v":""}]
[{"$f":"IF(Zahteve!B672=\"\",\"\",Zahteve!B672)","v":""},{"$f":"IF(Zahteve!B672=\"\",\"\",LEFT(Zahteve!B672,1))","v":""},{"$f":"IF(B672=\"\",\"\",IF(Zahteve!F672=\"da\",CONCATENATE(B672,\"-DA\"),\"\"))","v":""},{"$f":"IF(B672=\"\",\"\",IF(Zahteve!A672=\"da\",CONCATENATE(B672,\"-ustreza\"),\"\"))","v":""},{"$f":"IF(B672=\"\",\"\",IF(Zahteve!G672=\"\",\"\",CONCATENATE(B672,\"-opis\")))","v":""},{"$f":"IF(B672=\"\",\"\",IF(Zahteve!H672=\"\",\"\",CONCATENATE(B672,\"-dni\")))","v":""},{"$f":"IF(B672=\"\",\"\",IF(Zahteve!H672=\"\",\"\",Zahteve!H672))","v":""}]
[{"$f":"IF(Zahteve!B673=\"\",\"\",Zahteve!B673)","v":""},{"$f":"IF(Zahteve!B673=\"\",\"\",LEFT(Zahteve!B673,1))","v":""},{"$f":"IF(B673=\"\",\"\",IF(Zahteve!F673=\"da\",CONCATENATE(B673,\"-DA\"),\"\"))","v":""},{"$f":"IF(B673=\"\",\"\",IF(Zahteve!A673=\"da\",CONCATENATE(B673,\"-ustreza\"),\"\"))","v":""},{"$f":"IF(B673=\"\",\"\",IF(Zahteve!G673=\"\",\"\",CONCATENATE(B673,\"-opis\")))","v":""},{"$f":"IF(B673=\"\",\"\",IF(Zahteve!H673=\"\",\"\",CONCATENATE(B673,\"-dni\")))","v":""},{"$f":"IF(B673=\"\",\"\",IF(Zahteve!H673=\"\",\"\",Zahteve!H673))","v":""}]
[{"$f":"IF(Zahteve!B674=\"\",\"\",Zahteve!B674)","v":""},{"$f":"IF(Zahteve!B674=\"\",\"\",LEFT(Zahteve!B674,1))","v":""},{"$f":"IF(B674=\"\",\"\",IF(Zahteve!F674=\"da\",CONCATENATE(B674,\"-DA\"),\"\"))","v":""},{"$f":"IF(B674=\"\",\"\",IF(Zahteve!A674=\"da\",CONCATENATE(B674,\"-ustreza\"),\"\"))","v":""},{"$f":"IF(B674=\"\",\"\",IF(Zahteve!G674=\"\",\"\",CONCATENATE(B674,\"-opis\")))","v":""},{"$f":"IF(B674=\"\",\"\",IF(Zahteve!H674=\"\",\"\",CONCATENATE(B674,\"-dni\")))","v":""},{"$f":"IF(B674=\"\",\"\",IF(Zahteve!H674=\"\",\"\",Zahteve!H674))","v":""}]
[{"$f":"IF(Zahteve!B675=\"\",\"\",Zahteve!B675)","v":""},{"$f":"IF(Zahteve!B675=\"\",\"\",LEFT(Zahteve!B675,1))","v":""},{"$f":"IF(B675=\"\",\"\",IF(Zahteve!F675=\"da\",CONCATENATE(B675,\"-DA\"),\"\"))","v":""},{"$f":"IF(B675=\"\",\"\",IF(Zahteve!A675=\"da\",CONCATENATE(B675,\"-ustreza\"),\"\"))","v":""},{"$f":"IF(B675=\"\",\"\",IF(Zahteve!G675=\"\",\"\",CONCATENATE(B675,\"-opis\")))","v":""},{"$f":"IF(B675=\"\",\"\",IF(Zahteve!H675=\"\",\"\",CONCATENATE(B675,\"-dni\")))","v":""},{"$f":"IF(B675=\"\",\"\",IF(Zahteve!H675=\"\",\"\",Zahteve!H675))","v":""}]
[{"$f":"IF(Zahteve!B676=\"\",\"\",Zahteve!B676)","v":""},{"$f":"IF(Zahteve!B676=\"\",\"\",LEFT(Zahteve!B676,1))","v":""},{"$f":"IF(B676=\"\",\"\",IF(Zahteve!F676=\"da\",CONCATENATE(B676,\"-DA\"),\"\"))","v":""},{"$f":"IF(B676=\"\",\"\",IF(Zahteve!A676=\"da\",CONCATENATE(B676,\"-ustreza\"),\"\"))","v":""},{"$f":"IF(B676=\"\",\"\",IF(Zahteve!G676=\"\",\"\",CONCATENATE(B676,\"-opis\")))","v":""},{"$f":"IF(B676=\"\",\"\",IF(Zahteve!H676=\"\",\"\",CONCATENATE(B676,\"-dni\")))","v":""},{"$f":"IF(B676=\"\",\"\",IF(Zahteve!H676=\"\",\"\",Zahteve!H676))","v":""}]
[{"$f":"IF(Zahteve!B677=\"\",\"\",Zahteve!B677)","v":""},{"$f":"IF(Zahteve!B677=\"\",\"\",LEFT(Zahteve!B677,1))","v":""},{"$f":"IF(B677=\"\",\"\",IF(Zahteve!F677=\"da\",CONCATENATE(B677,\"-DA\"),\"\"))","v":""},{"$f":"IF(B677=\"\",\"\",IF(Zahteve!A677=\"da\",CONCATENATE(B677,\"-ustreza\"),\"\"))","v":""},{"$f":"IF(B677=\"\",\"\",IF(Zahteve!G677=\"\",\"\",CONCATENATE(B677,\"-opis\")))","v":""},{"$f":"IF(B677=\"\",\"\",IF(Zahteve!H677=\"\",\"\",CONCATENATE(B677,\"-dni\")))","v":""},{"$f":"IF(B677=\"\",\"\",IF(Zahteve!H677=\"\",\"\",Zahteve!H677))","v":""}]
[{"$f":"IF(Zahteve!B678=\"\",\"\",Zahteve!B678)","v":""},{"$f":"IF(Zahteve!B678=\"\",\"\",LEFT(Zahteve!B678,1))","v":""},{"$f":"IF(B678=\"\",\"\",IF(Zahteve!F678=\"da\",CONCATENATE(B678,\"-DA\"),\"\"))","v":""},{"$f":"IF(B678=\"\",\"\",IF(Zahteve!A678=\"da\",CONCATENATE(B678,\"-ustreza\"),\"\"))","v":""},{"$f":"IF(B678=\"\",\"\",IF(Zahteve!G678=\"\",\"\",CONCATENATE(B678,\"-opis\")))","v":""},{"$f":"IF(B678=\"\",\"\",IF(Zahteve!H678=\"\",\"\",CONCATENATE(B678,\"-dni\")))","v":""},{"$f":"IF(B678=\"\",\"\",IF(Zahteve!H678=\"\",\"\",Zahteve!H678))","v":""}]
[{"$f":"IF(Zahteve!B679=\"\",\"\",Zahteve!B679)","v":""},{"$f":"IF(Zahteve!B679=\"\",\"\",LEFT(Zahteve!B679,1))","v":""},{"$f":"IF(B679=\"\",\"\",IF(Zahteve!F679=\"da\",CONCATENATE(B679,\"-DA\"),\"\"))","v":""},{"$f":"IF(B679=\"\",\"\",IF(Zahteve!A679=\"da\",CONCATENATE(B679,\"-ustreza\"),\"\"))","v":""},{"$f":"IF(B679=\"\",\"\",IF(Zahteve!G679=\"\",\"\",CONCATENATE(B679,\"-opis\")))","v":""},{"$f":"IF(B679=\"\",\"\",IF(Zahteve!H679=\"\",\"\",CONCATENATE(B679,\"-dni\")))","v":""},{"$f":"IF(B679=\"\",\"\",IF(Zahteve!H679=\"\",\"\",Zahteve!H679))","v":""}]
[{"$f":"IF(Zahteve!B680=\"\",\"\",Zahteve!B680)","v":""},{"$f":"IF(Zahteve!B680=\"\",\"\",LEFT(Zahteve!B680,1))","v":""},{"$f":"IF(B680=\"\",\"\",IF(Zahteve!F680=\"da\",CONCATENATE(B680,\"-DA\"),\"\"))","v":""},{"$f":"IF(B680=\"\",\"\",IF(Zahteve!A680=\"da\",CONCATENATE(B680,\"-ustreza\"),\"\"))","v":""},{"$f":"IF(B680=\"\",\"\",IF(Zahteve!G680=\"\",\"\",CONCATENATE(B680,\"-opis\")))","v":""},{"$f":"IF(B680=\"\",\"\",IF(Zahteve!H680=\"\",\"\",CONCATENATE(B680,\"-dni\")))","v":""},{"$f":"IF(B680=\"\",\"\",IF(Zahteve!H680=\"\",\"\",Zahteve!H680))","v":""}]
[{"$f":"IF(Zahteve!B681=\"\",\"\",Zahteve!B681)","v":""},{"$f":"IF(Zahteve!B681=\"\",\"\",LEFT(Zahteve!B681,1))","v":""},{"$f":"IF(B681=\"\",\"\",IF(Zahteve!F681=\"da\",CONCATENATE(B681,\"-DA\"),\"\"))","v":""},{"$f":"IF(B681=\"\",\"\",IF(Zahteve!A681=\"da\",CONCATENATE(B681,\"-ustreza\"),\"\"))","v":""},{"$f":"IF(B681=\"\",\"\",IF(Zahteve!G681=\"\",\"\",CONCATENATE(B681,\"-opis\")))","v":""},{"$f":"IF(B681=\"\",\"\",IF(Zahteve!H681=\"\",\"\",CONCATENATE(B681,\"-dni\")))","v":""},{"$f":"IF(B681=\"\",\"\",IF(Zahteve!H681=\"\",\"\",Zahteve!H681))","v":""}]
[{"$f":"IF(Zahteve!B682=\"\",\"\",Zahteve!B682)","v":""},{"$f":"IF(Zahteve!B682=\"\",\"\",LEFT(Zahteve!B682,1))","v":""},{"$f":"IF(B682=\"\",\"\",IF(Zahteve!F682=\"da\",CONCATENATE(B682,\"-DA\"),\"\"))","v":""},{"$f":"IF(B682=\"\",\"\",IF(Zahteve!A682=\"da\",CONCATENATE(B682,\"-ustreza\"),\"\"))","v":""},{"$f":"IF(B682=\"\",\"\",IF(Zahteve!G682=\"\",\"\",CONCATENATE(B682,\"-opis\")))","v":""},{"$f":"IF(B682=\"\",\"\",IF(Zahteve!H682=\"\",\"\",CONCATENATE(B682,\"-dni\")))","v":""},{"$f":"IF(B682=\"\",\"\",IF(Zahteve!H682=\"\",\"\",Zahteve!H682))","v":""}]
[{"$f":"IF(Zahteve!B683=\"\",\"\",Zahteve!B683)","v":""},{"$f":"IF(Zahteve!B683=\"\",\"\",LEFT(Zahteve!B683,1))","v":""},{"$f":"IF(B683=\"\",\"\",IF(Zahteve!F683=\"da\",CONCATENATE(B683,\"-DA\"),\"\"))","v":""},{"$f":"IF(B683=\"\",\"\",IF(Zahteve!A683=\"da\",CONCATENATE(B683,\"-ustreza\"),\"\"))","v":""},{"$f":"IF(B683=\"\",\"\",IF(Zahteve!G683=\"\",\"\",CONCATENATE(B683,\"-opis\")))","v":""},{"$f":"IF(B683=\"\",\"\",IF(Zahteve!H683=\"\",\"\",CONCATENATE(B683,\"-dni\")))","v":""},{"$f":"IF(B683=\"\",\"\",IF(Zahteve!H683=\"\",\"\",Zahteve!H683))","v":""}]
[{"$f":"IF(Zahteve!B684=\"\",\"\",Zahteve!B684)","v":""},{"$f":"IF(Zahteve!B684=\"\",\"\",LEFT(Zahteve!B684,1))","v":""},{"$f":"IF(B684=\"\",\"\",IF(Zahteve!F684=\"da\",CONCATENATE(B684,\"-DA\"),\"\"))","v":""},{"$f":"IF(B684=\"\",\"\",IF(Zahteve!A684=\"da\",CONCATENATE(B684,\"-ustreza\"),\"\"))","v":""},{"$f":"IF(B684=\"\",\"\",IF(Zahteve!G684=\"\",\"\",CONCATENATE(B684,\"-opis\")))","v":""},{"$f":"IF(B684=\"\",\"\",IF(Zahteve!H684=\"\",\"\",CONCATENATE(B684,\"-dni\")))","v":""},{"$f":"IF(B684=\"\",\"\",IF(Zahteve!H684=\"\",\"\",Zahteve!H684))","v":""}]
[{"$f":"IF(Zahteve!B685=\"\",\"\",Zahteve!B685)","v":""},{"$f":"IF(Zahteve!B685=\"\",\"\",LEFT(Zahteve!B685,1))","v":""},{"$f":"IF(B685=\"\",\"\",IF(Zahteve!F685=\"da\",CONCATENATE(B685,\"-DA\"),\"\"))","v":""},{"$f":"IF(B685=\"\",\"\",IF(Zahteve!A685=\"da\",CONCATENATE(B685,\"-ustreza\"),\"\"))","v":""},{"$f":"IF(B685=\"\",\"\",IF(Zahteve!G685=\"\",\"\",CONCATENATE(B685,\"-opis\")))","v":""},{"$f":"IF(B685=\"\",\"\",IF(Zahteve!H685=\"\",\"\",CONCATENATE(B685,\"-dni\")))","v":""},{"$f":"IF(B685=\"\",\"\",IF(Zahteve!H685=\"\",\"\",Zahteve!H685))","v":""}]
[{"$f":"IF(Zahteve!B686=\"\",\"\",Zahteve!B686)","v":""},{"$f":"IF(Zahteve!B686=\"\",\"\",LEFT(Zahteve!B686,1))","v":""},{"$f":"IF(B686=\"\",\"\",IF(Zahteve!F686=\"da\",CONCATENATE(B686,\"-DA\"),\"\"))","v":""},{"$f":"IF(B686=\"\",\"\",IF(Zahteve!A686=\"da\",CONCATENATE(B686,\"-ustreza\"),\"\"))","v":""},{"$f":"IF(B686=\"\",\"\",IF(Zahteve!G686=\"\",\"\",CONCATENATE(B686,\"-opis\")))","v":""},{"$f":"IF(B686=\"\",\"\",IF(Zahteve!H686=\"\",\"\",CONCATENATE(B686,\"-dni\")))","v":""},{"$f":"IF(B686=\"\",\"\",IF(Zahteve!H686=\"\",\"\",Zahteve!H686))","v":""}]
[{"$f":"IF(Zahteve!B687=\"\",\"\",Zahteve!B687)","v":""},{"$f":"IF(Zahteve!B687=\"\",\"\",LEFT(Zahteve!B687,1))","v":""},{"$f":"IF(B687=\"\",\"\",IF(Zahteve!F687=\"da\",CONCATENATE(B687,\"-DA\"),\"\"))","v":""},{"$f":"IF(B687=\"\",\"\",IF(Zahteve!A687=\"da\",CONCATENATE(B687,\"-ustreza\"),\"\"))","v":""},{"$f":"IF(B687=\"\",\"\",IF(Zahteve!G687=\"\",\"\",CONCATENATE(B687,\"-opis\")))","v":""},{"$f":"IF(B687=\"\",\"\",IF(Zahteve!H687=\"\",\"\",CONCATENATE(B687,\"-dni\")))","v":""},{"$f":"IF(B687=\"\",\"\",IF(Zahteve!H687=\"\",\"\",Zahteve!H687))","v":""}]
[{"$f":"IF(Zahteve!B688=\"\",\"\",Zahteve!B688)","v":""},{"$f":"IF(Zahteve!B688=\"\",\"\",LEFT(Zahteve!B688,1))","v":""},{"$f":"IF(B688=\"\",\"\",IF(Zahteve!F688=\"da\",CONCATENATE(B688,\"-DA\"),\"\"))","v":""},{"$f":"IF(B688=\"\",\"\",IF(Zahteve!A688=\"da\",CONCATENATE(B688,\"-ustreza\"),\"\"))","v":""},{"$f":"IF(B688=\"\",\"\",IF(Zahteve!G688=\"\",\"\",CONCATENATE(B688,\"-opis\")))","v":""},{"$f":"IF(B688=\"\",\"\",IF(Zahteve!H688=\"\",\"\",CONCATENATE(B688,\"-dni\")))","v":""},{"$f":"IF(B688=\"\",\"\",IF(Zahteve!H688=\"\",\"\",Zahteve!H688))","v":""}]
[{"$f":"IF(Zahteve!B689=\"\",\"\",Zahteve!B689)","v":""},{"$f":"IF(Zahteve!B689=\"\",\"\",LEFT(Zahteve!B689,1))","v":""},{"$f":"IF(B689=\"\",\"\",IF(Zahteve!F689=\"da\",CONCATENATE(B689,\"-DA\"),\"\"))","v":""},{"$f":"IF(B689=\"\",\"\",IF(Zahteve!A689=\"da\",CONCATENATE(B689,\"-ustreza\"),\"\"))","v":""},{"$f":"IF(B689=\"\",\"\",IF(Zahteve!G689=\"\",\"\",CONCATENATE(B689,\"-opis\")))","v":""},{"$f":"IF(B689=\"\",\"\",IF(Zahteve!H689=\"\",\"\",CONCATENATE(B689,\"-dni\")))","v":""},{"$f":"IF(B689=\"\",\"\",IF(Zahteve!H689=\"\",\"\",Zahteve!H689))","v":""}]
[{"$f":"IF(Zahteve!B690=\"\",\"\",Zahteve!B690)","v":""},{"$f":"IF(Zahteve!B690=\"\",\"\",LEFT(Zahteve!B690,1))","v":""},{"$f":"IF(B690=\"\",\"\",IF(Zahteve!F690=\"da\",CONCATENATE(B690,\"-DA\"),\"\"))","v":""},{"$f":"IF(B690=\"\",\"\",IF(Zahteve!A690=\"da\",CONCATENATE(B690,\"-ustreza\"),\"\"))","v":""},{"$f":"IF(B690=\"\",\"\",IF(Zahteve!G690=\"\",\"\",CONCATENATE(B690,\"-opis\")))","v":""},{"$f":"IF(B690=\"\",\"\",IF(Zahteve!H690=\"\",\"\",CONCATENATE(B690,\"-dni\")))","v":""},{"$f":"IF(B690=\"\",\"\",IF(Zahteve!H690=\"\",\"\",Zahteve!H690))","v":""}]
[{"$f":"IF(Zahteve!B691=\"\",\"\",Zahteve!B691)","v":""},{"$f":"IF(Zahteve!B691=\"\",\"\",LEFT(Zahteve!B691,1))","v":""},{"$f":"IF(B691=\"\",\"\",IF(Zahteve!F691=\"da\",CONCATENATE(B691,\"-DA\"),\"\"))","v":""},{"$f":"IF(B691=\"\",\"\",IF(Zahteve!A691=\"da\",CONCATENATE(B691,\"-ustreza\"),\"\"))","v":""},{"$f":"IF(B691=\"\",\"\",IF(Zahteve!G691=\"\",\"\",CONCATENATE(B691,\"-opis\")))","v":""},{"$f":"IF(B691=\"\",\"\",IF(Zahteve!H691=\"\",\"\",CONCATENATE(B691,\"-dni\")))","v":""},{"$f":"IF(B691=\"\",\"\",IF(Zahteve!H691=\"\",\"\",Zahteve!H691))","v":""}]
[{"$f":"IF(Zahteve!B692=\"\",\"\",Zahteve!B692)","v":""},{"$f":"IF(Zahteve!B692=\"\",\"\",LEFT(Zahteve!B692,1))","v":""},{"$f":"IF(B692=\"\",\"\",IF(Zahteve!F692=\"da\",CONCATENATE(B692,\"-DA\"),\"\"))","v":""},{"$f":"IF(B692=\"\",\"\",IF(Zahteve!A692=\"da\",CONCATENATE(B692,\"-ustreza\"),\"\"))","v":""},{"$f":"IF(B692=\"\",\"\",IF(Zahteve!G692=\"\",\"\",CONCATENATE(B692,\"-opis\")))","v":""},{"$f":"IF(B692=\"\",\"\",IF(Zahteve!H692=\"\",\"\",CONCATENATE(B692,\"-dni\")))","v":""},{"$f":"IF(B692=\"\",\"\",IF(Zahteve!H692=\"\",\"\",Zahteve!H692))","v":""}]
[{"$f":"IF(Zahteve!B693=\"\",\"\",Zahteve!B693)","v":""},{"$f":"IF(Zahteve!B693=\"\",\"\",LEFT(Zahteve!B693,1))","v":""},{"$f":"IF(B693=\"\",\"\",IF(Zahteve!F693=\"da\",CONCATENATE(B693,\"-DA\"),\"\"))","v":""},{"$f":"IF(B693=\"\",\"\",IF(Zahteve!A693=\"da\",CONCATENATE(B693,\"-ustreza\"),\"\"))","v":""},{"$f":"IF(B693=\"\",\"\",IF(Zahteve!G693=\"\",\"\",CONCATENATE(B693,\"-opis\")))","v":""},{"$f":"IF(B693=\"\",\"\",IF(Zahteve!H693=\"\",\"\",CONCATENATE(B693,\"-dni\")))","v":""},{"$f":"IF(B693=\"\",\"\",IF(Zahteve!H693=\"\",\"\",Zahteve!H693))","v":""}]
[{"$f":"IF(Zahteve!B694=\"\",\"\",Zahteve!B694)","v":""},{"$f":"IF(Zahteve!B694=\"\",\"\",LEFT(Zahteve!B694,1))","v":""},{"$f":"IF(B694=\"\",\"\",IF(Zahteve!F694=\"da\",CONCATENATE(B694,\"-DA\"),\"\"))","v":""},{"$f":"IF(B694=\"\",\"\",IF(Zahteve!A694=\"da\",CONCATENATE(B694,\"-ustreza\"),\"\"))","v":""},{"$f":"IF(B694=\"\",\"\",IF(Zahteve!G694=\"\",\"\",CONCATENATE(B694,\"-opis\")))","v":""},{"$f":"IF(B694=\"\",\"\",IF(Zahteve!H694=\"\",\"\",CONCATENATE(B694,\"-dni\")))","v":""},{"$f":"IF(B694=\"\",\"\",IF(Zahteve!H694=\"\",\"\",Zahteve!H694))","v":""}]
[{"$f":"IF(Zahteve!B695=\"\",\"\",Zahteve!B695)","v":""},{"$f":"IF(Zahteve!B695=\"\",\"\",LEFT(Zahteve!B695,1))","v":""},{"$f":"IF(B695=\"\",\"\",IF(Zahteve!F695=\"da\",CONCATENATE(B695,\"-DA\"),\"\"))","v":""},{"$f":"IF(B695=\"\",\"\",IF(Zahteve!A695=\"da\",CONCATENATE(B695,\"-ustreza\"),\"\"))","v":""},{"$f":"IF(B695=\"\",\"\",IF(Zahteve!G695=\"\",\"\",CONCATENATE(B695,\"-opis\")))","v":""},{"$f":"IF(B695=\"\",\"\",IF(Zahteve!H695=\"\",\"\",CONCATENATE(B695,\"-dni\")))","v":""},{"$f":"IF(B695=\"\",\"\",IF(Zahteve!H695=\"\",\"\",Zahteve!H695))","v":""}]
[{"$f":"IF(Zahteve!B696=\"\",\"\",Zahteve!B696)","v":""},{"$f":"IF(Zahteve!B696=\"\",\"\",LEFT(Zahteve!B696,1))","v":""},{"$f":"IF(B696=\"\",\"\",IF(Zahteve!F696=\"da\",CONCATENATE(B696,\"-DA\"),\"\"))","v":""},{"$f":"IF(B696=\"\",\"\",IF(Zahteve!A696=\"da\",CONCATENATE(B696,\"-ustreza\"),\"\"))","v":""},{"$f":"IF(B696=\"\",\"\",IF(Zahteve!G696=\"\",\"\",CONCATENATE(B696,\"-opis\")))","v":""},{"$f":"IF(B696=\"\",\"\",IF(Zahteve!H696=\"\",\"\",CONCATENATE(B696,\"-dni\")))","v":""},{"$f":"IF(B696=\"\",\"\",IF(Zahteve!H696=\"\",\"\",Zahteve!H696))","v":""}]
[{"$f":"IF(Zahteve!B697=\"\",\"\",Zahteve!B697)","v":""},{"$f":"IF(Zahteve!B697=\"\",\"\",LEFT(Zahteve!B697,1))","v":""},{"$f":"IF(B697=\"\",\"\",IF(Zahteve!F697=\"da\",CONCATENATE(B697,\"-DA\"),\"\"))","v":""},{"$f":"IF(B697=\"\",\"\",IF(Zahteve!A697=\"da\",CONCATENATE(B697,\"-ustreza\"),\"\"))","v":""},{"$f":"IF(B697=\"\",\"\",IF(Zahteve!G697=\"\",\"\",CONCATENATE(B697,\"-opis\")))","v":""},{"$f":"IF(B697=\"\",\"\",IF(Zahteve!H697=\"\",\"\",CONCATENATE(B697,\"-dni\")))","v":""},{"$f":"IF(B697=\"\",\"\",IF(Zahteve!H697=\"\",\"\",Zahteve!H697))","v":""}]
[{"$f":"IF(Zahteve!B698=\"\",\"\",Zahteve!B698)","v":""},{"$f":"IF(Zahteve!B698=\"\",\"\",LEFT(Zahteve!B698,1))","v":""},{"$f":"IF(B698=\"\",\"\",IF(Zahteve!F698=\"da\",CONCATENATE(B698,\"-DA\"),\"\"))","v":""},{"$f":"IF(B698=\"\",\"\",IF(Zahteve!A698=\"da\",CONCATENATE(B698,\"-ustreza\"),\"\"))","v":""},{"$f":"IF(B698=\"\",\"\",IF(Zahteve!G698=\"\",\"\",CONCATENATE(B698,\"-opis\")))","v":""},{"$f":"IF(B698=\"\",\"\",IF(Zahteve!H698=\"\",\"\",CONCATENATE(B698,\"-dni\")))","v":""},{"$f":"IF(B698=\"\",\"\",IF(Zahteve!H698=\"\",\"\",Zahteve!H698))","v":""}]
[{"$f":"IF(Zahteve!B699=\"\",\"\",Zahteve!B699)","v":""},{"$f":"IF(Zahteve!B699=\"\",\"\",LEFT(Zahteve!B699,1))","v":""},{"$f":"IF(B699=\"\",\"\",IF(Zahteve!F699=\"da\",CONCATENATE(B699,\"-DA\"),\"\"))","v":""},{"$f":"IF(B699=\"\",\"\",IF(Zahteve!A699=\"da\",CONCATENATE(B699,\"-ustreza\"),\"\"))","v":""},{"$f":"IF(B699=\"\",\"\",IF(Zahteve!G699=\"\",\"\",CONCATENATE(B699,\"-opis\")))","v":""},{"$f":"IF(B699=\"\",\"\",IF(Zahteve!H699=\"\",\"\",CONCATENATE(B699,\"-dni\")))","v":""},{"$f":"IF(B699=\"\",\"\",IF(Zahteve!H699=\"\",\"\",Zahteve!H699))","v":""}]
[{"$f":"IF(Zahteve!B700=\"\",\"\",Zahteve!B700)","v":""},{"$f":"IF(Zahteve!B700=\"\",\"\",LEFT(Zahteve!B700,1))","v":""},{"$f":"IF(B700=\"\",\"\",IF(Zahteve!F700=\"da\",CONCATENATE(B700,\"-DA\"),\"\"))","v":""},{"$f":"IF(B700=\"\",\"\",IF(Zahteve!A700=\"da\",CONCATENATE(B700,\"-ustreza\"),\"\"))","v":""},{"$f":"IF(B700=\"\",\"\",IF(Zahteve!G700=\"\",\"\",CONCATENATE(B700,\"-opis\")))","v":""},{"$f":"IF(B700=\"\",\"\",IF(Zahteve!H700=\"\",\"\",CONCATENATE(B700,\"-dni\")))","v":""},{"$f":"IF(B700=\"\",\"\",IF(Zahteve!H700=\"\",\"\",Zahteve!H700))","v":""}]
[{"$f":"IF(Zahteve!B701=\"\",\"\",Zahteve!B701)","v":""},{"$f":"IF(Zahteve!B701=\"\",\"\",LEFT(Zahteve!B701,1))","v":""},{"$f":"IF(B701=\"\",\"\",IF(Zahteve!F701=\"da\",CONCATENATE(B701,\"-DA\"),\"\"))","v":""},{"$f":"IF(B701=\"\",\"\",IF(Zahteve!A701=\"da\",CONCATENATE(B701,\"-ustreza\"),\"\"))","v":""},{"$f":"IF(B701=\"\",\"\",IF(Zahteve!G701=\"\",\"\",CONCATENATE(B701,\"-opis\")))","v":""},{"$f":"IF(B701=\"\",\"\",IF(Zahteve!H701=\"\",\"\",CONCATENATE(B701,\"-dni\")))","v":""},{"$f":"IF(B701=\"\",\"\",IF(Zahteve!H701=\"\",\"\",Zahteve!H701))","v":""}]
[{"$f":"IF(Zahteve!B702=\"\",\"\",Zahteve!B702)","v":""},{"$f":"IF(Zahteve!B702=\"\",\"\",LEFT(Zahteve!B702,1))","v":""},{"$f":"IF(B702=\"\",\"\",IF(Zahteve!F702=\"da\",CONCATENATE(B702,\"-DA\"),\"\"))","v":""},{"$f":"IF(B702=\"\",\"\",IF(Zahteve!A702=\"da\",CONCATENATE(B702,\"-ustreza\"),\"\"))","v":""},{"$f":"IF(B702=\"\",\"\",IF(Zahteve!G702=\"\",\"\",CONCATENATE(B702,\"-opis\")))","v":""},{"$f":"IF(B702=\"\",\"\",IF(Zahteve!H702=\"\",\"\",CONCATENATE(B702,\"-dni\")))","v":""},{"$f":"IF(B702=\"\",\"\",IF(Zahteve!H702=\"\",\"\",Zahteve!H702))","v":""}]
[{"$f":"IF(Zahteve!B703=\"\",\"\",Zahteve!B703)","v":""},{"$f":"IF(Zahteve!B703=\"\",\"\",LEFT(Zahteve!B703,1))","v":""},{"$f":"IF(B703=\"\",\"\",IF(Zahteve!F703=\"da\",CONCATENATE(B703,\"-DA\"),\"\"))","v":""},{"$f":"IF(B703=\"\",\"\",IF(Zahteve!A703=\"da\",CONCATENATE(B703,\"-ustreza\"),\"\"))","v":""},{"$f":"IF(B703=\"\",\"\",IF(Zahteve!G703=\"\",\"\",CONCATENATE(B703,\"-opis\")))","v":""},{"$f":"IF(B703=\"\",\"\",IF(Zahteve!H703=\"\",\"\",CONCATENATE(B703,\"-dni\")))","v":""},{"$f":"IF(B703=\"\",\"\",IF(Zahteve!H703=\"\",\"\",Zahteve!H703))","v":""}]
[{"$f":"IF(Zahteve!B704=\"\",\"\",Zahteve!B704)","v":""},{"$f":"IF(Zahteve!B704=\"\",\"\",LEFT(Zahteve!B704,1))","v":""},{"$f":"IF(B704=\"\",\"\",IF(Zahteve!F704=\"da\",CONCATENATE(B704,\"-DA\"),\"\"))","v":""},{"$f":"IF(B704=\"\",\"\",IF(Zahteve!A704=\"da\",CONCATENATE(B704,\"-ustreza\"),\"\"))","v":""},{"$f":"IF(B704=\"\",\"\",IF(Zahteve!G704=\"\",\"\",CONCATENATE(B704,\"-opis\")))","v":""},{"$f":"IF(B704=\"\",\"\",IF(Zahteve!H704=\"\",\"\",CONCATENATE(B704,\"-dni\")))","v":""},{"$f":"IF(B704=\"\",\"\",IF(Zahteve!H704=\"\",\"\",Zahteve!H704))","v":""}]
[{"$f":"IF(Zahteve!B705=\"\",\"\",Zahteve!B705)","v":""},{"$f":"IF(Zahteve!B705=\"\",\"\",LEFT(Zahteve!B705,1))","v":""},{"$f":"IF(B705=\"\",\"\",IF(Zahteve!F705=\"da\",CONCATENATE(B705,\"-DA\"),\"\"))","v":""},{"$f":"IF(B705=\"\",\"\",IF(Zahteve!A705=\"da\",CONCATENATE(B705,\"-ustreza\"),\"\"))","v":""},{"$f":"IF(B705=\"\",\"\",IF(Zahteve!G705=\"\",\"\",CONCATENATE(B705,\"-opis\")))","v":""},{"$f":"IF(B705=\"\",\"\",IF(Zahteve!H705=\"\",\"\",CONCATENATE(B705,\"-dni\")))","v":""},{"$f":"IF(B705=\"\",\"\",IF(Zahteve!H705=\"\",\"\",Zahteve!H705))","v":""}]
[{"$f":"IF(Zahteve!B706=\"\",\"\",Zahteve!B706)","v":""},{"$f":"IF(Zahteve!B706=\"\",\"\",LEFT(Zahteve!B706,1))","v":""},{"$f":"IF(B706=\"\",\"\",IF(Zahteve!F706=\"da\",CONCATENATE(B706,\"-DA\"),\"\"))","v":""},{"$f":"IF(B706=\"\",\"\",IF(Zahteve!A706=\"da\",CONCATENATE(B706,\"-ustreza\"),\"\"))","v":""},{"$f":"IF(B706=\"\",\"\",IF(Zahteve!G706=\"\",\"\",CONCATENATE(B706,\"-opis\")))","v":""},{"$f":"IF(B706=\"\",\"\",IF(Zahteve!H706=\"\",\"\",CONCATENATE(B706,\"-dni\")))","v":""},{"$f":"IF(B706=\"\",\"\",IF(Zahteve!H706=\"\",\"\",Zahteve!H706))","v":""}]
[{"$f":"IF(Zahteve!B707=\"\",\"\",Zahteve!B707)","v":""},{"$f":"IF(Zahteve!B707=\"\",\"\",LEFT(Zahteve!B707,1))","v":""},{"$f":"IF(B707=\"\",\"\",IF(Zahteve!F707=\"da\",CONCATENATE(B707,\"-DA\"),\"\"))","v":""},{"$f":"IF(B707=\"\",\"\",IF(Zahteve!A707=\"da\",CONCATENATE(B707,\"-ustreza\"),\"\"))","v":""},{"$f":"IF(B707=\"\",\"\",IF(Zahteve!G707=\"\",\"\",CONCATENATE(B707,\"-opis\")))","v":""},{"$f":"IF(B707=\"\",\"\",IF(Zahteve!H707=\"\",\"\",CONCATENATE(B707,\"-dni\")))","v":""},{"$f":"IF(B707=\"\",\"\",IF(Zahteve!H707=\"\",\"\",Zahteve!H707))","v":""}]
[{"$f":"IF(Zahteve!B708=\"\",\"\",Zahteve!B708)","v":""},{"$f":"IF(Zahteve!B708=\"\",\"\",LEFT(Zahteve!B708,1))","v":""},{"$f":"IF(B708=\"\",\"\",IF(Zahteve!F708=\"da\",CONCATENATE(B708,\"-DA\"),\"\"))","v":""},{"$f":"IF(B708=\"\",\"\",IF(Zahteve!A708=\"da\",CONCATENATE(B708,\"-ustreza\"),\"\"))","v":""},{"$f":"IF(B708=\"\",\"\",IF(Zahteve!G708=\"\",\"\",CONCATENATE(B708,\"-opis\")))","v":""},{"$f":"IF(B708=\"\",\"\",IF(Zahteve!H708=\"\",\"\",CONCATENATE(B708,\"-dni\")))","v":""},{"$f":"IF(B708=\"\",\"\",IF(Zahteve!H708=\"\",\"\",Zahteve!H708))","v":""}]
[{"$f":"IF(Zahteve!B709=\"\",\"\",Zahteve!B709)","v":""},{"$f":"IF(Zahteve!B709=\"\",\"\",LEFT(Zahteve!B709,1))","v":""},{"$f":"IF(B709=\"\",\"\",IF(Zahteve!F709=\"da\",CONCATENATE(B709,\"-DA\"),\"\"))","v":""},{"$f":"IF(B709=\"\",\"\",IF(Zahteve!A709=\"da\",CONCATENATE(B709,\"-ustreza\"),\"\"))","v":""},{"$f":"IF(B709=\"\",\"\",IF(Zahteve!G709=\"\",\"\",CONCATENATE(B709,\"-opis\")))","v":""},{"$f":"IF(B709=\"\",\"\",IF(Zahteve!H709=\"\",\"\",CONCATENATE(B709,\"-dni\")))","v":""},{"$f":"IF(B709=\"\",\"\",IF(Zahteve!H709=\"\",\"\",Zahteve!H709))","v":""}]
[{"$f":"IF(Zahteve!B710=\"\",\"\",Zahteve!B710)","v":""},{"$f":"IF(Zahteve!B710=\"\",\"\",LEFT(Zahteve!B710,1))","v":""},{"$f":"IF(B710=\"\",\"\",IF(Zahteve!F710=\"da\",CONCATENATE(B710,\"-DA\"),\"\"))","v":""},{"$f":"IF(B710=\"\",\"\",IF(Zahteve!A710=\"da\",CONCATENATE(B710,\"-ustreza\"),\"\"))","v":""},{"$f":"IF(B710=\"\",\"\",IF(Zahteve!G710=\"\",\"\",CONCATENATE(B710,\"-opis\")))","v":""},{"$f":"IF(B710=\"\",\"\",IF(Zahteve!H710=\"\",\"\",CONCATENATE(B710,\"-dni\")))","v":""},{"$f":"IF(B710=\"\",\"\",IF(Zahteve!H710=\"\",\"\",Zahteve!H710))","v":""}]
[{"$f":"IF(Zahteve!B711=\"\",\"\",Zahteve!B711)","v":""},{"$f":"IF(Zahteve!B711=\"\",\"\",LEFT(Zahteve!B711,1))","v":""},{"$f":"IF(B711=\"\",\"\",IF(Zahteve!F711=\"da\",CONCATENATE(B711,\"-DA\"),\"\"))","v":""},{"$f":"IF(B711=\"\",\"\",IF(Zahteve!A711=\"da\",CONCATENATE(B711,\"-ustreza\"),\"\"))","v":""},{"$f":"IF(B711=\"\",\"\",IF(Zahteve!G711=\"\",\"\",CONCATENATE(B711,\"-opis\")))","v":""},{"$f":"IF(B711=\"\",\"\",IF(Zahteve!H711=\"\",\"\",CONCATENATE(B711,\"-dni\")))","v":""},{"$f":"IF(B711=\"\",\"\",IF(Zahteve!H711=\"\",\"\",Zahteve!H711))","v":""}]
[{"$f":"IF(Zahteve!B712=\"\",\"\",Zahteve!B712)","v":""},{"$f":"IF(Zahteve!B712=\"\",\"\",LEFT(Zahteve!B712,1))","v":""},{"$f":"IF(B712=\"\",\"\",IF(Zahteve!F712=\"da\",CONCATENATE(B712,\"-DA\"),\"\"))","v":""},{"$f":"IF(B712=\"\",\"\",IF(Zahteve!A712=\"da\",CONCATENATE(B712,\"-ustreza\"),\"\"))","v":""},{"$f":"IF(B712=\"\",\"\",IF(Zahteve!G712=\"\",\"\",CONCATENATE(B712,\"-opis\")))","v":""},{"$f":"IF(B712=\"\",\"\",IF(Zahteve!H712=\"\",\"\",CONCATENATE(B712,\"-dni\")))","v":""},{"$f":"IF(B712=\"\",\"\",IF(Zahteve!H712=\"\",\"\",Zahteve!H712))","v":""}]
[{"$f":"IF(Zahteve!B713=\"\",\"\",Zahteve!B713)","v":""},{"$f":"IF(Zahteve!B713=\"\",\"\",LEFT(Zahteve!B713,1))","v":""},{"$f":"IF(B713=\"\",\"\",IF(Zahteve!F713=\"da\",CONCATENATE(B713,\"-DA\"),\"\"))","v":""},{"$f":"IF(B713=\"\",\"\",IF(Zahteve!A713=\"da\",CONCATENATE(B713,\"-ustreza\"),\"\"))","v":""},{"$f":"IF(B713=\"\",\"\",IF(Zahteve!G713=\"\",\"\",CONCATENATE(B713,\"-opis\")))","v":""},{"$f":"IF(B713=\"\",\"\",IF(Zahteve!H713=\"\",\"\",CONCATENATE(B713,\"-dni\")))","v":""},{"$f":"IF(B713=\"\",\"\",IF(Zahteve!H713=\"\",\"\",Zahteve!H713))","v":""}]
[{"$f":"IF(Zahteve!B714=\"\",\"\",Zahteve!B714)","v":""},{"$f":"IF(Zahteve!B714=\"\",\"\",LEFT(Zahteve!B714,1))","v":""},{"$f":"IF(B714=\"\",\"\",IF(Zahteve!F714=\"da\",CONCATENATE(B714,\"-DA\"),\"\"))","v":""},{"$f":"IF(B714=\"\",\"\",IF(Zahteve!A714=\"da\",CONCATENATE(B714,\"-ustreza\"),\"\"))","v":""},{"$f":"IF(B714=\"\",\"\",IF(Zahteve!G714=\"\",\"\",CONCATENATE(B714,\"-opis\")))","v":""},{"$f":"IF(B714=\"\",\"\",IF(Zahteve!H714=\"\",\"\",CONCATENATE(B714,\"-dni\")))","v":""},{"$f":"IF(B714=\"\",\"\",IF(Zahteve!H714=\"\",\"\",Zahteve!H714))","v":""}]
[{"$f":"IF(Zahteve!B715=\"\",\"\",Zahteve!B715)","v":""},{"$f":"IF(Zahteve!B715=\"\",\"\",LEFT(Zahteve!B715,1))","v":""},{"$f":"IF(B715=\"\",\"\",IF(Zahteve!F715=\"da\",CONCATENATE(B715,\"-DA\"),\"\"))","v":""},{"$f":"IF(B715=\"\",\"\",IF(Zahteve!A715=\"da\",CONCATENATE(B715,\"-ustreza\"),\"\"))","v":""},{"$f":"IF(B715=\"\",\"\",IF(Zahteve!G715=\"\",\"\",CONCATENATE(B715,\"-opis\")))","v":""},{"$f":"IF(B715=\"\",\"\",IF(Zahteve!H715=\"\",\"\",CONCATENATE(B715,\"-dni\")))","v":""},{"$f":"IF(B715=\"\",\"\",IF(Zahteve!H715=\"\",\"\",Zahteve!H715))","v":""}]
[{"$f":"IF(Zahteve!B716=\"\",\"\",Zahteve!B716)","v":""},{"$f":"IF(Zahteve!B716=\"\",\"\",LEFT(Zahteve!B716,1))","v":""},{"$f":"IF(B716=\"\",\"\",IF(Zahteve!F716=\"da\",CONCATENATE(B716,\"-DA\"),\"\"))","v":""},{"$f":"IF(B716=\"\",\"\",IF(Zahteve!A716=\"da\",CONCATENATE(B716,\"-ustreza\"),\"\"))","v":""},{"$f":"IF(B716=\"\",\"\",IF(Zahteve!G716=\"\",\"\",CONCATENATE(B716,\"-opis\")))","v":""},{"$f":"IF(B716=\"\",\"\",IF(Zahteve!H716=\"\",\"\",CONCATENATE(B716,\"-dni\")))","v":""},{"$f":"IF(B716=\"\",\"\",IF(Zahteve!H716=\"\",\"\",Zahteve!H716))","v":""}]
[{"$f":"IF(Zahteve!B717=\"\",\"\",Zahteve!B717)","v":""},{"$f":"IF(Zahteve!B717=\"\",\"\",LEFT(Zahteve!B717,1))","v":""},{"$f":"IF(B717=\"\",\"\",IF(Zahteve!F717=\"da\",CONCATENATE(B717,\"-DA\"),\"\"))","v":""},{"$f":"IF(B717=\"\",\"\",IF(Zahteve!A717=\"da\",CONCATENATE(B717,\"-ustreza\"),\"\"))","v":""},{"$f":"IF(B717=\"\",\"\",IF(Zahteve!G717=\"\",\"\",CONCATENATE(B717,\"-opis\")))","v":""},{"$f":"IF(B717=\"\",\"\",IF(Zahteve!H717=\"\",\"\",CONCATENATE(B717,\"-dni\")))","v":""},{"$f":"IF(B717=\"\",\"\",IF(Zahteve!H717=\"\",\"\",Zahteve!H717))","v":""}]
[{"$f":"IF(Zahteve!B718=\"\",\"\",Zahteve!B718)","v":""},{"$f":"IF(Zahteve!B718=\"\",\"\",LEFT(Zahteve!B718,1))","v":""},{"$f":"IF(B718=\"\",\"\",IF(Zahteve!F718=\"da\",CONCATENATE(B718,\"-DA\"),\"\"))","v":""},{"$f":"IF(B718=\"\",\"\",IF(Zahteve!A718=\"da\",CONCATENATE(B718,\"-ustreza\"),\"\"))","v":""},{"$f":"IF(B718=\"\",\"\",IF(Zahteve!G718=\"\",\"\",CONCATENATE(B718,\"-opis\")))","v":""},{"$f":"IF(B718=\"\",\"\",IF(Zahteve!H718=\"\",\"\",CONCATENATE(B718,\"-dni\")))","v":""},{"$f":"IF(B718=\"\",\"\",IF(Zahteve!H718=\"\",\"\",Zahteve!H718))","v":""}]
[{"$f":"IF(Zahteve!B719=\"\",\"\",Zahteve!B719)","v":""},{"$f":"IF(Zahteve!B719=\"\",\"\",LEFT(Zahteve!B719,1))","v":""},{"$f":"IF(B719=\"\",\"\",IF(Zahteve!F719=\"da\",CONCATENATE(B719,\"-DA\"),\"\"))","v":""},{"$f":"IF(B719=\"\",\"\",IF(Zahteve!A719=\"da\",CONCATENATE(B719,\"-ustreza\"),\"\"))","v":""},{"$f":"IF(B719=\"\",\"\",IF(Zahteve!G719=\"\",\"\",CONCATENATE(B719,\"-opis\")))","v":""},{"$f":"IF(B719=\"\",\"\",IF(Zahteve!H719=\"\",\"\",CONCATENATE(B719,\"-dni\")))","v":""},{"$f":"IF(B719=\"\",\"\",IF(Zahteve!H719=\"\",\"\",Zahteve!H719))","v":""}]
[{"$f":"IF(Zahteve!B720=\"\",\"\",Zahteve!B720)","v":""},{"$f":"IF(Zahteve!B720=\"\",\"\",LEFT(Zahteve!B720,1))","v":""},{"$f":"IF(B720=\"\",\"\",IF(Zahteve!F720=\"da\",CONCATENATE(B720,\"-DA\"),\"\"))","v":""},{"$f":"IF(B720=\"\",\"\",IF(Zahteve!A720=\"da\",CONCATENATE(B720,\"-ustreza\"),\"\"))","v":""},{"$f":"IF(B720=\"\",\"\",IF(Zahteve!G720=\"\",\"\",CONCATENATE(B720,\"-opis\")))","v":""},{"$f":"IF(B720=\"\",\"\",IF(Zahteve!H720=\"\",\"\",CONCATENATE(B720,\"-dni\")))","v":""},{"$f":"IF(B720=\"\",\"\",IF(Zahteve!H720=\"\",\"\",Zahteve!H720))","v":""}]
[{"$f":"IF(Zahteve!B721=\"\",\"\",Zahteve!B721)","v":""},{"$f":"IF(Zahteve!B721=\"\",\"\",LEFT(Zahteve!B721,1))","v":""},{"$f":"IF(B721=\"\",\"\",IF(Zahteve!F721=\"da\",CONCATENATE(B721,\"-DA\"),\"\"))","v":""},{"$f":"IF(B721=\"\",\"\",IF(Zahteve!A721=\"da\",CONCATENATE(B721,\"-ustreza\"),\"\"))","v":""},{"$f":"IF(B721=\"\",\"\",IF(Zahteve!G721=\"\",\"\",CONCATENATE(B721,\"-opis\")))","v":""},{"$f":"IF(B721=\"\",\"\",IF(Zahteve!H721=\"\",\"\",CONCATENATE(B721,\"-dni\")))","v":""},{"$f":"IF(B721=\"\",\"\",IF(Zahteve!H721=\"\",\"\",Zahteve!H721))","v":""}]
[{"$f":"IF(Zahteve!B722=\"\",\"\",Zahteve!B722)","v":""},{"$f":"IF(Zahteve!B722=\"\",\"\",LEFT(Zahteve!B722,1))","v":""},{"$f":"IF(B722=\"\",\"\",IF(Zahteve!F722=\"da\",CONCATENATE(B722,\"-DA\"),\"\"))","v":""},{"$f":"IF(B722=\"\",\"\",IF(Zahteve!A722=\"da\",CONCATENATE(B722,\"-ustreza\"),\"\"))","v":""},{"$f":"IF(B722=\"\",\"\",IF(Zahteve!G722=\"\",\"\",CONCATENATE(B722,\"-opis\")))","v":""},{"$f":"IF(B722=\"\",\"\",IF(Zahteve!H722=\"\",\"\",CONCATENATE(B722,\"-dni\")))","v":""},{"$f":"IF(B722=\"\",\"\",IF(Zahteve!H722=\"\",\"\",Zahteve!H722))","v":""}]
[{"$f":"IF(Zahteve!B723=\"\",\"\",Zahteve!B723)","v":""},{"$f":"IF(Zahteve!B723=\"\",\"\",LEFT(Zahteve!B723,1))","v":""},{"$f":"IF(B723=\"\",\"\",IF(Zahteve!F723=\"da\",CONCATENATE(B723,\"-DA\"),\"\"))","v":""},{"$f":"IF(B723=\"\",\"\",IF(Zahteve!A723=\"da\",CONCATENATE(B723,\"-ustreza\"),\"\"))","v":""},{"$f":"IF(B723=\"\",\"\",IF(Zahteve!G723=\"\",\"\",CONCATENATE(B723,\"-opis\")))","v":""},{"$f":"IF(B723=\"\",\"\",IF(Zahteve!H723=\"\",\"\",CONCATENATE(B723,\"-dni\")))","v":""},{"$f":"IF(B723=\"\",\"\",IF(Zahteve!H723=\"\",\"\",Zahteve!H723))","v":""}]
[{"$f":"IF(Zahteve!B724=\"\",\"\",Zahteve!B724)","v":""},{"$f":"IF(Zahteve!B724=\"\",\"\",LEFT(Zahteve!B724,1))","v":""},{"$f":"IF(B724=\"\",\"\",IF(Zahteve!F724=\"da\",CONCATENATE(B724,\"-DA\"),\"\"))","v":""},{"$f":"IF(B724=\"\",\"\",IF(Zahteve!A724=\"da\",CONCATENATE(B724,\"-ustreza\"),\"\"))","v":""},{"$f":"IF(B724=\"\",\"\",IF(Zahteve!G724=\"\",\"\",CONCATENATE(B724,\"-opis\")))","v":""},{"$f":"IF(B724=\"\",\"\",IF(Zahteve!H724=\"\",\"\",CONCATENATE(B724,\"-dni\")))","v":""},{"$f":"IF(B724=\"\",\"\",IF(Zahteve!H724=\"\",\"\",Zahteve!H724))","v":""}]
[{"$f":"IF(Zahteve!B725=\"\",\"\",Zahteve!B725)","v":""},{"$f":"IF(Zahteve!B725=\"\",\"\",LEFT(Zahteve!B725,1))","v":""},{"$f":"IF(B725=\"\",\"\",IF(Zahteve!F725=\"da\",CONCATENATE(B725,\"-DA\"),\"\"))","v":""},{"$f":"IF(B725=\"\",\"\",IF(Zahteve!A725=\"da\",CONCATENATE(B725,\"-ustreza\"),\"\"))","v":""},{"$f":"IF(B725=\"\",\"\",IF(Zahteve!G725=\"\",\"\",CONCATENATE(B725,\"-opis\")))","v":""},{"$f":"IF(B725=\"\",\"\",IF(Zahteve!H725=\"\",\"\",CONCATENATE(B725,\"-dni\")))","v":""},{"$f":"IF(B725=\"\",\"\",IF(Zahteve!H725=\"\",\"\",Zahteve!H725))","v":""}]
[{"$f":"IF(Zahteve!B726=\"\",\"\",Zahteve!B726)","v":""},{"$f":"IF(Zahteve!B726=\"\",\"\",LEFT(Zahteve!B726,1))","v":""},{"$f":"IF(B726=\"\",\"\",IF(Zahteve!F726=\"da\",CONCATENATE(B726,\"-DA\"),\"\"))","v":""},{"$f":"IF(B726=\"\",\"\",IF(Zahteve!A726=\"da\",CONCATENATE(B726,\"-ustreza\"),\"\"))","v":""},{"$f":"IF(B726=\"\",\"\",IF(Zahteve!G726=\"\",\"\",CONCATENATE(B726,\"-opis\")))","v":""},{"$f":"IF(B726=\"\",\"\",IF(Zahteve!H726=\"\",\"\",CONCATENATE(B726,\"-dni\")))","v":""},{"$f":"IF(B726=\"\",\"\",IF(Zahteve!H726=\"\",\"\",Zahteve!H726))","v":""}]
[{"$f":"IF(Zahteve!B727=\"\",\"\",Zahteve!B727)","v":""},{"$f":"IF(Zahteve!B727=\"\",\"\",LEFT(Zahteve!B727,1))","v":""},{"$f":"IF(B727=\"\",\"\",IF(Zahteve!F727=\"da\",CONCATENATE(B727,\"-DA\"),\"\"))","v":""},{"$f":"IF(B727=\"\",\"\",IF(Zahteve!A727=\"da\",CONCATENATE(B727,\"-ustreza\"),\"\"))","v":""},{"$f":"IF(B727=\"\",\"\",IF(Zahteve!G727=\"\",\"\",CONCATENATE(B727,\"-opis\")))","v":""},{"$f":"IF(B727=\"\",\"\",IF(Zahteve!H727=\"\",\"\",CONCATENATE(B727,\"-dni\")))","v":""},{"$f":"IF(B727=\"\",\"\",IF(Zahteve!H727=\"\",\"\",Zahteve!H727))","v":""}]
[{"$f":"IF(Zahteve!B728=\"\",\"\",Zahteve!B728)","v":""},{"$f":"IF(Zahteve!B728=\"\",\"\",LEFT(Zahteve!B728,1))","v":""},{"$f":"IF(B728=\"\",\"\",IF(Zahteve!F728=\"da\",CONCATENATE(B728,\"-DA\"),\"\"))","v":""},{"$f":"IF(B728=\"\",\"\",IF(Zahteve!A728=\"da\",CONCATENATE(B728,\"-ustreza\"),\"\"))","v":""},{"$f":"IF(B728=\"\",\"\",IF(Zahteve!G728=\"\",\"\",CONCATENATE(B728,\"-opis\")))","v":""},{"$f":"IF(B728=\"\",\"\",IF(Zahteve!H728=\"\",\"\",CONCATENATE(B728,\"-dni\")))","v":""},{"$f":"IF(B728=\"\",\"\",IF(Zahteve!H728=\"\",\"\",Zahteve!H728))","v":""}]
[{"$f":"IF(Zahteve!B729=\"\",\"\",Zahteve!B729)","v":""},{"$f":"IF(Zahteve!B729=\"\",\"\",LEFT(Zahteve!B729,1))","v":""},{"$f":"IF(B729=\"\",\"\",IF(Zahteve!F729=\"da\",CONCATENATE(B729,\"-DA\"),\"\"))","v":""},{"$f":"IF(B729=\"\",\"\",IF(Zahteve!A729=\"da\",CONCATENATE(B729,\"-ustreza\"),\"\"))","v":""},{"$f":"IF(B729=\"\",\"\",IF(Zahteve!G729=\"\",\"\",CONCATENATE(B729,\"-opis\")))","v":""},{"$f":"IF(B729=\"\",\"\",IF(Zahteve!H729=\"\",\"\",CONCATENATE(B729,\"-dni\")))","v":""},{"$f":"IF(B729=\"\",\"\",IF(Zahteve!H729=\"\",\"\",Zahteve!H729))","v":""}]
[{"$f":"IF(Zahteve!B730=\"\",\"\",Zahteve!B730)","v":""},{"$f":"IF(Zahteve!B730=\"\",\"\",LEFT(Zahteve!B730,1))","v":""},{"$f":"IF(B730=\"\",\"\",IF(Zahteve!F730=\"da\",CONCATENATE(B730,\"-DA\"),\"\"))","v":""},{"$f":"IF(B730=\"\",\"\",IF(Zahteve!A730=\"da\",CONCATENATE(B730,\"-ustreza\"),\"\"))","v":""},{"$f":"IF(B730=\"\",\"\",IF(Zahteve!G730=\"\",\"\",CONCATENATE(B730,\"-opis\")))","v":""},{"$f":"IF(B730=\"\",\"\",IF(Zahteve!H730=\"\",\"\",CONCATENATE(B730,\"-dni\")))","v":""},{"$f":"IF(B730=\"\",\"\",IF(Zahteve!H730=\"\",\"\",Zahteve!H730))","v":""}]
[{"$f":"IF(Zahteve!B731=\"\",\"\",Zahteve!B731)","v":""},{"$f":"IF(Zahteve!B731=\"\",\"\",LEFT(Zahteve!B731,1))","v":""},{"$f":"IF(B731=\"\",\"\",IF(Zahteve!F731=\"da\",CONCATENATE(B731,\"-DA\"),\"\"))","v":""},{"$f":"IF(B731=\"\",\"\",IF(Zahteve!A731=\"da\",CONCATENATE(B731,\"-ustreza\"),\"\"))","v":""},{"$f":"IF(B731=\"\",\"\",IF(Zahteve!G731=\"\",\"\",CONCATENATE(B731,\"-opis\")))","v":""},{"$f":"IF(B731=\"\",\"\",IF(Zahteve!H731=\"\",\"\",CONCATENATE(B731,\"-dni\")))","v":""},{"$f":"IF(B731=\"\",\"\",IF(Zahteve!H731=\"\",\"\",Zahteve!H731))","v":""}]
[{"$f":"IF(Zahteve!B732=\"\",\"\",Zahteve!B732)","v":""},{"$f":"IF(Zahteve!B732=\"\",\"\",LEFT(Zahteve!B732,1))","v":""},{"$f":"IF(B732=\"\",\"\",IF(Zahteve!F732=\"da\",CONCATENATE(B732,\"-DA\"),\"\"))","v":""},{"$f":"IF(B732=\"\",\"\",IF(Zahteve!A732=\"da\",CONCATENATE(B732,\"-ustreza\"),\"\"))","v":""},{"$f":"IF(B732=\"\",\"\",IF(Zahteve!G732=\"\",\"\",CONCATENATE(B732,\"-opis\")))","v":""},{"$f":"IF(B732=\"\",\"\",IF(Zahteve!H732=\"\",\"\",CONCATENATE(B732,\"-dni\")))","v":""},{"$f":"IF(B732=\"\",\"\",IF(Zahteve!H732=\"\",\"\",Zahteve!H732))","v":""}]
[{"$f":"IF(Zahteve!B733=\"\",\"\",Zahteve!B733)","v":""},{"$f":"IF(Zahteve!B733=\"\",\"\",LEFT(Zahteve!B733,1))","v":""},{"$f":"IF(B733=\"\",\"\",IF(Zahteve!F733=\"da\",CONCATENATE(B733,\"-DA\"),\"\"))","v":""},{"$f":"IF(B733=\"\",\"\",IF(Zahteve!A733=\"da\",CONCATENATE(B733,\"-ustreza\"),\"\"))","v":""},{"$f":"IF(B733=\"\",\"\",IF(Zahteve!G733=\"\",\"\",CONCATENATE(B733,\"-opis\")))","v":""},{"$f":"IF(B733=\"\",\"\",IF(Zahteve!H733=\"\",\"\",CONCATENATE(B733,\"-dni\")))","v":""},{"$f":"IF(B733=\"\",\"\",IF(Zahteve!H733=\"\",\"\",Zahteve!H733))","v":""}]
[{"$f":"IF(Zahteve!B734=\"\",\"\",Zahteve!B734)","v":""},{"$f":"IF(Zahteve!B734=\"\",\"\",LEFT(Zahteve!B734,1))","v":""},{"$f":"IF(B734=\"\",\"\",IF(Zahteve!F734=\"da\",CONCATENATE(B734,\"-DA\"),\"\"))","v":""},{"$f":"IF(B734=\"\",\"\",IF(Zahteve!A734=\"da\",CONCATENATE(B734,\"-ustreza\"),\"\"))","v":""},{"$f":"IF(B734=\"\",\"\",IF(Zahteve!G734=\"\",\"\",CONCATENATE(B734,\"-opis\")))","v":""},{"$f":"IF(B734=\"\",\"\",IF(Zahteve!H734=\"\",\"\",CONCATENATE(B734,\"-dni\")))","v":""},{"$f":"IF(B734=\"\",\"\",IF(Zahteve!H734=\"\",\"\",Zahteve!H734))","v":""}]
[{"$f":"IF(Zahteve!B735=\"\",\"\",Zahteve!B735)","v":""},{"$f":"IF(Zahteve!B735=\"\",\"\",LEFT(Zahteve!B735,1))","v":""},{"$f":"IF(B735=\"\",\"\",IF(Zahteve!F735=\"da\",CONCATENATE(B735,\"-DA\"),\"\"))","v":""},{"$f":"IF(B735=\"\",\"\",IF(Zahteve!A735=\"da\",CONCATENATE(B735,\"-ustreza\"),\"\"))","v":""},{"$f":"IF(B735=\"\",\"\",IF(Zahteve!G735=\"\",\"\",CONCATENATE(B735,\"-opis\")))","v":""},{"$f":"IF(B735=\"\",\"\",IF(Zahteve!H735=\"\",\"\",CONCATENATE(B735,\"-dni\")))","v":""},{"$f":"IF(B735=\"\",\"\",IF(Zahteve!H735=\"\",\"\",Zahteve!H735))","v":""}]
[{"$f":"IF(Zahteve!B736=\"\",\"\",Zahteve!B736)","v":""},{"$f":"IF(Zahteve!B736=\"\",\"\",LEFT(Zahteve!B736,1))","v":""},{"$f":"IF(B736=\"\",\"\",IF(Zahteve!F736=\"da\",CONCATENATE(B736,\"-DA\"),\"\"))","v":""},{"$f":"IF(B736=\"\",\"\",IF(Zahteve!A736=\"da\",CONCATENATE(B736,\"-ustreza\"),\"\"))","v":""},{"$f":"IF(B736=\"\",\"\",IF(Zahteve!G736=\"\",\"\",CONCATENATE(B736,\"-opis\")))","v":""},{"$f":"IF(B736=\"\",\"\",IF(Zahteve!H736=\"\",\"\",CONCATENATE(B736,\"-dni\")))","v":""},{"$f":"IF(B736=\"\",\"\",IF(Zahteve!H736=\"\",\"\",Zahteve!H736))","v":""}]
[{"$f":"IF(Zahteve!B737=\"\",\"\",Zahteve!B737)","v":""},{"$f":"IF(Zahteve!B737=\"\",\"\",LEFT(Zahteve!B737,1))","v":""},{"$f":"IF(B737=\"\",\"\",IF(Zahteve!F737=\"da\",CONCATENATE(B737,\"-DA\"),\"\"))","v":""},{"$f":"IF(B737=\"\",\"\",IF(Zahteve!A737=\"da\",CONCATENATE(B737,\"-ustreza\"),\"\"))","v":""},{"$f":"IF(B737=\"\",\"\",IF(Zahteve!G737=\"\",\"\",CONCATENATE(B737,\"-opis\")))","v":""},{"$f":"IF(B737=\"\",\"\",IF(Zahteve!H737=\"\",\"\",CONCATENATE(B737,\"-dni\")))","v":""},{"$f":"IF(B737=\"\",\"\",IF(Zahteve!H737=\"\",\"\",Zahteve!H737))","v":""}]
[{"$f":"IF(Zahteve!B738=\"\",\"\",Zahteve!B738)","v":""},{"$f":"IF(Zahteve!B738=\"\",\"\",LEFT(Zahteve!B738,1))","v":""},{"$f":"IF(B738=\"\",\"\",IF(Zahteve!F738=\"da\",CONCATENATE(B738,\"-DA\"),\"\"))","v":""},{"$f":"IF(B738=\"\",\"\",IF(Zahteve!A738=\"da\",CONCATENATE(B738,\"-ustreza\"),\"\"))","v":""},{"$f":"IF(B738=\"\",\"\",IF(Zahteve!G738=\"\",\"\",CONCATENATE(B738,\"-opis\")))","v":""},{"$f":"IF(B738=\"\",\"\",IF(Zahteve!H738=\"\",\"\",CONCATENATE(B738,\"-dni\")))","v":""},{"$f":"IF(B738=\"\",\"\",IF(Zahteve!H738=\"\",\"\",Zahteve!H738))","v":""}]
[{"$f":"IF(Zahteve!B739=\"\",\"\",Zahteve!B739)","v":""},{"$f":"IF(Zahteve!B739=\"\",\"\",LEFT(Zahteve!B739,1))","v":""},{"$f":"IF(B739=\"\",\"\",IF(Zahteve!F739=\"da\",CONCATENATE(B739,\"-DA\"),\"\"))","v":""},{"$f":"IF(B739=\"\",\"\",IF(Zahteve!A739=\"da\",CONCATENATE(B739,\"-ustreza\"),\"\"))","v":""},{"$f":"IF(B739=\"\",\"\",IF(Zahteve!G739=\"\",\"\",CONCATENATE(B739,\"-opis\")))","v":""},{"$f":"IF(B739=\"\",\"\",IF(Zahteve!H739=\"\",\"\",CONCATENATE(B739,\"-dni\")))","v":""},{"$f":"IF(B739=\"\",\"\",IF(Zahteve!H739=\"\",\"\",Zahteve!H739))","v":""}]
[{"$f":"IF(Zahteve!B740=\"\",\"\",Zahteve!B740)","v":""},{"$f":"IF(Zahteve!B740=\"\",\"\",LEFT(Zahteve!B740,1))","v":""},{"$f":"IF(B740=\"\",\"\",IF(Zahteve!F740=\"da\",CONCATENATE(B740,\"-DA\"),\"\"))","v":""},{"$f":"IF(B740=\"\",\"\",IF(Zahteve!A740=\"da\",CONCATENATE(B740,\"-ustreza\"),\"\"))","v":""},{"$f":"IF(B740=\"\",\"\",IF(Zahteve!G740=\"\",\"\",CONCATENATE(B740,\"-opis\")))","v":""},{"$f":"IF(B740=\"\",\"\",IF(Zahteve!H740=\"\",\"\",CONCATENATE(B740,\"-dni\")))","v":""},{"$f":"IF(B740=\"\",\"\",IF(Zahteve!H740=\"\",\"\",Zahteve!H740))","v":""}]
[{"$f":"IF(Zahteve!B741=\"\",\"\",Zahteve!B741)","v":""},{"$f":"IF(Zahteve!B741=\"\",\"\",LEFT(Zahteve!B741,1))","v":""},{"$f":"IF(B741=\"\",\"\",IF(Zahteve!F741=\"da\",CONCATENATE(B741,\"-DA\"),\"\"))","v":""},{"$f":"IF(B741=\"\",\"\",IF(Zahteve!A741=\"da\",CONCATENATE(B741,\"-ustreza\"),\"\"))","v":""},{"$f":"IF(B741=\"\",\"\",IF(Zahteve!G741=\"\",\"\",CONCATENATE(B741,\"-opis\")))","v":""},{"$f":"IF(B741=\"\",\"\",IF(Zahteve!H741=\"\",\"\",CONCATENATE(B741,\"-dni\")))","v":""},{"$f":"IF(B741=\"\",\"\",IF(Zahteve!H741=\"\",\"\",Zahteve!H741))","v":""}]
[{"$f":"IF(Zahteve!B742=\"\",\"\",Zahteve!B742)","v":""},{"$f":"IF(Zahteve!B742=\"\",\"\",LEFT(Zahteve!B742,1))","v":""},{"$f":"IF(B742=\"\",\"\",IF(Zahteve!F742=\"da\",CONCATENATE(B742,\"-DA\"),\"\"))","v":""},{"$f":"IF(B742=\"\",\"\",IF(Zahteve!A742=\"da\",CONCATENATE(B742,\"-ustreza\"),\"\"))","v":""},{"$f":"IF(B742=\"\",\"\",IF(Zahteve!G742=\"\",\"\",CONCATENATE(B742,\"-opis\")))","v":""},{"$f":"IF(B742=\"\",\"\",IF(Zahteve!H742=\"\",\"\",CONCATENATE(B742,\"-dni\")))","v":""},{"$f":"IF(B742=\"\",\"\",IF(Zahteve!H742=\"\",\"\",Zahteve!H742))","v":""}]
[{"$f":"IF(Zahteve!B743=\"\",\"\",Zahteve!B743)","v":""},{"$f":"IF(Zahteve!B743=\"\",\"\",LEFT(Zahteve!B743,1))","v":""},{"$f":"IF(B743=\"\",\"\",IF(Zahteve!F743=\"da\",CONCATENATE(B743,\"-DA\"),\"\"))","v":""},{"$f":"IF(B743=\"\",\"\",IF(Zahteve!A743=\"da\",CONCATENATE(B743,\"-ustreza\"),\"\"))","v":""},{"$f":"IF(B743=\"\",\"\",IF(Zahteve!G743=\"\",\"\",CONCATENATE(B743,\"-opis\")))","v":""},{"$f":"IF(B743=\"\",\"\",IF(Zahteve!H743=\"\",\"\",CONCATENATE(B743,\"-dni\")))","v":""},{"$f":"IF(B743=\"\",\"\",IF(Zahteve!H743=\"\",\"\",Zahteve!H743))","v":""}]
[{"$f":"IF(Zahteve!B744=\"\",\"\",Zahteve!B744)","v":""},{"$f":"IF(Zahteve!B744=\"\",\"\",LEFT(Zahteve!B744,1))","v":""},{"$f":"IF(B744=\"\",\"\",IF(Zahteve!F744=\"da\",CONCATENATE(B744,\"-DA\"),\"\"))","v":""},{"$f":"IF(B744=\"\",\"\",IF(Zahteve!A744=\"da\",CONCATENATE(B744,\"-ustreza\"),\"\"))","v":""},{"$f":"IF(B744=\"\",\"\",IF(Zahteve!G744=\"\",\"\",CONCATENATE(B744,\"-opis\")))","v":""},{"$f":"IF(B744=\"\",\"\",IF(Zahteve!H744=\"\",\"\",CONCATENATE(B744,\"-dni\")))","v":""},{"$f":"IF(B744=\"\",\"\",IF(Zahteve!H744=\"\",\"\",Zahteve!H744))","v":""}]
[{"$f":"IF(Zahteve!B745=\"\",\"\",Zahteve!B745)","v":""},{"$f":"IF(Zahteve!B745=\"\",\"\",LEFT(Zahteve!B745,1))","v":""},{"$f":"IF(B745=\"\",\"\",IF(Zahteve!F745=\"da\",CONCATENATE(B745,\"-DA\"),\"\"))","v":""},{"$f":"IF(B745=\"\",\"\",IF(Zahteve!A745=\"da\",CONCATENATE(B745,\"-ustreza\"),\"\"))","v":""},{"$f":"IF(B745=\"\",\"\",IF(Zahteve!G745=\"\",\"\",CONCATENATE(B745,\"-opis\")))","v":""},{"$f":"IF(B745=\"\",\"\",IF(Zahteve!H745=\"\",\"\",CONCATENATE(B745,\"-dni\")))","v":""},{"$f":"IF(B745=\"\",\"\",IF(Zahteve!H745=\"\",\"\",Zahteve!H745))","v":""}]
[{"$f":"IF(Zahteve!B746=\"\",\"\",Zahteve!B746)","v":""},{"$f":"IF(Zahteve!B746=\"\",\"\",LEFT(Zahteve!B746,1))","v":""},{"$f":"IF(B746=\"\",\"\",IF(Zahteve!F746=\"da\",CONCATENATE(B746,\"-DA\"),\"\"))","v":""},{"$f":"IF(B746=\"\",\"\",IF(Zahteve!A746=\"da\",CONCATENATE(B746,\"-ustreza\"),\"\"))","v":""},{"$f":"IF(B746=\"\",\"\",IF(Zahteve!G746=\"\",\"\",CONCATENATE(B746,\"-opis\")))","v":""},{"$f":"IF(B746=\"\",\"\",IF(Zahteve!H746=\"\",\"\",CONCATENATE(B746,\"-dni\")))","v":""},{"$f":"IF(B746=\"\",\"\",IF(Zahteve!H746=\"\",\"\",Zahteve!H746))","v":""}]
[{"$f":"IF(Zahteve!B747=\"\",\"\",Zahteve!B747)","v":""},{"$f":"IF(Zahteve!B747=\"\",\"\",LEFT(Zahteve!B747,1))","v":""},{"$f":"IF(B747=\"\",\"\",IF(Zahteve!F747=\"da\",CONCATENATE(B747,\"-DA\"),\"\"))","v":""},{"$f":"IF(B747=\"\",\"\",IF(Zahteve!A747=\"da\",CONCATENATE(B747,\"-ustreza\"),\"\"))","v":""},{"$f":"IF(B747=\"\",\"\",IF(Zahteve!G747=\"\",\"\",CONCATENATE(B747,\"-opis\")))","v":""},{"$f":"IF(B747=\"\",\"\",IF(Zahteve!H747=\"\",\"\",CONCATENATE(B747,\"-dni\")))","v":""},{"$f":"IF(B747=\"\",\"\",IF(Zahteve!H747=\"\",\"\",Zahteve!H747))","v":""}]
[{"$f":"IF(Zahteve!B748=\"\",\"\",Zahteve!B748)","v":""},{"$f":"IF(Zahteve!B748=\"\",\"\",LEFT(Zahteve!B748,1))","v":""},{"$f":"IF(B748=\"\",\"\",IF(Zahteve!F748=\"da\",CONCATENATE(B748,\"-DA\"),\"\"))","v":""},{"$f":"IF(B748=\"\",\"\",IF(Zahteve!A748=\"da\",CONCATENATE(B748,\"-ustreza\"),\"\"))","v":""},{"$f":"IF(B748=\"\",\"\",IF(Zahteve!G748=\"\",\"\",CONCATENATE(B748,\"-opis\")))","v":""},{"$f":"IF(B748=\"\",\"\",IF(Zahteve!H748=\"\",\"\",CONCATENATE(B748,\"-dni\")))","v":""},{"$f":"IF(B748=\"\",\"\",IF(Zahteve!H748=\"\",\"\",Zahteve!H748))","v":""}]
[{"$f":"IF(Zahteve!B749=\"\",\"\",Zahteve!B749)","v":""},{"$f":"IF(Zahteve!B749=\"\",\"\",LEFT(Zahteve!B749,1))","v":""},{"$f":"IF(B749=\"\",\"\",IF(Zahteve!F749=\"da\",CONCATENATE(B749,\"-DA\"),\"\"))","v":""},{"$f":"IF(B749=\"\",\"\",IF(Zahteve!A749=\"da\",CONCATENATE(B749,\"-ustreza\"),\"\"))","v":""},{"$f":"IF(B749=\"\",\"\",IF(Zahteve!G749=\"\",\"\",CONCATENATE(B749,\"-opis\")))","v":""},{"$f":"IF(B749=\"\",\"\",IF(Zahteve!H749=\"\",\"\",CONCATENATE(B749,\"-dni\")))","v":""},{"$f":"IF(B749=\"\",\"\",IF(Zahteve!H749=\"\",\"\",Zahteve!H749))","v":""}]
[{"$f":"IF(Zahteve!B750=\"\",\"\",Zahteve!B750)","v":""},{"$f":"IF(Zahteve!B750=\"\",\"\",LEFT(Zahteve!B750,1))","v":""},{"$f":"IF(B750=\"\",\"\",IF(Zahteve!F750=\"da\",CONCATENATE(B750,\"-DA\"),\"\"))","v":""},{"$f":"IF(B750=\"\",\"\",IF(Zahteve!A750=\"da\",CONCATENATE(B750,\"-ustreza\"),\"\"))","v":""},{"$f":"IF(B750=\"\",\"\",IF(Zahteve!G750=\"\",\"\",CONCATENATE(B750,\"-opis\")))","v":""},{"$f":"IF(B750=\"\",\"\",IF(Zahteve!H750=\"\",\"\",CONCATENATE(B750,\"-dni\")))","v":""},{"$f":"IF(B750=\"\",\"\",IF(Zahteve!H750=\"\",\"\",Zahteve!H750))","v":""}]
[{"$f":"IF(Zahteve!B751=\"\",\"\",Zahteve!B751)","v":""},{"$f":"IF(Zahteve!B751=\"\",\"\",LEFT(Zahteve!B751,1))","v":""},{"$f":"IF(B751=\"\",\"\",IF(Zahteve!F751=\"da\",CONCATENATE(B751,\"-DA\"),\"\"))","v":""},{"$f":"IF(B751=\"\",\"\",IF(Zahteve!A751=\"da\",CONCATENATE(B751,\"-ustreza\"),\"\"))","v":""},{"$f":"IF(B751=\"\",\"\",IF(Zahteve!G751=\"\",\"\",CONCATENATE(B751,\"-opis\")))","v":""},{"$f":"IF(B751=\"\",\"\",IF(Zahteve!H751=\"\",\"\",CONCATENATE(B751,\"-dni\")))","v":""},{"$f":"IF(B751=\"\",\"\",IF(Zahteve!H751=\"\",\"\",Zahteve!H751))","v":""}]
[{"$f":"IF(Zahteve!B752=\"\",\"\",Zahteve!B752)","v":""},{"$f":"IF(Zahteve!B752=\"\",\"\",LEFT(Zahteve!B752,1))","v":""},{"$f":"IF(B752=\"\",\"\",IF(Zahteve!F752=\"da\",CONCATENATE(B752,\"-DA\"),\"\"))","v":""},{"$f":"IF(B752=\"\",\"\",IF(Zahteve!A752=\"da\",CONCATENATE(B752,\"-ustreza\"),\"\"))","v":""},{"$f":"IF(B752=\"\",\"\",IF(Zahteve!G752=\"\",\"\",CONCATENATE(B752,\"-opis\")))","v":""},{"$f":"IF(B752=\"\",\"\",IF(Zahteve!H752=\"\",\"\",CONCATENATE(B752,\"-dni\")))","v":""},{"$f":"IF(B752=\"\",\"\",IF(Zahteve!H752=\"\",\"\",Zahteve!H752))","v":""}]
[{"$f":"IF(Zahteve!B753=\"\",\"\",Zahteve!B753)","v":""},{"$f":"IF(Zahteve!B753=\"\",\"\",LEFT(Zahteve!B753,1))","v":""},{"$f":"IF(B753=\"\",\"\",IF(Zahteve!F753=\"da\",CONCATENATE(B753,\"-DA\"),\"\"))","v":""},{"$f":"IF(B753=\"\",\"\",IF(Zahteve!A753=\"da\",CONCATENATE(B753,\"-ustreza\"),\"\"))","v":""},{"$f":"IF(B753=\"\",\"\",IF(Zahteve!G753=\"\",\"\",CONCATENATE(B753,\"-opis\")))","v":""},{"$f":"IF(B753=\"\",\"\",IF(Zahteve!H753=\"\",\"\",CONCATENATE(B753,\"-dni\")))","v":""},{"$f":"IF(B753=\"\",\"\",IF(Zahteve!H753=\"\",\"\",Zahteve!H753))","v":""}]
[{"$f":"IF(Zahteve!B754=\"\",\"\",Zahteve!B754)","v":""},{"$f":"IF(Zahteve!B754=\"\",\"\",LEFT(Zahteve!B754,1))","v":""},{"$f":"IF(B754=\"\",\"\",IF(Zahteve!F754=\"da\",CONCATENATE(B754,\"-DA\"),\"\"))","v":""},{"$f":"IF(B754=\"\",\"\",IF(Zahteve!A754=\"da\",CONCATENATE(B754,\"-ustreza\"),\"\"))","v":""},{"$f":"IF(B754=\"\",\"\",IF(Zahteve!G754=\"\",\"\",CONCATENATE(B754,\"-opis\")))","v":""},{"$f":"IF(B754=\"\",\"\",IF(Zahteve!H754=\"\",\"\",CONCATENATE(B754,\"-dni\")))","v":""},{"$f":"IF(B754=\"\",\"\",IF(Zahteve!H754=\"\",\"\",Zahteve!H754))","v":""}]
[{"$f":"IF(Zahteve!B755=\"\",\"\",Zahteve!B755)","v":""},{"$f":"IF(Zahteve!B755=\"\",\"\",LEFT(Zahteve!B755,1))","v":""},{"$f":"IF(B755=\"\",\"\",IF(Zahteve!F755=\"da\",CONCATENATE(B755,\"-DA\"),\"\"))","v":""},{"$f":"IF(B755=\"\",\"\",IF(Zahteve!A755=\"da\",CONCATENATE(B755,\"-ustreza\"),\"\"))","v":""},{"$f":"IF(B755=\"\",\"\",IF(Zahteve!G755=\"\",\"\",CONCATENATE(B755,\"-opis\")))","v":""},{"$f":"IF(B755=\"\",\"\",IF(Zahteve!H755=\"\",\"\",CONCATENATE(B755,\"-dni\")))","v":""},{"$f":"IF(B755=\"\",\"\",IF(Zahteve!H755=\"\",\"\",Zahteve!H755))","v":""}]
[{"$f":"IF(Zahteve!B756=\"\",\"\",Zahteve!B756)","v":""},{"$f":"IF(Zahteve!B756=\"\",\"\",LEFT(Zahteve!B756,1))","v":""},{"$f":"IF(B756=\"\",\"\",IF(Zahteve!F756=\"da\",CONCATENATE(B756,\"-DA\"),\"\"))","v":""},{"$f":"IF(B756=\"\",\"\",IF(Zahteve!A756=\"da\",CONCATENATE(B756,\"-ustreza\"),\"\"))","v":""},{"$f":"IF(B756=\"\",\"\",IF(Zahteve!G756=\"\",\"\",CONCATENATE(B756,\"-opis\")))","v":""},{"$f":"IF(B756=\"\",\"\",IF(Zahteve!H756=\"\",\"\",CONCATENATE(B756,\"-dni\")))","v":""},{"$f":"IF(B756=\"\",\"\",IF(Zahteve!H756=\"\",\"\",Zahteve!H756))","v":""}]
[{"$f":"IF(Zahteve!B757=\"\",\"\",Zahteve!B757)","v":""},{"$f":"IF(Zahteve!B757=\"\",\"\",LEFT(Zahteve!B757,1))","v":""},{"$f":"IF(B757=\"\",\"\",IF(Zahteve!F757=\"da\",CONCATENATE(B757,\"-DA\"),\"\"))","v":""},{"$f":"IF(B757=\"\",\"\",IF(Zahteve!A757=\"da\",CONCATENATE(B757,\"-ustreza\"),\"\"))","v":""},{"$f":"IF(B757=\"\",\"\",IF(Zahteve!G757=\"\",\"\",CONCATENATE(B757,\"-opis\")))","v":""},{"$f":"IF(B757=\"\",\"\",IF(Zahteve!H757=\"\",\"\",CONCATENATE(B757,\"-dni\")))","v":""},{"$f":"IF(B757=\"\",\"\",IF(Zahteve!H757=\"\",\"\",Zahteve!H757))","v":""}]
[{"$f":"IF(Zahteve!B758=\"\",\"\",Zahteve!B758)","v":""},{"$f":"IF(Zahteve!B758=\"\",\"\",LEFT(Zahteve!B758,1))","v":""},{"$f":"IF(B758=\"\",\"\",IF(Zahteve!F758=\"da\",CONCATENATE(B758,\"-DA\"),\"\"))","v":""},{"$f":"IF(B758=\"\",\"\",IF(Zahteve!A758=\"da\",CONCATENATE(B758,\"-ustreza\"),\"\"))","v":""},{"$f":"IF(B758=\"\",\"\",IF(Zahteve!G758=\"\",\"\",CONCATENATE(B758,\"-opis\")))","v":""},{"$f":"IF(B758=\"\",\"\",IF(Zahteve!H758=\"\",\"\",CONCATENATE(B758,\"-dni\")))","v":""},{"$f":"IF(B758=\"\",\"\",IF(Zahteve!H758=\"\",\"\",Zahteve!H758))","v":""}]
[{"$f":"IF(Zahteve!B759=\"\",\"\",Zahteve!B759)","v":""},{"$f":"IF(Zahteve!B759=\"\",\"\",LEFT(Zahteve!B759,1))","v":""},{"$f":"IF(B759=\"\",\"\",IF(Zahteve!F759=\"da\",CONCATENATE(B759,\"-DA\"),\"\"))","v":""},{"$f":"IF(B759=\"\",\"\",IF(Zahteve!A759=\"da\",CONCATENATE(B759,\"-ustreza\"),\"\"))","v":""},{"$f":"IF(B759=\"\",\"\",IF(Zahteve!G759=\"\",\"\",CONCATENATE(B759,\"-opis\")))","v":""},{"$f":"IF(B759=\"\",\"\",IF(Zahteve!H759=\"\",\"\",CONCATENATE(B759,\"-dni\")))","v":""},{"$f":"IF(B759=\"\",\"\",IF(Zahteve!H759=\"\",\"\",Zahteve!H759))","v":""}]
[{"$f":"IF(Zahteve!B760=\"\",\"\",Zahteve!B760)","v":""},{"$f":"IF(Zahteve!B760=\"\",\"\",LEFT(Zahteve!B760,1))","v":""},{"$f":"IF(B760=\"\",\"\",IF(Zahteve!F760=\"da\",CONCATENATE(B760,\"-DA\"),\"\"))","v":""},{"$f":"IF(B760=\"\",\"\",IF(Zahteve!A760=\"da\",CONCATENATE(B760,\"-ustreza\"),\"\"))","v":""},{"$f":"IF(B760=\"\",\"\",IF(Zahteve!G760=\"\",\"\",CONCATENATE(B760,\"-opis\")))","v":""},{"$f":"IF(B760=\"\",\"\",IF(Zahteve!H760=\"\",\"\",CONCATENATE(B760,\"-dni\")))","v":""},{"$f":"IF(B760=\"\",\"\",IF(Zahteve!H760=\"\",\"\",Zahteve!H760))","v":""}]
[{"$f":"IF(Zahteve!B761=\"\",\"\",Zahteve!B761)","v":""},{"$f":"IF(Zahteve!B761=\"\",\"\",LEFT(Zahteve!B761,1))","v":""},{"$f":"IF(B761=\"\",\"\",IF(Zahteve!F761=\"da\",CONCATENATE(B761,\"-DA\"),\"\"))","v":""},{"$f":"IF(B761=\"\",\"\",IF(Zahteve!A761=\"da\",CONCATENATE(B761,\"-ustreza\"),\"\"))","v":""},{"$f":"IF(B761=\"\",\"\",IF(Zahteve!G761=\"\",\"\",CONCATENATE(B761,\"-opis\")))","v":""},{"$f":"IF(B761=\"\",\"\",IF(Zahteve!H761=\"\",\"\",CONCATENATE(B761,\"-dni\")))","v":""},{"$f":"IF(B761=\"\",\"\",IF(Zahteve!H761=\"\",\"\",Zahteve!H761))","v":""}]
[{"$f":"IF(Zahteve!B762=\"\",\"\",Zahteve!B762)","v":""},{"$f":"IF(Zahteve!B762=\"\",\"\",LEFT(Zahteve!B762,1))","v":""},{"$f":"IF(B762=\"\",\"\",IF(Zahteve!F762=\"da\",CONCATENATE(B762,\"-DA\"),\"\"))","v":""},{"$f":"IF(B762=\"\",\"\",IF(Zahteve!A762=\"da\",CONCATENATE(B762,\"-ustreza\"),\"\"))","v":""},{"$f":"IF(B762=\"\",\"\",IF(Zahteve!G762=\"\",\"\",CONCATENATE(B762,\"-opis\")))","v":""},{"$f":"IF(B762=\"\",\"\",IF(Zahteve!H762=\"\",\"\",CONCATENATE(B762,\"-dni\")))","v":""},{"$f":"IF(B762=\"\",\"\",IF(Zahteve!H762=\"\",\"\",Zahteve!H762))","v":""}]
[{"$f":"IF(Zahteve!B763=\"\",\"\",Zahteve!B763)","v":""},{"$f":"IF(Zahteve!B763=\"\",\"\",LEFT(Zahteve!B763,1))","v":""},{"$f":"IF(B763=\"\",\"\",IF(Zahteve!F763=\"da\",CONCATENATE(B763,\"-DA\"),\"\"))","v":""},{"$f":"IF(B763=\"\",\"\",IF(Zahteve!A763=\"da\",CONCATENATE(B763,\"-ustreza\"),\"\"))","v":""},{"$f":"IF(B763=\"\",\"\",IF(Zahteve!G763=\"\",\"\",CONCATENATE(B763,\"-opis\")))","v":""},{"$f":"IF(B763=\"\",\"\",IF(Zahteve!H763=\"\",\"\",CONCATENATE(B763,\"-dni\")))","v":""},{"$f":"IF(B763=\"\",\"\",IF(Zahteve!H763=\"\",\"\",Zahteve!H763))","v":""}]
[{"$f":"IF(Zahteve!B764=\"\",\"\",Zahteve!B764)","v":""},{"$f":"IF(Zahteve!B764=\"\",\"\",LEFT(Zahteve!B764,1))","v":""},{"$f":"IF(B764=\"\",\"\",IF(Zahteve!F764=\"da\",CONCATENATE(B764,\"-DA\"),\"\"))","v":""},{"$f":"IF(B764=\"\",\"\",IF(Zahteve!A764=\"da\",CONCATENATE(B764,\"-ustreza\"),\"\"))","v":""},{"$f":"IF(B764=\"\",\"\",IF(Zahteve!G764=\"\",\"\",CONCATENATE(B764,\"-opis\")))","v":""},{"$f":"IF(B764=\"\",\"\",IF(Zahteve!H764=\"\",\"\",CONCATENATE(B764,\"-dni\")))","v":""},{"$f":"IF(B764=\"\",\"\",IF(Zahteve!H764=\"\",\"\",Zahteve!H764))","v":""}]
[{"$f":"IF(Zahteve!B765=\"\",\"\",Zahteve!B765)","v":""},{"$f":"IF(Zahteve!B765=\"\",\"\",LEFT(Zahteve!B765,1))","v":""},{"$f":"IF(B765=\"\",\"\",IF(Zahteve!F765=\"da\",CONCATENATE(B765,\"-DA\"),\"\"))","v":""},{"$f":"IF(B765=\"\",\"\",IF(Zahteve!A765=\"da\",CONCATENATE(B765,\"-ustreza\"),\"\"))","v":""},{"$f":"IF(B765=\"\",\"\",IF(Zahteve!G765=\"\",\"\",CONCATENATE(B765,\"-opis\")))","v":""},{"$f":"IF(B765=\"\",\"\",IF(Zahteve!H765=\"\",\"\",CONCATENATE(B765,\"-dni\")))","v":""},{"$f":"IF(B765=\"\",\"\",IF(Zahteve!H765=\"\",\"\",Zahteve!H765))","v":""}]
[{"$f":"IF(Zahteve!B766=\"\",\"\",Zahteve!B766)","v":""},{"$f":"IF(Zahteve!B766=\"\",\"\",LEFT(Zahteve!B766,1))","v":""},{"$f":"IF(B766=\"\",\"\",IF(Zahteve!F766=\"da\",CONCATENATE(B766,\"-DA\"),\"\"))","v":""},{"$f":"IF(B766=\"\",\"\",IF(Zahteve!A766=\"da\",CONCATENATE(B766,\"-ustreza\"),\"\"))","v":""},{"$f":"IF(B766=\"\",\"\",IF(Zahteve!G766=\"\",\"\",CONCATENATE(B766,\"-opis\")))","v":""},{"$f":"IF(B766=\"\",\"\",IF(Zahteve!H766=\"\",\"\",CONCATENATE(B766,\"-dni\")))","v":""},{"$f":"IF(B766=\"\",\"\",IF(Zahteve!H766=\"\",\"\",Zahteve!H766))","v":""}]
[{"$f":"IF(Zahteve!B767=\"\",\"\",Zahteve!B767)","v":""},{"$f":"IF(Zahteve!B767=\"\",\"\",LEFT(Zahteve!B767,1))","v":""},{"$f":"IF(B767=\"\",\"\",IF(Zahteve!F767=\"da\",CONCATENATE(B767,\"-DA\"),\"\"))","v":""},{"$f":"IF(B767=\"\",\"\",IF(Zahteve!A767=\"da\",CONCATENATE(B767,\"-ustreza\"),\"\"))","v":""},{"$f":"IF(B767=\"\",\"\",IF(Zahteve!G767=\"\",\"\",CONCATENATE(B767,\"-opis\")))","v":""},{"$f":"IF(B767=\"\",\"\",IF(Zahteve!H767=\"\",\"\",CONCATENATE(B767,\"-dni\")))","v":""},{"$f":"IF(B767=\"\",\"\",IF(Zahteve!H767=\"\",\"\",Zahteve!H767))","v":""}]
[{"$f":"IF(Zahteve!B768=\"\",\"\",Zahteve!B768)","v":""},{"$f":"IF(Zahteve!B768=\"\",\"\",LEFT(Zahteve!B768,1))","v":""},{"$f":"IF(B768=\"\",\"\",IF(Zahteve!F768=\"da\",CONCATENATE(B768,\"-DA\"),\"\"))","v":""},{"$f":"IF(B768=\"\",\"\",IF(Zahteve!A768=\"da\",CONCATENATE(B768,\"-ustreza\"),\"\"))","v":""},{"$f":"IF(B768=\"\",\"\",IF(Zahteve!G768=\"\",\"\",CONCATENATE(B768,\"-opis\")))","v":""},{"$f":"IF(B768=\"\",\"\",IF(Zahteve!H768=\"\",\"\",CONCATENATE(B768,\"-dni\")))","v":""},{"$f":"IF(B768=\"\",\"\",IF(Zahteve!H768=\"\",\"\",Zahteve!H768))","v":""}]
[{"$f":"IF(Zahteve!B769=\"\",\"\",Zahteve!B769)","v":""},{"$f":"IF(Zahteve!B769=\"\",\"\",LEFT(Zahteve!B769,1))","v":""},{"$f":"IF(B769=\"\",\"\",IF(Zahteve!F769=\"da\",CONCATENATE(B769,\"-DA\"),\"\"))","v":""},{"$f":"IF(B769=\"\",\"\",IF(Zahteve!A769=\"da\",CONCATENATE(B769,\"-ustreza\"),\"\"))","v":""},{"$f":"IF(B769=\"\",\"\",IF(Zahteve!G769=\"\",\"\",CONCATENATE(B769,\"-opis\")))","v":""},{"$f":"IF(B769=\"\",\"\",IF(Zahteve!H769=\"\",\"\",CONCATENATE(B769,\"-dni\")))","v":""},{"$f":"IF(B769=\"\",\"\",IF(Zahteve!H769=\"\",\"\",Zahteve!H769))","v":""}]
[{"$f":"IF(Zahteve!B770=\"\",\"\",Zahteve!B770)","v":""},{"$f":"IF(Zahteve!B770=\"\",\"\",LEFT(Zahteve!B770,1))","v":""},{"$f":"IF(B770=\"\",\"\",IF(Zahteve!F770=\"da\",CONCATENATE(B770,\"-DA\"),\"\"))","v":""},{"$f":"IF(B770=\"\",\"\",IF(Zahteve!A770=\"da\",CONCATENATE(B770,\"-ustreza\"),\"\"))","v":""},{"$f":"IF(B770=\"\",\"\",IF(Zahteve!G770=\"\",\"\",CONCATENATE(B770,\"-opis\")))","v":""},{"$f":"IF(B770=\"\",\"\",IF(Zahteve!H770=\"\",\"\",CONCATENATE(B770,\"-dni\")))","v":""},{"$f":"IF(B770=\"\",\"\",IF(Zahteve!H770=\"\",\"\",Zahteve!H770))","v":""}]
[{"$f":"IF(Zahteve!B771=\"\",\"\",Zahteve!B771)","v":""},{"$f":"IF(Zahteve!B771=\"\",\"\",LEFT(Zahteve!B771,1))","v":""},{"$f":"IF(B771=\"\",\"\",IF(Zahteve!F771=\"da\",CONCATENATE(B771,\"-DA\"),\"\"))","v":""},{"$f":"IF(B771=\"\",\"\",IF(Zahteve!A771=\"da\",CONCATENATE(B771,\"-ustreza\"),\"\"))","v":""},{"$f":"IF(B771=\"\",\"\",IF(Zahteve!G771=\"\",\"\",CONCATENATE(B771,\"-opis\")))","v":""},{"$f":"IF(B771=\"\",\"\",IF(Zahteve!H771=\"\",\"\",CONCATENATE(B771,\"-dni\")))","v":""},{"$f":"IF(B771=\"\",\"\",IF(Zahteve!H771=\"\",\"\",Zahteve!H771))","v":""}]
[{"$f":"IF(Zahteve!B772=\"\",\"\",Zahteve!B772)","v":""},{"$f":"IF(Zahteve!B772=\"\",\"\",LEFT(Zahteve!B772,1))","v":""},{"$f":"IF(B772=\"\",\"\",IF(Zahteve!F772=\"da\",CONCATENATE(B772,\"-DA\"),\"\"))","v":""},{"$f":"IF(B772=\"\",\"\",IF(Zahteve!A772=\"da\",CONCATENATE(B772,\"-ustreza\"),\"\"))","v":""},{"$f":"IF(B772=\"\",\"\",IF(Zahteve!G772=\"\",\"\",CONCATENATE(B772,\"-opis\")))","v":""},{"$f":"IF(B772=\"\",\"\",IF(Zahteve!H772=\"\",\"\",CONCATENATE(B772,\"-dni\")))","v":""},{"$f":"IF(B772=\"\",\"\",IF(Zahteve!H772=\"\",\"\",Zahteve!H772))","v":""}]
[{"$f":"IF(Zahteve!B773=\"\",\"\",Zahteve!B773)","v":""},{"$f":"IF(Zahteve!B773=\"\",\"\",LEFT(Zahteve!B773,1))","v":""},{"$f":"IF(B773=\"\",\"\",IF(Zahteve!F773=\"da\",CONCATENATE(B773,\"-DA\"),\"\"))","v":""},{"$f":"IF(B773=\"\",\"\",IF(Zahteve!A773=\"da\",CONCATENATE(B773,\"-ustreza\"),\"\"))","v":""},{"$f":"IF(B773=\"\",\"\",IF(Zahteve!G773=\"\",\"\",CONCATENATE(B773,\"-opis\")))","v":""},{"$f":"IF(B773=\"\",\"\",IF(Zahteve!H773=\"\",\"\",CONCATENATE(B773,\"-dni\")))","v":""},{"$f":"IF(B773=\"\",\"\",IF(Zahteve!H773=\"\",\"\",Zahteve!H773))","v":""}]
[{"$f":"IF(Zahteve!B774=\"\",\"\",Zahteve!B774)","v":""},{"$f":"IF(Zahteve!B774=\"\",\"\",LEFT(Zahteve!B774,1))","v":""},{"$f":"IF(B774=\"\",\"\",IF(Zahteve!F774=\"da\",CONCATENATE(B774,\"-DA\"),\"\"))","v":""},{"$f":"IF(B774=\"\",\"\",IF(Zahteve!A774=\"da\",CONCATENATE(B774,\"-ustreza\"),\"\"))","v":""},{"$f":"IF(B774=\"\",\"\",IF(Zahteve!G774=\"\",\"\",CONCATENATE(B774,\"-opis\")))","v":""},{"$f":"IF(B774=\"\",\"\",IF(Zahteve!H774=\"\",\"\",CONCATENATE(B774,\"-dni\")))","v":""},{"$f":"IF(B774=\"\",\"\",IF(Zahteve!H774=\"\",\"\",Zahteve!H774))","v":""}]
[{"$f":"IF(Zahteve!B775=\"\",\"\",Zahteve!B775)","v":""},{"$f":"IF(Zahteve!B775=\"\",\"\",LEFT(Zahteve!B775,1))","v":""},{"$f":"IF(B775=\"\",\"\",IF(Zahteve!F775=\"da\",CONCATENATE(B775,\"-DA\"),\"\"))","v":""},{"$f":"IF(B775=\"\",\"\",IF(Zahteve!A775=\"da\",CONCATENATE(B775,\"-ustreza\"),\"\"))","v":""},{"$f":"IF(B775=\"\",\"\",IF(Zahteve!G775=\"\",\"\",CONCATENATE(B775,\"-opis\")))","v":""},{"$f":"IF(B775=\"\",\"\",IF(Zahteve!H775=\"\",\"\",CONCATENATE(B775,\"-dni\")))","v":""},{"$f":"IF(B775=\"\",\"\",IF(Zahteve!H775=\"\",\"\",Zahteve!H775))","v":""}]
[{"$f":"IF(Zahteve!B776=\"\",\"\",Zahteve!B776)","v":""},{"$f":"IF(Zahteve!B776=\"\",\"\",LEFT(Zahteve!B776,1))","v":""},{"$f":"IF(B776=\"\",\"\",IF(Zahteve!F776=\"da\",CONCATENATE(B776,\"-DA\"),\"\"))","v":""},{"$f":"IF(B776=\"\",\"\",IF(Zahteve!A776=\"da\",CONCATENATE(B776,\"-ustreza\"),\"\"))","v":""},{"$f":"IF(B776=\"\",\"\",IF(Zahteve!G776=\"\",\"\",CONCATENATE(B776,\"-opis\")))","v":""},{"$f":"IF(B776=\"\",\"\",IF(Zahteve!H776=\"\",\"\",CONCATENATE(B776,\"-dni\")))","v":""},{"$f":"IF(B776=\"\",\"\",IF(Zahteve!H776=\"\",\"\",Zahteve!H776))","v":""}]
[{"$f":"IF(Zahteve!B777=\"\",\"\",Zahteve!B777)","v":""},{"$f":"IF(Zahteve!B777=\"\",\"\",LEFT(Zahteve!B777,1))","v":""},{"$f":"IF(B777=\"\",\"\",IF(Zahteve!F777=\"da\",CONCATENATE(B777,\"-DA\"),\"\"))","v":""},{"$f":"IF(B777=\"\",\"\",IF(Zahteve!A777=\"da\",CONCATENATE(B777,\"-ustreza\"),\"\"))","v":""},{"$f":"IF(B777=\"\",\"\",IF(Zahteve!G777=\"\",\"\",CONCATENATE(B777,\"-opis\")))","v":""},{"$f":"IF(B777=\"\",\"\",IF(Zahteve!H777=\"\",\"\",CONCATENATE(B777,\"-dni\")))","v":""},{"$f":"IF(B777=\"\",\"\",IF(Zahteve!H777=\"\",\"\",Zahteve!H777))","v":""}]
[{"$f":"IF(Zahteve!B778=\"\",\"\",Zahteve!B778)","v":""},{"$f":"IF(Zahteve!B778=\"\",\"\",LEFT(Zahteve!B778,1))","v":""},{"$f":"IF(B778=\"\",\"\",IF(Zahteve!F778=\"da\",CONCATENATE(B778,\"-DA\"),\"\"))","v":""},{"$f":"IF(B778=\"\",\"\",IF(Zahteve!A778=\"da\",CONCATENATE(B778,\"-ustreza\"),\"\"))","v":""},{"$f":"IF(B778=\"\",\"\",IF(Zahteve!G778=\"\",\"\",CONCATENATE(B778,\"-opis\")))","v":""},{"$f":"IF(B778=\"\",\"\",IF(Zahteve!H778=\"\",\"\",CONCATENATE(B778,\"-dni\")))","v":""},{"$f":"IF(B778=\"\",\"\",IF(Zahteve!H778=\"\",\"\",Zahteve!H778))","v":""}]
[{"$f":"IF(Zahteve!B779=\"\",\"\",Zahteve!B779)","v":""},{"$f":"IF(Zahteve!B779=\"\",\"\",LEFT(Zahteve!B779,1))","v":""},{"$f":"IF(B779=\"\",\"\",IF(Zahteve!F779=\"da\",CONCATENATE(B779,\"-DA\"),\"\"))","v":""},{"$f":"IF(B779=\"\",\"\",IF(Zahteve!A779=\"da\",CONCATENATE(B779,\"-ustreza\"),\"\"))","v":""},{"$f":"IF(B779=\"\",\"\",IF(Zahteve!G779=\"\",\"\",CONCATENATE(B779,\"-opis\")))","v":""},{"$f":"IF(B779=\"\",\"\",IF(Zahteve!H779=\"\",\"\",CONCATENATE(B779,\"-dni\")))","v":""},{"$f":"IF(B779=\"\",\"\",IF(Zahteve!H779=\"\",\"\",Zahteve!H779))","v":""}]
[{"$f":"IF(Zahteve!B780=\"\",\"\",Zahteve!B780)","v":""},{"$f":"IF(Zahteve!B780=\"\",\"\",LEFT(Zahteve!B780,1))","v":""},{"$f":"IF(B780=\"\",\"\",IF(Zahteve!F780=\"da\",CONCATENATE(B780,\"-DA\"),\"\"))","v":""},{"$f":"IF(B780=\"\",\"\",IF(Zahteve!A780=\"da\",CONCATENATE(B780,\"-ustreza\"),\"\"))","v":""},{"$f":"IF(B780=\"\",\"\",IF(Zahteve!G780=\"\",\"\",CONCATENATE(B780,\"-opis\")))","v":""},{"$f":"IF(B780=\"\",\"\",IF(Zahteve!H780=\"\",\"\",CONCATENATE(B780,\"-dni\")))","v":""},{"$f":"IF(B780=\"\",\"\",IF(Zahteve!H780=\"\",\"\",Zahteve!H780))","v":""}]
[{"$f":"IF(Zahteve!B781=\"\",\"\",Zahteve!B781)","v":""},{"$f":"IF(Zahteve!B781=\"\",\"\",LEFT(Zahteve!B781,1))","v":""},{"$f":"IF(B781=\"\",\"\",IF(Zahteve!F781=\"da\",CONCATENATE(B781,\"-DA\"),\"\"))","v":""},{"$f":"IF(B781=\"\",\"\",IF(Zahteve!A781=\"da\",CONCATENATE(B781,\"-ustreza\"),\"\"))","v":""},{"$f":"IF(B781=\"\",\"\",IF(Zahteve!G781=\"\",\"\",CONCATENATE(B781,\"-opis\")))","v":""},{"$f":"IF(B781=\"\",\"\",IF(Zahteve!H781=\"\",\"\",CONCATENATE(B781,\"-dni\")))","v":""},{"$f":"IF(B781=\"\",\"\",IF(Zahteve!H781=\"\",\"\",Zahteve!H781))","v":""}]
[{"$f":"IF(Zahteve!B782=\"\",\"\",Zahteve!B782)","v":""},{"$f":"IF(Zahteve!B782=\"\",\"\",LEFT(Zahteve!B782,1))","v":""},{"$f":"IF(B782=\"\",\"\",IF(Zahteve!F782=\"da\",CONCATENATE(B782,\"-DA\"),\"\"))","v":""},{"$f":"IF(B782=\"\",\"\",IF(Zahteve!A782=\"da\",CONCATENATE(B782,\"-ustreza\"),\"\"))","v":""},{"$f":"IF(B782=\"\",\"\",IF(Zahteve!G782=\"\",\"\",CONCATENATE(B782,\"-opis\")))","v":""},{"$f":"IF(B782=\"\",\"\",IF(Zahteve!H782=\"\",\"\",CONCATENATE(B782,\"-dni\")))","v":""},{"$f":"IF(B782=\"\",\"\",IF(Zahteve!H782=\"\",\"\",Zahteve!H782))","v":""}]
[{"$f":"IF(Zahteve!B783=\"\",\"\",Zahteve!B783)","v":""},{"$f":"IF(Zahteve!B783=\"\",\"\",LEFT(Zahteve!B783,1))","v":""},{"$f":"IF(B783=\"\",\"\",IF(Zahteve!F783=\"da\",CONCATENATE(B783,\"-DA\"),\"\"))","v":""},{"$f":"IF(B783=\"\",\"\",IF(Zahteve!A783=\"da\",CONCATENATE(B783,\"-ustreza\"),\"\"))","v":""},{"$f":"IF(B783=\"\",\"\",IF(Zahteve!G783=\"\",\"\",CONCATENATE(B783,\"-opis\")))","v":""},{"$f":"IF(B783=\"\",\"\",IF(Zahteve!H783=\"\",\"\",CONCATENATE(B783,\"-dni\")))","v":""},{"$f":"IF(B783=\"\",\"\",IF(Zahteve!H783=\"\",\"\",Zahteve!H783))","v":""}]
[{"$f":"IF(Zahteve!B784=\"\",\"\",Zahteve!B784)","v":""},{"$f":"IF(Zahteve!B784=\"\",\"\",LEFT(Zahteve!B784,1))","v":""},{"$f":"IF(B784=\"\",\"\",IF(Zahteve!F784=\"da\",CONCATENATE(B784,\"-DA\"),\"\"))","v":""},{"$f":"IF(B784=\"\",\"\",IF(Zahteve!A784=\"da\",CONCATENATE(B784,\"-ustreza\"),\"\"))","v":""},{"$f":"IF(B784=\"\",\"\",IF(Zahteve!G784=\"\",\"\",CONCATENATE(B784,\"-opis\")))","v":""},{"$f":"IF(B784=\"\",\"\",IF(Zahteve!H784=\"\",\"\",CONCATENATE(B784,\"-dni\")))","v":""},{"$f":"IF(B784=\"\",\"\",IF(Zahteve!H784=\"\",\"\",Zahteve!H784))","v":""}]
[{"$f":"IF(Zahteve!B785=\"\",\"\",Zahteve!B785)","v":""},{"$f":"IF(Zahteve!B785=\"\",\"\",LEFT(Zahteve!B785,1))","v":""},{"$f":"IF(B785=\"\",\"\",IF(Zahteve!F785=\"da\",CONCATENATE(B785,\"-DA\"),\"\"))","v":""},{"$f":"IF(B785=\"\",\"\",IF(Zahteve!A785=\"da\",CONCATENATE(B785,\"-ustreza\"),\"\"))","v":""},{"$f":"IF(B785=\"\",\"\",IF(Zahteve!G785=\"\",\"\",CONCATENATE(B785,\"-opis\")))","v":""},{"$f":"IF(B785=\"\",\"\",IF(Zahteve!H785=\"\",\"\",CONCATENATE(B785,\"-dni\")))","v":""},{"$f":"IF(B785=\"\",\"\",IF(Zahteve!H785=\"\",\"\",Zahteve!H785))","v":""}]
[{"$f":"IF(Zahteve!B786=\"\",\"\",Zahteve!B786)","v":""},{"$f":"IF(Zahteve!B786=\"\",\"\",LEFT(Zahteve!B786,1))","v":""},{"$f":"IF(B786=\"\",\"\",IF(Zahteve!F786=\"da\",CONCATENATE(B786,\"-DA\"),\"\"))","v":""},{"$f":"IF(B786=\"\",\"\",IF(Zahteve!A786=\"da\",CONCATENATE(B786,\"-ustreza\"),\"\"))","v":""},{"$f":"IF(B786=\"\",\"\",IF(Zahteve!G786=\"\",\"\",CONCATENATE(B786,\"-opis\")))","v":""},{"$f":"IF(B786=\"\",\"\",IF(Zahteve!H786=\"\",\"\",CONCATENATE(B786,\"-dni\")))","v":""},{"$f":"IF(B786=\"\",\"\",IF(Zahteve!H786=\"\",\"\",Zahteve!H786))","v":""}]
[{"$f":"IF(Zahteve!B787=\"\",\"\",Zahteve!B787)","v":""},{"$f":"IF(Zahteve!B787=\"\",\"\",LEFT(Zahteve!B787,1))","v":""},{"$f":"IF(B787=\"\",\"\",IF(Zahteve!F787=\"da\",CONCATENATE(B787,\"-DA\"),\"\"))","v":""},{"$f":"IF(B787=\"\",\"\",IF(Zahteve!A787=\"da\",CONCATENATE(B787,\"-ustreza\"),\"\"))","v":""},{"$f":"IF(B787=\"\",\"\",IF(Zahteve!G787=\"\",\"\",CONCATENATE(B787,\"-opis\")))","v":""},{"$f":"IF(B787=\"\",\"\",IF(Zahteve!H787=\"\",\"\",CONCATENATE(B787,\"-dni\")))","v":""},{"$f":"IF(B787=\"\",\"\",IF(Zahteve!H787=\"\",\"\",Zahteve!H787))","v":""}]
[{"$f":"IF(Zahteve!B788=\"\",\"\",Zahteve!B788)","v":""},{"$f":"IF(Zahteve!B788=\"\",\"\",LEFT(Zahteve!B788,1))","v":""},{"$f":"IF(B788=\"\",\"\",IF(Zahteve!F788=\"da\",CONCATENATE(B788,\"-DA\"),\"\"))","v":""},{"$f":"IF(B788=\"\",\"\",IF(Zahteve!A788=\"da\",CONCATENATE(B788,\"-ustreza\"),\"\"))","v":""},{"$f":"IF(B788=\"\",\"\",IF(Zahteve!G788=\"\",\"\",CONCATENATE(B788,\"-opis\")))","v":""},{"$f":"IF(B788=\"\",\"\",IF(Zahteve!H788=\"\",\"\",CONCATENATE(B788,\"-dni\")))","v":""},{"$f":"IF(B788=\"\",\"\",IF(Zahteve!H788=\"\",\"\",Zahteve!H788))","v":""}]
[{"$f":"IF(Zahteve!B789=\"\",\"\",Zahteve!B789)","v":""},{"$f":"IF(Zahteve!B789=\"\",\"\",LEFT(Zahteve!B789,1))","v":""},{"$f":"IF(B789=\"\",\"\",IF(Zahteve!F789=\"da\",CONCATENATE(B789,\"-DA\"),\"\"))","v":""},{"$f":"IF(B789=\"\",\"\",IF(Zahteve!A789=\"da\",CONCATENATE(B789,\"-ustreza\"),\"\"))","v":""},{"$f":"IF(B789=\"\",\"\",IF(Zahteve!G789=\"\",\"\",CONCATENATE(B789,\"-opis\")))","v":""},{"$f":"IF(B789=\"\",\"\",IF(Zahteve!H789=\"\",\"\",CONCATENATE(B789,\"-dni\")))","v":""},{"$f":"IF(B789=\"\",\"\",IF(Zahteve!H789=\"\",\"\",Zahteve!H789))","v":""}]
[{"$f":"IF(Zahteve!B790=\"\",\"\",Zahteve!B790)","v":""},{"$f":"IF(Zahteve!B790=\"\",\"\",LEFT(Zahteve!B790,1))","v":""},{"$f":"IF(B790=\"\",\"\",IF(Zahteve!F790=\"da\",CONCATENATE(B790,\"-DA\"),\"\"))","v":""},{"$f":"IF(B790=\"\",\"\",IF(Zahteve!A790=\"da\",CONCATENATE(B790,\"-ustreza\"),\"\"))","v":""},{"$f":"IF(B790=\"\",\"\",IF(Zahteve!G790=\"\",\"\",CONCATENATE(B790,\"-opis\")))","v":""},{"$f":"IF(B790=\"\",\"\",IF(Zahteve!H790=\"\",\"\",CONCATENATE(B790,\"-dni\")))","v":""},{"$f":"IF(B790=\"\",\"\",IF(Zahteve!H790=\"\",\"\",Zahteve!H790))","v":""}]
[{"$f":"IF(Zahteve!B791=\"\",\"\",Zahteve!B791)","v":""},{"$f":"IF(Zahteve!B791=\"\",\"\",LEFT(Zahteve!B791,1))","v":""},{"$f":"IF(B791=\"\",\"\",IF(Zahteve!F791=\"da\",CONCATENATE(B791,\"-DA\"),\"\"))","v":""},{"$f":"IF(B791=\"\",\"\",IF(Zahteve!A791=\"da\",CONCATENATE(B791,\"-ustreza\"),\"\"))","v":""},{"$f":"IF(B791=\"\",\"\",IF(Zahteve!G791=\"\",\"\",CONCATENATE(B791,\"-opis\")))","v":""},{"$f":"IF(B791=\"\",\"\",IF(Zahteve!H791=\"\",\"\",CONCATENATE(B791,\"-dni\")))","v":""},{"$f":"IF(B791=\"\",\"\",IF(Zahteve!H791=\"\",\"\",Zahteve!H791))","v":""}]
[{"$f":"IF(Zahteve!B792=\"\",\"\",Zahteve!B792)","v":""},{"$f":"IF(Zahteve!B792=\"\",\"\",LEFT(Zahteve!B792,1))","v":""},{"$f":"IF(B792=\"\",\"\",IF(Zahteve!F792=\"da\",CONCATENATE(B792,\"-DA\"),\"\"))","v":""},{"$f":"IF(B792=\"\",\"\",IF(Zahteve!A792=\"da\",CONCATENATE(B792,\"-ustreza\"),\"\"))","v":""},{"$f":"IF(B792=\"\",\"\",IF(Zahteve!G792=\"\",\"\",CONCATENATE(B792,\"-opis\")))","v":""},{"$f":"IF(B792=\"\",\"\",IF(Zahteve!H792=\"\",\"\",CONCATENATE(B792,\"-dni\")))","v":""},{"$f":"IF(B792=\"\",\"\",IF(Zahteve!H792=\"\",\"\",Zahteve!H792))","v":""}]
[{"$f":"IF(Zahteve!B793=\"\",\"\",Zahteve!B793)","v":""},{"$f":"IF(Zahteve!B793=\"\",\"\",LEFT(Zahteve!B793,1))","v":""},{"$f":"IF(B793=\"\",\"\",IF(Zahteve!F793=\"da\",CONCATENATE(B793,\"-DA\"),\"\"))","v":""},{"$f":"IF(B793=\"\",\"\",IF(Zahteve!A793=\"da\",CONCATENATE(B793,\"-ustreza\"),\"\"))","v":""},{"$f":"IF(B793=\"\",\"\",IF(Zahteve!G793=\"\",\"\",CONCATENATE(B793,\"-opis\")))","v":""},{"$f":"IF(B793=\"\",\"\",IF(Zahteve!H793=\"\",\"\",CONCATENATE(B793,\"-dni\")))","v":""},{"$f":"IF(B793=\"\",\"\",IF(Zahteve!H793=\"\",\"\",Zahteve!H793))","v":""}]
[{"$f":"IF(Zahteve!B794=\"\",\"\",Zahteve!B794)","v":""},{"$f":"IF(Zahteve!B794=\"\",\"\",LEFT(Zahteve!B794,1))","v":""},{"$f":"IF(B794=\"\",\"\",IF(Zahteve!F794=\"da\",CONCATENATE(B794,\"-DA\"),\"\"))","v":""},{"$f":"IF(B794=\"\",\"\",IF(Zahteve!A794=\"da\",CONCATENATE(B794,\"-ustreza\"),\"\"))","v":""},{"$f":"IF(B794=\"\",\"\",IF(Zahteve!G794=\"\",\"\",CONCATENATE(B794,\"-opis\")))","v":""},{"$f":"IF(B794=\"\",\"\",IF(Zahteve!H794=\"\",\"\",CONCATENATE(B794,\"-dni\")))","v":""},{"$f":"IF(B794=\"\",\"\",IF(Zahteve!H794=\"\",\"\",Zahteve!H794))","v":""}]
[{"$f":"IF(Zahteve!B795=\"\",\"\",Zahteve!B795)","v":""},{"$f":"IF(Zahteve!B795=\"\",\"\",LEFT(Zahteve!B795,1))","v":""},{"$f":"IF(B795=\"\",\"\",IF(Zahteve!F795=\"da\",CONCATENATE(B795,\"-DA\"),\"\"))","v":""},{"$f":"IF(B795=\"\",\"\",IF(Zahteve!A795=\"da\",CONCATENATE(B795,\"-ustreza\"),\"\"))","v":""},{"$f":"IF(B795=\"\",\"\",IF(Zahteve!G795=\"\",\"\",CONCATENATE(B795,\"-opis\")))","v":""},{"$f":"IF(B795=\"\",\"\",IF(Zahteve!H795=\"\",\"\",CONCATENATE(B795,\"-dni\")))","v":""},{"$f":"IF(B795=\"\",\"\",IF(Zahteve!H795=\"\",\"\",Zahteve!H795))","v":""}]
[{"$f":"IF(Zahteve!B796=\"\",\"\",Zahteve!B796)","v":""},{"$f":"IF(Zahteve!B796=\"\",\"\",LEFT(Zahteve!B796,1))","v":""},{"$f":"IF(B796=\"\",\"\",IF(Zahteve!F796=\"da\",CONCATENATE(B796,\"-DA\"),\"\"))","v":""},{"$f":"IF(B796=\"\",\"\",IF(Zahteve!A796=\"da\",CONCATENATE(B796,\"-ustreza\"),\"\"))","v":""},{"$f":"IF(B796=\"\",\"\",IF(Zahteve!G796=\"\",\"\",CONCATENATE(B796,\"-opis\")))","v":""},{"$f":"IF(B796=\"\",\"\",IF(Zahteve!H796=\"\",\"\",CONCATENATE(B796,\"-dni\")))","v":""},{"$f":"IF(B796=\"\",\"\",IF(Zahteve!H796=\"\",\"\",Zahteve!H796))","v":""}]
[{"$f":"IF(Zahteve!B797=\"\",\"\",Zahteve!B797)","v":""},{"$f":"IF(Zahteve!B797=\"\",\"\",LEFT(Zahteve!B797,1))","v":""},{"$f":"IF(B797=\"\",\"\",IF(Zahteve!F797=\"da\",CONCATENATE(B797,\"-DA\"),\"\"))","v":""},{"$f":"IF(B797=\"\",\"\",IF(Zahteve!A797=\"da\",CONCATENATE(B797,\"-ustreza\"),\"\"))","v":""},{"$f":"IF(B797=\"\",\"\",IF(Zahteve!G797=\"\",\"\",CONCATENATE(B797,\"-opis\")))","v":""},{"$f":"IF(B797=\"\",\"\",IF(Zahteve!H797=\"\",\"\",CONCATENATE(B797,\"-dni\")))","v":""},{"$f":"IF(B797=\"\",\"\",IF(Zahteve!H797=\"\",\"\",Zahteve!H797))","v":""}]
[{"$f":"IF(Zahteve!B798=\"\",\"\",Zahteve!B798)","v":""},{"$f":"IF(Zahteve!B798=\"\",\"\",LEFT(Zahteve!B798,1))","v":""},{"$f":"IF(B798=\"\",\"\",IF(Zahteve!F798=\"da\",CONCATENATE(B798,\"-DA\"),\"\"))","v":""},{"$f":"IF(B798=\"\",\"\",IF(Zahteve!A798=\"da\",CONCATENATE(B798,\"-ustreza\"),\"\"))","v":""},{"$f":"IF(B798=\"\",\"\",IF(Zahteve!G798=\"\",\"\",CONCATENATE(B798,\"-opis\")))","v":""},{"$f":"IF(B798=\"\",\"\",IF(Zahteve!H798=\"\",\"\",CONCATENATE(B798,\"-dni\")))","v":""},{"$f":"IF(B798=\"\",\"\",IF(Zahteve!H798=\"\",\"\",Zahteve!H798))","v":""}]
[{"$f":"IF(Zahteve!B799=\"\",\"\",Zahteve!B799)","v":""},{"$f":"IF(Zahteve!B799=\"\",\"\",LEFT(Zahteve!B799,1))","v":""},{"$f":"IF(B799=\"\",\"\",IF(Zahteve!F799=\"da\",CONCATENATE(B799,\"-DA\"),\"\"))","v":""},{"$f":"IF(B799=\"\",\"\",IF(Zahteve!A799=\"da\",CONCATENATE(B799,\"-ustreza\"),\"\"))","v":""},{"$f":"IF(B799=\"\",\"\",IF(Zahteve!G799=\"\",\"\",CONCATENATE(B799,\"-opis\")))","v":""},{"$f":"IF(B799=\"\",\"\",IF(Zahteve!H799=\"\",\"\",CONCATENATE(B799,\"-dni\")))","v":""},{"$f":"IF(B799=\"\",\"\",IF(Zahteve!H799=\"\",\"\",Zahteve!H799))","v":""}]
[{"$f":"IF(Zahteve!B800=\"\",\"\",Zahteve!B800)","v":""},{"$f":"IF(Zahteve!B800=\"\",\"\",LEFT(Zahteve!B800,1))","v":""},{"$f":"IF(B800=\"\",\"\",IF(Zahteve!F800=\"da\",CONCATENATE(B800,\"-DA\"),\"\"))","v":""},{"$f":"IF(B800=\"\",\"\",IF(Zahteve!A800=\"da\",CONCATENATE(B800,\"-ustreza\"),\"\"))","v":""},{"$f":"IF(B800=\"\",\"\",IF(Zahteve!G800=\"\",\"\",CONCATENATE(B800,\"-opis\")))","v":""},{"$f":"IF(B800=\"\",\"\",IF(Zahteve!H800=\"\",\"\",CONCATENATE(B800,\"-dni\")))","v":""},{"$f":"IF(B800=\"\",\"\",IF(Zahteve!H800=\"\",\"\",Zahteve!H800))","v":""}]
[{"$f":"IF(Zahteve!B801=\"\",\"\",Zahteve!B801)","v":""},{"$f":"IF(Zahteve!B801=\"\",\"\",LEFT(Zahteve!B801,1))","v":""},{"$f":"IF(B801=\"\",\"\",IF(Zahteve!F801=\"da\",CONCATENATE(B801,\"-DA\"),\"\"))","v":""},{"$f":"IF(B801=\"\",\"\",IF(Zahteve!A801=\"da\",CONCATENATE(B801,\"-ustreza\"),\"\"))","v":""},{"$f":"IF(B801=\"\",\"\",IF(Zahteve!G801=\"\",\"\",CONCATENATE(B801,\"-opis\")))","v":""},{"$f":"IF(B801=\"\",\"\",IF(Zahteve!H801=\"\",\"\",CONCATENATE(B801,\"-dni\")))","v":""},{"$f":"IF(B801=\"\",\"\",IF(Zahteve!H801=\"\",\"\",Zahteve!H801))","v":""}]
[{"$f":"IF(Zahteve!B802=\"\",\"\",Zahteve!B802)","v":""},{"$f":"IF(Zahteve!B802=\"\",\"\",LEFT(Zahteve!B802,1))","v":""},{"$f":"IF(B802=\"\",\"\",IF(Zahteve!F802=\"da\",CONCATENATE(B802,\"-DA\"),\"\"))","v":""},{"$f":"IF(B802=\"\",\"\",IF(Zahteve!A802=\"da\",CONCATENATE(B802,\"-ustreza\"),\"\"))","v":""},{"$f":"IF(B802=\"\",\"\",IF(Zahteve!G802=\"\",\"\",CONCATENATE(B802,\"-opis\")))","v":""},{"$f":"IF(B802=\"\",\"\",IF(Zahteve!H802=\"\",\"\",CONCATENATE(B802,\"-dni\")))","v":""},{"$f":"IF(B802=\"\",\"\",IF(Zahteve!H802=\"\",\"\",Zahteve!H802))","v":""}]
[{"$f":"IF(Zahteve!B803=\"\",\"\",Zahteve!B803)","v":""},{"$f":"IF(Zahteve!B803=\"\",\"\",LEFT(Zahteve!B803,1))","v":""},{"$f":"IF(B803=\"\",\"\",IF(Zahteve!F803=\"da\",CONCATENATE(B803,\"-DA\"),\"\"))","v":""},{"$f":"IF(B803=\"\",\"\",IF(Zahteve!A803=\"da\",CONCATENATE(B803,\"-ustreza\"),\"\"))","v":""},{"$f":"IF(B803=\"\",\"\",IF(Zahteve!G803=\"\",\"\",CONCATENATE(B803,\"-opis\")))","v":""},{"$f":"IF(B803=\"\",\"\",IF(Zahteve!H803=\"\",\"\",CONCATENATE(B803,\"-dni\")))","v":""},{"$f":"IF(B803=\"\",\"\",IF(Zahteve!H803=\"\",\"\",Zahteve!H803))","v":""}]
[{"$f":"IF(Zahteve!B804=\"\",\"\",Zahteve!B804)","v":""},{"$f":"IF(Zahteve!B804=\"\",\"\",LEFT(Zahteve!B804,1))","v":""},{"$f":"IF(B804=\"\",\"\",IF(Zahteve!F804=\"da\",CONCATENATE(B804,\"-DA\"),\"\"))","v":""},{"$f":"IF(B804=\"\",\"\",IF(Zahteve!A804=\"da\",CONCATENATE(B804,\"-ustreza\"),\"\"))","v":""},{"$f":"IF(B804=\"\",\"\",IF(Zahteve!G804=\"\",\"\",CONCATENATE(B804,\"-opis\")))","v":""},{"$f":"IF(B804=\"\",\"\",IF(Zahteve!H804=\"\",\"\",CONCATENATE(B804,\"-dni\")))","v":""},{"$f":"IF(B804=\"\",\"\",IF(Zahteve!H804=\"\",\"\",Zahteve!H804))","v":""}]
[{"$f":"IF(Zahteve!B805=\"\",\"\",Zahteve!B805)","v":""},{"$f":"IF(Zahteve!B805=\"\",\"\",LEFT(Zahteve!B805,1))","v":""},{"$f":"IF(B805=\"\",\"\",IF(Zahteve!F805=\"da\",CONCATENATE(B805,\"-DA\"),\"\"))","v":""},{"$f":"IF(B805=\"\",\"\",IF(Zahteve!A805=\"da\",CONCATENATE(B805,\"-ustreza\"),\"\"))","v":""},{"$f":"IF(B805=\"\",\"\",IF(Zahteve!G805=\"\",\"\",CONCATENATE(B805,\"-opis\")))","v":""},{"$f":"IF(B805=\"\",\"\",IF(Zahteve!H805=\"\",\"\",CONCATENATE(B805,\"-dni\")))","v":""},{"$f":"IF(B805=\"\",\"\",IF(Zahteve!H805=\"\",\"\",Zahteve!H805))","v":""}]
[{"$f":"IF(Zahteve!B806=\"\",\"\",Zahteve!B806)","v":""},{"$f":"IF(Zahteve!B806=\"\",\"\",LEFT(Zahteve!B806,1))","v":""},{"$f":"IF(B806=\"\",\"\",IF(Zahteve!F806=\"da\",CONCATENATE(B806,\"-DA\"),\"\"))","v":""},{"$f":"IF(B806=\"\",\"\",IF(Zahteve!A806=\"da\",CONCATENATE(B806,\"-ustreza\"),\"\"))","v":""},{"$f":"IF(B806=\"\",\"\",IF(Zahteve!G806=\"\",\"\",CONCATENATE(B806,\"-opis\")))","v":""},{"$f":"IF(B806=\"\",\"\",IF(Zahteve!H806=\"\",\"\",CONCATENATE(B806,\"-dni\")))","v":""},{"$f":"IF(B806=\"\",\"\",IF(Zahteve!H806=\"\",\"\",Zahteve!H806))","v":""}]
[{"$f":"IF(Zahteve!B807=\"\",\"\",Zahteve!B807)","v":""},{"$f":"IF(Zahteve!B807=\"\",\"\",LEFT(Zahteve!B807,1))","v":""},{"$f":"IF(B807=\"\",\"\",IF(Zahteve!F807=\"da\",CONCATENATE(B807,\"-DA\"),\"\"))","v":""},{"$f":"IF(B807=\"\",\"\",IF(Zahteve!A807=\"da\",CONCATENATE(B807,\"-ustreza\"),\"\"))","v":""},{"$f":"IF(B807=\"\",\"\",IF(Zahteve!G807=\"\",\"\",CONCATENATE(B807,\"-opis\")))","v":""},{"$f":"IF(B807=\"\",\"\",IF(Zahteve!H807=\"\",\"\",CONCATENATE(B807,\"-dni\")))","v":""},{"$f":"IF(B807=\"\",\"\",IF(Zahteve!H807=\"\",\"\",Zahteve!H807))","v":""}]
[{"$f":"IF(Zahteve!B808=\"\",\"\",Zahteve!B808)","v":""},{"$f":"IF(Zahteve!B808=\"\",\"\",LEFT(Zahteve!B808,1))","v":""},{"$f":"IF(B808=\"\",\"\",IF(Zahteve!F808=\"da\",CONCATENATE(B808,\"-DA\"),\"\"))","v":""},{"$f":"IF(B808=\"\",\"\",IF(Zahteve!A808=\"da\",CONCATENATE(B808,\"-ustreza\"),\"\"))","v":""},{"$f":"IF(B808=\"\",\"\",IF(Zahteve!G808=\"\",\"\",CONCATENATE(B808,\"-opis\")))","v":""},{"$f":"IF(B808=\"\",\"\",IF(Zahteve!H808=\"\",\"\",CONCATENATE(B808,\"-dni\")))","v":""},{"$f":"IF(B808=\"\",\"\",IF(Zahteve!H808=\"\",\"\",Zahteve!H808))","v":""}]
[{"$f":"IF(Zahteve!B809=\"\",\"\",Zahteve!B809)","v":""},{"$f":"IF(Zahteve!B809=\"\",\"\",LEFT(Zahteve!B809,1))","v":""},{"$f":"IF(B809=\"\",\"\",IF(Zahteve!F809=\"da\",CONCATENATE(B809,\"-DA\"),\"\"))","v":""},{"$f":"IF(B809=\"\",\"\",IF(Zahteve!A809=\"da\",CONCATENATE(B809,\"-ustreza\"),\"\"))","v":""},{"$f":"IF(B809=\"\",\"\",IF(Zahteve!G809=\"\",\"\",CONCATENATE(B809,\"-opis\")))","v":""},{"$f":"IF(B809=\"\",\"\",IF(Zahteve!H809=\"\",\"\",CONCATENATE(B809,\"-dni\")))","v":""},{"$f":"IF(B809=\"\",\"\",IF(Zahteve!H809=\"\",\"\",Zahteve!H809))","v":""}]
[{"$f":"IF(Zahteve!B810=\"\",\"\",Zahteve!B810)","v":""},{"$f":"IF(Zahteve!B810=\"\",\"\",LEFT(Zahteve!B810,1))","v":""},{"$f":"IF(B810=\"\",\"\",IF(Zahteve!F810=\"da\",CONCATENATE(B810,\"-DA\"),\"\"))","v":""},{"$f":"IF(B810=\"\",\"\",IF(Zahteve!A810=\"da\",CONCATENATE(B810,\"-ustreza\"),\"\"))","v":""},{"$f":"IF(B810=\"\",\"\",IF(Zahteve!G810=\"\",\"\",CONCATENATE(B810,\"-opis\")))","v":""},{"$f":"IF(B810=\"\",\"\",IF(Zahteve!H810=\"\",\"\",CONCATENATE(B810,\"-dni\")))","v":""},{"$f":"IF(B810=\"\",\"\",IF(Zahteve!H810=\"\",\"\",Zahteve!H810))","v":""}]
[{"$f":"IF(Zahteve!B811=\"\",\"\",Zahteve!B811)","v":""},{"$f":"IF(Zahteve!B811=\"\",\"\",LEFT(Zahteve!B811,1))","v":""},{"$f":"IF(B811=\"\",\"\",IF(Zahteve!F811=\"da\",CONCATENATE(B811,\"-DA\"),\"\"))","v":""},{"$f":"IF(B811=\"\",\"\",IF(Zahteve!A811=\"da\",CONCATENATE(B811,\"-ustreza\"),\"\"))","v":""},{"$f":"IF(B811=\"\",\"\",IF(Zahteve!G811=\"\",\"\",CONCATENATE(B811,\"-opis\")))","v":""},{"$f":"IF(B811=\"\",\"\",IF(Zahteve!H811=\"\",\"\",CONCATENATE(B811,\"-dni\")))","v":""},{"$f":"IF(B811=\"\",\"\",IF(Zahteve!H811=\"\",\"\",Zahteve!H811))","v":""}]
[{"$f":"IF(Zahteve!B812=\"\",\"\",Zahteve!B812)","v":""},{"$f":"IF(Zahteve!B812=\"\",\"\",LEFT(Zahteve!B812,1))","v":""},{"$f":"IF(B812=\"\",\"\",IF(Zahteve!F812=\"da\",CONCATENATE(B812,\"-DA\"),\"\"))","v":""},{"$f":"IF(B812=\"\",\"\",IF(Zahteve!A812=\"da\",CONCATENATE(B812,\"-ustreza\"),\"\"))","v":""},{"$f":"IF(B812=\"\",\"\",IF(Zahteve!G812=\"\",\"\",CONCATENATE(B812,\"-opis\")))","v":""},{"$f":"IF(B812=\"\",\"\",IF(Zahteve!H812=\"\",\"\",CONCATENATE(B812,\"-dni\")))","v":""},{"$f":"IF(B812=\"\",\"\",IF(Zahteve!H812=\"\",\"\",Zahteve!H812))","v":""}]
[{"$f":"IF(Zahteve!B813=\"\",\"\",Zahteve!B813)","v":""},{"$f":"IF(Zahteve!B813=\"\",\"\",LEFT(Zahteve!B813,1))","v":""},{"$f":"IF(B813=\"\",\"\",IF(Zahteve!F813=\"da\",CONCATENATE(B813,\"-DA\"),\"\"))","v":""},{"$f":"IF(B813=\"\",\"\",IF(Zahteve!A813=\"da\",CONCATENATE(B813,\"-ustreza\"),\"\"))","v":""},{"$f":"IF(B813=\"\",\"\",IF(Zahteve!G813=\"\",\"\",CONCATENATE(B813,\"-opis\")))","v":""},{"$f":"IF(B813=\"\",\"\",IF(Zahteve!H813=\"\",\"\",CONCATENATE(B813,\"-dni\")))","v":""},{"$f":"IF(B813=\"\",\"\",IF(Zahteve!H813=\"\",\"\",Zahteve!H813))","v":""}]
[{"$f":"IF(Zahteve!B814=\"\",\"\",Zahteve!B814)","v":""},{"$f":"IF(Zahteve!B814=\"\",\"\",LEFT(Zahteve!B814,1))","v":""},{"$f":"IF(B814=\"\",\"\",IF(Zahteve!F814=\"da\",CONCATENATE(B814,\"-DA\"),\"\"))","v":""},{"$f":"IF(B814=\"\",\"\",IF(Zahteve!A814=\"da\",CONCATENATE(B814,\"-ustreza\"),\"\"))","v":""},{"$f":"IF(B814=\"\",\"\",IF(Zahteve!G814=\"\",\"\",CONCATENATE(B814,\"-opis\")))","v":""},{"$f":"IF(B814=\"\",\"\",IF(Zahteve!H814=\"\",\"\",CONCATENATE(B814,\"-dni\")))","v":""},{"$f":"IF(B814=\"\",\"\",IF(Zahteve!H814=\"\",\"\",Zahteve!H814))","v":""}]
[{"$f":"IF(Zahteve!B815=\"\",\"\",Zahteve!B815)","v":""},{"$f":"IF(Zahteve!B815=\"\",\"\",LEFT(Zahteve!B815,1))","v":""},{"$f":"IF(B815=\"\",\"\",IF(Zahteve!F815=\"da\",CONCATENATE(B815,\"-DA\"),\"\"))","v":""},{"$f":"IF(B815=\"\",\"\",IF(Zahteve!A815=\"da\",CONCATENATE(B815,\"-ustreza\"),\"\"))","v":""},{"$f":"IF(B815=\"\",\"\",IF(Zahteve!G815=\"\",\"\",CONCATENATE(B815,\"-opis\")))","v":""},{"$f":"IF(B815=\"\",\"\",IF(Zahteve!H815=\"\",\"\",CONCATENATE(B815,\"-dni\")))","v":""},{"$f":"IF(B815=\"\",\"\",IF(Zahteve!H815=\"\",\"\",Zahteve!H815))","v":""}]
[{"$f":"IF(Zahteve!B816=\"\",\"\",Zahteve!B816)","v":""},{"$f":"IF(Zahteve!B816=\"\",\"\",LEFT(Zahteve!B816,1))","v":""},{"$f":"IF(B816=\"\",\"\",IF(Zahteve!F816=\"da\",CONCATENATE(B816,\"-DA\"),\"\"))","v":""},{"$f":"IF(B816=\"\",\"\",IF(Zahteve!A816=\"da\",CONCATENATE(B816,\"-ustreza\"),\"\"))","v":""},{"$f":"IF(B816=\"\",\"\",IF(Zahteve!G816=\"\",\"\",CONCATENATE(B816,\"-opis\")))","v":""},{"$f":"IF(B816=\"\",\"\",IF(Zahteve!H816=\"\",\"\",CONCATENATE(B816,\"-dni\")))","v":""},{"$f":"IF(B816=\"\",\"\",IF(Zahteve!H816=\"\",\"\",Zahteve!H816))","v":""}]
[{"$f":"IF(Zahteve!B817=\"\",\"\",Zahteve!B817)","v":""},{"$f":"IF(Zahteve!B817=\"\",\"\",LEFT(Zahteve!B817,1))","v":""},{"$f":"IF(B817=\"\",\"\",IF(Zahteve!F817=\"da\",CONCATENATE(B817,\"-DA\"),\"\"))","v":""},{"$f":"IF(B817=\"\",\"\",IF(Zahteve!A817=\"da\",CONCATENATE(B817,\"-ustreza\"),\"\"))","v":""},{"$f":"IF(B817=\"\",\"\",IF(Zahteve!G817=\"\",\"\",CONCATENATE(B817,\"-opis\")))","v":""},{"$f":"IF(B817=\"\",\"\",IF(Zahteve!H817=\"\",\"\",CONCATENATE(B817,\"-dni\")))","v":""},{"$f":"IF(B817=\"\",\"\",IF(Zahteve!H817=\"\",\"\",Zahteve!H817))","v":""}]
[{"$f":"IF(Zahteve!B818=\"\",\"\",Zahteve!B818)","v":""},{"$f":"IF(Zahteve!B818=\"\",\"\",LEFT(Zahteve!B818,1))","v":""},{"$f":"IF(B818=\"\",\"\",IF(Zahteve!F818=\"da\",CONCATENATE(B818,\"-DA\"),\"\"))","v":""},{"$f":"IF(B818=\"\",\"\",IF(Zahteve!A818=\"da\",CONCATENATE(B818,\"-ustreza\"),\"\"))","v":""},{"$f":"IF(B818=\"\",\"\",IF(Zahteve!G818=\"\",\"\",CONCATENATE(B818,\"-opis\")))","v":""},{"$f":"IF(B818=\"\",\"\",IF(Zahteve!H818=\"\",\"\",CONCATENATE(B818,\"-dni\")))","v":""},{"$f":"IF(B818=\"\",\"\",IF(Zahteve!H818=\"\",\"\",Zahteve!H818))","v":""}]
[{"$f":"IF(Zahteve!B819=\"\",\"\",Zahteve!B819)","v":""},{"$f":"IF(Zahteve!B819=\"\",\"\",LEFT(Zahteve!B819,1))","v":""},{"$f":"IF(B819=\"\",\"\",IF(Zahteve!F819=\"da\",CONCATENATE(B819,\"-DA\"),\"\"))","v":""},{"$f":"IF(B819=\"\",\"\",IF(Zahteve!A819=\"da\",CONCATENATE(B819,\"-ustreza\"),\"\"))","v":""},{"$f":"IF(B819=\"\",\"\",IF(Zahteve!G819=\"\",\"\",CONCATENATE(B819,\"-opis\")))","v":""},{"$f":"IF(B819=\"\",\"\",IF(Zahteve!H819=\"\",\"\",CONCATENATE(B819,\"-dni\")))","v":""},{"$f":"IF(B819=\"\",\"\",IF(Zahteve!H819=\"\",\"\",Zahteve!H819))","v":""}]
[{"$f":"IF(Zahteve!B820=\"\",\"\",Zahteve!B820)","v":""},{"$f":"IF(Zahteve!B820=\"\",\"\",LEFT(Zahteve!B820,1))","v":""},{"$f":"IF(B820=\"\",\"\",IF(Zahteve!F820=\"da\",CONCATENATE(B820,\"-DA\"),\"\"))","v":""},{"$f":"IF(B820=\"\",\"\",IF(Zahteve!A820=\"da\",CONCATENATE(B820,\"-ustreza\"),\"\"))","v":""},{"$f":"IF(B820=\"\",\"\",IF(Zahteve!G820=\"\",\"\",CONCATENATE(B820,\"-opis\")))","v":""},{"$f":"IF(B820=\"\",\"\",IF(Zahteve!H820=\"\",\"\",CONCATENATE(B820,\"-dni\")))","v":""},{"$f":"IF(B820=\"\",\"\",IF(Zahteve!H820=\"\",\"\",Zahteve!H820))","v":""}]
[{"$f":"IF(Zahteve!B821=\"\",\"\",Zahteve!B821)","v":""},{"$f":"IF(Zahteve!B821=\"\",\"\",LEFT(Zahteve!B821,1))","v":""},{"$f":"IF(B821=\"\",\"\",IF(Zahteve!F821=\"da\",CONCATENATE(B821,\"-DA\"),\"\"))","v":""},{"$f":"IF(B821=\"\",\"\",IF(Zahteve!A821=\"da\",CONCATENATE(B821,\"-ustreza\"),\"\"))","v":""},{"$f":"IF(B821=\"\",\"\",IF(Zahteve!G821=\"\",\"\",CONCATENATE(B821,\"-opis\")))","v":""},{"$f":"IF(B821=\"\",\"\",IF(Zahteve!H821=\"\",\"\",CONCATENATE(B821,\"-dni\")))","v":""},{"$f":"IF(B821=\"\",\"\",IF(Zahteve!H821=\"\",\"\",Zahteve!H821))","v":""}]
[{"$f":"IF(Zahteve!B822=\"\",\"\",Zahteve!B822)","v":""},{"$f":"IF(Zahteve!B822=\"\",\"\",LEFT(Zahteve!B822,1))","v":""},{"$f":"IF(B822=\"\",\"\",IF(Zahteve!F822=\"da\",CONCATENATE(B822,\"-DA\"),\"\"))","v":""},{"$f":"IF(B822=\"\",\"\",IF(Zahteve!A822=\"da\",CONCATENATE(B822,\"-ustreza\"),\"\"))","v":""},{"$f":"IF(B822=\"\",\"\",IF(Zahteve!G822=\"\",\"\",CONCATENATE(B822,\"-opis\")))","v":""},{"$f":"IF(B822=\"\",\"\",IF(Zahteve!H822=\"\",\"\",CONCATENATE(B822,\"-dni\")))","v":""},{"$f":"IF(B822=\"\",\"\",IF(Zahteve!H822=\"\",\"\",Zahteve!H822))","v":""}]
[{"$f":"IF(Zahteve!B823=\"\",\"\",Zahteve!B823)","v":""},{"$f":"IF(Zahteve!B823=\"\",\"\",LEFT(Zahteve!B823,1))","v":""},{"$f":"IF(B823=\"\",\"\",IF(Zahteve!F823=\"da\",CONCATENATE(B823,\"-DA\"),\"\"))","v":""},{"$f":"IF(B823=\"\",\"\",IF(Zahteve!A823=\"da\",CONCATENATE(B823,\"-ustreza\"),\"\"))","v":""},{"$f":"IF(B823=\"\",\"\",IF(Zahteve!G823=\"\",\"\",CONCATENATE(B823,\"-opis\")))","v":""},{"$f":"IF(B823=\"\",\"\",IF(Zahteve!H823=\"\",\"\",CONCATENATE(B823,\"-dni\")))","v":""},{"$f":"IF(B823=\"\",\"\",IF(Zahteve!H823=\"\",\"\",Zahteve!H823))","v":""}]
[{"$f":"IF(Zahteve!B824=\"\",\"\",Zahteve!B824)","v":""},{"$f":"IF(Zahteve!B824=\"\",\"\",LEFT(Zahteve!B824,1))","v":""},{"$f":"IF(B824=\"\",\"\",IF(Zahteve!F824=\"da\",CONCATENATE(B824,\"-DA\"),\"\"))","v":""},{"$f":"IF(B824=\"\",\"\",IF(Zahteve!A824=\"da\",CONCATENATE(B824,\"-ustreza\"),\"\"))","v":""},{"$f":"IF(B824=\"\",\"\",IF(Zahteve!G824=\"\",\"\",CONCATENATE(B824,\"-opis\")))","v":""},{"$f":"IF(B824=\"\",\"\",IF(Zahteve!H824=\"\",\"\",CONCATENATE(B824,\"-dni\")))","v":""},{"$f":"IF(B824=\"\",\"\",IF(Zahteve!H824=\"\",\"\",Zahteve!H824))","v":""}]
[{"$f":"IF(Zahteve!B825=\"\",\"\",Zahteve!B825)","v":""},{"$f":"IF(Zahteve!B825=\"\",\"\",LEFT(Zahteve!B825,1))","v":""},{"$f":"IF(B825=\"\",\"\",IF(Zahteve!F825=\"da\",CONCATENATE(B825,\"-DA\"),\"\"))","v":""},{"$f":"IF(B825=\"\",\"\",IF(Zahteve!A825=\"da\",CONCATENATE(B825,\"-ustreza\"),\"\"))","v":""},{"$f":"IF(B825=\"\",\"\",IF(Zahteve!G825=\"\",\"\",CONCATENATE(B825,\"-opis\")))","v":""},{"$f":"IF(B825=\"\",\"\",IF(Zahteve!H825=\"\",\"\",CONCATENATE(B825,\"-dni\")))","v":""},{"$f":"IF(B825=\"\",\"\",IF(Zahteve!H825=\"\",\"\",Zahteve!H825))","v":""}]
[{"$f":"IF(Zahteve!B826=\"\",\"\",Zahteve!B826)","v":""},{"$f":"IF(Zahteve!B826=\"\",\"\",LEFT(Zahteve!B826,1))","v":""},{"$f":"IF(B826=\"\",\"\",IF(Zahteve!F826=\"da\",CONCATENATE(B826,\"-DA\"),\"\"))","v":""},{"$f":"IF(B826=\"\",\"\",IF(Zahteve!A826=\"da\",CONCATENATE(B826,\"-ustreza\"),\"\"))","v":""},{"$f":"IF(B826=\"\",\"\",IF(Zahteve!G826=\"\",\"\",CONCATENATE(B826,\"-opis\")))","v":""},{"$f":"IF(B826=\"\",\"\",IF(Zahteve!H826=\"\",\"\",CONCATENATE(B826,\"-dni\")))","v":""},{"$f":"IF(B826=\"\",\"\",IF(Zahteve!H826=\"\",\"\",Zahteve!H826))","v":""}]
[{"$f":"IF(Zahteve!B827=\"\",\"\",Zahteve!B827)","v":""},{"$f":"IF(Zahteve!B827=\"\",\"\",LEFT(Zahteve!B827,1))","v":""},{"$f":"IF(B827=\"\",\"\",IF(Zahteve!F827=\"da\",CONCATENATE(B827,\"-DA\"),\"\"))","v":""},{"$f":"IF(B827=\"\",\"\",IF(Zahteve!A827=\"da\",CONCATENATE(B827,\"-ustreza\"),\"\"))","v":""},{"$f":"IF(B827=\"\",\"\",IF(Zahteve!G827=\"\",\"\",CONCATENATE(B827,\"-opis\")))","v":""},{"$f":"IF(B827=\"\",\"\",IF(Zahteve!H827=\"\",\"\",CONCATENATE(B827,\"-dni\")))","v":""},{"$f":"IF(B827=\"\",\"\",IF(Zahteve!H827=\"\",\"\",Zahteve!H827))","v":""}]
[{"$f":"IF(Zahteve!B828=\"\",\"\",Zahteve!B828)","v":""},{"$f":"IF(Zahteve!B828=\"\",\"\",LEFT(Zahteve!B828,1))","v":""},{"$f":"IF(B828=\"\",\"\",IF(Zahteve!F828=\"da\",CONCATENATE(B828,\"-DA\"),\"\"))","v":""},{"$f":"IF(B828=\"\",\"\",IF(Zahteve!A828=\"da\",CONCATENATE(B828,\"-ustreza\"),\"\"))","v":""},{"$f":"IF(B828=\"\",\"\",IF(Zahteve!G828=\"\",\"\",CONCATENATE(B828,\"-opis\")))","v":""},{"$f":"IF(B828=\"\",\"\",IF(Zahteve!H828=\"\",\"\",CONCATENATE(B828,\"-dni\")))","v":""},{"$f":"IF(B828=\"\",\"\",IF(Zahteve!H828=\"\",\"\",Zahteve!H828))","v":""}]
[{"$f":"IF(Zahteve!B829=\"\",\"\",Zahteve!B829)","v":""},{"$f":"IF(Zahteve!B829=\"\",\"\",LEFT(Zahteve!B829,1))","v":""},{"$f":"IF(B829=\"\",\"\",IF(Zahteve!F829=\"da\",CONCATENATE(B829,\"-DA\"),\"\"))","v":""},{"$f":"IF(B829=\"\",\"\",IF(Zahteve!A829=\"da\",CONCATENATE(B829,\"-ustreza\"),\"\"))","v":""},{"$f":"IF(B829=\"\",\"\",IF(Zahteve!G829=\"\",\"\",CONCATENATE(B829,\"-opis\")))","v":""},{"$f":"IF(B829=\"\",\"\",IF(Zahteve!H829=\"\",\"\",CONCATENATE(B829,\"-dni\")))","v":""},{"$f":"IF(B829=\"\",\"\",IF(Zahteve!H829=\"\",\"\",Zahteve!H829))","v":""}]
[{"$f":"IF(Zahteve!B830=\"\",\"\",Zahteve!B830)","v":""},{"$f":"IF(Zahteve!B830=\"\",\"\",LEFT(Zahteve!B830,1))","v":""},{"$f":"IF(B830=\"\",\"\",IF(Zahteve!F830=\"da\",CONCATENATE(B830,\"-DA\"),\"\"))","v":""},{"$f":"IF(B830=\"\",\"\",IF(Zahteve!A830=\"da\",CONCATENATE(B830,\"-ustreza\"),\"\"))","v":""},{"$f":"IF(B830=\"\",\"\",IF(Zahteve!G830=\"\",\"\",CONCATENATE(B830,\"-opis\")))","v":""},{"$f":"IF(B830=\"\",\"\",IF(Zahteve!H830=\"\",\"\",CONCATENATE(B830,\"-dni\")))","v":""},{"$f":"IF(B830=\"\",\"\",IF(Zahteve!H830=\"\",\"\",Zahteve!H830))","v":""}]
[{"$f":"IF(Zahteve!B831=\"\",\"\",Zahteve!B831)","v":""},{"$f":"IF(Zahteve!B831=\"\",\"\",LEFT(Zahteve!B831,1))","v":""},{"$f":"IF(B831=\"\",\"\",IF(Zahteve!F831=\"da\",CONCATENATE(B831,\"-DA\"),\"\"))","v":""},{"$f":"IF(B831=\"\",\"\",IF(Zahteve!A831=\"da\",CONCATENATE(B831,\"-ustreza\"),\"\"))","v":""},{"$f":"IF(B831=\"\",\"\",IF(Zahteve!G831=\"\",\"\",CONCATENATE(B831,\"-opis\")))","v":""},{"$f":"IF(B831=\"\",\"\",IF(Zahteve!H831=\"\",\"\",CONCATENATE(B831,\"-dni\")))","v":""},{"$f":"IF(B831=\"\",\"\",IF(Zahteve!H831=\"\",\"\",Zahteve!H831))","v":""}]
[{"$f":"IF(Zahteve!B832=\"\",\"\",Zahteve!B832)","v":""},{"$f":"IF(Zahteve!B832=\"\",\"\",LEFT(Zahteve!B832,1))","v":""},{"$f":"IF(B832=\"\",\"\",IF(Zahteve!F832=\"da\",CONCATENATE(B832,\"-DA\"),\"\"))","v":""},{"$f":"IF(B832=\"\",\"\",IF(Zahteve!A832=\"da\",CONCATENATE(B832,\"-ustreza\"),\"\"))","v":""},{"$f":"IF(B832=\"\",\"\",IF(Zahteve!G832=\"\",\"\",CONCATENATE(B832,\"-opis\")))","v":""},{"$f":"IF(B832=\"\",\"\",IF(Zahteve!H832=\"\",\"\",CONCATENATE(B832,\"-dni\")))","v":""},{"$f":"IF(B832=\"\",\"\",IF(Zahteve!H832=\"\",\"\",Zahteve!H832))","v":""}]
[{"$f":"IF(Zahteve!B833=\"\",\"\",Zahteve!B833)","v":""},{"$f":"IF(Zahteve!B833=\"\",\"\",LEFT(Zahteve!B833,1))","v":""},{"$f":"IF(B833=\"\",\"\",IF(Zahteve!F833=\"da\",CONCATENATE(B833,\"-DA\"),\"\"))","v":""},{"$f":"IF(B833=\"\",\"\",IF(Zahteve!A833=\"da\",CONCATENATE(B833,\"-ustreza\"),\"\"))","v":""},{"$f":"IF(B833=\"\",\"\",IF(Zahteve!G833=\"\",\"\",CONCATENATE(B833,\"-opis\")))","v":""},{"$f":"IF(B833=\"\",\"\",IF(Zahteve!H833=\"\",\"\",CONCATENATE(B833,\"-dni\")))","v":""},{"$f":"IF(B833=\"\",\"\",IF(Zahteve!H833=\"\",\"\",Zahteve!H833))","v":""}]
[{"$f":"IF(Zahteve!B834=\"\",\"\",Zahteve!B834)","v":""},{"$f":"IF(Zahteve!B834=\"\",\"\",LEFT(Zahteve!B834,1))","v":""},{"$f":"IF(B834=\"\",\"\",IF(Zahteve!F834=\"da\",CONCATENATE(B834,\"-DA\"),\"\"))","v":""},{"$f":"IF(B834=\"\",\"\",IF(Zahteve!A834=\"da\",CONCATENATE(B834,\"-ustreza\"),\"\"))","v":""},{"$f":"IF(B834=\"\",\"\",IF(Zahteve!G834=\"\",\"\",CONCATENATE(B834,\"-opis\")))","v":""},{"$f":"IF(B834=\"\",\"\",IF(Zahteve!H834=\"\",\"\",CONCATENATE(B834,\"-dni\")))","v":""},{"$f":"IF(B834=\"\",\"\",IF(Zahteve!H834=\"\",\"\",Zahteve!H834))","v":""}]
[{"$f":"IF(Zahteve!B835=\"\",\"\",Zahteve!B835)","v":""},{"$f":"IF(Zahteve!B835=\"\",\"\",LEFT(Zahteve!B835,1))","v":""},{"$f":"IF(B835=\"\",\"\",IF(Zahteve!F835=\"da\",CONCATENATE(B835,\"-DA\"),\"\"))","v":""},{"$f":"IF(B835=\"\",\"\",IF(Zahteve!A835=\"da\",CONCATENATE(B835,\"-ustreza\"),\"\"))","v":""},{"$f":"IF(B835=\"\",\"\",IF(Zahteve!G835=\"\",\"\",CONCATENATE(B835,\"-opis\")))","v":""},{"$f":"IF(B835=\"\",\"\",IF(Zahteve!H835=\"\",\"\",CONCATENATE(B835,\"-dni\")))","v":""},{"$f":"IF(B835=\"\",\"\",IF(Zahteve!H835=\"\",\"\",Zahteve!H835))","v":""}]
[{"$f":"IF(Zahteve!B836=\"\",\"\",Zahteve!B836)","v":""},{"$f":"IF(Zahteve!B836=\"\",\"\",LEFT(Zahteve!B836,1))","v":""},{"$f":"IF(B836=\"\",\"\",IF(Zahteve!F836=\"da\",CONCATENATE(B836,\"-DA\"),\"\"))","v":""},{"$f":"IF(B836=\"\",\"\",IF(Zahteve!A836=\"da\",CONCATENATE(B836,\"-ustreza\"),\"\"))","v":""},{"$f":"IF(B836=\"\",\"\",IF(Zahteve!G836=\"\",\"\",CONCATENATE(B836,\"-opis\")))","v":""},{"$f":"IF(B836=\"\",\"\",IF(Zahteve!H836=\"\",\"\",CONCATENATE(B836,\"-dni\")))","v":""},{"$f":"IF(B836=\"\",\"\",IF(Zahteve!H836=\"\",\"\",Zahteve!H836))","v":""}]
[{"$f":"IF(Zahteve!B837=\"\",\"\",Zahteve!B837)","v":""},{"$f":"IF(Zahteve!B837=\"\",\"\",LEFT(Zahteve!B837,1))","v":""},{"$f":"IF(B837=\"\",\"\",IF(Zahteve!F837=\"da\",CONCATENATE(B837,\"-DA\"),\"\"))","v":""},{"$f":"IF(B837=\"\",\"\",IF(Zahteve!A837=\"da\",CONCATENATE(B837,\"-ustreza\"),\"\"))","v":""},{"$f":"IF(B837=\"\",\"\",IF(Zahteve!G837=\"\",\"\",CONCATENATE(B837,\"-opis\")))","v":""},{"$f":"IF(B837=\"\",\"\",IF(Zahteve!H837=\"\",\"\",CONCATENATE(B837,\"-dni\")))","v":""},{"$f":"IF(B837=\"\",\"\",IF(Zahteve!H837=\"\",\"\",Zahteve!H837))","v":""}]
[{"$f":"IF(Zahteve!B838=\"\",\"\",Zahteve!B838)","v":""},{"$f":"IF(Zahteve!B838=\"\",\"\",LEFT(Zahteve!B838,1))","v":""},{"$f":"IF(B838=\"\",\"\",IF(Zahteve!F838=\"da\",CONCATENATE(B838,\"-DA\"),\"\"))","v":""},{"$f":"IF(B838=\"\",\"\",IF(Zahteve!A838=\"da\",CONCATENATE(B838,\"-ustreza\"),\"\"))","v":""},{"$f":"IF(B838=\"\",\"\",IF(Zahteve!G838=\"\",\"\",CONCATENATE(B838,\"-opis\")))","v":""},{"$f":"IF(B838=\"\",\"\",IF(Zahteve!H838=\"\",\"\",CONCATENATE(B838,\"-dni\")))","v":""},{"$f":"IF(B838=\"\",\"\",IF(Zahteve!H838=\"\",\"\",Zahteve!H838))","v":""}]
[{"$f":"IF(Zahteve!B839=\"\",\"\",Zahteve!B839)","v":""},{"$f":"IF(Zahteve!B839=\"\",\"\",LEFT(Zahteve!B839,1))","v":""},{"$f":"IF(B839=\"\",\"\",IF(Zahteve!F839=\"da\",CONCATENATE(B839,\"-DA\"),\"\"))","v":""},{"$f":"IF(B839=\"\",\"\",IF(Zahteve!A839=\"da\",CONCATENATE(B839,\"-ustreza\"),\"\"))","v":""},{"$f":"IF(B839=\"\",\"\",IF(Zahteve!G839=\"\",\"\",CONCATENATE(B839,\"-opis\")))","v":""},{"$f":"IF(B839=\"\",\"\",IF(Zahteve!H839=\"\",\"\",CONCATENATE(B839,\"-dni\")))","v":""},{"$f":"IF(B839=\"\",\"\",IF(Zahteve!H839=\"\",\"\",Zahteve!H839))","v":""}]
[{"$f":"IF(Zahteve!B840=\"\",\"\",Zahteve!B840)","v":""},{"$f":"IF(Zahteve!B840=\"\",\"\",LEFT(Zahteve!B840,1))","v":""},{"$f":"IF(B840=\"\",\"\",IF(Zahteve!F840=\"da\",CONCATENATE(B840,\"-DA\"),\"\"))","v":""},{"$f":"IF(B840=\"\",\"\",IF(Zahteve!A840=\"da\",CONCATENATE(B840,\"-ustreza\"),\"\"))","v":""},{"$f":"IF(B840=\"\",\"\",IF(Zahteve!G840=\"\",\"\",CONCATENATE(B840,\"-opis\")))","v":""},{"$f":"IF(B840=\"\",\"\",IF(Zahteve!H840=\"\",\"\",CONCATENATE(B840,\"-dni\")))","v":""},{"$f":"IF(B840=\"\",\"\",IF(Zahteve!H840=\"\",\"\",Zahteve!H840))","v":""}]
[{"$f":"IF(Zahteve!B841=\"\",\"\",Zahteve!B841)","v":""},{"$f":"IF(Zahteve!B841=\"\",\"\",LEFT(Zahteve!B841,1))","v":""},{"$f":"IF(B841=\"\",\"\",IF(Zahteve!F841=\"da\",CONCATENATE(B841,\"-DA\"),\"\"))","v":""},{"$f":"IF(B841=\"\",\"\",IF(Zahteve!A841=\"da\",CONCATENATE(B841,\"-ustreza\"),\"\"))","v":""},{"$f":"IF(B841=\"\",\"\",IF(Zahteve!G841=\"\",\"\",CONCATENATE(B841,\"-opis\")))","v":""},{"$f":"IF(B841=\"\",\"\",IF(Zahteve!H841=\"\",\"\",CONCATENATE(B841,\"-dni\")))","v":""},{"$f":"IF(B841=\"\",\"\",IF(Zahteve!H841=\"\",\"\",Zahteve!H841))","v":""}]
[{"$f":"IF(Zahteve!B842=\"\",\"\",Zahteve!B842)","v":""},{"$f":"IF(Zahteve!B842=\"\",\"\",LEFT(Zahteve!B842,1))","v":""},{"$f":"IF(B842=\"\",\"\",IF(Zahteve!F842=\"da\",CONCATENATE(B842,\"-DA\"),\"\"))","v":""},{"$f":"IF(B842=\"\",\"\",IF(Zahteve!A842=\"da\",CONCATENATE(B842,\"-ustreza\"),\"\"))","v":""},{"$f":"IF(B842=\"\",\"\",IF(Zahteve!G842=\"\",\"\",CONCATENATE(B842,\"-opis\")))","v":""},{"$f":"IF(B842=\"\",\"\",IF(Zahteve!H842=\"\",\"\",CONCATENATE(B842,\"-dni\")))","v":""},{"$f":"IF(B842=\"\",\"\",IF(Zahteve!H842=\"\",\"\",Zahteve!H842))","v":""}]
[{"$f":"IF(Zahteve!B843=\"\",\"\",Zahteve!B843)","v":""},{"$f":"IF(Zahteve!B843=\"\",\"\",LEFT(Zahteve!B843,1))","v":""},{"$f":"IF(B843=\"\",\"\",IF(Zahteve!F843=\"da\",CONCATENATE(B843,\"-DA\"),\"\"))","v":""},{"$f":"IF(B843=\"\",\"\",IF(Zahteve!A843=\"da\",CONCATENATE(B843,\"-ustreza\"),\"\"))","v":""},{"$f":"IF(B843=\"\",\"\",IF(Zahteve!G843=\"\",\"\",CONCATENATE(B843,\"-opis\")))","v":""},{"$f":"IF(B843=\"\",\"\",IF(Zahteve!H843=\"\",\"\",CONCATENATE(B843,\"-dni\")))","v":""},{"$f":"IF(B843=\"\",\"\",IF(Zahteve!H843=\"\",\"\",Zahteve!H843))","v":""}]
[{"$f":"IF(Zahteve!B844=\"\",\"\",Zahteve!B844)","v":""},{"$f":"IF(Zahteve!B844=\"\",\"\",LEFT(Zahteve!B844,1))","v":""},{"$f":"IF(B844=\"\",\"\",IF(Zahteve!F844=\"da\",CONCATENATE(B844,\"-DA\"),\"\"))","v":""},{"$f":"IF(B844=\"\",\"\",IF(Zahteve!A844=\"da\",CONCATENATE(B844,\"-ustreza\"),\"\"))","v":""},{"$f":"IF(B844=\"\",\"\",IF(Zahteve!G844=\"\",\"\",CONCATENATE(B844,\"-opis\")))","v":""},{"$f":"IF(B844=\"\",\"\",IF(Zahteve!H844=\"\",\"\",CONCATENATE(B844,\"-dni\")))","v":""},{"$f":"IF(B844=\"\",\"\",IF(Zahteve!H844=\"\",\"\",Zahteve!H844))","v":""}]
[{"$f":"IF(Zahteve!B845=\"\",\"\",Zahteve!B845)","v":""},{"$f":"IF(Zahteve!B845=\"\",\"\",LEFT(Zahteve!B845,1))","v":""},{"$f":"IF(B845=\"\",\"\",IF(Zahteve!F845=\"da\",CONCATENATE(B845,\"-DA\"),\"\"))","v":""},{"$f":"IF(B845=\"\",\"\",IF(Zahteve!A845=\"da\",CONCATENATE(B845,\"-ustreza\"),\"\"))","v":""},{"$f":"IF(B845=\"\",\"\",IF(Zahteve!G845=\"\",\"\",CONCATENATE(B845,\"-opis\")))","v":""},{"$f":"IF(B845=\"\",\"\",IF(Zahteve!H845=\"\",\"\",CONCATENATE(B845,\"-dni\")))","v":""},{"$f":"IF(B845=\"\",\"\",IF(Zahteve!H845=\"\",\"\",Zahteve!H845))","v":""}]
[{"$f":"IF(Zahteve!B846=\"\",\"\",Zahteve!B846)","v":""},{"$f":"IF(Zahteve!B846=\"\",\"\",LEFT(Zahteve!B846,1))","v":""},{"$f":"IF(B846=\"\",\"\",IF(Zahteve!F846=\"da\",CONCATENATE(B846,\"-DA\"),\"\"))","v":""},{"$f":"IF(B846=\"\",\"\",IF(Zahteve!A846=\"da\",CONCATENATE(B846,\"-ustreza\"),\"\"))","v":""},{"$f":"IF(B846=\"\",\"\",IF(Zahteve!G846=\"\",\"\",CONCATENATE(B846,\"-opis\")))","v":""},{"$f":"IF(B846=\"\",\"\",IF(Zahteve!H846=\"\",\"\",CONCATENATE(B846,\"-dni\")))","v":""},{"$f":"IF(B846=\"\",\"\",IF(Zahteve!H846=\"\",\"\",Zahteve!H846))","v":""}]
[{"$f":"IF(Zahteve!B847=\"\",\"\",Zahteve!B847)","v":""},{"$f":"IF(Zahteve!B847=\"\",\"\",LEFT(Zahteve!B847,1))","v":""},{"$f":"IF(B847=\"\",\"\",IF(Zahteve!F847=\"da\",CONCATENATE(B847,\"-DA\"),\"\"))","v":""},{"$f":"IF(B847=\"\",\"\",IF(Zahteve!A847=\"da\",CONCATENATE(B847,\"-ustreza\"),\"\"))","v":""},{"$f":"IF(B847=\"\",\"\",IF(Zahteve!G847=\"\",\"\",CONCATENATE(B847,\"-opis\")))","v":""},{"$f":"IF(B847=\"\",\"\",IF(Zahteve!H847=\"\",\"\",CONCATENATE(B847,\"-dni\")))","v":""},{"$f":"IF(B847=\"\",\"\",IF(Zahteve!H847=\"\",\"\",Zahteve!H847))","v":""}]
[{"$f":"IF(Zahteve!B848=\"\",\"\",Zahteve!B848)","v":""},{"$f":"IF(Zahteve!B848=\"\",\"\",LEFT(Zahteve!B848,1))","v":""},{"$f":"IF(B848=\"\",\"\",IF(Zahteve!F848=\"da\",CONCATENATE(B848,\"-DA\"),\"\"))","v":""},{"$f":"IF(B848=\"\",\"\",IF(Zahteve!A848=\"da\",CONCATENATE(B848,\"-ustreza\"),\"\"))","v":""},{"$f":"IF(B848=\"\",\"\",IF(Zahteve!G848=\"\",\"\",CONCATENATE(B848,\"-opis\")))","v":""},{"$f":"IF(B848=\"\",\"\",IF(Zahteve!H848=\"\",\"\",CONCATENATE(B848,\"-dni\")))","v":""},{"$f":"IF(B848=\"\",\"\",IF(Zahteve!H848=\"\",\"\",Zahteve!H848))","v":""}]
[{"$f":"IF(Zahteve!B849=\"\",\"\",Zahteve!B849)","v":""},{"$f":"IF(Zahteve!B849=\"\",\"\",LEFT(Zahteve!B849,1))","v":""},{"$f":"IF(B849=\"\",\"\",IF(Zahteve!F849=\"da\",CONCATENATE(B849,\"-DA\"),\"\"))","v":""},{"$f":"IF(B849=\"\",\"\",IF(Zahteve!A849=\"da\",CONCATENATE(B849,\"-ustreza\"),\"\"))","v":""},{"$f":"IF(B849=\"\",\"\",IF(Zahteve!G849=\"\",\"\",CONCATENATE(B849,\"-opis\")))","v":""},{"$f":"IF(B849=\"\",\"\",IF(Zahteve!H849=\"\",\"\",CONCATENATE(B849,\"-dni\")))","v":""},{"$f":"IF(B849=\"\",\"\",IF(Zahteve!H849=\"\",\"\",Zahteve!H849))","v":""}]
[{"$f":"IF(Zahteve!B850=\"\",\"\",Zahteve!B850)","v":""},{"$f":"IF(Zahteve!B850=\"\",\"\",LEFT(Zahteve!B850,1))","v":""},{"$f":"IF(B850=\"\",\"\",IF(Zahteve!F850=\"da\",CONCATENATE(B850,\"-DA\"),\"\"))","v":""},{"$f":"IF(B850=\"\",\"\",IF(Zahteve!A850=\"da\",CONCATENATE(B850,\"-ustreza\"),\"\"))","v":""},{"$f":"IF(B850=\"\",\"\",IF(Zahteve!G850=\"\",\"\",CONCATENATE(B850,\"-opis\")))","v":""},{"$f":"IF(B850=\"\",\"\",IF(Zahteve!H850=\"\",\"\",CONCATENATE(B850,\"-dni\")))","v":""},{"$f":"IF(B850=\"\",\"\",IF(Zahteve!H850=\"\",\"\",Zahteve!H850))","v":""}]
[{"$f":"IF(Zahteve!B851=\"\",\"\",Zahteve!B851)","v":""},{"$f":"IF(Zahteve!B851=\"\",\"\",LEFT(Zahteve!B851,1))","v":""},{"$f":"IF(B851=\"\",\"\",IF(Zahteve!F851=\"da\",CONCATENATE(B851,\"-DA\"),\"\"))","v":""},{"$f":"IF(B851=\"\",\"\",IF(Zahteve!A851=\"da\",CONCATENATE(B851,\"-ustreza\"),\"\"))","v":""},{"$f":"IF(B851=\"\",\"\",IF(Zahteve!G851=\"\",\"\",CONCATENATE(B851,\"-opis\")))","v":""},{"$f":"IF(B851=\"\",\"\",IF(Zahteve!H851=\"\",\"\",CONCATENATE(B851,\"-dni\")))","v":""},{"$f":"IF(B851=\"\",\"\",IF(Zahteve!H851=\"\",\"\",Zahteve!H851))","v":""}]
[{"$f":"IF(Zahteve!B852=\"\",\"\",Zahteve!B852)","v":""},{"$f":"IF(Zahteve!B852=\"\",\"\",LEFT(Zahteve!B852,1))","v":""},{"$f":"IF(B852=\"\",\"\",IF(Zahteve!F852=\"da\",CONCATENATE(B852,\"-DA\"),\"\"))","v":""},{"$f":"IF(B852=\"\",\"\",IF(Zahteve!A852=\"da\",CONCATENATE(B852,\"-ustreza\"),\"\"))","v":""},{"$f":"IF(B852=\"\",\"\",IF(Zahteve!G852=\"\",\"\",CONCATENATE(B852,\"-opis\")))","v":""},{"$f":"IF(B852=\"\",\"\",IF(Zahteve!H852=\"\",\"\",CONCATENATE(B852,\"-dni\")))","v":""},{"$f":"IF(B852=\"\",\"\",IF(Zahteve!H852=\"\",\"\",Zahteve!H852))","v":""}]
[{"$f":"IF(Zahteve!B853=\"\",\"\",Zahteve!B853)","v":""},{"$f":"IF(Zahteve!B853=\"\",\"\",LEFT(Zahteve!B853,1))","v":""},{"$f":"IF(B853=\"\",\"\",IF(Zahteve!F853=\"da\",CONCATENATE(B853,\"-DA\"),\"\"))","v":""},{"$f":"IF(B853=\"\",\"\",IF(Zahteve!A853=\"da\",CONCATENATE(B853,\"-ustreza\"),\"\"))","v":""},{"$f":"IF(B853=\"\",\"\",IF(Zahteve!G853=\"\",\"\",CONCATENATE(B853,\"-opis\")))","v":""},{"$f":"IF(B853=\"\",\"\",IF(Zahteve!H853=\"\",\"\",CONCATENATE(B853,\"-dni\")))","v":""},{"$f":"IF(B853=\"\",\"\",IF(Zahteve!H853=\"\",\"\",Zahteve!H853))","v":""}]
[{"$f":"IF(Zahteve!B854=\"\",\"\",Zahteve!B854)","v":""},{"$f":"IF(Zahteve!B854=\"\",\"\",LEFT(Zahteve!B854,1))","v":""},{"$f":"IF(B854=\"\",\"\",IF(Zahteve!F854=\"da\",CONCATENATE(B854,\"-DA\"),\"\"))","v":""},{"$f":"IF(B854=\"\",\"\",IF(Zahteve!A854=\"da\",CONCATENATE(B854,\"-ustreza\"),\"\"))","v":""},{"$f":"IF(B854=\"\",\"\",IF(Zahteve!G854=\"\",\"\",CONCATENATE(B854,\"-opis\")))","v":""},{"$f":"IF(B854=\"\",\"\",IF(Zahteve!H854=\"\",\"\",CONCATENATE(B854,\"-dni\")))","v":""},{"$f":"IF(B854=\"\",\"\",IF(Zahteve!H854=\"\",\"\",Zahteve!H854))","v":""}]
[{"$f":"IF(Zahteve!B855=\"\",\"\",Zahteve!B855)","v":""},{"$f":"IF(Zahteve!B855=\"\",\"\",LEFT(Zahteve!B855,1))","v":""},{"$f":"IF(B855=\"\",\"\",IF(Zahteve!F855=\"da\",CONCATENATE(B855,\"-DA\"),\"\"))","v":""},{"$f":"IF(B855=\"\",\"\",IF(Zahteve!A855=\"da\",CONCATENATE(B855,\"-ustreza\"),\"\"))","v":""},{"$f":"IF(B855=\"\",\"\",IF(Zahteve!G855=\"\",\"\",CONCATENATE(B855,\"-opis\")))","v":""},{"$f":"IF(B855=\"\",\"\",IF(Zahteve!H855=\"\",\"\",CONCATENATE(B855,\"-dni\")))","v":""},{"$f":"IF(B855=\"\",\"\",IF(Zahteve!H855=\"\",\"\",Zahteve!H855))","v":""}]
[{"$f":"IF(Zahteve!B856=\"\",\"\",Zahteve!B856)","v":""},{"$f":"IF(Zahteve!B856=\"\",\"\",LEFT(Zahteve!B856,1))","v":""},{"$f":"IF(B856=\"\",\"\",IF(Zahteve!F856=\"da\",CONCATENATE(B856,\"-DA\"),\"\"))","v":""},{"$f":"IF(B856=\"\",\"\",IF(Zahteve!A856=\"da\",CONCATENATE(B856,\"-ustreza\"),\"\"))","v":""},{"$f":"IF(B856=\"\",\"\",IF(Zahteve!G856=\"\",\"\",CONCATENATE(B856,\"-opis\")))","v":""},{"$f":"IF(B856=\"\",\"\",IF(Zahteve!H856=\"\",\"\",CONCATENATE(B856,\"-dni\")))","v":""},{"$f":"IF(B856=\"\",\"\",IF(Zahteve!H856=\"\",\"\",Zahteve!H856))","v":""}]
[{"$f":"IF(Zahteve!B857=\"\",\"\",Zahteve!B857)","v":""},{"$f":"IF(Zahteve!B857=\"\",\"\",LEFT(Zahteve!B857,1))","v":""},{"$f":"IF(B857=\"\",\"\",IF(Zahteve!F857=\"da\",CONCATENATE(B857,\"-DA\"),\"\"))","v":""},{"$f":"IF(B857=\"\",\"\",IF(Zahteve!A857=\"da\",CONCATENATE(B857,\"-ustreza\"),\"\"))","v":""},{"$f":"IF(B857=\"\",\"\",IF(Zahteve!G857=\"\",\"\",CONCATENATE(B857,\"-opis\")))","v":""},{"$f":"IF(B857=\"\",\"\",IF(Zahteve!H857=\"\",\"\",CONCATENATE(B857,\"-dni\")))","v":""},{"$f":"IF(B857=\"\",\"\",IF(Zahteve!H857=\"\",\"\",Zahteve!H857))","v":""}]
[{"$f":"IF(Zahteve!B858=\"\",\"\",Zahteve!B858)","v":""},{"$f":"IF(Zahteve!B858=\"\",\"\",LEFT(Zahteve!B858,1))","v":""},{"$f":"IF(B858=\"\",\"\",IF(Zahteve!F858=\"da\",CONCATENATE(B858,\"-DA\"),\"\"))","v":""},{"$f":"IF(B858=\"\",\"\",IF(Zahteve!A858=\"da\",CONCATENATE(B858,\"-ustreza\"),\"\"))","v":""},{"$f":"IF(B858=\"\",\"\",IF(Zahteve!G858=\"\",\"\",CONCATENATE(B858,\"-opis\")))","v":""},{"$f":"IF(B858=\"\",\"\",IF(Zahteve!H858=\"\",\"\",CONCATENATE(B858,\"-dni\")))","v":""},{"$f":"IF(B858=\"\",\"\",IF(Zahteve!H858=\"\",\"\",Zahteve!H858))","v":""}]
[{"$f":"IF(Zahteve!B859=\"\",\"\",Zahteve!B859)","v":""},{"$f":"IF(Zahteve!B859=\"\",\"\",LEFT(Zahteve!B859,1))","v":""},{"$f":"IF(B859=\"\",\"\",IF(Zahteve!F859=\"da\",CONCATENATE(B859,\"-DA\"),\"\"))","v":""},{"$f":"IF(B859=\"\",\"\",IF(Zahteve!A859=\"da\",CONCATENATE(B859,\"-ustreza\"),\"\"))","v":""},{"$f":"IF(B859=\"\",\"\",IF(Zahteve!G859=\"\",\"\",CONCATENATE(B859,\"-opis\")))","v":""},{"$f":"IF(B859=\"\",\"\",IF(Zahteve!H859=\"\",\"\",CONCATENATE(B859,\"-dni\")))","v":""},{"$f":"IF(B859=\"\",\"\",IF(Zahteve!H859=\"\",\"\",Zahteve!H859))","v":""}]
[{"$f":"IF(Zahteve!B860=\"\",\"\",Zahteve!B860)","v":""},{"$f":"IF(Zahteve!B860=\"\",\"\",LEFT(Zahteve!B860,1))","v":""},{"$f":"IF(B860=\"\",\"\",IF(Zahteve!F860=\"da\",CONCATENATE(B860,\"-DA\"),\"\"))","v":""},{"$f":"IF(B860=\"\",\"\",IF(Zahteve!A860=\"da\",CONCATENATE(B860,\"-ustreza\"),\"\"))","v":""},{"$f":"IF(B860=\"\",\"\",IF(Zahteve!G860=\"\",\"\",CONCATENATE(B860,\"-opis\")))","v":""},{"$f":"IF(B860=\"\",\"\",IF(Zahteve!H860=\"\",\"\",CONCATENATE(B860,\"-dni\")))","v":""},{"$f":"IF(B860=\"\",\"\",IF(Zahteve!H860=\"\",\"\",Zahteve!H860))","v":""}]
[{"$f":"IF(Zahteve!B861=\"\",\"\",Zahteve!B861)","v":""},{"$f":"IF(Zahteve!B861=\"\",\"\",LEFT(Zahteve!B861,1))","v":""},{"$f":"IF(B861=\"\",\"\",IF(Zahteve!F861=\"da\",CONCATENATE(B861,\"-DA\"),\"\"))","v":""},{"$f":"IF(B861=\"\",\"\",IF(Zahteve!A861=\"da\",CONCATENATE(B861,\"-ustreza\"),\"\"))","v":""},{"$f":"IF(B861=\"\",\"\",IF(Zahteve!G861=\"\",\"\",CONCATENATE(B861,\"-opis\")))","v":""},{"$f":"IF(B861=\"\",\"\",IF(Zahteve!H861=\"\",\"\",CONCATENATE(B861,\"-dni\")))","v":""},{"$f":"IF(B861=\"\",\"\",IF(Zahteve!H861=\"\",\"\",Zahteve!H861))","v":""}]
[{"$f":"IF(Zahteve!B862=\"\",\"\",Zahteve!B862)","v":""},{"$f":"IF(Zahteve!B862=\"\",\"\",LEFT(Zahteve!B862,1))","v":""},{"$f":"IF(B862=\"\",\"\",IF(Zahteve!F862=\"da\",CONCATENATE(B862,\"-DA\"),\"\"))","v":""},{"$f":"IF(B862=\"\",\"\",IF(Zahteve!A862=\"da\",CONCATENATE(B862,\"-ustreza\"),\"\"))","v":""},{"$f":"IF(B862=\"\",\"\",IF(Zahteve!G862=\"\",\"\",CONCATENATE(B862,\"-opis\")))","v":""},{"$f":"IF(B862=\"\",\"\",IF(Zahteve!H862=\"\",\"\",CONCATENATE(B862,\"-dni\")))","v":""},{"$f":"IF(B862=\"\",\"\",IF(Zahteve!H862=\"\",\"\",Zahteve!H862))","v":""}]
[{"$f":"IF(Zahteve!B863=\"\",\"\",Zahteve!B863)","v":""},{"$f":"IF(Zahteve!B863=\"\",\"\",LEFT(Zahteve!B863,1))","v":""},{"$f":"IF(B863=\"\",\"\",IF(Zahteve!F863=\"da\",CONCATENATE(B863,\"-DA\"),\"\"))","v":""},{"$f":"IF(B863=\"\",\"\",IF(Zahteve!A863=\"da\",CONCATENATE(B863,\"-ustreza\"),\"\"))","v":""},{"$f":"IF(B863=\"\",\"\",IF(Zahteve!G863=\"\",\"\",CONCATENATE(B863,\"-opis\")))","v":""},{"$f":"IF(B863=\"\",\"\",IF(Zahteve!H863=\"\",\"\",CONCATENATE(B863,\"-dni\")))","v":""},{"$f":"IF(B863=\"\",\"\",IF(Zahteve!H863=\"\",\"\",Zahteve!H863))","v":""}]
[{"$f":"IF(Zahteve!B864=\"\",\"\",Zahteve!B864)","v":""},{"$f":"IF(Zahteve!B864=\"\",\"\",LEFT(Zahteve!B864,1))","v":""},{"$f":"IF(B864=\"\",\"\",IF(Zahteve!F864=\"da\",CONCATENATE(B864,\"-DA\"),\"\"))","v":""},{"$f":"IF(B864=\"\",\"\",IF(Zahteve!A864=\"da\",CONCATENATE(B864,\"-ustreza\"),\"\"))","v":""},{"$f":"IF(B864=\"\",\"\",IF(Zahteve!G864=\"\",\"\",CONCATENATE(B864,\"-opis\")))","v":""},{"$f":"IF(B864=\"\",\"\",IF(Zahteve!H864=\"\",\"\",CONCATENATE(B864,\"-dni\")))","v":""},{"$f":"IF(B864=\"\",\"\",IF(Zahteve!H864=\"\",\"\",Zahteve!H864))","v":""}]
[{"$f":"IF(Zahteve!B865=\"\",\"\",Zahteve!B865)","v":""},{"$f":"IF(Zahteve!B865=\"\",\"\",LEFT(Zahteve!B865,1))","v":""},{"$f":"IF(B865=\"\",\"\",IF(Zahteve!F865=\"da\",CONCATENATE(B865,\"-DA\"),\"\"))","v":""},{"$f":"IF(B865=\"\",\"\",IF(Zahteve!A865=\"da\",CONCATENATE(B865,\"-ustreza\"),\"\"))","v":""},{"$f":"IF(B865=\"\",\"\",IF(Zahteve!G865=\"\",\"\",CONCATENATE(B865,\"-opis\")))","v":""},{"$f":"IF(B865=\"\",\"\",IF(Zahteve!H865=\"\",\"\",CONCATENATE(B865,\"-dni\")))","v":""},{"$f":"IF(B865=\"\",\"\",IF(Zahteve!H865=\"\",\"\",Zahteve!H865))","v":""}]
[{"$f":"IF(Zahteve!B866=\"\",\"\",Zahteve!B866)","v":""},{"$f":"IF(Zahteve!B866=\"\",\"\",LEFT(Zahteve!B866,1))","v":""},{"$f":"IF(B866=\"\",\"\",IF(Zahteve!F866=\"da\",CONCATENATE(B866,\"-DA\"),\"\"))","v":""},{"$f":"IF(B866=\"\",\"\",IF(Zahteve!A866=\"da\",CONCATENATE(B866,\"-ustreza\"),\"\"))","v":""},{"$f":"IF(B866=\"\",\"\",IF(Zahteve!G866=\"\",\"\",CONCATENATE(B866,\"-opis\")))","v":""},{"$f":"IF(B866=\"\",\"\",IF(Zahteve!H866=\"\",\"\",CONCATENATE(B866,\"-dni\")))","v":""},{"$f":"IF(B866=\"\",\"\",IF(Zahteve!H866=\"\",\"\",Zahteve!H866))","v":""}]
[{"$f":"IF(Zahteve!B867=\"\",\"\",Zahteve!B867)","v":""},{"$f":"IF(Zahteve!B867=\"\",\"\",LEFT(Zahteve!B867,1))","v":""},{"$f":"IF(B867=\"\",\"\",IF(Zahteve!F867=\"da\",CONCATENATE(B867,\"-DA\"),\"\"))","v":""},{"$f":"IF(B867=\"\",\"\",IF(Zahteve!A867=\"da\",CONCATENATE(B867,\"-ustreza\"),\"\"))","v":""},{"$f":"IF(B867=\"\",\"\",IF(Zahteve!G867=\"\",\"\",CONCATENATE(B867,\"-opis\")))","v":""},{"$f":"IF(B867=\"\",\"\",IF(Zahteve!H867=\"\",\"\",CONCATENATE(B867,\"-dni\")))","v":""},{"$f":"IF(B867=\"\",\"\",IF(Zahteve!H867=\"\",\"\",Zahteve!H867))","v":""}]
[{"$f":"IF(Zahteve!B868=\"\",\"\",Zahteve!B868)","v":""},{"$f":"IF(Zahteve!B868=\"\",\"\",LEFT(Zahteve!B868,1))","v":""},{"$f":"IF(B868=\"\",\"\",IF(Zahteve!F868=\"da\",CONCATENATE(B868,\"-DA\"),\"\"))","v":""},{"$f":"IF(B868=\"\",\"\",IF(Zahteve!A868=\"da\",CONCATENATE(B868,\"-ustreza\"),\"\"))","v":""},{"$f":"IF(B868=\"\",\"\",IF(Zahteve!G868=\"\",\"\",CONCATENATE(B868,\"-opis\")))","v":""},{"$f":"IF(B868=\"\",\"\",IF(Zahteve!H868=\"\",\"\",CONCATENATE(B868,\"-dni\")))","v":""},{"$f":"IF(B868=\"\",\"\",IF(Zahteve!H868=\"\",\"\",Zahteve!H868))","v":""}]
[{"$f":"IF(Zahteve!B869=\"\",\"\",Zahteve!B869)","v":""},{"$f":"IF(Zahteve!B869=\"\",\"\",LEFT(Zahteve!B869,1))","v":""},{"$f":"IF(B869=\"\",\"\",IF(Zahteve!F869=\"da\",CONCATENATE(B869,\"-DA\"),\"\"))","v":""},{"$f":"IF(B869=\"\",\"\",IF(Zahteve!A869=\"da\",CONCATENATE(B869,\"-ustreza\"),\"\"))","v":""},{"$f":"IF(B869=\"\",\"\",IF(Zahteve!G869=\"\",\"\",CONCATENATE(B869,\"-opis\")))","v":""},{"$f":"IF(B869=\"\",\"\",IF(Zahteve!H869=\"\",\"\",CONCATENATE(B869,\"-dni\")))","v":""},{"$f":"IF(B869=\"\",\"\",IF(Zahteve!H869=\"\",\"\",Zahteve!H869))","v":""}]
[{"$f":"IF(Zahteve!B870=\"\",\"\",Zahteve!B870)","v":""},{"$f":"IF(Zahteve!B870=\"\",\"\",LEFT(Zahteve!B870,1))","v":""},{"$f":"IF(B870=\"\",\"\",IF(Zahteve!F870=\"da\",CONCATENATE(B870,\"-DA\"),\"\"))","v":""},{"$f":"IF(B870=\"\",\"\",IF(Zahteve!A870=\"da\",CONCATENATE(B870,\"-ustreza\"),\"\"))","v":""},{"$f":"IF(B870=\"\",\"\",IF(Zahteve!G870=\"\",\"\",CONCATENATE(B870,\"-opis\")))","v":""},{"$f":"IF(B870=\"\",\"\",IF(Zahteve!H870=\"\",\"\",CONCATENATE(B870,\"-dni\")))","v":""},{"$f":"IF(B870=\"\",\"\",IF(Zahteve!H870=\"\",\"\",Zahteve!H870))","v":""}]
[{"$f":"IF(Zahteve!B871=\"\",\"\",Zahteve!B871)","v":""},{"$f":"IF(Zahteve!B871=\"\",\"\",LEFT(Zahteve!B871,1))","v":""},{"$f":"IF(B871=\"\",\"\",IF(Zahteve!F871=\"da\",CONCATENATE(B871,\"-DA\"),\"\"))","v":""},{"$f":"IF(B871=\"\",\"\",IF(Zahteve!A871=\"da\",CONCATENATE(B871,\"-ustreza\"),\"\"))","v":""},{"$f":"IF(B871=\"\",\"\",IF(Zahteve!G871=\"\",\"\",CONCATENATE(B871,\"-opis\")))","v":""},{"$f":"IF(B871=\"\",\"\",IF(Zahteve!H871=\"\",\"\",CONCATENATE(B871,\"-dni\")))","v":""},{"$f":"IF(B871=\"\",\"\",IF(Zahteve!H871=\"\",\"\",Zahteve!H871))","v":""}]
[{"$f":"IF(Zahteve!B872=\"\",\"\",Zahteve!B872)","v":""},{"$f":"IF(Zahteve!B872=\"\",\"\",LEFT(Zahteve!B872,1))","v":""},{"$f":"IF(B872=\"\",\"\",IF(Zahteve!F872=\"da\",CONCATENATE(B872,\"-DA\"),\"\"))","v":""},{"$f":"IF(B872=\"\",\"\",IF(Zahteve!A872=\"da\",CONCATENATE(B872,\"-ustreza\"),\"\"))","v":""},{"$f":"IF(B872=\"\",\"\",IF(Zahteve!G872=\"\",\"\",CONCATENATE(B872,\"-opis\")))","v":""},{"$f":"IF(B872=\"\",\"\",IF(Zahteve!H872=\"\",\"\",CONCATENATE(B872,\"-dni\")))","v":""},{"$f":"IF(B872=\"\",\"\",IF(Zahteve!H872=\"\",\"\",Zahteve!H872))","v":""}]
[{"$f":"IF(Zahteve!B873=\"\",\"\",Zahteve!B873)","v":""},{"$f":"IF(Zahteve!B873=\"\",\"\",LEFT(Zahteve!B873,1))","v":""},{"$f":"IF(B873=\"\",\"\",IF(Zahteve!F873=\"da\",CONCATENATE(B873,\"-DA\"),\"\"))","v":""},{"$f":"IF(B873=\"\",\"\",IF(Zahteve!A873=\"da\",CONCATENATE(B873,\"-ustreza\"),\"\"))","v":""},{"$f":"IF(B873=\"\",\"\",IF(Zahteve!G873=\"\",\"\",CONCATENATE(B873,\"-opis\")))","v":""},{"$f":"IF(B873=\"\",\"\",IF(Zahteve!H873=\"\",\"\",CONCATENATE(B873,\"-dni\")))","v":""},{"$f":"IF(B873=\"\",\"\",IF(Zahteve!H873=\"\",\"\",Zahteve!H873))","v":""}]
[{"$f":"IF(Zahteve!B874=\"\",\"\",Zahteve!B874)","v":""},{"$f":"IF(Zahteve!B874=\"\",\"\",LEFT(Zahteve!B874,1))","v":""},{"$f":"IF(B874=\"\",\"\",IF(Zahteve!F874=\"da\",CONCATENATE(B874,\"-DA\"),\"\"))","v":""},{"$f":"IF(B874=\"\",\"\",IF(Zahteve!A874=\"da\",CONCATENATE(B874,\"-ustreza\"),\"\"))","v":""},{"$f":"IF(B874=\"\",\"\",IF(Zahteve!G874=\"\",\"\",CONCATENATE(B874,\"-opis\")))","v":""},{"$f":"IF(B874=\"\",\"\",IF(Zahteve!H874=\"\",\"\",CONCATENATE(B874,\"-dni\")))","v":""},{"$f":"IF(B874=\"\",\"\",IF(Zahteve!H874=\"\",\"\",Zahteve!H874))","v":""}]
[{"$f":"IF(Zahteve!B875=\"\",\"\",Zahteve!B875)","v":""},{"$f":"IF(Zahteve!B875=\"\",\"\",LEFT(Zahteve!B875,1))","v":""},{"$f":"IF(B875=\"\",\"\",IF(Zahteve!F875=\"da\",CONCATENATE(B875,\"-DA\"),\"\"))","v":""},{"$f":"IF(B875=\"\",\"\",IF(Zahteve!A875=\"da\",CONCATENATE(B875,\"-ustreza\"),\"\"))","v":""},{"$f":"IF(B875=\"\",\"\",IF(Zahteve!G875=\"\",\"\",CONCATENATE(B875,\"-opis\")))","v":""},{"$f":"IF(B875=\"\",\"\",IF(Zahteve!H875=\"\",\"\",CONCATENATE(B875,\"-dni\")))","v":""},{"$f":"IF(B875=\"\",\"\",IF(Zahteve!H875=\"\",\"\",Zahteve!H875))","v":""}]
[{"$f":"IF(Zahteve!B876=\"\",\"\",Zahteve!B876)","v":""},{"$f":"IF(Zahteve!B876=\"\",\"\",LEFT(Zahteve!B876,1))","v":""},{"$f":"IF(B876=\"\",\"\",IF(Zahteve!F876=\"da\",CONCATENATE(B876,\"-DA\"),\"\"))","v":""},{"$f":"IF(B876=\"\",\"\",IF(Zahteve!A876=\"da\",CONCATENATE(B876,\"-ustreza\"),\"\"))","v":""},{"$f":"IF(B876=\"\",\"\",IF(Zahteve!G876=\"\",\"\",CONCATENATE(B876,\"-opis\")))","v":""},{"$f":"IF(B876=\"\",\"\",IF(Zahteve!H876=\"\",\"\",CONCATENATE(B876,\"-dni\")))","v":""},{"$f":"IF(B876=\"\",\"\",IF(Zahteve!H876=\"\",\"\",Zahteve!H876))","v":""}]
[{"$f":"IF(Zahteve!B877=\"\",\"\",Zahteve!B877)","v":""},{"$f":"IF(Zahteve!B877=\"\",\"\",LEFT(Zahteve!B877,1))","v":""},{"$f":"IF(B877=\"\",\"\",IF(Zahteve!F877=\"da\",CONCATENATE(B877,\"-DA\"),\"\"))","v":""},{"$f":"IF(B877=\"\",\"\",IF(Zahteve!A877=\"da\",CONCATENATE(B877,\"-ustreza\"),\"\"))","v":""},{"$f":"IF(B877=\"\",\"\",IF(Zahteve!G877=\"\",\"\",CONCATENATE(B877,\"-opis\")))","v":""},{"$f":"IF(B877=\"\",\"\",IF(Zahteve!H877=\"\",\"\",CONCATENATE(B877,\"-dni\")))","v":""},{"$f":"IF(B877=\"\",\"\",IF(Zahteve!H877=\"\",\"\",Zahteve!H877))","v":""}]
[{"$f":"IF(Zahteve!B878=\"\",\"\",Zahteve!B878)","v":""},{"$f":"IF(Zahteve!B878=\"\",\"\",LEFT(Zahteve!B878,1))","v":""},{"$f":"IF(B878=\"\",\"\",IF(Zahteve!F878=\"da\",CONCATENATE(B878,\"-DA\"),\"\"))","v":""},{"$f":"IF(B878=\"\",\"\",IF(Zahteve!A878=\"da\",CONCATENATE(B878,\"-ustreza\"),\"\"))","v":""},{"$f":"IF(B878=\"\",\"\",IF(Zahteve!G878=\"\",\"\",CONCATENATE(B878,\"-opis\")))","v":""},{"$f":"IF(B878=\"\",\"\",IF(Zahteve!H878=\"\",\"\",CONCATENATE(B878,\"-dni\")))","v":""},{"$f":"IF(B878=\"\",\"\",IF(Zahteve!H878=\"\",\"\",Zahteve!H878))","v":""}]
[{"$f":"IF(Zahteve!B879=\"\",\"\",Zahteve!B879)","v":""},{"$f":"IF(Zahteve!B879=\"\",\"\",LEFT(Zahteve!B879,1))","v":""},{"$f":"IF(B879=\"\",\"\",IF(Zahteve!F879=\"da\",CONCATENATE(B879,\"-DA\"),\"\"))","v":""},{"$f":"IF(B879=\"\",\"\",IF(Zahteve!A879=\"da\",CONCATENATE(B879,\"-ustreza\"),\"\"))","v":""},{"$f":"IF(B879=\"\",\"\",IF(Zahteve!G879=\"\",\"\",CONCATENATE(B879,\"-opis\")))","v":""},{"$f":"IF(B879=\"\",\"\",IF(Zahteve!H879=\"\",\"\",CONCATENATE(B879,\"-dni\")))","v":""},{"$f":"IF(B879=\"\",\"\",IF(Zahteve!H879=\"\",\"\",Zahteve!H879))","v":""}]
[{"$f":"IF(Zahteve!B880=\"\",\"\",Zahteve!B880)","v":""},{"$f":"IF(Zahteve!B880=\"\",\"\",LEFT(Zahteve!B880,1))","v":""},{"$f":"IF(B880=\"\",\"\",IF(Zahteve!F880=\"da\",CONCATENATE(B880,\"-DA\"),\"\"))","v":""},{"$f":"IF(B880=\"\",\"\",IF(Zahteve!A880=\"da\",CONCATENATE(B880,\"-ustreza\"),\"\"))","v":""},{"$f":"IF(B880=\"\",\"\",IF(Zahteve!G880=\"\",\"\",CONCATENATE(B880,\"-opis\")))","v":""},{"$f":"IF(B880=\"\",\"\",IF(Zahteve!H880=\"\",\"\",CONCATENATE(B880,\"-dni\")))","v":""},{"$f":"IF(B880=\"\",\"\",IF(Zahteve!H880=\"\",\"\",Zahteve!H880))","v":""}]
[{"$f":"IF(Zahteve!B881=\"\",\"\",Zahteve!B881)","v":""},{"$f":"IF(Zahteve!B881=\"\",\"\",LEFT(Zahteve!B881,1))","v":""},{"$f":"IF(B881=\"\",\"\",IF(Zahteve!F881=\"da\",CONCATENATE(B881,\"-DA\"),\"\"))","v":""},{"$f":"IF(B881=\"\",\"\",IF(Zahteve!A881=\"da\",CONCATENATE(B881,\"-ustreza\"),\"\"))","v":""},{"$f":"IF(B881=\"\",\"\",IF(Zahteve!G881=\"\",\"\",CONCATENATE(B881,\"-opis\")))","v":""},{"$f":"IF(B881=\"\",\"\",IF(Zahteve!H881=\"\",\"\",CONCATENATE(B881,\"-dni\")))","v":""},{"$f":"IF(B881=\"\",\"\",IF(Zahteve!H881=\"\",\"\",Zahteve!H881))","v":""}]
[{"$f":"IF(Zahteve!B882=\"\",\"\",Zahteve!B882)","v":""},{"$f":"IF(Zahteve!B882=\"\",\"\",LEFT(Zahteve!B882,1))","v":""},{"$f":"IF(B882=\"\",\"\",IF(Zahteve!F882=\"da\",CONCATENATE(B882,\"-DA\"),\"\"))","v":""},{"$f":"IF(B882=\"\",\"\",IF(Zahteve!A882=\"da\",CONCATENATE(B882,\"-ustreza\"),\"\"))","v":""},{"$f":"IF(B882=\"\",\"\",IF(Zahteve!G882=\"\",\"\",CONCATENATE(B882,\"-opis\")))","v":""},{"$f":"IF(B882=\"\",\"\",IF(Zahteve!H882=\"\",\"\",CONCATENATE(B882,\"-dni\")))","v":""},{"$f":"IF(B882=\"\",\"\",IF(Zahteve!H882=\"\",\"\",Zahteve!H882))","v":""}]
[{"$f":"IF(Zahteve!B883=\"\",\"\",Zahteve!B883)","v":""},{"$f":"IF(Zahteve!B883=\"\",\"\",LEFT(Zahteve!B883,1))","v":""},{"$f":"IF(B883=\"\",\"\",IF(Zahteve!F883=\"da\",CONCATENATE(B883,\"-DA\"),\"\"))","v":""},{"$f":"IF(B883=\"\",\"\",IF(Zahteve!A883=\"da\",CONCATENATE(B883,\"-ustreza\"),\"\"))","v":""},{"$f":"IF(B883=\"\",\"\",IF(Zahteve!G883=\"\",\"\",CONCATENATE(B883,\"-opis\")))","v":""},{"$f":"IF(B883=\"\",\"\",IF(Zahteve!H883=\"\",\"\",CONCATENATE(B883,\"-dni\")))","v":""},{"$f":"IF(B883=\"\",\"\",IF(Zahteve!H883=\"\",\"\",Zahteve!H883))","v":""}]
[{"$f":"IF(Zahteve!B884=\"\",\"\",Zahteve!B884)","v":""},{"$f":"IF(Zahteve!B884=\"\",\"\",LEFT(Zahteve!B884,1))","v":""},{"$f":"IF(B884=\"\",\"\",IF(Zahteve!F884=\"da\",CONCATENATE(B884,\"-DA\"),\"\"))","v":""},{"$f":"IF(B884=\"\",\"\",IF(Zahteve!A884=\"da\",CONCATENATE(B884,\"-ustreza\"),\"\"))","v":""},{"$f":"IF(B884=\"\",\"\",IF(Zahteve!G884=\"\",\"\",CONCATENATE(B884,\"-opis\")))","v":""},{"$f":"IF(B884=\"\",\"\",IF(Zahteve!H884=\"\",\"\",CONCATENATE(B884,\"-dni\")))","v":""},{"$f":"IF(B884=\"\",\"\",IF(Zahteve!H884=\"\",\"\",Zahteve!H884))","v":""}]
[{"$f":"IF(Zahteve!B885=\"\",\"\",Zahteve!B885)","v":""},{"$f":"IF(Zahteve!B885=\"\",\"\",LEFT(Zahteve!B885,1))","v":""},{"$f":"IF(B885=\"\",\"\",IF(Zahteve!F885=\"da\",CONCATENATE(B885,\"-DA\"),\"\"))","v":""},{"$f":"IF(B885=\"\",\"\",IF(Zahteve!A885=\"da\",CONCATENATE(B885,\"-ustreza\"),\"\"))","v":""},{"$f":"IF(B885=\"\",\"\",IF(Zahteve!G885=\"\",\"\",CONCATENATE(B885,\"-opis\")))","v":""},{"$f":"IF(B885=\"\",\"\",IF(Zahteve!H885=\"\",\"\",CONCATENATE(B885,\"-dni\")))","v":""},{"$f":"IF(B885=\"\",\"\",IF(Zahteve!H885=\"\",\"\",Zahteve!H885))","v":""}]
[{"$f":"IF(Zahteve!B886=\"\",\"\",Zahteve!B886)","v":""},{"$f":"IF(Zahteve!B886=\"\",\"\",LEFT(Zahteve!B886,1))","v":""},{"$f":"IF(B886=\"\",\"\",IF(Zahteve!F886=\"da\",CONCATENATE(B886,\"-DA\"),\"\"))","v":""},{"$f":"IF(B886=\"\",\"\",IF(Zahteve!A886=\"da\",CONCATENATE(B886,\"-ustreza\"),\"\"))","v":""},{"$f":"IF(B886=\"\",\"\",IF(Zahteve!G886=\"\",\"\",CONCATENATE(B886,\"-opis\")))","v":""},{"$f":"IF(B886=\"\",\"\",IF(Zahteve!H886=\"\",\"\",CONCATENATE(B886,\"-dni\")))","v":""},{"$f":"IF(B886=\"\",\"\",IF(Zahteve!H886=\"\",\"\",Zahteve!H886))","v":""}]
[{"$f":"IF(Zahteve!B887=\"\",\"\",Zahteve!B887)","v":""},{"$f":"IF(Zahteve!B887=\"\",\"\",LEFT(Zahteve!B887,1))","v":""},{"$f":"IF(B887=\"\",\"\",IF(Zahteve!F887=\"da\",CONCATENATE(B887,\"-DA\"),\"\"))","v":""},{"$f":"IF(B887=\"\",\"\",IF(Zahteve!A887=\"da\",CONCATENATE(B887,\"-ustreza\"),\"\"))","v":""},{"$f":"IF(B887=\"\",\"\",IF(Zahteve!G887=\"\",\"\",CONCATENATE(B887,\"-opis\")))","v":""},{"$f":"IF(B887=\"\",\"\",IF(Zahteve!H887=\"\",\"\",CONCATENATE(B887,\"-dni\")))","v":""},{"$f":"IF(B887=\"\",\"\",IF(Zahteve!H887=\"\",\"\",Zahteve!H887))","v":""}]
[{"$f":"IF(Zahteve!B888=\"\",\"\",Zahteve!B888)","v":""},{"$f":"IF(Zahteve!B888=\"\",\"\",LEFT(Zahteve!B888,1))","v":""},{"$f":"IF(B888=\"\",\"\",IF(Zahteve!F888=\"da\",CONCATENATE(B888,\"-DA\"),\"\"))","v":""},{"$f":"IF(B888=\"\",\"\",IF(Zahteve!A888=\"da\",CONCATENATE(B888,\"-ustreza\"),\"\"))","v":""},{"$f":"IF(B888=\"\",\"\",IF(Zahteve!G888=\"\",\"\",CONCATENATE(B888,\"-opis\")))","v":""},{"$f":"IF(B888=\"\",\"\",IF(Zahteve!H888=\"\",\"\",CONCATENATE(B888,\"-dni\")))","v":""},{"$f":"IF(B888=\"\",\"\",IF(Zahteve!H888=\"\",\"\",Zahteve!H888))","v":""}]
[{"$f":"IF(Zahteve!B889=\"\",\"\",Zahteve!B889)","v":""},{"$f":"IF(Zahteve!B889=\"\",\"\",LEFT(Zahteve!B889,1))","v":""},{"$f":"IF(B889=\"\",\"\",IF(Zahteve!F889=\"da\",CONCATENATE(B889,\"-DA\"),\"\"))","v":""},{"$f":"IF(B889=\"\",\"\",IF(Zahteve!A889=\"da\",CONCATENATE(B889,\"-ustreza\"),\"\"))","v":""},{"$f":"IF(B889=\"\",\"\",IF(Zahteve!G889=\"\",\"\",CONCATENATE(B889,\"-opis\")))","v":""},{"$f":"IF(B889=\"\",\"\",IF(Zahteve!H889=\"\",\"\",CONCATENATE(B889,\"-dni\")))","v":""},{"$f":"IF(B889=\"\",\"\",IF(Zahteve!H889=\"\",\"\",Zahteve!H889))","v":""}]
[{"$f":"IF(Zahteve!B890=\"\",\"\",Zahteve!B890)","v":""},{"$f":"IF(Zahteve!B890=\"\",\"\",LEFT(Zahteve!B890,1))","v":""},{"$f":"IF(B890=\"\",\"\",IF(Zahteve!F890=\"da\",CONCATENATE(B890,\"-DA\"),\"\"))","v":""},{"$f":"IF(B890=\"\",\"\",IF(Zahteve!A890=\"da\",CONCATENATE(B890,\"-ustreza\"),\"\"))","v":""},{"$f":"IF(B890=\"\",\"\",IF(Zahteve!G890=\"\",\"\",CONCATENATE(B890,\"-opis\")))","v":""},{"$f":"IF(B890=\"\",\"\",IF(Zahteve!H890=\"\",\"\",CONCATENATE(B890,\"-dni\")))","v":""},{"$f":"IF(B890=\"\",\"\",IF(Zahteve!H890=\"\",\"\",Zahteve!H890))","v":""}]
[{"$f":"IF(Zahteve!B891=\"\",\"\",Zahteve!B891)","v":""},{"$f":"IF(Zahteve!B891=\"\",\"\",LEFT(Zahteve!B891,1))","v":""},{"$f":"IF(B891=\"\",\"\",IF(Zahteve!F891=\"da\",CONCATENATE(B891,\"-DA\"),\"\"))","v":""},{"$f":"IF(B891=\"\",\"\",IF(Zahteve!A891=\"da\",CONCATENATE(B891,\"-ustreza\"),\"\"))","v":""},{"$f":"IF(B891=\"\",\"\",IF(Zahteve!G891=\"\",\"\",CONCATENATE(B891,\"-opis\")))","v":""},{"$f":"IF(B891=\"\",\"\",IF(Zahteve!H891=\"\",\"\",CONCATENATE(B891,\"-dni\")))","v":""},{"$f":"IF(B891=\"\",\"\",IF(Zahteve!H891=\"\",\"\",Zahteve!H891))","v":""}]
[{"$f":"IF(Zahteve!B892=\"\",\"\",Zahteve!B892)","v":""},{"$f":"IF(Zahteve!B892=\"\",\"\",LEFT(Zahteve!B892,1))","v":""},{"$f":"IF(B892=\"\",\"\",IF(Zahteve!F892=\"da\",CONCATENATE(B892,\"-DA\"),\"\"))","v":""},{"$f":"IF(B892=\"\",\"\",IF(Zahteve!A892=\"da\",CONCATENATE(B892,\"-ustreza\"),\"\"))","v":""},{"$f":"IF(B892=\"\",\"\",IF(Zahteve!G892=\"\",\"\",CONCATENATE(B892,\"-opis\")))","v":""},{"$f":"IF(B892=\"\",\"\",IF(Zahteve!H892=\"\",\"\",CONCATENATE(B892,\"-dni\")))","v":""},{"$f":"IF(B892=\"\",\"\",IF(Zahteve!H892=\"\",\"\",Zahteve!H892))","v":""}]
[{"$f":"IF(Zahteve!B893=\"\",\"\",Zahteve!B893)","v":""},{"$f":"IF(Zahteve!B893=\"\",\"\",LEFT(Zahteve!B893,1))","v":""},{"$f":"IF(B893=\"\",\"\",IF(Zahteve!F893=\"da\",CONCATENATE(B893,\"-DA\"),\"\"))","v":""},{"$f":"IF(B893=\"\",\"\",IF(Zahteve!A893=\"da\",CONCATENATE(B893,\"-ustreza\"),\"\"))","v":""},{"$f":"IF(B893=\"\",\"\",IF(Zahteve!G893=\"\",\"\",CONCATENATE(B893,\"-opis\")))","v":""},{"$f":"IF(B893=\"\",\"\",IF(Zahteve!H893=\"\",\"\",CONCATENATE(B893,\"-dni\")))","v":""},{"$f":"IF(B893=\"\",\"\",IF(Zahteve!H893=\"\",\"\",Zahteve!H893))","v":""}]
[{"$f":"IF(Zahteve!B894=\"\",\"\",Zahteve!B894)","v":""},{"$f":"IF(Zahteve!B894=\"\",\"\",LEFT(Zahteve!B894,1))","v":""},{"$f":"IF(B894=\"\",\"\",IF(Zahteve!F894=\"da\",CONCATENATE(B894,\"-DA\"),\"\"))","v":""},{"$f":"IF(B894=\"\",\"\",IF(Zahteve!A894=\"da\",CONCATENATE(B894,\"-ustreza\"),\"\"))","v":""},{"$f":"IF(B894=\"\",\"\",IF(Zahteve!G894=\"\",\"\",CONCATENATE(B894,\"-opis\")))","v":""},{"$f":"IF(B894=\"\",\"\",IF(Zahteve!H894=\"\",\"\",CONCATENATE(B894,\"-dni\")))","v":""},{"$f":"IF(B894=\"\",\"\",IF(Zahteve!H894=\"\",\"\",Zahteve!H894))","v":""}]
[{"$f":"IF(Zahteve!B895=\"\",\"\",Zahteve!B895)","v":""},{"$f":"IF(Zahteve!B895=\"\",\"\",LEFT(Zahteve!B895,1))","v":""},{"$f":"IF(B895=\"\",\"\",IF(Zahteve!F895=\"da\",CONCATENATE(B895,\"-DA\"),\"\"))","v":""},{"$f":"IF(B895=\"\",\"\",IF(Zahteve!A895=\"da\",CONCATENATE(B895,\"-ustreza\"),\"\"))","v":""},{"$f":"IF(B895=\"\",\"\",IF(Zahteve!G895=\"\",\"\",CONCATENATE(B895,\"-opis\")))","v":""},{"$f":"IF(B895=\"\",\"\",IF(Zahteve!H895=\"\",\"\",CONCATENATE(B895,\"-dni\")))","v":""},{"$f":"IF(B895=\"\",\"\",IF(Zahteve!H895=\"\",\"\",Zahteve!H895))","v":""}]
[{"$f":"IF(Zahteve!B896=\"\",\"\",Zahteve!B896)","v":""},{"$f":"IF(Zahteve!B896=\"\",\"\",LEFT(Zahteve!B896,1))","v":""},{"$f":"IF(B896=\"\",\"\",IF(Zahteve!F896=\"da\",CONCATENATE(B896,\"-DA\"),\"\"))","v":""},{"$f":"IF(B896=\"\",\"\",IF(Zahteve!A896=\"da\",CONCATENATE(B896,\"-ustreza\"),\"\"))","v":""},{"$f":"IF(B896=\"\",\"\",IF(Zahteve!G896=\"\",\"\",CONCATENATE(B896,\"-opis\")))","v":""},{"$f":"IF(B896=\"\",\"\",IF(Zahteve!H896=\"\",\"\",CONCATENATE(B896,\"-dni\")))","v":""},{"$f":"IF(B896=\"\",\"\",IF(Zahteve!H896=\"\",\"\",Zahteve!H896))","v":""}]
[{"$f":"IF(Zahteve!B897=\"\",\"\",Zahteve!B897)","v":""},{"$f":"IF(Zahteve!B897=\"\",\"\",LEFT(Zahteve!B897,1))","v":""},{"$f":"IF(B897=\"\",\"\",IF(Zahteve!F897=\"da\",CONCATENATE(B897,\"-DA\"),\"\"))","v":""},{"$f":"IF(B897=\"\",\"\",IF(Zahteve!A897=\"da\",CONCATENATE(B897,\"-ustreza\"),\"\"))","v":""},{"$f":"IF(B897=\"\",\"\",IF(Zahteve!G897=\"\",\"\",CONCATENATE(B897,\"-opis\")))","v":""},{"$f":"IF(B897=\"\",\"\",IF(Zahteve!H897=\"\",\"\",CONCATENATE(B897,\"-dni\")))","v":""},{"$f":"IF(B897=\"\",\"\",IF(Zahteve!H897=\"\",\"\",Zahteve!H897))","v":""}]
[{"$f":"IF(Zahteve!B898=\"\",\"\",Zahteve!B898)","v":""},{"$f":"IF(Zahteve!B898=\"\",\"\",LEFT(Zahteve!B898,1))","v":""},{"$f":"IF(B898=\"\",\"\",IF(Zahteve!F898=\"da\",CONCATENATE(B898,\"-DA\"),\"\"))","v":""},{"$f":"IF(B898=\"\",\"\",IF(Zahteve!A898=\"da\",CONCATENATE(B898,\"-ustreza\"),\"\"))","v":""},{"$f":"IF(B898=\"\",\"\",IF(Zahteve!G898=\"\",\"\",CONCATENATE(B898,\"-opis\")))","v":""},{"$f":"IF(B898=\"\",\"\",IF(Zahteve!H898=\"\",\"\",CONCATENATE(B898,\"-dni\")))","v":""},{"$f":"IF(B898=\"\",\"\",IF(Zahteve!H898=\"\",\"\",Zahteve!H898))","v":""}]
[{"$f":"IF(Zahteve!B899=\"\",\"\",Zahteve!B899)","v":""},{"$f":"IF(Zahteve!B899=\"\",\"\",LEFT(Zahteve!B899,1))","v":""},{"$f":"IF(B899=\"\",\"\",IF(Zahteve!F899=\"da\",CONCATENATE(B899,\"-DA\"),\"\"))","v":""},{"$f":"IF(B899=\"\",\"\",IF(Zahteve!A899=\"da\",CONCATENATE(B899,\"-ustreza\"),\"\"))","v":""},{"$f":"IF(B899=\"\",\"\",IF(Zahteve!G899=\"\",\"\",CONCATENATE(B899,\"-opis\")))","v":""},{"$f":"IF(B899=\"\",\"\",IF(Zahteve!H899=\"\",\"\",CONCATENATE(B899,\"-dni\")))","v":""},{"$f":"IF(B899=\"\",\"\",IF(Zahteve!H899=\"\",\"\",Zahteve!H899))","v":""}]
[{"$f":"IF(Zahteve!B900=\"\",\"\",Zahteve!B900)","v":""},{"$f":"IF(Zahteve!B900=\"\",\"\",LEFT(Zahteve!B900,1))","v":""},{"$f":"IF(B900=\"\",\"\",IF(Zahteve!F900=\"da\",CONCATENATE(B900,\"-DA\"),\"\"))","v":""},{"$f":"IF(B900=\"\",\"\",IF(Zahteve!A900=\"da\",CONCATENATE(B900,\"-ustreza\"),\"\"))","v":""},{"$f":"IF(B900=\"\",\"\",IF(Zahteve!G900=\"\",\"\",CONCATENATE(B900,\"-opis\")))","v":""},{"$f":"IF(B900=\"\",\"\",IF(Zahteve!H900=\"\",\"\",CONCATENATE(B900,\"-dni\")))","v":""},{"$f":"IF(B900=\"\",\"\",IF(Zahteve!H900=\"\",\"\",Zahteve!H900))","v":""}]
[{"$f":"IF(Zahteve!B901=\"\",\"\",Zahteve!B901)","v":""},{"$f":"IF(Zahteve!B901=\"\",\"\",LEFT(Zahteve!B901,1))","v":""},{"$f":"IF(B901=\"\",\"\",IF(Zahteve!F901=\"da\",CONCATENATE(B901,\"-DA\"),\"\"))","v":""},{"$f":"IF(B901=\"\",\"\",IF(Zahteve!A901=\"da\",CONCATENATE(B901,\"-ustreza\"),\"\"))","v":""},{"$f":"IF(B901=\"\",\"\",IF(Zahteve!G901=\"\",\"\",CONCATENATE(B901,\"-opis\")))","v":""},{"$f":"IF(B901=\"\",\"\",IF(Zahteve!H901=\"\",\"\",CONCATENATE(B901,\"-dni\")))","v":""},{"$f":"IF(B901=\"\",\"\",IF(Zahteve!H901=\"\",\"\",Zahteve!H901))","v":""}]
[{"$f":"IF(Zahteve!B902=\"\",\"\",Zahteve!B902)","v":""},{"$f":"IF(Zahteve!B902=\"\",\"\",LEFT(Zahteve!B902,1))","v":""},{"$f":"IF(B902=\"\",\"\",IF(Zahteve!F902=\"da\",CONCATENATE(B902,\"-DA\"),\"\"))","v":""},{"$f":"IF(B902=\"\",\"\",IF(Zahteve!A902=\"da\",CONCATENATE(B902,\"-ustreza\"),\"\"))","v":""},{"$f":"IF(B902=\"\",\"\",IF(Zahteve!G902=\"\",\"\",CONCATENATE(B902,\"-opis\")))","v":""},{"$f":"IF(B902=\"\",\"\",IF(Zahteve!H902=\"\",\"\",CONCATENATE(B902,\"-dni\")))","v":""},{"$f":"IF(B902=\"\",\"\",IF(Zahteve!H902=\"\",\"\",Zahteve!H902))","v":""}]
[{"$f":"IF(Zahteve!B903=\"\",\"\",Zahteve!B903)","v":""},{"$f":"IF(Zahteve!B903=\"\",\"\",LEFT(Zahteve!B903,1))","v":""},{"$f":"IF(B903=\"\",\"\",IF(Zahteve!F903=\"da\",CONCATENATE(B903,\"-DA\"),\"\"))","v":""},{"$f":"IF(B903=\"\",\"\",IF(Zahteve!A903=\"da\",CONCATENATE(B903,\"-ustreza\"),\"\"))","v":""},{"$f":"IF(B903=\"\",\"\",IF(Zahteve!G903=\"\",\"\",CONCATENATE(B903,\"-opis\")))","v":""},{"$f":"IF(B903=\"\",\"\",IF(Zahteve!H903=\"\",\"\",CONCATENATE(B903,\"-dni\")))","v":""},{"$f":"IF(B903=\"\",\"\",IF(Zahteve!H903=\"\",\"\",Zahteve!H903))","v":""}]
[{"$f":"IF(Zahteve!B904=\"\",\"\",Zahteve!B904)","v":""},{"$f":"IF(Zahteve!B904=\"\",\"\",LEFT(Zahteve!B904,1))","v":""},{"$f":"IF(B904=\"\",\"\",IF(Zahteve!F904=\"da\",CONCATENATE(B904,\"-DA\"),\"\"))","v":""},{"$f":"IF(B904=\"\",\"\",IF(Zahteve!A904=\"da\",CONCATENATE(B904,\"-ustreza\"),\"\"))","v":""},{"$f":"IF(B904=\"\",\"\",IF(Zahteve!G904=\"\",\"\",CONCATENATE(B904,\"-opis\")))","v":""},{"$f":"IF(B904=\"\",\"\",IF(Zahteve!H904=\"\",\"\",CONCATENATE(B904,\"-dni\")))","v":""},{"$f":"IF(B904=\"\",\"\",IF(Zahteve!H904=\"\",\"\",Zahteve!H904))","v":""}]
[{"$f":"IF(Zahteve!B905=\"\",\"\",Zahteve!B905)","v":""},{"$f":"IF(Zahteve!B905=\"\",\"\",LEFT(Zahteve!B905,1))","v":""},{"$f":"IF(B905=\"\",\"\",IF(Zahteve!F905=\"da\",CONCATENATE(B905,\"-DA\"),\"\"))","v":""},{"$f":"IF(B905=\"\",\"\",IF(Zahteve!A905=\"da\",CONCATENATE(B905,\"-ustreza\"),\"\"))","v":""},{"$f":"IF(B905=\"\",\"\",IF(Zahteve!G905=\"\",\"\",CONCATENATE(B905,\"-opis\")))","v":""},{"$f":"IF(B905=\"\",\"\",IF(Zahteve!H905=\"\",\"\",CONCATENATE(B905,\"-dni\")))","v":""},{"$f":"IF(B905=\"\",\"\",IF(Zahteve!H905=\"\",\"\",Zahteve!H905))","v":""}]
[{"$f":"IF(Zahteve!B906=\"\",\"\",Zahteve!B906)","v":""},{"$f":"IF(Zahteve!B906=\"\",\"\",LEFT(Zahteve!B906,1))","v":""},{"$f":"IF(B906=\"\",\"\",IF(Zahteve!F906=\"da\",CONCATENATE(B906,\"-DA\"),\"\"))","v":""},{"$f":"IF(B906=\"\",\"\",IF(Zahteve!A906=\"da\",CONCATENATE(B906,\"-ustreza\"),\"\"))","v":""},{"$f":"IF(B906=\"\",\"\",IF(Zahteve!G906=\"\",\"\",CONCATENATE(B906,\"-opis\")))","v":""},{"$f":"IF(B906=\"\",\"\",IF(Zahteve!H906=\"\",\"\",CONCATENATE(B906,\"-dni\")))","v":""},{"$f":"IF(B906=\"\",\"\",IF(Zahteve!H906=\"\",\"\",Zahteve!H906))","v":""}]
[{"$f":"IF(Zahteve!B907=\"\",\"\",Zahteve!B907)","v":""},{"$f":"IF(Zahteve!B907=\"\",\"\",LEFT(Zahteve!B907,1))","v":""},{"$f":"IF(B907=\"\",\"\",IF(Zahteve!F907=\"da\",CONCATENATE(B907,\"-DA\"),\"\"))","v":""},{"$f":"IF(B907=\"\",\"\",IF(Zahteve!A907=\"da\",CONCATENATE(B907,\"-ustreza\"),\"\"))","v":""},{"$f":"IF(B907=\"\",\"\",IF(Zahteve!G907=\"\",\"\",CONCATENATE(B907,\"-opis\")))","v":""},{"$f":"IF(B907=\"\",\"\",IF(Zahteve!H907=\"\",\"\",CONCATENATE(B907,\"-dni\")))","v":""},{"$f":"IF(B907=\"\",\"\",IF(Zahteve!H907=\"\",\"\",Zahteve!H907))","v":""}]
[{"$f":"IF(Zahteve!B908=\"\",\"\",Zahteve!B908)","v":""},{"$f":"IF(Zahteve!B908=\"\",\"\",LEFT(Zahteve!B908,1))","v":""},{"$f":"IF(B908=\"\",\"\",IF(Zahteve!F908=\"da\",CONCATENATE(B908,\"-DA\"),\"\"))","v":""},{"$f":"IF(B908=\"\",\"\",IF(Zahteve!A908=\"da\",CONCATENATE(B908,\"-ustreza\"),\"\"))","v":""},{"$f":"IF(B908=\"\",\"\",IF(Zahteve!G908=\"\",\"\",CONCATENATE(B908,\"-opis\")))","v":""},{"$f":"IF(B908=\"\",\"\",IF(Zahteve!H908=\"\",\"\",CONCATENATE(B908,\"-dni\")))","v":""},{"$f":"IF(B908=\"\",\"\",IF(Zahteve!H908=\"\",\"\",Zahteve!H908))","v":""}]
[{"$f":"IF(Zahteve!B909=\"\",\"\",Zahteve!B909)","v":""},{"$f":"IF(Zahteve!B909=\"\",\"\",LEFT(Zahteve!B909,1))","v":""},{"$f":"IF(B909=\"\",\"\",IF(Zahteve!F909=\"da\",CONCATENATE(B909,\"-DA\"),\"\"))","v":""},{"$f":"IF(B909=\"\",\"\",IF(Zahteve!A909=\"da\",CONCATENATE(B909,\"-ustreza\"),\"\"))","v":""},{"$f":"IF(B909=\"\",\"\",IF(Zahteve!G909=\"\",\"\",CONCATENATE(B909,\"-opis\")))","v":""},{"$f":"IF(B909=\"\",\"\",IF(Zahteve!H909=\"\",\"\",CONCATENATE(B909,\"-dni\")))","v":""},{"$f":"IF(B909=\"\",\"\",IF(Zahteve!H909=\"\",\"\",Zahteve!H909))","v":""}]
[{"$f":"IF(Zahteve!B910=\"\",\"\",Zahteve!B910)","v":""},{"$f":"IF(Zahteve!B910=\"\",\"\",LEFT(Zahteve!B910,1))","v":""},{"$f":"IF(B910=\"\",\"\",IF(Zahteve!F910=\"da\",CONCATENATE(B910,\"-DA\"),\"\"))","v":""},{"$f":"IF(B910=\"\",\"\",IF(Zahteve!A910=\"da\",CONCATENATE(B910,\"-ustreza\"),\"\"))","v":""},{"$f":"IF(B910=\"\",\"\",IF(Zahteve!G910=\"\",\"\",CONCATENATE(B910,\"-opis\")))","v":""},{"$f":"IF(B910=\"\",\"\",IF(Zahteve!H910=\"\",\"\",CONCATENATE(B910,\"-dni\")))","v":""},{"$f":"IF(B910=\"\",\"\",IF(Zahteve!H910=\"\",\"\",Zahteve!H910))","v":""}]
[{"$f":"IF(Zahteve!B911=\"\",\"\",Zahteve!B911)","v":""},{"$f":"IF(Zahteve!B911=\"\",\"\",LEFT(Zahteve!B911,1))","v":""},{"$f":"IF(B911=\"\",\"\",IF(Zahteve!F911=\"da\",CONCATENATE(B911,\"-DA\"),\"\"))","v":""},{"$f":"IF(B911=\"\",\"\",IF(Zahteve!A911=\"da\",CONCATENATE(B911,\"-ustreza\"),\"\"))","v":""},{"$f":"IF(B911=\"\",\"\",IF(Zahteve!G911=\"\",\"\",CONCATENATE(B911,\"-opis\")))","v":""},{"$f":"IF(B911=\"\",\"\",IF(Zahteve!H911=\"\",\"\",CONCATENATE(B911,\"-dni\")))","v":""},{"$f":"IF(B911=\"\",\"\",IF(Zahteve!H911=\"\",\"\",Zahteve!H911))","v":""}]
[{"$f":"IF(Zahteve!B912=\"\",\"\",Zahteve!B912)","v":""},{"$f":"IF(Zahteve!B912=\"\",\"\",LEFT(Zahteve!B912,1))","v":""},{"$f":"IF(B912=\"\",\"\",IF(Zahteve!F912=\"da\",CONCATENATE(B912,\"-DA\"),\"\"))","v":""},{"$f":"IF(B912=\"\",\"\",IF(Zahteve!A912=\"da\",CONCATENATE(B912,\"-ustreza\"),\"\"))","v":""},{"$f":"IF(B912=\"\",\"\",IF(Zahteve!G912=\"\",\"\",CONCATENATE(B912,\"-opis\")))","v":""},{"$f":"IF(B912=\"\",\"\",IF(Zahteve!H912=\"\",\"\",CONCATENATE(B912,\"-dni\")))","v":""},{"$f":"IF(B912=\"\",\"\",IF(Zahteve!H912=\"\",\"\",Zahteve!H912))","v":""}]
[{"$f":"IF(Zahteve!B913=\"\",\"\",Zahteve!B913)","v":""},{"$f":"IF(Zahteve!B913=\"\",\"\",LEFT(Zahteve!B913,1))","v":""},{"$f":"IF(B913=\"\",\"\",IF(Zahteve!F913=\"da\",CONCATENATE(B913,\"-DA\"),\"\"))","v":""},{"$f":"IF(B913=\"\",\"\",IF(Zahteve!A913=\"da\",CONCATENATE(B913,\"-ustreza\"),\"\"))","v":""},{"$f":"IF(B913=\"\",\"\",IF(Zahteve!G913=\"\",\"\",CONCATENATE(B913,\"-opis\")))","v":""},{"$f":"IF(B913=\"\",\"\",IF(Zahteve!H913=\"\",\"\",CONCATENATE(B913,\"-dni\")))","v":""},{"$f":"IF(B913=\"\",\"\",IF(Zahteve!H913=\"\",\"\",Zahteve!H913))","v":""}]
[{"$f":"IF(Zahteve!B914=\"\",\"\",Zahteve!B914)","v":""},{"$f":"IF(Zahteve!B914=\"\",\"\",LEFT(Zahteve!B914,1))","v":""},{"$f":"IF(B914=\"\",\"\",IF(Zahteve!F914=\"da\",CONCATENATE(B914,\"-DA\"),\"\"))","v":""},{"$f":"IF(B914=\"\",\"\",IF(Zahteve!A914=\"da\",CONCATENATE(B914,\"-ustreza\"),\"\"))","v":""},{"$f":"IF(B914=\"\",\"\",IF(Zahteve!G914=\"\",\"\",CONCATENATE(B914,\"-opis\")))","v":""},{"$f":"IF(B914=\"\",\"\",IF(Zahteve!H914=\"\",\"\",CONCATENATE(B914,\"-dni\")))","v":""},{"$f":"IF(B914=\"\",\"\",IF(Zahteve!H914=\"\",\"\",Zahteve!H914))","v":""}]
[{"$f":"IF(Zahteve!B915=\"\",\"\",Zahteve!B915)","v":""},{"$f":"IF(Zahteve!B915=\"\",\"\",LEFT(Zahteve!B915,1))","v":""},{"$f":"IF(B915=\"\",\"\",IF(Zahteve!F915=\"da\",CONCATENATE(B915,\"-DA\"),\"\"))","v":""},{"$f":"IF(B915=\"\",\"\",IF(Zahteve!A915=\"da\",CONCATENATE(B915,\"-ustreza\"),\"\"))","v":""},{"$f":"IF(B915=\"\",\"\",IF(Zahteve!G915=\"\",\"\",CONCATENATE(B915,\"-opis\")))","v":""},{"$f":"IF(B915=\"\",\"\",IF(Zahteve!H915=\"\",\"\",CONCATENATE(B915,\"-dni\")))","v":""},{"$f":"IF(B915=\"\",\"\",IF(Zahteve!H915=\"\",\"\",Zahteve!H915))","v":""}]
[{"$f":"IF(Zahteve!B916=\"\",\"\",Zahteve!B916)","v":""},{"$f":"IF(Zahteve!B916=\"\",\"\",LEFT(Zahteve!B916,1))","v":""},{"$f":"IF(B916=\"\",\"\",IF(Zahteve!F916=\"da\",CONCATENATE(B916,\"-DA\"),\"\"))","v":""},{"$f":"IF(B916=\"\",\"\",IF(Zahteve!A916=\"da\",CONCATENATE(B916,\"-ustreza\"),\"\"))","v":""},{"$f":"IF(B916=\"\",\"\",IF(Zahteve!G916=\"\",\"\",CONCATENATE(B916,\"-opis\")))","v":""},{"$f":"IF(B916=\"\",\"\",IF(Zahteve!H916=\"\",\"\",CONCATENATE(B916,\"-dni\")))","v":""},{"$f":"IF(B916=\"\",\"\",IF(Zahteve!H916=\"\",\"\",Zahteve!H916))","v":""}]
[{"$f":"IF(Zahteve!B917=\"\",\"\",Zahteve!B917)","v":""},{"$f":"IF(Zahteve!B917=\"\",\"\",LEFT(Zahteve!B917,1))","v":""},{"$f":"IF(B917=\"\",\"\",IF(Zahteve!F917=\"da\",CONCATENATE(B917,\"-DA\"),\"\"))","v":""},{"$f":"IF(B917=\"\",\"\",IF(Zahteve!A917=\"da\",CONCATENATE(B917,\"-ustreza\"),\"\"))","v":""},{"$f":"IF(B917=\"\",\"\",IF(Zahteve!G917=\"\",\"\",CONCATENATE(B917,\"-opis\")))","v":""},{"$f":"IF(B917=\"\",\"\",IF(Zahteve!H917=\"\",\"\",CONCATENATE(B917,\"-dni\")))","v":""},{"$f":"IF(B917=\"\",\"\",IF(Zahteve!H917=\"\",\"\",Zahteve!H917))","v":""}]
[{"$f":"IF(Zahteve!B918=\"\",\"\",Zahteve!B918)","v":""},{"$f":"IF(Zahteve!B918=\"\",\"\",LEFT(Zahteve!B918,1))","v":""},{"$f":"IF(B918=\"\",\"\",IF(Zahteve!F918=\"da\",CONCATENATE(B918,\"-DA\"),\"\"))","v":""},{"$f":"IF(B918=\"\",\"\",IF(Zahteve!A918=\"da\",CONCATENATE(B918,\"-ustreza\"),\"\"))","v":""},{"$f":"IF(B918=\"\",\"\",IF(Zahteve!G918=\"\",\"\",CONCATENATE(B918,\"-opis\")))","v":""},{"$f":"IF(B918=\"\",\"\",IF(Zahteve!H918=\"\",\"\",CONCATENATE(B918,\"-dni\")))","v":""},{"$f":"IF(B918=\"\",\"\",IF(Zahteve!H918=\"\",\"\",Zahteve!H918))","v":""}]
[{"$f":"IF(Zahteve!B919=\"\",\"\",Zahteve!B919)","v":""},{"$f":"IF(Zahteve!B919=\"\",\"\",LEFT(Zahteve!B919,1))","v":""},{"$f":"IF(B919=\"\",\"\",IF(Zahteve!F919=\"da\",CONCATENATE(B919,\"-DA\"),\"\"))","v":""},{"$f":"IF(B919=\"\",\"\",IF(Zahteve!A919=\"da\",CONCATENATE(B919,\"-ustreza\"),\"\"))","v":""},{"$f":"IF(B919=\"\",\"\",IF(Zahteve!G919=\"\",\"\",CONCATENATE(B919,\"-opis\")))","v":""},{"$f":"IF(B919=\"\",\"\",IF(Zahteve!H919=\"\",\"\",CONCATENATE(B919,\"-dni\")))","v":""},{"$f":"IF(B919=\"\",\"\",IF(Zahteve!H919=\"\",\"\",Zahteve!H919))","v":""}]
[{"$f":"IF(Zahteve!B920=\"\",\"\",Zahteve!B920)","v":""},{"$f":"IF(Zahteve!B920=\"\",\"\",LEFT(Zahteve!B920,1))","v":""},{"$f":"IF(B920=\"\",\"\",IF(Zahteve!F920=\"da\",CONCATENATE(B920,\"-DA\"),\"\"))","v":""},{"$f":"IF(B920=\"\",\"\",IF(Zahteve!A920=\"da\",CONCATENATE(B920,\"-ustreza\"),\"\"))","v":""},{"$f":"IF(B920=\"\",\"\",IF(Zahteve!G920=\"\",\"\",CONCATENATE(B920,\"-opis\")))","v":""},{"$f":"IF(B920=\"\",\"\",IF(Zahteve!H920=\"\",\"\",CONCATENATE(B920,\"-dni\")))","v":""},{"$f":"IF(B920=\"\",\"\",IF(Zahteve!H920=\"\",\"\",Zahteve!H920))","v":""}]
[{"$f":"IF(Zahteve!B921=\"\",\"\",Zahteve!B921)","v":""},{"$f":"IF(Zahteve!B921=\"\",\"\",LEFT(Zahteve!B921,1))","v":""},{"$f":"IF(B921=\"\",\"\",IF(Zahteve!F921=\"da\",CONCATENATE(B921,\"-DA\"),\"\"))","v":""},{"$f":"IF(B921=\"\",\"\",IF(Zahteve!A921=\"da\",CONCATENATE(B921,\"-ustreza\"),\"\"))","v":""},{"$f":"IF(B921=\"\",\"\",IF(Zahteve!G921=\"\",\"\",CONCATENATE(B921,\"-opis\")))","v":""},{"$f":"IF(B921=\"\",\"\",IF(Zahteve!H921=\"\",\"\",CONCATENATE(B921,\"-dni\")))","v":""},{"$f":"IF(B921=\"\",\"\",IF(Zahteve!H921=\"\",\"\",Zahteve!H921))","v":""}]
[{"$f":"IF(Zahteve!B922=\"\",\"\",Zahteve!B922)","v":""},{"$f":"IF(Zahteve!B922=\"\",\"\",LEFT(Zahteve!B922,1))","v":""},{"$f":"IF(B922=\"\",\"\",IF(Zahteve!F922=\"da\",CONCATENATE(B922,\"-DA\"),\"\"))","v":""},{"$f":"IF(B922=\"\",\"\",IF(Zahteve!A922=\"da\",CONCATENATE(B922,\"-ustreza\"),\"\"))","v":""},{"$f":"IF(B922=\"\",\"\",IF(Zahteve!G922=\"\",\"\",CONCATENATE(B922,\"-opis\")))","v":""},{"$f":"IF(B922=\"\",\"\",IF(Zahteve!H922=\"\",\"\",CONCATENATE(B922,\"-dni\")))","v":""},{"$f":"IF(B922=\"\",\"\",IF(Zahteve!H922=\"\",\"\",Zahteve!H922))","v":""}]
[{"$f":"IF(Zahteve!B923=\"\",\"\",Zahteve!B923)","v":""},{"$f":"IF(Zahteve!B923=\"\",\"\",LEFT(Zahteve!B923,1))","v":""},{"$f":"IF(B923=\"\",\"\",IF(Zahteve!F923=\"da\",CONCATENATE(B923,\"-DA\"),\"\"))","v":""},{"$f":"IF(B923=\"\",\"\",IF(Zahteve!A923=\"da\",CONCATENATE(B923,\"-ustreza\"),\"\"))","v":""},{"$f":"IF(B923=\"\",\"\",IF(Zahteve!G923=\"\",\"\",CONCATENATE(B923,\"-opis\")))","v":""},{"$f":"IF(B923=\"\",\"\",IF(Zahteve!H923=\"\",\"\",CONCATENATE(B923,\"-dni\")))","v":""},{"$f":"IF(B923=\"\",\"\",IF(Zahteve!H923=\"\",\"\",Zahteve!H923))","v":""}]
[{"$f":"IF(Zahteve!B924=\"\",\"\",Zahteve!B924)","v":""},{"$f":"IF(Zahteve!B924=\"\",\"\",LEFT(Zahteve!B924,1))","v":""},{"$f":"IF(B924=\"\",\"\",IF(Zahteve!F924=\"da\",CONCATENATE(B924,\"-DA\"),\"\"))","v":""},{"$f":"IF(B924=\"\",\"\",IF(Zahteve!A924=\"da\",CONCATENATE(B924,\"-ustreza\"),\"\"))","v":""},{"$f":"IF(B924=\"\",\"\",IF(Zahteve!G924=\"\",\"\",CONCATENATE(B924,\"-opis\")))","v":""},{"$f":"IF(B924=\"\",\"\",IF(Zahteve!H924=\"\",\"\",CONCATENATE(B924,\"-dni\")))","v":""},{"$f":"IF(B924=\"\",\"\",IF(Zahteve!H924=\"\",\"\",Zahteve!H924))","v":""}]
[{"$f":"IF(Zahteve!B925=\"\",\"\",Zahteve!B925)","v":""},{"$f":"IF(Zahteve!B925=\"\",\"\",LEFT(Zahteve!B925,1))","v":""},{"$f":"IF(B925=\"\",\"\",IF(Zahteve!F925=\"da\",CONCATENATE(B925,\"-DA\"),\"\"))","v":""},{"$f":"IF(B925=\"\",\"\",IF(Zahteve!A925=\"da\",CONCATENATE(B925,\"-ustreza\"),\"\"))","v":""},{"$f":"IF(B925=\"\",\"\",IF(Zahteve!G925=\"\",\"\",CONCATENATE(B925,\"-opis\")))","v":""},{"$f":"IF(B925=\"\",\"\",IF(Zahteve!H925=\"\",\"\",CONCATENATE(B925,\"-dni\")))","v":""},{"$f":"IF(B925=\"\",\"\",IF(Zahteve!H925=\"\",\"\",Zahteve!H925))","v":""}]
[{"$f":"IF(Zahteve!B926=\"\",\"\",Zahteve!B926)","v":""},{"$f":"IF(Zahteve!B926=\"\",\"\",LEFT(Zahteve!B926,1))","v":""},{"$f":"IF(B926=\"\",\"\",IF(Zahteve!F926=\"da\",CONCATENATE(B926,\"-DA\"),\"\"))","v":""},{"$f":"IF(B926=\"\",\"\",IF(Zahteve!A926=\"da\",CONCATENATE(B926,\"-ustreza\"),\"\"))","v":""},{"$f":"IF(B926=\"\",\"\",IF(Zahteve!G926=\"\",\"\",CONCATENATE(B926,\"-opis\")))","v":""},{"$f":"IF(B926=\"\",\"\",IF(Zahteve!H926=\"\",\"\",CONCATENATE(B926,\"-dni\")))","v":""},{"$f":"IF(B926=\"\",\"\",IF(Zahteve!H926=\"\",\"\",Zahteve!H926))","v":""}]
[{"$f":"IF(Zahteve!B927=\"\",\"\",Zahteve!B927)","v":""},{"$f":"IF(Zahteve!B927=\"\",\"\",LEFT(Zahteve!B927,1))","v":""},{"$f":"IF(B927=\"\",\"\",IF(Zahteve!F927=\"da\",CONCATENATE(B927,\"-DA\"),\"\"))","v":""},{"$f":"IF(B927=\"\",\"\",IF(Zahteve!A927=\"da\",CONCATENATE(B927,\"-ustreza\"),\"\"))","v":""},{"$f":"IF(B927=\"\",\"\",IF(Zahteve!G927=\"\",\"\",CONCATENATE(B927,\"-opis\")))","v":""},{"$f":"IF(B927=\"\",\"\",IF(Zahteve!H927=\"\",\"\",CONCATENATE(B927,\"-dni\")))","v":""},{"$f":"IF(B927=\"\",\"\",IF(Zahteve!H927=\"\",\"\",Zahteve!H927))","v":""}]
[{"$f":"IF(Zahteve!B928=\"\",\"\",Zahteve!B928)","v":""},{"$f":"IF(Zahteve!B928=\"\",\"\",LEFT(Zahteve!B928,1))","v":""},{"$f":"IF(B928=\"\",\"\",IF(Zahteve!F928=\"da\",CONCATENATE(B928,\"-DA\"),\"\"))","v":""},{"$f":"IF(B928=\"\",\"\",IF(Zahteve!A928=\"da\",CONCATENATE(B928,\"-ustreza\"),\"\"))","v":""},{"$f":"IF(B928=\"\",\"\",IF(Zahteve!G928=\"\",\"\",CONCATENATE(B928,\"-opis\")))","v":""},{"$f":"IF(B928=\"\",\"\",IF(Zahteve!H928=\"\",\"\",CONCATENATE(B928,\"-dni\")))","v":""},{"$f":"IF(B928=\"\",\"\",IF(Zahteve!H928=\"\",\"\",Zahteve!H928))","v":""}]
[{"$f":"IF(Zahteve!B929=\"\",\"\",Zahteve!B929)","v":""},{"$f":"IF(Zahteve!B929=\"\",\"\",LEFT(Zahteve!B929,1))","v":""},{"$f":"IF(B929=\"\",\"\",IF(Zahteve!F929=\"da\",CONCATENATE(B929,\"-DA\"),\"\"))","v":""},{"$f":"IF(B929=\"\",\"\",IF(Zahteve!A929=\"da\",CONCATENATE(B929,\"-ustreza\"),\"\"))","v":""},{"$f":"IF(B929=\"\",\"\",IF(Zahteve!G929=\"\",\"\",CONCATENATE(B929,\"-opis\")))","v":""},{"$f":"IF(B929=\"\",\"\",IF(Zahteve!H929=\"\",\"\",CONCATENATE(B929,\"-dni\")))","v":""},{"$f":"IF(B929=\"\",\"\",IF(Zahteve!H929=\"\",\"\",Zahteve!H929))","v":""}]
[{"$f":"IF(Zahteve!B930=\"\",\"\",Zahteve!B930)","v":""},{"$f":"IF(Zahteve!B930=\"\",\"\",LEFT(Zahteve!B930,1))","v":""},{"$f":"IF(B930=\"\",\"\",IF(Zahteve!F930=\"da\",CONCATENATE(B930,\"-DA\"),\"\"))","v":""},{"$f":"IF(B930=\"\",\"\",IF(Zahteve!A930=\"da\",CONCATENATE(B930,\"-ustreza\"),\"\"))","v":""},{"$f":"IF(B930=\"\",\"\",IF(Zahteve!G930=\"\",\"\",CONCATENATE(B930,\"-opis\")))","v":""},{"$f":"IF(B930=\"\",\"\",IF(Zahteve!H930=\"\",\"\",CONCATENATE(B930,\"-dni\")))","v":""},{"$f":"IF(B930=\"\",\"\",IF(Zahteve!H930=\"\",\"\",Zahteve!H930))","v":""}]
[{"$f":"IF(Zahteve!B931=\"\",\"\",Zahteve!B931)","v":""},{"$f":"IF(Zahteve!B931=\"\",\"\",LEFT(Zahteve!B931,1))","v":""},{"$f":"IF(B931=\"\",\"\",IF(Zahteve!F931=\"da\",CONCATENATE(B931,\"-DA\"),\"\"))","v":""},{"$f":"IF(B931=\"\",\"\",IF(Zahteve!A931=\"da\",CONCATENATE(B931,\"-ustreza\"),\"\"))","v":""},{"$f":"IF(B931=\"\",\"\",IF(Zahteve!G931=\"\",\"\",CONCATENATE(B931,\"-opis\")))","v":""},{"$f":"IF(B931=\"\",\"\",IF(Zahteve!H931=\"\",\"\",CONCATENATE(B931,\"-dni\")))","v":""},{"$f":"IF(B931=\"\",\"\",IF(Zahteve!H931=\"\",\"\",Zahteve!H931))","v":""}]
[{"$f":"IF(Zahteve!B932=\"\",\"\",Zahteve!B932)","v":""},{"$f":"IF(Zahteve!B932=\"\",\"\",LEFT(Zahteve!B932,1))","v":""},{"$f":"IF(B932=\"\",\"\",IF(Zahteve!F932=\"da\",CONCATENATE(B932,\"-DA\"),\"\"))","v":""},{"$f":"IF(B932=\"\",\"\",IF(Zahteve!A932=\"da\",CONCATENATE(B932,\"-ustreza\"),\"\"))","v":""},{"$f":"IF(B932=\"\",\"\",IF(Zahteve!G932=\"\",\"\",CONCATENATE(B932,\"-opis\")))","v":""},{"$f":"IF(B932=\"\",\"\",IF(Zahteve!H932=\"\",\"\",CONCATENATE(B932,\"-dni\")))","v":""},{"$f":"IF(B932=\"\",\"\",IF(Zahteve!H932=\"\",\"\",Zahteve!H932))","v":""}]
[{"$f":"IF(Zahteve!B933=\"\",\"\",Zahteve!B933)","v":""},{"$f":"IF(Zahteve!B933=\"\",\"\",LEFT(Zahteve!B933,1))","v":""},{"$f":"IF(B933=\"\",\"\",IF(Zahteve!F933=\"da\",CONCATENATE(B933,\"-DA\"),\"\"))","v":""},{"$f":"IF(B933=\"\",\"\",IF(Zahteve!A933=\"da\",CONCATENATE(B933,\"-ustreza\"),\"\"))","v":""},{"$f":"IF(B933=\"\",\"\",IF(Zahteve!G933=\"\",\"\",CONCATENATE(B933,\"-opis\")))","v":""},{"$f":"IF(B933=\"\",\"\",IF(Zahteve!H933=\"\",\"\",CONCATENATE(B933,\"-dni\")))","v":""},{"$f":"IF(B933=\"\",\"\",IF(Zahteve!H933=\"\",\"\",Zahteve!H933))","v":""}]
[{"$f":"IF(Zahteve!B934=\"\",\"\",Zahteve!B934)","v":""},{"$f":"IF(Zahteve!B934=\"\",\"\",LEFT(Zahteve!B934,1))","v":""},{"$f":"IF(B934=\"\",\"\",IF(Zahteve!F934=\"da\",CONCATENATE(B934,\"-DA\"),\"\"))","v":""},{"$f":"IF(B934=\"\",\"\",IF(Zahteve!A934=\"da\",CONCATENATE(B934,\"-ustreza\"),\"\"))","v":""},{"$f":"IF(B934=\"\",\"\",IF(Zahteve!G934=\"\",\"\",CONCATENATE(B934,\"-opis\")))","v":""},{"$f":"IF(B934=\"\",\"\",IF(Zahteve!H934=\"\",\"\",CONCATENATE(B934,\"-dni\")))","v":""},{"$f":"IF(B934=\"\",\"\",IF(Zahteve!H934=\"\",\"\",Zahteve!H934))","v":""}]
[{"$f":"IF(Zahteve!B935=\"\",\"\",Zahteve!B935)","v":""},{"$f":"IF(Zahteve!B935=\"\",\"\",LEFT(Zahteve!B935,1))","v":""},{"$f":"IF(B935=\"\",\"\",IF(Zahteve!F935=\"da\",CONCATENATE(B935,\"-DA\"),\"\"))","v":""},{"$f":"IF(B935=\"\",\"\",IF(Zahteve!A935=\"da\",CONCATENATE(B935,\"-ustreza\"),\"\"))","v":""},{"$f":"IF(B935=\"\",\"\",IF(Zahteve!G935=\"\",\"\",CONCATENATE(B935,\"-opis\")))","v":""},{"$f":"IF(B935=\"\",\"\",IF(Zahteve!H935=\"\",\"\",CONCATENATE(B935,\"-dni\")))","v":""},{"$f":"IF(B935=\"\",\"\",IF(Zahteve!H935=\"\",\"\",Zahteve!H935))","v":""}]
[{"$f":"IF(Zahteve!B936=\"\",\"\",Zahteve!B936)","v":""},{"$f":"IF(Zahteve!B936=\"\",\"\",LEFT(Zahteve!B936,1))","v":""},{"$f":"IF(B936=\"\",\"\",IF(Zahteve!F936=\"da\",CONCATENATE(B936,\"-DA\"),\"\"))","v":""},{"$f":"IF(B936=\"\",\"\",IF(Zahteve!A936=\"da\",CONCATENATE(B936,\"-ustreza\"),\"\"))","v":""},{"$f":"IF(B936=\"\",\"\",IF(Zahteve!G936=\"\",\"\",CONCATENATE(B936,\"-opis\")))","v":""},{"$f":"IF(B936=\"\",\"\",IF(Zahteve!H936=\"\",\"\",CONCATENATE(B936,\"-dni\")))","v":""},{"$f":"IF(B936=\"\",\"\",IF(Zahteve!H936=\"\",\"\",Zahteve!H936))","v":""}]
[{"$f":"IF(Zahteve!B937=\"\",\"\",Zahteve!B937)","v":""},{"$f":"IF(Zahteve!B937=\"\",\"\",LEFT(Zahteve!B937,1))","v":""},{"$f":"IF(B937=\"\",\"\",IF(Zahteve!F937=\"da\",CONCATENATE(B937,\"-DA\"),\"\"))","v":""},{"$f":"IF(B937=\"\",\"\",IF(Zahteve!A937=\"da\",CONCATENATE(B937,\"-ustreza\"),\"\"))","v":""},{"$f":"IF(B937=\"\",\"\",IF(Zahteve!G937=\"\",\"\",CONCATENATE(B937,\"-opis\")))","v":""},{"$f":"IF(B937=\"\",\"\",IF(Zahteve!H937=\"\",\"\",CONCATENATE(B937,\"-dni\")))","v":""},{"$f":"IF(B937=\"\",\"\",IF(Zahteve!H937=\"\",\"\",Zahteve!H937))","v":""}]
[{"$f":"IF(Zahteve!B938=\"\",\"\",Zahteve!B938)","v":""},{"$f":"IF(Zahteve!B938=\"\",\"\",LEFT(Zahteve!B938,1))","v":""},{"$f":"IF(B938=\"\",\"\",IF(Zahteve!F938=\"da\",CONCATENATE(B938,\"-DA\"),\"\"))","v":""},{"$f":"IF(B938=\"\",\"\",IF(Zahteve!A938=\"da\",CONCATENATE(B938,\"-ustreza\"),\"\"))","v":""},{"$f":"IF(B938=\"\",\"\",IF(Zahteve!G938=\"\",\"\",CONCATENATE(B938,\"-opis\")))","v":""},{"$f":"IF(B938=\"\",\"\",IF(Zahteve!H938=\"\",\"\",CONCATENATE(B938,\"-dni\")))","v":""},{"$f":"IF(B938=\"\",\"\",IF(Zahteve!H938=\"\",\"\",Zahteve!H938))","v":""}]
[{"$f":"IF(Zahteve!B939=\"\",\"\",Zahteve!B939)","v":""},{"$f":"IF(Zahteve!B939=\"\",\"\",LEFT(Zahteve!B939,1))","v":""},{"$f":"IF(B939=\"\",\"\",IF(Zahteve!F939=\"da\",CONCATENATE(B939,\"-DA\"),\"\"))","v":""},{"$f":"IF(B939=\"\",\"\",IF(Zahteve!A939=\"da\",CONCATENATE(B939,\"-ustreza\"),\"\"))","v":""},{"$f":"IF(B939=\"\",\"\",IF(Zahteve!G939=\"\",\"\",CONCATENATE(B939,\"-opis\")))","v":""},{"$f":"IF(B939=\"\",\"\",IF(Zahteve!H939=\"\",\"\",CONCATENATE(B939,\"-dni\")))","v":""},{"$f":"IF(B939=\"\",\"\",IF(Zahteve!H939=\"\",\"\",Zahteve!H939))","v":""}]
[{"$f":"IF(Zahteve!B940=\"\",\"\",Zahteve!B940)","v":""},{"$f":"IF(Zahteve!B940=\"\",\"\",LEFT(Zahteve!B940,1))","v":""},{"$f":"IF(B940=\"\",\"\",IF(Zahteve!F940=\"da\",CONCATENATE(B940,\"-DA\"),\"\"))","v":""},{"$f":"IF(B940=\"\",\"\",IF(Zahteve!A940=\"da\",CONCATENATE(B940,\"-ustreza\"),\"\"))","v":""},{"$f":"IF(B940=\"\",\"\",IF(Zahteve!G940=\"\",\"\",CONCATENATE(B940,\"-opis\")))","v":""},{"$f":"IF(B940=\"\",\"\",IF(Zahteve!H940=\"\",\"\",CONCATENATE(B940,\"-dni\")))","v":""},{"$f":"IF(B940=\"\",\"\",IF(Zahteve!H940=\"\",\"\",Zahteve!H940))","v":""}]
[{"$f":"IF(Zahteve!B941=\"\",\"\",Zahteve!B941)","v":""},{"$f":"IF(Zahteve!B941=\"\",\"\",LEFT(Zahteve!B941,1))","v":""},{"$f":"IF(B941=\"\",\"\",IF(Zahteve!F941=\"da\",CONCATENATE(B941,\"-DA\"),\"\"))","v":""},{"$f":"IF(B941=\"\",\"\",IF(Zahteve!A941=\"da\",CONCATENATE(B941,\"-ustreza\"),\"\"))","v":""},{"$f":"IF(B941=\"\",\"\",IF(Zahteve!G941=\"\",\"\",CONCATENATE(B941,\"-opis\")))","v":""},{"$f":"IF(B941=\"\",\"\",IF(Zahteve!H941=\"\",\"\",CONCATENATE(B941,\"-dni\")))","v":""},{"$f":"IF(B941=\"\",\"\",IF(Zahteve!H941=\"\",\"\",Zahteve!H941))","v":""}]
[{"$f":"IF(Zahteve!B942=\"\",\"\",Zahteve!B942)","v":""},{"$f":"IF(Zahteve!B942=\"\",\"\",LEFT(Zahteve!B942,1))","v":""},{"$f":"IF(B942=\"\",\"\",IF(Zahteve!F942=\"da\",CONCATENATE(B942,\"-DA\"),\"\"))","v":""},{"$f":"IF(B942=\"\",\"\",IF(Zahteve!A942=\"da\",CONCATENATE(B942,\"-ustreza\"),\"\"))","v":""},{"$f":"IF(B942=\"\",\"\",IF(Zahteve!G942=\"\",\"\",CONCATENATE(B942,\"-opis\")))","v":""},{"$f":"IF(B942=\"\",\"\",IF(Zahteve!H942=\"\",\"\",CONCATENATE(B942,\"-dni\")))","v":""},{"$f":"IF(B942=\"\",\"\",IF(Zahteve!H942=\"\",\"\",Zahteve!H942))","v":""}]
[{"$f":"IF(Zahteve!B943=\"\",\"\",Zahteve!B943)","v":""},{"$f":"IF(Zahteve!B943=\"\",\"\",LEFT(Zahteve!B943,1))","v":""},{"$f":"IF(B943=\"\",\"\",IF(Zahteve!F943=\"da\",CONCATENATE(B943,\"-DA\"),\"\"))","v":""},{"$f":"IF(B943=\"\",\"\",IF(Zahteve!A943=\"da\",CONCATENATE(B943,\"-ustreza\"),\"\"))","v":""},{"$f":"IF(B943=\"\",\"\",IF(Zahteve!G943=\"\",\"\",CONCATENATE(B943,\"-opis\")))","v":""},{"$f":"IF(B943=\"\",\"\",IF(Zahteve!H943=\"\",\"\",CONCATENATE(B943,\"-dni\")))","v":""},{"$f":"IF(B943=\"\",\"\",IF(Zahteve!H943=\"\",\"\",Zahteve!H943))","v":""}]
[{"$f":"IF(Zahteve!B944=\"\",\"\",Zahteve!B944)","v":""},{"$f":"IF(Zahteve!B944=\"\",\"\",LEFT(Zahteve!B944,1))","v":""},{"$f":"IF(B944=\"\",\"\",IF(Zahteve!F944=\"da\",CONCATENATE(B944,\"-DA\"),\"\"))","v":""},{"$f":"IF(B944=\"\",\"\",IF(Zahteve!A944=\"da\",CONCATENATE(B944,\"-ustreza\"),\"\"))","v":""},{"$f":"IF(B944=\"\",\"\",IF(Zahteve!G944=\"\",\"\",CONCATENATE(B944,\"-opis\")))","v":""},{"$f":"IF(B944=\"\",\"\",IF(Zahteve!H944=\"\",\"\",CONCATENATE(B944,\"-dni\")))","v":""},{"$f":"IF(B944=\"\",\"\",IF(Zahteve!H944=\"\",\"\",Zahteve!H944))","v":""}]
[{"$f":"IF(Zahteve!B945=\"\",\"\",Zahteve!B945)","v":""},{"$f":"IF(Zahteve!B945=\"\",\"\",LEFT(Zahteve!B945,1))","v":""},{"$f":"IF(B945=\"\",\"\",IF(Zahteve!F945=\"da\",CONCATENATE(B945,\"-DA\"),\"\"))","v":""},{"$f":"IF(B945=\"\",\"\",IF(Zahteve!A945=\"da\",CONCATENATE(B945,\"-ustreza\"),\"\"))","v":""},{"$f":"IF(B945=\"\",\"\",IF(Zahteve!G945=\"\",\"\",CONCATENATE(B945,\"-opis\")))","v":""},{"$f":"IF(B945=\"\",\"\",IF(Zahteve!H945=\"\",\"\",CONCATENATE(B945,\"-dni\")))","v":""},{"$f":"IF(B945=\"\",\"\",IF(Zahteve!H945=\"\",\"\",Zahteve!H945))","v":""}]
[{"$f":"IF(Zahteve!B946=\"\",\"\",Zahteve!B946)","v":""},{"$f":"IF(Zahteve!B946=\"\",\"\",LEFT(Zahteve!B946,1))","v":""},{"$f":"IF(B946=\"\",\"\",IF(Zahteve!F946=\"da\",CONCATENATE(B946,\"-DA\"),\"\"))","v":""},{"$f":"IF(B946=\"\",\"\",IF(Zahteve!A946=\"da\",CONCATENATE(B946,\"-ustreza\"),\"\"))","v":""},{"$f":"IF(B946=\"\",\"\",IF(Zahteve!G946=\"\",\"\",CONCATENATE(B946,\"-opis\")))","v":""},{"$f":"IF(B946=\"\",\"\",IF(Zahteve!H946=\"\",\"\",CONCATENATE(B946,\"-dni\")))","v":""},{"$f":"IF(B946=\"\",\"\",IF(Zahteve!H946=\"\",\"\",Zahteve!H946))","v":""}]
[{"$f":"IF(Zahteve!B947=\"\",\"\",Zahteve!B947)","v":""},{"$f":"IF(Zahteve!B947=\"\",\"\",LEFT(Zahteve!B947,1))","v":""},{"$f":"IF(B947=\"\",\"\",IF(Zahteve!F947=\"da\",CONCATENATE(B947,\"-DA\"),\"\"))","v":""},{"$f":"IF(B947=\"\",\"\",IF(Zahteve!A947=\"da\",CONCATENATE(B947,\"-ustreza\"),\"\"))","v":""},{"$f":"IF(B947=\"\",\"\",IF(Zahteve!G947=\"\",\"\",CONCATENATE(B947,\"-opis\")))","v":""},{"$f":"IF(B947=\"\",\"\",IF(Zahteve!H947=\"\",\"\",CONCATENATE(B947,\"-dni\")))","v":""},{"$f":"IF(B947=\"\",\"\",IF(Zahteve!H947=\"\",\"\",Zahteve!H947))","v":""}]
[{"$f":"IF(Zahteve!B948=\"\",\"\",Zahteve!B948)","v":""},{"$f":"IF(Zahteve!B948=\"\",\"\",LEFT(Zahteve!B948,1))","v":""},{"$f":"IF(B948=\"\",\"\",IF(Zahteve!F948=\"da\",CONCATENATE(B948,\"-DA\"),\"\"))","v":""},{"$f":"IF(B948=\"\",\"\",IF(Zahteve!A948=\"da\",CONCATENATE(B948,\"-ustreza\"),\"\"))","v":""},{"$f":"IF(B948=\"\",\"\",IF(Zahteve!G948=\"\",\"\",CONCATENATE(B948,\"-opis\")))","v":""},{"$f":"IF(B948=\"\",\"\",IF(Zahteve!H948=\"\",\"\",CONCATENATE(B948,\"-dni\")))","v":""},{"$f":"IF(B948=\"\",\"\",IF(Zahteve!H948=\"\",\"\",Zahteve!H948))","v":""}]
[{"$f":"IF(Zahteve!B949=\"\",\"\",Zahteve!B949)","v":""},{"$f":"IF(Zahteve!B949=\"\",\"\",LEFT(Zahteve!B949,1))","v":""},{"$f":"IF(B949=\"\",\"\",IF(Zahteve!F949=\"da\",CONCATENATE(B949,\"-DA\"),\"\"))","v":""},{"$f":"IF(B949=\"\",\"\",IF(Zahteve!A949=\"da\",CONCATENATE(B949,\"-ustreza\"),\"\"))","v":""},{"$f":"IF(B949=\"\",\"\",IF(Zahteve!G949=\"\",\"\",CONCATENATE(B949,\"-opis\")))","v":""},{"$f":"IF(B949=\"\",\"\",IF(Zahteve!H949=\"\",\"\",CONCATENATE(B949,\"-dni\")))","v":""},{"$f":"IF(B949=\"\",\"\",IF(Zahteve!H949=\"\",\"\",Zahteve!H949))","v":""}]
[{"$f":"IF(Zahteve!B950=\"\",\"\",Zahteve!B950)","v":""},{"$f":"IF(Zahteve!B950=\"\",\"\",LEFT(Zahteve!B950,1))","v":""},{"$f":"IF(B950=\"\",\"\",IF(Zahteve!F950=\"da\",CONCATENATE(B950,\"-DA\"),\"\"))","v":""},{"$f":"IF(B950=\"\",\"\",IF(Zahteve!A950=\"da\",CONCATENATE(B950,\"-ustreza\"),\"\"))","v":""},{"$f":"IF(B950=\"\",\"\",IF(Zahteve!G950=\"\",\"\",CONCATENATE(B950,\"-opis\")))","v":""},{"$f":"IF(B950=\"\",\"\",IF(Zahteve!H950=\"\",\"\",CONCATENATE(B950,\"-dni\")))","v":""},{"$f":"IF(B950=\"\",\"\",IF(Zahteve!H950=\"\",\"\",Zahteve!H950))","v":""}]
[{"$f":"IF(Zahteve!B951=\"\",\"\",Zahteve!B951)","v":""},{"$f":"IF(Zahteve!B951=\"\",\"\",LEFT(Zahteve!B951,1))","v":""},{"$f":"IF(B951=\"\",\"\",IF(Zahteve!F951=\"da\",CONCATENATE(B951,\"-DA\"),\"\"))","v":""},{"$f":"IF(B951=\"\",\"\",IF(Zahteve!A951=\"da\",CONCATENATE(B951,\"-ustreza\"),\"\"))","v":""},{"$f":"IF(B951=\"\",\"\",IF(Zahteve!G951=\"\",\"\",CONCATENATE(B951,\"-opis\")))","v":""},{"$f":"IF(B951=\"\",\"\",IF(Zahteve!H951=\"\",\"\",CONCATENATE(B951,\"-dni\")))","v":""},{"$f":"IF(B951=\"\",\"\",IF(Zahteve!H951=\"\",\"\",Zahteve!H951))","v":""}]
[{"$f":"IF(Zahteve!B952=\"\",\"\",Zahteve!B952)","v":""},{"$f":"IF(Zahteve!B952=\"\",\"\",LEFT(Zahteve!B952,1))","v":""},{"$f":"IF(B952=\"\",\"\",IF(Zahteve!F952=\"da\",CONCATENATE(B952,\"-DA\"),\"\"))","v":""},{"$f":"IF(B952=\"\",\"\",IF(Zahteve!A952=\"da\",CONCATENATE(B952,\"-ustreza\"),\"\"))","v":""},{"$f":"IF(B952=\"\",\"\",IF(Zahteve!G952=\"\",\"\",CONCATENATE(B952,\"-opis\")))","v":""},{"$f":"IF(B952=\"\",\"\",IF(Zahteve!H952=\"\",\"\",CONCATENATE(B952,\"-dni\")))","v":""},{"$f":"IF(B952=\"\",\"\",IF(Zahteve!H952=\"\",\"\",Zahteve!H952))","v":""}]
[{"$f":"IF(Zahteve!B953=\"\",\"\",Zahteve!B953)","v":""},{"$f":"IF(Zahteve!B953=\"\",\"\",LEFT(Zahteve!B953,1))","v":""},{"$f":"IF(B953=\"\",\"\",IF(Zahteve!F953=\"da\",CONCATENATE(B953,\"-DA\"),\"\"))","v":""},{"$f":"IF(B953=\"\",\"\",IF(Zahteve!A953=\"da\",CONCATENATE(B953,\"-ustreza\"),\"\"))","v":""},{"$f":"IF(B953=\"\",\"\",IF(Zahteve!G953=\"\",\"\",CONCATENATE(B953,\"-opis\")))","v":""},{"$f":"IF(B953=\"\",\"\",IF(Zahteve!H953=\"\",\"\",CONCATENATE(B953,\"-dni\")))","v":""},{"$f":"IF(B953=\"\",\"\",IF(Zahteve!H953=\"\",\"\",Zahteve!H953))","v":""}]
[{"$f":"IF(Zahteve!B954=\"\",\"\",Zahteve!B954)","v":""},{"$f":"IF(Zahteve!B954=\"\",\"\",LEFT(Zahteve!B954,1))","v":""},{"$f":"IF(B954=\"\",\"\",IF(Zahteve!F954=\"da\",CONCATENATE(B954,\"-DA\"),\"\"))","v":""},{"$f":"IF(B954=\"\",\"\",IF(Zahteve!A954=\"da\",CONCATENATE(B954,\"-ustreza\"),\"\"))","v":""},{"$f":"IF(B954=\"\",\"\",IF(Zahteve!G954=\"\",\"\",CONCATENATE(B954,\"-opis\")))","v":""},{"$f":"IF(B954=\"\",\"\",IF(Zahteve!H954=\"\",\"\",CONCATENATE(B954,\"-dni\")))","v":""},{"$f":"IF(B954=\"\",\"\",IF(Zahteve!H954=\"\",\"\",Zahteve!H954))","v":""}]
[{"$f":"IF(Zahteve!B955=\"\",\"\",Zahteve!B955)","v":""},{"$f":"IF(Zahteve!B955=\"\",\"\",LEFT(Zahteve!B955,1))","v":""},{"$f":"IF(B955=\"\",\"\",IF(Zahteve!F955=\"da\",CONCATENATE(B955,\"-DA\"),\"\"))","v":""},{"$f":"IF(B955=\"\",\"\",IF(Zahteve!A955=\"da\",CONCATENATE(B955,\"-ustreza\"),\"\"))","v":""},{"$f":"IF(B955=\"\",\"\",IF(Zahteve!G955=\"\",\"\",CONCATENATE(B955,\"-opis\")))","v":""},{"$f":"IF(B955=\"\",\"\",IF(Zahteve!H955=\"\",\"\",CONCATENATE(B955,\"-dni\")))","v":""},{"$f":"IF(B955=\"\",\"\",IF(Zahteve!H955=\"\",\"\",Zahteve!H955))","v":""}]
[{"$f":"IF(Zahteve!B956=\"\",\"\",Zahteve!B956)","v":""},{"$f":"IF(Zahteve!B956=\"\",\"\",LEFT(Zahteve!B956,1))","v":""},{"$f":"IF(B956=\"\",\"\",IF(Zahteve!F956=\"da\",CONCATENATE(B956,\"-DA\"),\"\"))","v":""},{"$f":"IF(B956=\"\",\"\",IF(Zahteve!A956=\"da\",CONCATENATE(B956,\"-ustreza\"),\"\"))","v":""},{"$f":"IF(B956=\"\",\"\",IF(Zahteve!G956=\"\",\"\",CONCATENATE(B956,\"-opis\")))","v":""},{"$f":"IF(B956=\"\",\"\",IF(Zahteve!H956=\"\",\"\",CONCATENATE(B956,\"-dni\")))","v":""},{"$f":"IF(B956=\"\",\"\",IF(Zahteve!H956=\"\",\"\",Zahteve!H956))","v":""}]
[{"$f":"IF(Zahteve!B957=\"\",\"\",Zahteve!B957)","v":""},{"$f":"IF(Zahteve!B957=\"\",\"\",LEFT(Zahteve!B957,1))","v":""},{"$f":"IF(B957=\"\",\"\",IF(Zahteve!F957=\"da\",CONCATENATE(B957,\"-DA\"),\"\"))","v":""},{"$f":"IF(B957=\"\",\"\",IF(Zahteve!A957=\"da\",CONCATENATE(B957,\"-ustreza\"),\"\"))","v":""},{"$f":"IF(B957=\"\",\"\",IF(Zahteve!G957=\"\",\"\",CONCATENATE(B957,\"-opis\")))","v":""},{"$f":"IF(B957=\"\",\"\",IF(Zahteve!H957=\"\",\"\",CONCATENATE(B957,\"-dni\")))","v":""},{"$f":"IF(B957=\"\",\"\",IF(Zahteve!H957=\"\",\"\",Zahteve!H957))","v":""}]
[{"$f":"IF(Zahteve!B958=\"\",\"\",Zahteve!B958)","v":""},{"$f":"IF(Zahteve!B958=\"\",\"\",LEFT(Zahteve!B958,1))","v":""},{"$f":"IF(B958=\"\",\"\",IF(Zahteve!F958=\"da\",CONCATENATE(B958,\"-DA\"),\"\"))","v":""},{"$f":"IF(B958=\"\",\"\",IF(Zahteve!A958=\"da\",CONCATENATE(B958,\"-ustreza\"),\"\"))","v":""},{"$f":"IF(B958=\"\",\"\",IF(Zahteve!G958=\"\",\"\",CONCATENATE(B958,\"-opis\")))","v":""},{"$f":"IF(B958=\"\",\"\",IF(Zahteve!H958=\"\",\"\",CONCATENATE(B958,\"-dni\")))","v":""},{"$f":"IF(B958=\"\",\"\",IF(Zahteve!H958=\"\",\"\",Zahteve!H958))","v":""}]
[{"$f":"IF(Zahteve!B959=\"\",\"\",Zahteve!B959)","v":""},{"$f":"IF(Zahteve!B959=\"\",\"\",LEFT(Zahteve!B959,1))","v":""},{"$f":"IF(B959=\"\",\"\",IF(Zahteve!F959=\"da\",CONCATENATE(B959,\"-DA\"),\"\"))","v":""},{"$f":"IF(B959=\"\",\"\",IF(Zahteve!A959=\"da\",CONCATENATE(B959,\"-ustreza\"),\"\"))","v":""},{"$f":"IF(B959=\"\",\"\",IF(Zahteve!G959=\"\",\"\",CONCATENATE(B959,\"-opis\")))","v":""},{"$f":"IF(B959=\"\",\"\",IF(Zahteve!H959=\"\",\"\",CONCATENATE(B959,\"-dni\")))","v":""},{"$f":"IF(B959=\"\",\"\",IF(Zahteve!H959=\"\",\"\",Zahteve!H959))","v":""}]
[{"$f":"IF(Zahteve!B960=\"\",\"\",Zahteve!B960)","v":""},{"$f":"IF(Zahteve!B960=\"\",\"\",LEFT(Zahteve!B960,1))","v":""},{"$f":"IF(B960=\"\",\"\",IF(Zahteve!F960=\"da\",CONCATENATE(B960,\"-DA\"),\"\"))","v":""},{"$f":"IF(B960=\"\",\"\",IF(Zahteve!A960=\"da\",CONCATENATE(B960,\"-ustreza\"),\"\"))","v":""},{"$f":"IF(B960=\"\",\"\",IF(Zahteve!G960=\"\",\"\",CONCATENATE(B960,\"-opis\")))","v":""},{"$f":"IF(B960=\"\",\"\",IF(Zahteve!H960=\"\",\"\",CONCATENATE(B960,\"-dni\")))","v":""},{"$f":"IF(B960=\"\",\"\",IF(Zahteve!H960=\"\",\"\",Zahteve!H960))","v":""}]
[{"$f":"IF(Zahteve!B961=\"\",\"\",Zahteve!B961)","v":""},{"$f":"IF(Zahteve!B961=\"\",\"\",LEFT(Zahteve!B961,1))","v":""},{"$f":"IF(B961=\"\",\"\",IF(Zahteve!F961=\"da\",CONCATENATE(B961,\"-DA\"),\"\"))","v":""},{"$f":"IF(B961=\"\",\"\",IF(Zahteve!A961=\"da\",CONCATENATE(B961,\"-ustreza\"),\"\"))","v":""},{"$f":"IF(B961=\"\",\"\",IF(Zahteve!G961=\"\",\"\",CONCATENATE(B961,\"-opis\")))","v":""},{"$f":"IF(B961=\"\",\"\",IF(Zahteve!H961=\"\",\"\",CONCATENATE(B961,\"-dni\")))","v":""},{"$f":"IF(B961=\"\",\"\",IF(Zahteve!H961=\"\",\"\",Zahteve!H961))","v":""}]
[{"$f":"IF(Zahteve!B962=\"\",\"\",Zahteve!B962)","v":""},{"$f":"IF(Zahteve!B962=\"\",\"\",LEFT(Zahteve!B962,1))","v":""},{"$f":"IF(B962=\"\",\"\",IF(Zahteve!F962=\"da\",CONCATENATE(B962,\"-DA\"),\"\"))","v":""},{"$f":"IF(B962=\"\",\"\",IF(Zahteve!A962=\"da\",CONCATENATE(B962,\"-ustreza\"),\"\"))","v":""},{"$f":"IF(B962=\"\",\"\",IF(Zahteve!G962=\"\",\"\",CONCATENATE(B962,\"-opis\")))","v":""},{"$f":"IF(B962=\"\",\"\",IF(Zahteve!H962=\"\",\"\",CONCATENATE(B962,\"-dni\")))","v":""},{"$f":"IF(B962=\"\",\"\",IF(Zahteve!H962=\"\",\"\",Zahteve!H962))","v":""}]
[{"$f":"IF(Zahteve!B963=\"\",\"\",Zahteve!B963)","v":""},{"$f":"IF(Zahteve!B963=\"\",\"\",LEFT(Zahteve!B963,1))","v":""},{"$f":"IF(B963=\"\",\"\",IF(Zahteve!F963=\"da\",CONCATENATE(B963,\"-DA\"),\"\"))","v":""},{"$f":"IF(B963=\"\",\"\",IF(Zahteve!A963=\"da\",CONCATENATE(B963,\"-ustreza\"),\"\"))","v":""},{"$f":"IF(B963=\"\",\"\",IF(Zahteve!G963=\"\",\"\",CONCATENATE(B963,\"-opis\")))","v":""},{"$f":"IF(B963=\"\",\"\",IF(Zahteve!H963=\"\",\"\",CONCATENATE(B963,\"-dni\")))","v":""},{"$f":"IF(B963=\"\",\"\",IF(Zahteve!H963=\"\",\"\",Zahteve!H963))","v":""}]
[{"$f":"IF(Zahteve!B964=\"\",\"\",Zahteve!B964)","v":""},{"$f":"IF(Zahteve!B964=\"\",\"\",LEFT(Zahteve!B964,1))","v":""},{"$f":"IF(B964=\"\",\"\",IF(Zahteve!F964=\"da\",CONCATENATE(B964,\"-DA\"),\"\"))","v":""},{"$f":"IF(B964=\"\",\"\",IF(Zahteve!A964=\"da\",CONCATENATE(B964,\"-ustreza\"),\"\"))","v":""},{"$f":"IF(B964=\"\",\"\",IF(Zahteve!G964=\"\",\"\",CONCATENATE(B964,\"-opis\")))","v":""},{"$f":"IF(B964=\"\",\"\",IF(Zahteve!H964=\"\",\"\",CONCATENATE(B964,\"-dni\")))","v":""},{"$f":"IF(B964=\"\",\"\",IF(Zahteve!H964=\"\",\"\",Zahteve!H964))","v":""}]
[{"$f":"IF(Zahteve!B965=\"\",\"\",Zahteve!B965)","v":""},{"$f":"IF(Zahteve!B965=\"\",\"\",LEFT(Zahteve!B965,1))","v":""},{"$f":"IF(B965=\"\",\"\",IF(Zahteve!F965=\"da\",CONCATENATE(B965,\"-DA\"),\"\"))","v":""},{"$f":"IF(B965=\"\",\"\",IF(Zahteve!A965=\"da\",CONCATENATE(B965,\"-ustreza\"),\"\"))","v":""},{"$f":"IF(B965=\"\",\"\",IF(Zahteve!G965=\"\",\"\",CONCATENATE(B965,\"-opis\")))","v":""},{"$f":"IF(B965=\"\",\"\",IF(Zahteve!H965=\"\",\"\",CONCATENATE(B965,\"-dni\")))","v":""},{"$f":"IF(B965=\"\",\"\",IF(Zahteve!H965=\"\",\"\",Zahteve!H965))","v":""}]
[{"$f":"IF(Zahteve!B966=\"\",\"\",Zahteve!B966)","v":""},{"$f":"IF(Zahteve!B966=\"\",\"\",LEFT(Zahteve!B966,1))","v":""},{"$f":"IF(B966=\"\",\"\",IF(Zahteve!F966=\"da\",CONCATENATE(B966,\"-DA\"),\"\"))","v":""},{"$f":"IF(B966=\"\",\"\",IF(Zahteve!A966=\"da\",CONCATENATE(B966,\"-ustreza\"),\"\"))","v":""},{"$f":"IF(B966=\"\",\"\",IF(Zahteve!G966=\"\",\"\",CONCATENATE(B966,\"-opis\")))","v":""},{"$f":"IF(B966=\"\",\"\",IF(Zahteve!H966=\"\",\"\",CONCATENATE(B966,\"-dni\")))","v":""},{"$f":"IF(B966=\"\",\"\",IF(Zahteve!H966=\"\",\"\",Zahteve!H966))","v":""}]
[{"$f":"IF(Zahteve!B967=\"\",\"\",Zahteve!B967)","v":""},{"$f":"IF(Zahteve!B967=\"\",\"\",LEFT(Zahteve!B967,1))","v":""},{"$f":"IF(B967=\"\",\"\",IF(Zahteve!F967=\"da\",CONCATENATE(B967,\"-DA\"),\"\"))","v":""},{"$f":"IF(B967=\"\",\"\",IF(Zahteve!A967=\"da\",CONCATENATE(B967,\"-ustreza\"),\"\"))","v":""},{"$f":"IF(B967=\"\",\"\",IF(Zahteve!G967=\"\",\"\",CONCATENATE(B967,\"-opis\")))","v":""},{"$f":"IF(B967=\"\",\"\",IF(Zahteve!H967=\"\",\"\",CONCATENATE(B967,\"-dni\")))","v":""},{"$f":"IF(B967=\"\",\"\",IF(Zahteve!H967=\"\",\"\",Zahteve!H967))","v":""}]
[{"$f":"IF(Zahteve!B968=\"\",\"\",Zahteve!B968)","v":""},{"$f":"IF(Zahteve!B968=\"\",\"\",LEFT(Zahteve!B968,1))","v":""},{"$f":"IF(B968=\"\",\"\",IF(Zahteve!F968=\"da\",CONCATENATE(B968,\"-DA\"),\"\"))","v":""},{"$f":"IF(B968=\"\",\"\",IF(Zahteve!A968=\"da\",CONCATENATE(B968,\"-ustreza\"),\"\"))","v":""},{"$f":"IF(B968=\"\",\"\",IF(Zahteve!G968=\"\",\"\",CONCATENATE(B968,\"-opis\")))","v":""},{"$f":"IF(B968=\"\",\"\",IF(Zahteve!H968=\"\",\"\",CONCATENATE(B968,\"-dni\")))","v":""},{"$f":"IF(B968=\"\",\"\",IF(Zahteve!H968=\"\",\"\",Zahteve!H968))","v":""}]
[{"$f":"IF(Zahteve!B969=\"\",\"\",Zahteve!B969)","v":""},{"$f":"IF(Zahteve!B969=\"\",\"\",LEFT(Zahteve!B969,1))","v":""},{"$f":"IF(B969=\"\",\"\",IF(Zahteve!F969=\"da\",CONCATENATE(B969,\"-DA\"),\"\"))","v":""},{"$f":"IF(B969=\"\",\"\",IF(Zahteve!A969=\"da\",CONCATENATE(B969,\"-ustreza\"),\"\"))","v":""},{"$f":"IF(B969=\"\",\"\",IF(Zahteve!G969=\"\",\"\",CONCATENATE(B969,\"-opis\")))","v":""},{"$f":"IF(B969=\"\",\"\",IF(Zahteve!H969=\"\",\"\",CONCATENATE(B969,\"-dni\")))","v":""},{"$f":"IF(B969=\"\",\"\",IF(Zahteve!H969=\"\",\"\",Zahteve!H969))","v":""}]
[{"$f":"IF(Zahteve!B970=\"\",\"\",Zahteve!B970)","v":""},{"$f":"IF(Zahteve!B970=\"\",\"\",LEFT(Zahteve!B970,1))","v":""},{"$f":"IF(B970=\"\",\"\",IF(Zahteve!F970=\"da\",CONCATENATE(B970,\"-DA\"),\"\"))","v":""},{"$f":"IF(B970=\"\",\"\",IF(Zahteve!A970=\"da\",CONCATENATE(B970,\"-ustreza\"),\"\"))","v":""},{"$f":"IF(B970=\"\",\"\",IF(Zahteve!G970=\"\",\"\",CONCATENATE(B970,\"-opis\")))","v":""},{"$f":"IF(B970=\"\",\"\",IF(Zahteve!H970=\"\",\"\",CONCATENATE(B970,\"-dni\")))","v":""},{"$f":"IF(B970=\"\",\"\",IF(Zahteve!H970=\"\",\"\",Zahteve!H970))","v":""}]
[{"$f":"IF(Zahteve!B971=\"\",\"\",Zahteve!B971)","v":""},{"$f":"IF(Zahteve!B971=\"\",\"\",LEFT(Zahteve!B971,1))","v":""},{"$f":"IF(B971=\"\",\"\",IF(Zahteve!F971=\"da\",CONCATENATE(B971,\"-DA\"),\"\"))","v":""},{"$f":"IF(B971=\"\",\"\",IF(Zahteve!A971=\"da\",CONCATENATE(B971,\"-ustreza\"),\"\"))","v":""},{"$f":"IF(B971=\"\",\"\",IF(Zahteve!G971=\"\",\"\",CONCATENATE(B971,\"-opis\")))","v":""},{"$f":"IF(B971=\"\",\"\",IF(Zahteve!H971=\"\",\"\",CONCATENATE(B971,\"-dni\")))","v":""},{"$f":"IF(B971=\"\",\"\",IF(Zahteve!H971=\"\",\"\",Zahteve!H971))","v":""}]
[{"$f":"IF(Zahteve!B972=\"\",\"\",Zahteve!B972)","v":""},{"$f":"IF(Zahteve!B972=\"\",\"\",LEFT(Zahteve!B972,1))","v":""},{"$f":"IF(B972=\"\",\"\",IF(Zahteve!F972=\"da\",CONCATENATE(B972,\"-DA\"),\"\"))","v":""},{"$f":"IF(B972=\"\",\"\",IF(Zahteve!A972=\"da\",CONCATENATE(B972,\"-ustreza\"),\"\"))","v":""},{"$f":"IF(B972=\"\",\"\",IF(Zahteve!G972=\"\",\"\",CONCATENATE(B972,\"-opis\")))","v":""},{"$f":"IF(B972=\"\",\"\",IF(Zahteve!H972=\"\",\"\",CONCATENATE(B972,\"-dni\")))","v":""},{"$f":"IF(B972=\"\",\"\",IF(Zahteve!H972=\"\",\"\",Zahteve!H972))","v":""}]
[{"$f":"IF(Zahteve!B973=\"\",\"\",Zahteve!B973)","v":""},{"$f":"IF(Zahteve!B973=\"\",\"\",LEFT(Zahteve!B973,1))","v":""},{"$f":"IF(B973=\"\",\"\",IF(Zahteve!F973=\"da\",CONCATENATE(B973,\"-DA\"),\"\"))","v":""},{"$f":"IF(B973=\"\",\"\",IF(Zahteve!A973=\"da\",CONCATENATE(B973,\"-ustreza\"),\"\"))","v":""},{"$f":"IF(B973=\"\",\"\",IF(Zahteve!G973=\"\",\"\",CONCATENATE(B973,\"-opis\")))","v":""},{"$f":"IF(B973=\"\",\"\",IF(Zahteve!H973=\"\",\"\",CONCATENATE(B973,\"-dni\")))","v":""},{"$f":"IF(B973=\"\",\"\",IF(Zahteve!H973=\"\",\"\",Zahteve!H973))","v":""}]
[{"$f":"IF(Zahteve!B974=\"\",\"\",Zahteve!B974)","v":""},{"$f":"IF(Zahteve!B974=\"\",\"\",LEFT(Zahteve!B974,1))","v":""},{"$f":"IF(B974=\"\",\"\",IF(Zahteve!F974=\"da\",CONCATENATE(B974,\"-DA\"),\"\"))","v":""},{"$f":"IF(B974=\"\",\"\",IF(Zahteve!A974=\"da\",CONCATENATE(B974,\"-ustreza\"),\"\"))","v":""},{"$f":"IF(B974=\"\",\"\",IF(Zahteve!G974=\"\",\"\",CONCATENATE(B974,\"-opis\")))","v":""},{"$f":"IF(B974=\"\",\"\",IF(Zahteve!H974=\"\",\"\",CONCATENATE(B974,\"-dni\")))","v":""},{"$f":"IF(B974=\"\",\"\",IF(Zahteve!H974=\"\",\"\",Zahteve!H974))","v":""}]
[{"$f":"IF(Zahteve!B975=\"\",\"\",Zahteve!B975)","v":""},{"$f":"IF(Zahteve!B975=\"\",\"\",LEFT(Zahteve!B975,1))","v":""},{"$f":"IF(B975=\"\",\"\",IF(Zahteve!F975=\"da\",CONCATENATE(B975,\"-DA\"),\"\"))","v":""},{"$f":"IF(B975=\"\",\"\",IF(Zahteve!A975=\"da\",CONCATENATE(B975,\"-ustreza\"),\"\"))","v":""},{"$f":"IF(B975=\"\",\"\",IF(Zahteve!G975=\"\",\"\",CONCATENATE(B975,\"-opis\")))","v":""},{"$f":"IF(B975=\"\",\"\",IF(Zahteve!H975=\"\",\"\",CONCATENATE(B975,\"-dni\")))","v":""},{"$f":"IF(B975=\"\",\"\",IF(Zahteve!H975=\"\",\"\",Zahteve!H975))","v":""}]
[{"$f":"IF(Zahteve!B976=\"\",\"\",Zahteve!B976)","v":""},{"$f":"IF(Zahteve!B976=\"\",\"\",LEFT(Zahteve!B976,1))","v":""},{"$f":"IF(B976=\"\",\"\",IF(Zahteve!F976=\"da\",CONCATENATE(B976,\"-DA\"),\"\"))","v":""},{"$f":"IF(B976=\"\",\"\",IF(Zahteve!A976=\"da\",CONCATENATE(B976,\"-ustreza\"),\"\"))","v":""},{"$f":"IF(B976=\"\",\"\",IF(Zahteve!G976=\"\",\"\",CONCATENATE(B976,\"-opis\")))","v":""},{"$f":"IF(B976=\"\",\"\",IF(Zahteve!H976=\"\",\"\",CONCATENATE(B976,\"-dni\")))","v":""},{"$f":"IF(B976=\"\",\"\",IF(Zahteve!H976=\"\",\"\",Zahteve!H976))","v":""}]
[{"$f":"IF(Zahteve!B977=\"\",\"\",Zahteve!B977)","v":""},{"$f":"IF(Zahteve!B977=\"\",\"\",LEFT(Zahteve!B977,1))","v":""},{"$f":"IF(B977=\"\",\"\",IF(Zahteve!F977=\"da\",CONCATENATE(B977,\"-DA\"),\"\"))","v":""},{"$f":"IF(B977=\"\",\"\",IF(Zahteve!A977=\"da\",CONCATENATE(B977,\"-ustreza\"),\"\"))","v":""},{"$f":"IF(B977=\"\",\"\",IF(Zahteve!G977=\"\",\"\",CONCATENATE(B977,\"-opis\")))","v":""},{"$f":"IF(B977=\"\",\"\",IF(Zahteve!H977=\"\",\"\",CONCATENATE(B977,\"-dni\")))","v":""},{"$f":"IF(B977=\"\",\"\",IF(Zahteve!H977=\"\",\"\",Zahteve!H977))","v":""}]
[{"$f":"IF(Zahteve!B978=\"\",\"\",Zahteve!B978)","v":""},{"$f":"IF(Zahteve!B978=\"\",\"\",LEFT(Zahteve!B978,1))","v":""},{"$f":"IF(B978=\"\",\"\",IF(Zahteve!F978=\"da\",CONCATENATE(B978,\"-DA\"),\"\"))","v":""},{"$f":"IF(B978=\"\",\"\",IF(Zahteve!A978=\"da\",CONCATENATE(B978,\"-ustreza\"),\"\"))","v":""},{"$f":"IF(B978=\"\",\"\",IF(Zahteve!G978=\"\",\"\",CONCATENATE(B978,\"-opis\")))","v":""},{"$f":"IF(B978=\"\",\"\",IF(Zahteve!H978=\"\",\"\",CONCATENATE(B978,\"-dni\")))","v":""},{"$f":"IF(B978=\"\",\"\",IF(Zahteve!H978=\"\",\"\",Zahteve!H978))","v":""}]
[{"$f":"IF(Zahteve!B979=\"\",\"\",Zahteve!B979)","v":""},{"$f":"IF(Zahteve!B979=\"\",\"\",LEFT(Zahteve!B979,1))","v":""},{"$f":"IF(B979=\"\",\"\",IF(Zahteve!F979=\"da\",CONCATENATE(B979,\"-DA\"),\"\"))","v":""},{"$f":"IF(B979=\"\",\"\",IF(Zahteve!A979=\"da\",CONCATENATE(B979,\"-ustreza\"),\"\"))","v":""},{"$f":"IF(B979=\"\",\"\",IF(Zahteve!G979=\"\",\"\",CONCATENATE(B979,\"-opis\")))","v":""},{"$f":"IF(B979=\"\",\"\",IF(Zahteve!H979=\"\",\"\",CONCATENATE(B979,\"-dni\")))","v":""},{"$f":"IF(B979=\"\",\"\",IF(Zahteve!H979=\"\",\"\",Zahteve!H979))","v":""}]
[{"$f":"IF(Zahteve!B980=\"\",\"\",Zahteve!B980)","v":""},{"$f":"IF(Zahteve!B980=\"\",\"\",LEFT(Zahteve!B980,1))","v":""},{"$f":"IF(B980=\"\",\"\",IF(Zahteve!F980=\"da\",CONCATENATE(B980,\"-DA\"),\"\"))","v":""},{"$f":"IF(B980=\"\",\"\",IF(Zahteve!A980=\"da\",CONCATENATE(B980,\"-ustreza\"),\"\"))","v":""},{"$f":"IF(B980=\"\",\"\",IF(Zahteve!G980=\"\",\"\",CONCATENATE(B980,\"-opis\")))","v":""},{"$f":"IF(B980=\"\",\"\",IF(Zahteve!H980=\"\",\"\",CONCATENATE(B980,\"-dni\")))","v":""},{"$f":"IF(B980=\"\",\"\",IF(Zahteve!H980=\"\",\"\",Zahteve!H980))","v":""}]
[{"$f":"IF(Zahteve!B981=\"\",\"\",Zahteve!B981)","v":""},{"$f":"IF(Zahteve!B981=\"\",\"\",LEFT(Zahteve!B981,1))","v":""},{"$f":"IF(B981=\"\",\"\",IF(Zahteve!F981=\"da\",CONCATENATE(B981,\"-DA\"),\"\"))","v":""},{"$f":"IF(B981=\"\",\"\",IF(Zahteve!A981=\"da\",CONCATENATE(B981,\"-ustreza\"),\"\"))","v":""},{"$f":"IF(B981=\"\",\"\",IF(Zahteve!G981=\"\",\"\",CONCATENATE(B981,\"-opis\")))","v":""},{"$f":"IF(B981=\"\",\"\",IF(Zahteve!H981=\"\",\"\",CONCATENATE(B981,\"-dni\")))","v":""},{"$f":"IF(B981=\"\",\"\",IF(Zahteve!H981=\"\",\"\",Zahteve!H981))","v":""}]
[{"$f":"IF(Zahteve!B982=\"\",\"\",Zahteve!B982)","v":""},{"$f":"IF(Zahteve!B982=\"\",\"\",LEFT(Zahteve!B982,1))","v":""},{"$f":"IF(B982=\"\",\"\",IF(Zahteve!F982=\"da\",CONCATENATE(B982,\"-DA\"),\"\"))","v":""},{"$f":"IF(B982=\"\",\"\",IF(Zahteve!A982=\"da\",CONCATENATE(B982,\"-ustreza\"),\"\"))","v":""},{"$f":"IF(B982=\"\",\"\",IF(Zahteve!G982=\"\",\"\",CONCATENATE(B982,\"-opis\")))","v":""},{"$f":"IF(B982=\"\",\"\",IF(Zahteve!H982=\"\",\"\",CONCATENATE(B982,\"-dni\")))","v":""},{"$f":"IF(B982=\"\",\"\",IF(Zahteve!H982=\"\",\"\",Zahteve!H982))","v":""}]
[{"$f":"IF(Zahteve!B983=\"\",\"\",Zahteve!B983)","v":""},{"$f":"IF(Zahteve!B983=\"\",\"\",LEFT(Zahteve!B983,1))","v":""},{"$f":"IF(B983=\"\",\"\",IF(Zahteve!F983=\"da\",CONCATENATE(B983,\"-DA\"),\"\"))","v":""},{"$f":"IF(B983=\"\",\"\",IF(Zahteve!A983=\"da\",CONCATENATE(B983,\"-ustreza\"),\"\"))","v":""},{"$f":"IF(B983=\"\",\"\",IF(Zahteve!G983=\"\",\"\",CONCATENATE(B983,\"-opis\")))","v":""},{"$f":"IF(B983=\"\",\"\",IF(Zahteve!H983=\"\",\"\",CONCATENATE(B983,\"-dni\")))","v":""},{"$f":"IF(B983=\"\",\"\",IF(Zahteve!H983=\"\",\"\",Zahteve!H983))","v":""}]
[{"$f":"IF(Zahteve!B984=\"\",\"\",Zahteve!B984)","v":""},{"$f":"IF(Zahteve!B984=\"\",\"\",LEFT(Zahteve!B984,1))","v":""},{"$f":"IF(B984=\"\",\"\",IF(Zahteve!F984=\"da\",CONCATENATE(B984,\"-DA\"),\"\"))","v":""},{"$f":"IF(B984=\"\",\"\",IF(Zahteve!A984=\"da\",CONCATENATE(B984,\"-ustreza\"),\"\"))","v":""},{"$f":"IF(B984=\"\",\"\",IF(Zahteve!G984=\"\",\"\",CONCATENATE(B984,\"-opis\")))","v":""},{"$f":"IF(B984=\"\",\"\",IF(Zahteve!H984=\"\",\"\",CONCATENATE(B984,\"-dni\")))","v":""},{"$f":"IF(B984=\"\",\"\",IF(Zahteve!H984=\"\",\"\",Zahteve!H984))","v":""}]
[{"$f":"IF(Zahteve!B985=\"\",\"\",Zahteve!B985)","v":""},{"$f":"IF(Zahteve!B985=\"\",\"\",LEFT(Zahteve!B985,1))","v":""},{"$f":"IF(B985=\"\",\"\",IF(Zahteve!F985=\"da\",CONCATENATE(B985,\"-DA\"),\"\"))","v":""},{"$f":"IF(B985=\"\",\"\",IF(Zahteve!A985=\"da\",CONCATENATE(B985,\"-ustreza\"),\"\"))","v":""},{"$f":"IF(B985=\"\",\"\",IF(Zahteve!G985=\"\",\"\",CONCATENATE(B985,\"-opis\")))","v":""},{"$f":"IF(B985=\"\",\"\",IF(Zahteve!H985=\"\",\"\",CONCATENATE(B985,\"-dni\")))","v":""},{"$f":"IF(B985=\"\",\"\",IF(Zahteve!H985=\"\",\"\",Zahteve!H985))","v":""}]
[{"$f":"IF(Zahteve!B986=\"\",\"\",Zahteve!B986)","v":""},{"$f":"IF(Zahteve!B986=\"\",\"\",LEFT(Zahteve!B986,1))","v":""},{"$f":"IF(B986=\"\",\"\",IF(Zahteve!F986=\"da\",CONCATENATE(B986,\"-DA\"),\"\"))","v":""},{"$f":"IF(B986=\"\",\"\",IF(Zahteve!A986=\"da\",CONCATENATE(B986,\"-ustreza\"),\"\"))","v":""},{"$f":"IF(B986=\"\",\"\",IF(Zahteve!G986=\"\",\"\",CONCATENATE(B986,\"-opis\")))","v":""},{"$f":"IF(B986=\"\",\"\",IF(Zahteve!H986=\"\",\"\",CONCATENATE(B986,\"-dni\")))","v":""},{"$f":"IF(B986=\"\",\"\",IF(Zahteve!H986=\"\",\"\",Zahteve!H986))","v":""}]
[{"$f":"IF(Zahteve!B987=\"\",\"\",Zahteve!B987)","v":""},{"$f":"IF(Zahteve!B987=\"\",\"\",LEFT(Zahteve!B987,1))","v":""},{"$f":"IF(B987=\"\",\"\",IF(Zahteve!F987=\"da\",CONCATENATE(B987,\"-DA\"),\"\"))","v":""},{"$f":"IF(B987=\"\",\"\",IF(Zahteve!A987=\"da\",CONCATENATE(B987,\"-ustreza\"),\"\"))","v":""},{"$f":"IF(B987=\"\",\"\",IF(Zahteve!G987=\"\",\"\",CONCATENATE(B987,\"-opis\")))","v":""},{"$f":"IF(B987=\"\",\"\",IF(Zahteve!H987=\"\",\"\",CONCATENATE(B987,\"-dni\")))","v":""},{"$f":"IF(B987=\"\",\"\",IF(Zahteve!H987=\"\",\"\",Zahteve!H987))","v":""}]
[{"$f":"IF(Zahteve!B988=\"\",\"\",Zahteve!B988)","v":""},{"$f":"IF(Zahteve!B988=\"\",\"\",LEFT(Zahteve!B988,1))","v":""},{"$f":"IF(B988=\"\",\"\",IF(Zahteve!F988=\"da\",CONCATENATE(B988,\"-DA\"),\"\"))","v":""},{"$f":"IF(B988=\"\",\"\",IF(Zahteve!A988=\"da\",CONCATENATE(B988,\"-ustreza\"),\"\"))","v":""},{"$f":"IF(B988=\"\",\"\",IF(Zahteve!G988=\"\",\"\",CONCATENATE(B988,\"-opis\")))","v":""},{"$f":"IF(B988=\"\",\"\",IF(Zahteve!H988=\"\",\"\",CONCATENATE(B988,\"-dni\")))","v":""},{"$f":"IF(B988=\"\",\"\",IF(Zahteve!H988=\"\",\"\",Zahteve!H988))","v":""}]
[{"$f":"IF(Zahteve!B989=\"\",\"\",Zahteve!B989)","v":""},{"$f":"IF(Zahteve!B989=\"\",\"\",LEFT(Zahteve!B989,1))","v":""},{"$f":"IF(B989=\"\",\"\",IF(Zahteve!F989=\"da\",CONCATENATE(B989,\"-DA\"),\"\"))","v":""},{"$f":"IF(B989=\"\",\"\",IF(Zahteve!A989=\"da\",CONCATENATE(B989,\"-ustreza\"),\"\"))","v":""},{"$f":"IF(B989=\"\",\"\",IF(Zahteve!G989=\"\",\"\",CONCATENATE(B989,\"-opis\")))","v":""},{"$f":"IF(B989=\"\",\"\",IF(Zahteve!H989=\"\",\"\",CONCATENATE(B989,\"-dni\")))","v":""},{"$f":"IF(B989=\"\",\"\",IF(Zahteve!H989=\"\",\"\",Zahteve!H989))","v":""}]
[{"$f":"IF(Zahteve!B990=\"\",\"\",Zahteve!B990)","v":""},{"$f":"IF(Zahteve!B990=\"\",\"\",LEFT(Zahteve!B990,1))","v":""},{"$f":"IF(B990=\"\",\"\",IF(Zahteve!F990=\"da\",CONCATENATE(B990,\"-DA\"),\"\"))","v":""},{"$f":"IF(B990=\"\",\"\",IF(Zahteve!A990=\"da\",CONCATENATE(B990,\"-ustreza\"),\"\"))","v":""},{"$f":"IF(B990=\"\",\"\",IF(Zahteve!G990=\"\",\"\",CONCATENATE(B990,\"-opis\")))","v":""},{"$f":"IF(B990=\"\",\"\",IF(Zahteve!H990=\"\",\"\",CONCATENATE(B990,\"-dni\")))","v":""},{"$f":"IF(B990=\"\",\"\",IF(Zahteve!H990=\"\",\"\",Zahteve!H990))","v":""}]
[{"$f":"IF(Zahteve!B991=\"\",\"\",Zahteve!B991)","v":""},{"$f":"IF(Zahteve!B991=\"\",\"\",LEFT(Zahteve!B991,1))","v":""},{"$f":"IF(B991=\"\",\"\",IF(Zahteve!F991=\"da\",CONCATENATE(B991,\"-DA\"),\"\"))","v":""},{"$f":"IF(B991=\"\",\"\",IF(Zahteve!A991=\"da\",CONCATENATE(B991,\"-ustreza\"),\"\"))","v":""},{"$f":"IF(B991=\"\",\"\",IF(Zahteve!G991=\"\",\"\",CONCATENATE(B991,\"-opis\")))","v":""},{"$f":"IF(B991=\"\",\"\",IF(Zahteve!H991=\"\",\"\",CONCATENATE(B991,\"-dni\")))","v":""},{"$f":"IF(B991=\"\",\"\",IF(Zahteve!H991=\"\",\"\",Zahteve!H991))","v":""}]
[{"$f":"IF(Zahteve!B992=\"\",\"\",Zahteve!B992)","v":""},{"$f":"IF(Zahteve!B992=\"\",\"\",LEFT(Zahteve!B992,1))","v":""},{"$f":"IF(B992=\"\",\"\",IF(Zahteve!F992=\"da\",CONCATENATE(B992,\"-DA\"),\"\"))","v":""},{"$f":"IF(B992=\"\",\"\",IF(Zahteve!A992=\"da\",CONCATENATE(B992,\"-ustreza\"),\"\"))","v":""},{"$f":"IF(B992=\"\",\"\",IF(Zahteve!G992=\"\",\"\",CONCATENATE(B992,\"-opis\")))","v":""},{"$f":"IF(B992=\"\",\"\",IF(Zahteve!H992=\"\",\"\",CONCATENATE(B992,\"-dni\")))","v":""},{"$f":"IF(B992=\"\",\"\",IF(Zahteve!H992=\"\",\"\",Zahteve!H992))","v":""}]
[{"$f":"IF(Zahteve!B993=\"\",\"\",Zahteve!B993)","v":""},{"$f":"IF(Zahteve!B993=\"\",\"\",LEFT(Zahteve!B993,1))","v":""},{"$f":"IF(B993=\"\",\"\",IF(Zahteve!F993=\"da\",CONCATENATE(B993,\"-DA\"),\"\"))","v":""},{"$f":"IF(B993=\"\",\"\",IF(Zahteve!A993=\"da\",CONCATENATE(B993,\"-ustreza\"),\"\"))","v":""},{"$f":"IF(B993=\"\",\"\",IF(Zahteve!G993=\"\",\"\",CONCATENATE(B993,\"-opis\")))","v":""},{"$f":"IF(B993=\"\",\"\",IF(Zahteve!H993=\"\",\"\",CONCATENATE(B993,\"-dni\")))","v":""},{"$f":"IF(B993=\"\",\"\",IF(Zahteve!H993=\"\",\"\",Zahteve!H993))","v":""}]
[{"$f":"IF(Zahteve!B994=\"\",\"\",Zahteve!B994)","v":""},{"$f":"IF(Zahteve!B994=\"\",\"\",LEFT(Zahteve!B994,1))","v":""},{"$f":"IF(B994=\"\",\"\",IF(Zahteve!F994=\"da\",CONCATENATE(B994,\"-DA\"),\"\"))","v":""},{"$f":"IF(B994=\"\",\"\",IF(Zahteve!A994=\"da\",CONCATENATE(B994,\"-ustreza\"),\"\"))","v":""},{"$f":"IF(B994=\"\",\"\",IF(Zahteve!G994=\"\",\"\",CONCATENATE(B994,\"-opis\")))","v":""},{"$f":"IF(B994=\"\",\"\",IF(Zahteve!H994=\"\",\"\",CONCATENATE(B994,\"-dni\")))","v":""},{"$f":"IF(B994=\"\",\"\",IF(Zahteve!H994=\"\",\"\",Zahteve!H994))","v":""}]
[{"$f":"IF(Zahteve!B995=\"\",\"\",Zahteve!B995)","v":""},{"$f":"IF(Zahteve!B995=\"\",\"\",LEFT(Zahteve!B995,1))","v":""},{"$f":"IF(B995=\"\",\"\",IF(Zahteve!F995=\"da\",CONCATENATE(B995,\"-DA\"),\"\"))","v":""},{"$f":"IF(B995=\"\",\"\",IF(Zahteve!A995=\"da\",CONCATENATE(B995,\"-ustreza\"),\"\"))","v":""},{"$f":"IF(B995=\"\",\"\",IF(Zahteve!G995=\"\",\"\",CONCATENATE(B995,\"-opis\")))","v":""},{"$f":"IF(B995=\"\",\"\",IF(Zahteve!H995=\"\",\"\",CONCATENATE(B995,\"-dni\")))","v":""},{"$f":"IF(B995=\"\",\"\",IF(Zahteve!H995=\"\",\"\",Zahteve!H995))","v":""}]
[{"$f":"IF(Zahteve!B996=\"\",\"\",Zahteve!B996)","v":""},{"$f":"IF(Zahteve!B996=\"\",\"\",LEFT(Zahteve!B996,1))","v":""},{"$f":"IF(B996=\"\",\"\",IF(Zahteve!F996=\"da\",CONCATENATE(B996,\"-DA\"),\"\"))","v":""},{"$f":"IF(B996=\"\",\"\",IF(Zahteve!A996=\"da\",CONCATENATE(B996,\"-ustreza\"),\"\"))","v":""},{"$f":"IF(B996=\"\",\"\",IF(Zahteve!G996=\"\",\"\",CONCATENATE(B996,\"-opis\")))","v":""},{"$f":"IF(B996=\"\",\"\",IF(Zahteve!H996=\"\",\"\",CONCATENATE(B996,\"-dni\")))","v":""},{"$f":"IF(B996=\"\",\"\",IF(Zahteve!H996=\"\",\"\",Zahteve!H996))","v":""}]
[{"$f":"IF(Zahteve!B997=\"\",\"\",Zahteve!B997)","v":""},{"$f":"IF(Zahteve!B997=\"\",\"\",LEFT(Zahteve!B997,1))","v":""},{"$f":"IF(B997=\"\",\"\",IF(Zahteve!F997=\"da\",CONCATENATE(B997,\"-DA\"),\"\"))","v":""},{"$f":"IF(B997=\"\",\"\",IF(Zahteve!A997=\"da\",CONCATENATE(B997,\"-ustreza\"),\"\"))","v":""},{"$f":"IF(B997=\"\",\"\",IF(Zahteve!G997=\"\",\"\",CONCATENATE(B997,\"-opis\")))","v":""},{"$f":"IF(B997=\"\",\"\",IF(Zahteve!H997=\"\",\"\",CONCATENATE(B997,\"-dni\")))","v":""},{"$f":"IF(B997=\"\",\"\",IF(Zahteve!H997=\"\",\"\",Zahteve!H997))","v":""}]
[{"$f":"IF(Zahteve!B998=\"\",\"\",Zahteve!B998)","v":""},{"$f":"IF(Zahteve!B998=\"\",\"\",LEFT(Zahteve!B998,1))","v":""},{"$f":"IF(B998=\"\",\"\",IF(Zahteve!F998=\"da\",CONCATENATE(B998,\"-DA\"),\"\"))","v":""},{"$f":"IF(B998=\"\",\"\",IF(Zahteve!A998=\"da\",CONCATENATE(B998,\"-ustreza\"),\"\"))","v":""},{"$f":"IF(B998=\"\",\"\",IF(Zahteve!G998=\"\",\"\",CONCATENATE(B998,\"-opis\")))","v":""},{"$f":"IF(B998=\"\",\"\",IF(Zahteve!H998=\"\",\"\",CONCATENATE(B998,\"-dni\")))","v":""},{"$f":"IF(B998=\"\",\"\",IF(Zahteve!H998=\"\",\"\",Zahteve!H998))","v":""}]
[{"$f":"IF(Zahteve!B999=\"\",\"\",Zahteve!B999)","v":""},{"$f":"IF(Zahteve!B999=\"\",\"\",LEFT(Zahteve!B999,1))","v":""},{"$f":"IF(B999=\"\",\"\",IF(Zahteve!F999=\"da\",CONCATENATE(B999,\"-DA\"),\"\"))","v":""},{"$f":"IF(B999=\"\",\"\",IF(Zahteve!A999=\"da\",CONCATENATE(B999,\"-ustreza\"),\"\"))","v":""},{"$f":"IF(B999=\"\",\"\",IF(Zahteve!G999=\"\",\"\",CONCATENATE(B999,\"-opis\")))","v":""},{"$f":"IF(B999=\"\",\"\",IF(Zahteve!H999=\"\",\"\",CONCATENATE(B999,\"-dni\")))","v":""},{"$f":"IF(B999=\"\",\"\",IF(Zahteve!H999=\"\",\"\",Zahteve!H999))","v":""}]
[{"$f":"IF(Zahteve!B1000=\"\",\"\",Zahteve!B1000)","v":""},{"$f":"IF(Zahteve!B1000=\"\",\"\",LEFT(Zahteve!B1000,1))","v":""},{"$f":"IF(B1000=\"\",\"\",IF(Zahteve!F1000=\"da\",CONCATENATE(B1000,\"-DA\"),\"\"))","v":""},{"$f":"IF(B1000=\"\",\"\",IF(Zahteve!A1000=\"da\",CONCATENATE(B1000,\"-ustreza\"),\"\"))","v":""},{"$f":"IF(B1000=\"\",\"\",IF(Zahteve!G1000=\"\",\"\",CONCATENATE(B1000,\"-opis\")))","v":""},{"$f":"IF(B1000=\"\",\"\",IF(Zahteve!H1000=\"\",\"\",CONCATENATE(B1000,\"-dni\")))","v":""},{"$f":"IF(B1000=\"\",\"\",IF(Zahteve!H1000=\"\",\"\",Zahteve!H1000))","v":""}]